{"text_format":"1","workbook":"xlsx","n_sheets":16,"sheets":["Data","Landing","DataCleaned","Routes","mgPCU","mgPCU Crit","mgPCU Anon","mgPCU Crit Anon","DDD","DDD Crit","DDD Anon","DDD Crit Anon","DCD","DCD Crit","DCD Anon","DCD Crit Anon"],"not_rendered":{"charts":13,"images":2,"macros":1,"external_links":0,"defined_names":24,"comments":0,"pivot_tables":0},"unopened":[],"bounds":{"document_bytes":16777216,"sheet_cells":100000,"rows_first":2000,"rows_last":500,"rows_between":2000,"halvings":0,"cell_chars":16384,"cell_head_chars":4096},"cells_cut":0,"cells_raw":0,"read":"whole","date_system":"1900"}

{"sheet":"Data","index":0,"n_rows":4,"n_cols":19,"rows_kept":4,"cut":false,"hidden":false,"merged":[]}
["Sheep Calc A",7.6227887788778874,0.45735262757044937,0.13099095996556179,0,0,0,5.7920792079207919,0,0.14851485148514851,0,1.3531353135313531,0,0.31915841584158416,0,9.9009900990099011E-3,0,0,0]
["Sheep Calc AG",8.295495495495496,0.63811503811503811,0.18033685859772816,0,0,0,6.493693693693694,0,0.36036036036036034,0,1.4414414414414414,0,0,0,0,0,0,0]
["Sheep Calc DS",7.9954954954954953,0.77962577962577961,0.22032902467685078,0,0,0,7.4324324324324325,0,0.22522522522522523,0,0.33783783783783783,0,0,0,0,0,0,0]
["Sheep Calc JT",4.5037531276063385,0.4378648874061718,0.19773601558164106,0,0,0,3.3778148457047537,0,0,0,1.1259382819015846,0,0,0,0,0,0,0]

{"sheet":"Landing","index":1,"n_rows":25,"n_cols":1,"rows_kept":25,"cut":false,"hidden":false,"merged":[]}
[]
[]
[]
[]
[]
[]
[]
["University of Nottingham AMU Compilator Benchmarking Tool BETA 2.3"]
[]
["Disclaimer: Please note, use of this tool is at the users own risk "]
[]
["This tool is for benchmarking farms using the University of Nottingham AMU Calculator"]
[]
["Instructions"]
["Save versions of the University of Nottingham AMU Calculator for each "]
["farm in a single folder"]
[]
["Use the \"Import AMU\" button to import data from these individual files"]
["Benchmark farms, and export graphs as pictures for use in benchmarking"]
["meetings either as identified or anonymous farms"]
[]
["Macros must be enabled for the compilator to run"]
[]
["High Priority Critically Important  (HP-CIA) Antimicrobials have been defined as"]
["Fluoroquinolones, 3rd and 4th Generation Cephalosporins and Colistin"]

{"sheet":"DataCleaned","index":2,"n_rows":1002,"n_cols":29,"rows_kept":1002,"cut":false,"hidden":false,"merged":[]}
["Farm Name","Anonymous ID","mg/PCU","DDDvet","DCDVet","mg/PCU (HP-CIA)","DDDvet (HP-CIA)","DCDvet (HP-CIA)","Injectable Non HP-CIA","Injectable HP-CIA","Oral Non HP-CIA","Oral HP-CIA","Topical Non HP-CIA","Topical HP-CIA","Footbath Non HP-CIA","Footbath HP-CIA","Eye Non HP-CIA","Eye HP-CIA","Intramammary HP-CIA","Intramammary HP-CIA",null,null,null,null,null,null,null,null,"Critically important"]
[{"$f":"IF(Data!A1=\"\",\"\",Data!A1)","v":"Sheep Calc A"},{"$f":"IF(A2=\"\",\"\",Y2)","v":1},{"$f":"IF(Data!B1=\"\",\"\",Data!B1)","v":7.6227887788778874},{"$f":"IF(Data!C1=\"\",\"\",Data!C1)","v":0.45735262757044937},{"$f":"IF(Data!D1=\"\",\"\",Data!D1)","v":0.13099095996556179},{"$f":"IF(Data!E1=\"\",\"\",Data!E1)","v":0},{"$f":"IF(Data!F1=\"\",\"\",Data!F1)","v":0},{"$f":"IF(Data!G1=\"\",\"\",Data!G1)","v":0},{"$f":"IF(Data!H1=\"\",\"\",Data!H1)","v":5.7920792079207919},{"$f":"IF(Data!I1=\"\",\"\",Data!I1)","v":0},{"$f":"IF(Data!J1=\"\",\"\",Data!J1)","v":0.14851485148514851},{"$f":"IF(Data!K1=\"\",\"\",Data!K1)","v":0},{"$f":"IF(Data!L1=\"\",\"\",Data!L1)","v":1.3531353135313531},{"$f":"IF(Data!M1=\"\",\"\",Data!M1)","v":0},{"$f":"IF(Data!N1=\"\",\"\",Data!N1)","v":0.31915841584158416},{"$f":"IF(Data!O1=\"\",\"\",Data!O1)","v":0},{"$f":"IF(Data!P1=\"\",\"\",Data!P1)","v":9.9009900990099011E-3},{"$f":"IF(Data!Q1=\"\",\"\",Data!Q1)","v":0},{"$f":"IF(Data!R1=\"\",\"\",Data!R1)","v":0},{"$f":"IF(Data!S1=\"\",\"\",Data!S1)","v":0},null,null,null,null,1,null,"Injectable",{"$f":"AVERAGE(I:I)","v":5.7740050449379181},{"$f":"AVERAGE(J:J)","v":0}]
[{"$f":"IF(Data!A2=\"\",\"\",Data!A2)","v":"Sheep Calc AG"},2,{"$f":"IF(Data!B2=\"\",\"\",Data!B2)","v":8.295495495495496},{"$f":"IF(Data!C2=\"\",\"\",Data!C2)","v":0.63811503811503811},{"$f":"IF(Data!D2=\"\",\"\",Data!D2)","v":0.18033685859772816},{"$f":"IF(Data!E2=\"\",\"\",Data!E2)","v":0},{"$f":"IF(Data!F2=\"\",\"\",Data!F2)","v":0},{"$f":"IF(Data!G2=\"\",\"\",Data!G2)","v":0},{"$f":"IF(Data!H2=\"\",\"\",Data!H2)","v":6.493693693693694},{"$f":"IF(Data!I2=\"\",\"\",Data!I2)","v":0},{"$f":"IF(Data!J2=\"\",\"\",Data!J2)","v":0.36036036036036034},{"$f":"IF(Data!K2=\"\",\"\",Data!K2)","v":0},{"$f":"IF(Data!L2=\"\",\"\",Data!L2)","v":1.4414414414414414},{"$f":"IF(Data!M2=\"\",\"\",Data!M2)","v":0},{"$f":"IF(Data!N2=\"\",\"\",Data!N2)","v":0},{"$f":"IF(Data!O2=\"\",\"\",Data!O2)","v":0},{"$f":"IF(Data!P2=\"\",\"\",Data!P2)","v":0},{"$f":"IF(Data!Q2=\"\",\"\",Data!Q2)","v":0},{"$f":"IF(Data!R2=\"\",\"\",Data!R2)","v":0},{"$f":"IF(Data!S2=\"\",\"\",Data!S2)","v":0},null,null,null,null,2,null,"Oral",{"$f":"AVERAGE(K:K)","v":0.18352510926768353},{"$f":"AVERAGE(L:L)","v":0}]
[{"$f":"IF(Data!A3=\"\",\"\",Data!A3)","v":"Sheep Calc DS"},3,{"$f":"IF(Data!B3=\"\",\"\",Data!B3)","v":7.9954954954954953},{"$f":"IF(Data!C3=\"\",\"\",Data!C3)","v":0.77962577962577961},{"$f":"IF(Data!D3=\"\",\"\",Data!D3)","v":0.22032902467685078},{"$f":"IF(Data!E3=\"\",\"\",Data!E3)","v":0},{"$f":"IF(Data!F3=\"\",\"\",Data!F3)","v":0},{"$f":"IF(Data!G3=\"\",\"\",Data!G3)","v":0},{"$f":"IF(Data!H3=\"\",\"\",Data!H3)","v":7.4324324324324325},{"$f":"IF(Data!I3=\"\",\"\",Data!I3)","v":0},{"$f":"IF(Data!J3=\"\",\"\",Data!J3)","v":0.22522522522522523},{"$f":"IF(Data!K3=\"\",\"\",Data!K3)","v":0},{"$f":"IF(Data!L3=\"\",\"\",Data!L3)","v":0.33783783783783783},{"$f":"IF(Data!M3=\"\",\"\",Data!M3)","v":0},{"$f":"IF(Data!N3=\"\",\"\",Data!N3)","v":0},{"$f":"IF(Data!O3=\"\",\"\",Data!O3)","v":0},{"$f":"IF(Data!P3=\"\",\"\",Data!P3)","v":0},{"$f":"IF(Data!Q3=\"\",\"\",Data!Q3)","v":0},{"$f":"IF(Data!R3=\"\",\"\",Data!R3)","v":0},{"$f":"IF(Data!S3=\"\",\"\",Data!S3)","v":0},null,null,null,null,3,null,"Topical",{"$f":"AVERAGE(M:M)","v":1.0645882186780542},{"$f":"AVERAGE(N:N)","v":0}]
[{"$f":"IF(Data!A4=\"\",\"\",Data!A4)","v":"Sheep Calc JT"},4,{"$f":"IF(Data!B4=\"\",\"\",Data!B4)","v":4.5037531276063385},{"$f":"IF(Data!C4=\"\",\"\",Data!C4)","v":0.4378648874061718},{"$f":"IF(Data!D4=\"\",\"\",Data!D4)","v":0.19773601558164106},{"$f":"IF(Data!E4=\"\",\"\",Data!E4)","v":0},{"$f":"IF(Data!F4=\"\",\"\",Data!F4)","v":0},{"$f":"IF(Data!G4=\"\",\"\",Data!G4)","v":0},{"$f":"IF(Data!H4=\"\",\"\",Data!H4)","v":3.3778148457047537},{"$f":"IF(Data!I4=\"\",\"\",Data!I4)","v":0},{"$f":"IF(Data!J4=\"\",\"\",Data!J4)","v":0},{"$f":"IF(Data!K4=\"\",\"\",Data!K4)","v":0},{"$f":"IF(Data!L4=\"\",\"\",Data!L4)","v":1.1259382819015846},{"$f":"IF(Data!M4=\"\",\"\",Data!M4)","v":0},{"$f":"IF(Data!N4=\"\",\"\",Data!N4)","v":0},{"$f":"IF(Data!O4=\"\",\"\",Data!O4)","v":0},{"$f":"IF(Data!P4=\"\",\"\",Data!P4)","v":0},{"$f":"IF(Data!Q4=\"\",\"\",Data!Q4)","v":0},{"$f":"IF(Data!R4=\"\",\"\",Data!R4)","v":0},{"$f":"IF(Data!S4=\"\",\"\",Data!S4)","v":0},null,null,null,null,4,null,"Footbath",{"$f":"AVERAGE(O:O)","v":7.9789603960396041E-2},{"$f":"AVERAGE(P:P)","v":0}]
[{"$f":"IF(Data!A5=\"\",\"\",Data!A5)","v":""},"",{"$f":"IF(Data!B5=\"\",\"\",Data!B5)","v":""},{"$f":"IF(Data!C5=\"\",\"\",Data!C5)","v":""},{"$f":"IF(Data!D5=\"\",\"\",Data!D5)","v":""},{"$f":"IF(Data!E5=\"\",\"\",Data!E5)","v":""},{"$f":"IF(Data!F5=\"\",\"\",Data!F5)","v":""},{"$f":"IF(Data!G5=\"\",\"\",Data!G5)","v":""},{"$f":"IF(Data!H5=\"\",\"\",Data!H5)","v":""},{"$f":"IF(Data!I5=\"\",\"\",Data!I5)","v":""},{"$f":"IF(Data!J5=\"\",\"\",Data!J5)","v":""},{"$f":"IF(Data!K5=\"\",\"\",Data!K5)","v":""},{"$f":"IF(Data!L5=\"\",\"\",Data!L5)","v":""},{"$f":"IF(Data!M5=\"\",\"\",Data!M5)","v":""},{"$f":"IF(Data!N5=\"\",\"\",Data!N5)","v":""},{"$f":"IF(Data!O5=\"\",\"\",Data!O5)","v":""},{"$f":"IF(Data!P5=\"\",\"\",Data!P5)","v":""},{"$f":"IF(Data!Q5=\"\",\"\",Data!Q5)","v":""},{"$f":"IF(Data!R5=\"\",\"\",Data!R5)","v":""},{"$f":"IF(Data!S5=\"\",\"\",Data!S5)","v":""},null,null,null,null,5,null,"Eye",{"$f":"AVERAGE(Q:Q)","v":2.4752475247524753E-3},{"$f":"AVERAGE(R:R)","v":0}]
[{"$f":"IF(Data!A6=\"\",\"\",Data!A6)","v":""},"",{"$f":"IF(Data!B6=\"\",\"\",Data!B6)","v":""},{"$f":"IF(Data!C6=\"\",\"\",Data!C6)","v":""},{"$f":"IF(Data!D6=\"\",\"\",Data!D6)","v":""},{"$f":"IF(Data!E6=\"\",\"\",Data!E6)","v":""},{"$f":"IF(Data!F6=\"\",\"\",Data!F6)","v":""},{"$f":"IF(Data!G6=\"\",\"\",Data!G6)","v":""},{"$f":"IF(Data!H6=\"\",\"\",Data!H6)","v":""},{"$f":"IF(Data!I6=\"\",\"\",Data!I6)","v":""},{"$f":"IF(Data!J6=\"\",\"\",Data!J6)","v":""},{"$f":"IF(Data!K6=\"\",\"\",Data!K6)","v":""},{"$f":"IF(Data!L6=\"\",\"\",Data!L6)","v":""},{"$f":"IF(Data!M6=\"\",\"\",Data!M6)","v":""},{"$f":"IF(Data!N6=\"\",\"\",Data!N6)","v":""},{"$f":"IF(Data!O6=\"\",\"\",Data!O6)","v":""},{"$f":"IF(Data!P6=\"\",\"\",Data!P6)","v":""},{"$f":"IF(Data!Q6=\"\",\"\",Data!Q6)","v":""},{"$f":"IF(Data!R6=\"\",\"\",Data!R6)","v":""},{"$f":"IF(Data!S6=\"\",\"\",Data!S6)","v":""},null,null,null,null,6,null,"Intramammary",{"$f":"AVERAGE(S:S)","v":0},{"$f":"AVERAGE(T:T)","v":0}]
[{"$f":"IF(Data!A7=\"\",\"\",Data!A7)","v":""},"",{"$f":"IF(Data!B7=\"\",\"\",Data!B7)","v":""},{"$f":"IF(Data!C7=\"\",\"\",Data!C7)","v":""},{"$f":"IF(Data!D7=\"\",\"\",Data!D7)","v":""},{"$f":"IF(Data!E7=\"\",\"\",Data!E7)","v":""},{"$f":"IF(Data!F7=\"\",\"\",Data!F7)","v":""},{"$f":"IF(Data!G7=\"\",\"\",Data!G7)","v":""},{"$f":"IF(Data!H7=\"\",\"\",Data!H7)","v":""},{"$f":"IF(Data!I7=\"\",\"\",Data!I7)","v":""},{"$f":"IF(Data!J7=\"\",\"\",Data!J7)","v":""},{"$f":"IF(Data!K7=\"\",\"\",Data!K7)","v":""},{"$f":"IF(Data!L7=\"\",\"\",Data!L7)","v":""},{"$f":"IF(Data!M7=\"\",\"\",Data!M7)","v":""},{"$f":"IF(Data!N7=\"\",\"\",Data!N7)","v":""},{"$f":"IF(Data!O7=\"\",\"\",Data!O7)","v":""},{"$f":"IF(Data!P7=\"\",\"\",Data!P7)","v":""},{"$f":"IF(Data!Q7=\"\",\"\",Data!Q7)","v":""},{"$f":"IF(Data!R7=\"\",\"\",Data!R7)","v":""},{"$f":"IF(Data!S7=\"\",\"\",Data!S7)","v":""},null,null,null,null,7]
[{"$f":"IF(Data!A8=\"\",\"\",Data!A8)","v":""},"",{"$f":"IF(Data!B8=\"\",\"\",Data!B8)","v":""},{"$f":"IF(Data!C8=\"\",\"\",Data!C8)","v":""},{"$f":"IF(Data!D8=\"\",\"\",Data!D8)","v":""},{"$f":"IF(Data!E8=\"\",\"\",Data!E8)","v":""},{"$f":"IF(Data!F8=\"\",\"\",Data!F8)","v":""},{"$f":"IF(Data!G8=\"\",\"\",Data!G8)","v":""},{"$f":"IF(Data!H8=\"\",\"\",Data!H8)","v":""},{"$f":"IF(Data!I8=\"\",\"\",Data!I8)","v":""},{"$f":"IF(Data!J8=\"\",\"\",Data!J8)","v":""},{"$f":"IF(Data!K8=\"\",\"\",Data!K8)","v":""},{"$f":"IF(Data!L8=\"\",\"\",Data!L8)","v":""},{"$f":"IF(Data!M8=\"\",\"\",Data!M8)","v":""},{"$f":"IF(Data!N8=\"\",\"\",Data!N8)","v":""},{"$f":"IF(Data!O8=\"\",\"\",Data!O8)","v":""},{"$f":"IF(Data!P8=\"\",\"\",Data!P8)","v":""},{"$f":"IF(Data!Q8=\"\",\"\",Data!Q8)","v":""},{"$f":"IF(Data!R8=\"\",\"\",Data!R8)","v":""},{"$f":"IF(Data!S8=\"\",\"\",Data!S8)","v":""},null,null,null,null,8]
[{"$f":"IF(Data!A9=\"\",\"\",Data!A9)","v":""},"",{"$f":"IF(Data!B9=\"\",\"\",Data!B9)","v":""},{"$f":"IF(Data!C9=\"\",\"\",Data!C9)","v":""},{"$f":"IF(Data!D9=\"\",\"\",Data!D9)","v":""},{"$f":"IF(Data!E9=\"\",\"\",Data!E9)","v":""},{"$f":"IF(Data!F9=\"\",\"\",Data!F9)","v":""},{"$f":"IF(Data!G9=\"\",\"\",Data!G9)","v":""},{"$f":"IF(Data!H9=\"\",\"\",Data!H9)","v":""},{"$f":"IF(Data!I9=\"\",\"\",Data!I9)","v":""},{"$f":"IF(Data!J9=\"\",\"\",Data!J9)","v":""},{"$f":"IF(Data!K9=\"\",\"\",Data!K9)","v":""},{"$f":"IF(Data!L9=\"\",\"\",Data!L9)","v":""},{"$f":"IF(Data!M9=\"\",\"\",Data!M9)","v":""},{"$f":"IF(Data!N9=\"\",\"\",Data!N9)","v":""},{"$f":"IF(Data!O9=\"\",\"\",Data!O9)","v":""},{"$f":"IF(Data!P9=\"\",\"\",Data!P9)","v":""},{"$f":"IF(Data!Q9=\"\",\"\",Data!Q9)","v":""},{"$f":"IF(Data!R9=\"\",\"\",Data!R9)","v":""},{"$f":"IF(Data!S9=\"\",\"\",Data!S9)","v":""},null,null,null,null,9]
[{"$f":"IF(Data!A10=\"\",\"\",Data!A10)","v":""},"",{"$f":"IF(Data!B10=\"\",\"\",Data!B10)","v":""},{"$f":"IF(Data!C10=\"\",\"\",Data!C10)","v":""},{"$f":"IF(Data!D10=\"\",\"\",Data!D10)","v":""},{"$f":"IF(Data!E10=\"\",\"\",Data!E10)","v":""},{"$f":"IF(Data!F10=\"\",\"\",Data!F10)","v":""},{"$f":"IF(Data!G10=\"\",\"\",Data!G10)","v":""},{"$f":"IF(Data!H10=\"\",\"\",Data!H10)","v":""},{"$f":"IF(Data!I10=\"\",\"\",Data!I10)","v":""},{"$f":"IF(Data!J10=\"\",\"\",Data!J10)","v":""},{"$f":"IF(Data!K10=\"\",\"\",Data!K10)","v":""},{"$f":"IF(Data!L10=\"\",\"\",Data!L10)","v":""},{"$f":"IF(Data!M10=\"\",\"\",Data!M10)","v":""},{"$f":"IF(Data!N10=\"\",\"\",Data!N10)","v":""},{"$f":"IF(Data!O10=\"\",\"\",Data!O10)","v":""},{"$f":"IF(Data!P10=\"\",\"\",Data!P10)","v":""},{"$f":"IF(Data!Q10=\"\",\"\",Data!Q10)","v":""},{"$f":"IF(Data!R10=\"\",\"\",Data!R10)","v":""},{"$f":"IF(Data!S10=\"\",\"\",Data!S10)","v":""},null,null,null,null,10]
[{"$f":"IF(Data!A11=\"\",\"\",Data!A11)","v":""},"",{"$f":"IF(Data!B11=\"\",\"\",Data!B11)","v":""},{"$f":"IF(Data!C11=\"\",\"\",Data!C11)","v":""},{"$f":"IF(Data!D11=\"\",\"\",Data!D11)","v":""},{"$f":"IF(Data!E11=\"\",\"\",Data!E11)","v":""},{"$f":"IF(Data!F11=\"\",\"\",Data!F11)","v":""},{"$f":"IF(Data!G11=\"\",\"\",Data!G11)","v":""},{"$f":"IF(Data!H11=\"\",\"\",Data!H11)","v":""},{"$f":"IF(Data!I11=\"\",\"\",Data!I11)","v":""},{"$f":"IF(Data!J11=\"\",\"\",Data!J11)","v":""},{"$f":"IF(Data!K11=\"\",\"\",Data!K11)","v":""},{"$f":"IF(Data!L11=\"\",\"\",Data!L11)","v":""},{"$f":"IF(Data!M11=\"\",\"\",Data!M11)","v":""},{"$f":"IF(Data!N11=\"\",\"\",Data!N11)","v":""},{"$f":"IF(Data!O11=\"\",\"\",Data!O11)","v":""},{"$f":"IF(Data!P11=\"\",\"\",Data!P11)","v":""},{"$f":"IF(Data!Q11=\"\",\"\",Data!Q11)","v":""},{"$f":"IF(Data!R11=\"\",\"\",Data!R11)","v":""},{"$f":"IF(Data!S11=\"\",\"\",Data!S11)","v":""},null,null,null,null,11]
[{"$f":"IF(Data!A12=\"\",\"\",Data!A12)","v":""},"",{"$f":"IF(Data!B12=\"\",\"\",Data!B12)","v":""},{"$f":"IF(Data!C12=\"\",\"\",Data!C12)","v":""},{"$f":"IF(Data!D12=\"\",\"\",Data!D12)","v":""},{"$f":"IF(Data!E12=\"\",\"\",Data!E12)","v":""},{"$f":"IF(Data!F12=\"\",\"\",Data!F12)","v":""},{"$f":"IF(Data!G12=\"\",\"\",Data!G12)","v":""},{"$f":"IF(Data!H12=\"\",\"\",Data!H12)","v":""},{"$f":"IF(Data!I12=\"\",\"\",Data!I12)","v":""},{"$f":"IF(Data!J12=\"\",\"\",Data!J12)","v":""},{"$f":"IF(Data!K12=\"\",\"\",Data!K12)","v":""},{"$f":"IF(Data!L12=\"\",\"\",Data!L12)","v":""},{"$f":"IF(Data!M12=\"\",\"\",Data!M12)","v":""},{"$f":"IF(Data!N12=\"\",\"\",Data!N12)","v":""},{"$f":"IF(Data!O12=\"\",\"\",Data!O12)","v":""},{"$f":"IF(Data!P12=\"\",\"\",Data!P12)","v":""},{"$f":"IF(Data!Q12=\"\",\"\",Data!Q12)","v":""},{"$f":"IF(Data!R12=\"\",\"\",Data!R12)","v":""},{"$f":"IF(Data!S12=\"\",\"\",Data!S12)","v":""},null,null,null,null,12]
[{"$f":"IF(Data!A13=\"\",\"\",Data!A13)","v":""},"",{"$f":"IF(Data!B13=\"\",\"\",Data!B13)","v":""},{"$f":"IF(Data!C13=\"\",\"\",Data!C13)","v":""},{"$f":"IF(Data!D13=\"\",\"\",Data!D13)","v":""},{"$f":"IF(Data!E13=\"\",\"\",Data!E13)","v":""},{"$f":"IF(Data!F13=\"\",\"\",Data!F13)","v":""},{"$f":"IF(Data!G13=\"\",\"\",Data!G13)","v":""},{"$f":"IF(Data!H13=\"\",\"\",Data!H13)","v":""},{"$f":"IF(Data!I13=\"\",\"\",Data!I13)","v":""},{"$f":"IF(Data!J13=\"\",\"\",Data!J13)","v":""},{"$f":"IF(Data!K13=\"\",\"\",Data!K13)","v":""},{"$f":"IF(Data!L13=\"\",\"\",Data!L13)","v":""},{"$f":"IF(Data!M13=\"\",\"\",Data!M13)","v":""},{"$f":"IF(Data!N13=\"\",\"\",Data!N13)","v":""},{"$f":"IF(Data!O13=\"\",\"\",Data!O13)","v":""},{"$f":"IF(Data!P13=\"\",\"\",Data!P13)","v":""},{"$f":"IF(Data!Q13=\"\",\"\",Data!Q13)","v":""},{"$f":"IF(Data!R13=\"\",\"\",Data!R13)","v":""},{"$f":"IF(Data!S13=\"\",\"\",Data!S13)","v":""},null,null,null,null,13]
[{"$f":"IF(Data!A14=\"\",\"\",Data!A14)","v":""},"",{"$f":"IF(Data!B14=\"\",\"\",Data!B14)","v":""},{"$f":"IF(Data!C14=\"\",\"\",Data!C14)","v":""},{"$f":"IF(Data!D14=\"\",\"\",Data!D14)","v":""},{"$f":"IF(Data!E14=\"\",\"\",Data!E14)","v":""},{"$f":"IF(Data!F14=\"\",\"\",Data!F14)","v":""},{"$f":"IF(Data!G14=\"\",\"\",Data!G14)","v":""},{"$f":"IF(Data!H14=\"\",\"\",Data!H14)","v":""},{"$f":"IF(Data!I14=\"\",\"\",Data!I14)","v":""},{"$f":"IF(Data!J14=\"\",\"\",Data!J14)","v":""},{"$f":"IF(Data!K14=\"\",\"\",Data!K14)","v":""},{"$f":"IF(Data!L14=\"\",\"\",Data!L14)","v":""},{"$f":"IF(Data!M14=\"\",\"\",Data!M14)","v":""},{"$f":"IF(Data!N14=\"\",\"\",Data!N14)","v":""},{"$f":"IF(Data!O14=\"\",\"\",Data!O14)","v":""},{"$f":"IF(Data!P14=\"\",\"\",Data!P14)","v":""},{"$f":"IF(Data!Q14=\"\",\"\",Data!Q14)","v":""},{"$f":"IF(Data!R14=\"\",\"\",Data!R14)","v":""},{"$f":"IF(Data!S14=\"\",\"\",Data!S14)","v":""},null,null,null,null,14]
[{"$f":"IF(Data!A15=\"\",\"\",Data!A15)","v":""},"",{"$f":"IF(Data!B15=\"\",\"\",Data!B15)","v":""},{"$f":"IF(Data!C15=\"\",\"\",Data!C15)","v":""},{"$f":"IF(Data!D15=\"\",\"\",Data!D15)","v":""},{"$f":"IF(Data!E15=\"\",\"\",Data!E15)","v":""},{"$f":"IF(Data!F15=\"\",\"\",Data!F15)","v":""},{"$f":"IF(Data!G15=\"\",\"\",Data!G15)","v":""},{"$f":"IF(Data!H15=\"\",\"\",Data!H15)","v":""},{"$f":"IF(Data!I15=\"\",\"\",Data!I15)","v":""},{"$f":"IF(Data!J15=\"\",\"\",Data!J15)","v":""},{"$f":"IF(Data!K15=\"\",\"\",Data!K15)","v":""},{"$f":"IF(Data!L15=\"\",\"\",Data!L15)","v":""},{"$f":"IF(Data!M15=\"\",\"\",Data!M15)","v":""},{"$f":"IF(Data!N15=\"\",\"\",Data!N15)","v":""},{"$f":"IF(Data!O15=\"\",\"\",Data!O15)","v":""},{"$f":"IF(Data!P15=\"\",\"\",Data!P15)","v":""},{"$f":"IF(Data!Q15=\"\",\"\",Data!Q15)","v":""},{"$f":"IF(Data!R15=\"\",\"\",Data!R15)","v":""},{"$f":"IF(Data!S15=\"\",\"\",Data!S15)","v":""},null,null,null,null,15]
[{"$f":"IF(Data!A16=\"\",\"\",Data!A16)","v":""},"",{"$f":"IF(Data!B16=\"\",\"\",Data!B16)","v":""},{"$f":"IF(Data!C16=\"\",\"\",Data!C16)","v":""},{"$f":"IF(Data!D16=\"\",\"\",Data!D16)","v":""},{"$f":"IF(Data!E16=\"\",\"\",Data!E16)","v":""},{"$f":"IF(Data!F16=\"\",\"\",Data!F16)","v":""},{"$f":"IF(Data!G16=\"\",\"\",Data!G16)","v":""},{"$f":"IF(Data!H16=\"\",\"\",Data!H16)","v":""},{"$f":"IF(Data!I16=\"\",\"\",Data!I16)","v":""},{"$f":"IF(Data!J16=\"\",\"\",Data!J16)","v":""},{"$f":"IF(Data!K16=\"\",\"\",Data!K16)","v":""},{"$f":"IF(Data!L16=\"\",\"\",Data!L16)","v":""},{"$f":"IF(Data!M16=\"\",\"\",Data!M16)","v":""},{"$f":"IF(Data!N16=\"\",\"\",Data!N16)","v":""},{"$f":"IF(Data!O16=\"\",\"\",Data!O16)","v":""},{"$f":"IF(Data!P16=\"\",\"\",Data!P16)","v":""},{"$f":"IF(Data!Q16=\"\",\"\",Data!Q16)","v":""},{"$f":"IF(Data!R16=\"\",\"\",Data!R16)","v":""},{"$f":"IF(Data!S16=\"\",\"\",Data!S16)","v":""},null,null,null,null,16]
[{"$f":"IF(Data!A17=\"\",\"\",Data!A17)","v":""},"",{"$f":"IF(Data!B17=\"\",\"\",Data!B17)","v":""},{"$f":"IF(Data!C17=\"\",\"\",Data!C17)","v":""},{"$f":"IF(Data!D17=\"\",\"\",Data!D17)","v":""},{"$f":"IF(Data!E17=\"\",\"\",Data!E17)","v":""},{"$f":"IF(Data!F17=\"\",\"\",Data!F17)","v":""},{"$f":"IF(Data!G17=\"\",\"\",Data!G17)","v":""},{"$f":"IF(Data!H17=\"\",\"\",Data!H17)","v":""},{"$f":"IF(Data!I17=\"\",\"\",Data!I17)","v":""},{"$f":"IF(Data!J17=\"\",\"\",Data!J17)","v":""},{"$f":"IF(Data!K17=\"\",\"\",Data!K17)","v":""},{"$f":"IF(Data!L17=\"\",\"\",Data!L17)","v":""},{"$f":"IF(Data!M17=\"\",\"\",Data!M17)","v":""},{"$f":"IF(Data!N17=\"\",\"\",Data!N17)","v":""},{"$f":"IF(Data!O17=\"\",\"\",Data!O17)","v":""},{"$f":"IF(Data!P17=\"\",\"\",Data!P17)","v":""},{"$f":"IF(Data!Q17=\"\",\"\",Data!Q17)","v":""},{"$f":"IF(Data!R17=\"\",\"\",Data!R17)","v":""},{"$f":"IF(Data!S17=\"\",\"\",Data!S17)","v":""},null,null,null,null,17]
[{"$f":"IF(Data!A18=\"\",\"\",Data!A18)","v":""},"",{"$f":"IF(Data!B18=\"\",\"\",Data!B18)","v":""},{"$f":"IF(Data!C18=\"\",\"\",Data!C18)","v":""},{"$f":"IF(Data!D18=\"\",\"\",Data!D18)","v":""},{"$f":"IF(Data!E18=\"\",\"\",Data!E18)","v":""},{"$f":"IF(Data!F18=\"\",\"\",Data!F18)","v":""},{"$f":"IF(Data!G18=\"\",\"\",Data!G18)","v":""},{"$f":"IF(Data!H18=\"\",\"\",Data!H18)","v":""},{"$f":"IF(Data!I18=\"\",\"\",Data!I18)","v":""},{"$f":"IF(Data!J18=\"\",\"\",Data!J18)","v":""},{"$f":"IF(Data!K18=\"\",\"\",Data!K18)","v":""},{"$f":"IF(Data!L18=\"\",\"\",Data!L18)","v":""},{"$f":"IF(Data!M18=\"\",\"\",Data!M18)","v":""},{"$f":"IF(Data!N18=\"\",\"\",Data!N18)","v":""},{"$f":"IF(Data!O18=\"\",\"\",Data!O18)","v":""},{"$f":"IF(Data!P18=\"\",\"\",Data!P18)","v":""},{"$f":"IF(Data!Q18=\"\",\"\",Data!Q18)","v":""},{"$f":"IF(Data!R18=\"\",\"\",Data!R18)","v":""},{"$f":"IF(Data!S18=\"\",\"\",Data!S18)","v":""},null,null,null,null,18]
[{"$f":"IF(Data!A19=\"\",\"\",Data!A19)","v":""},"",{"$f":"IF(Data!B19=\"\",\"\",Data!B19)","v":""},{"$f":"IF(Data!C19=\"\",\"\",Data!C19)","v":""},{"$f":"IF(Data!D19=\"\",\"\",Data!D19)","v":""},{"$f":"IF(Data!E19=\"\",\"\",Data!E19)","v":""},{"$f":"IF(Data!F19=\"\",\"\",Data!F19)","v":""},{"$f":"IF(Data!G19=\"\",\"\",Data!G19)","v":""},{"$f":"IF(Data!H19=\"\",\"\",Data!H19)","v":""},{"$f":"IF(Data!I19=\"\",\"\",Data!I19)","v":""},{"$f":"IF(Data!J19=\"\",\"\",Data!J19)","v":""},{"$f":"IF(Data!K19=\"\",\"\",Data!K19)","v":""},{"$f":"IF(Data!L19=\"\",\"\",Data!L19)","v":""},{"$f":"IF(Data!M19=\"\",\"\",Data!M19)","v":""},{"$f":"IF(Data!N19=\"\",\"\",Data!N19)","v":""},{"$f":"IF(Data!O19=\"\",\"\",Data!O19)","v":""},{"$f":"IF(Data!P19=\"\",\"\",Data!P19)","v":""},{"$f":"IF(Data!Q19=\"\",\"\",Data!Q19)","v":""},{"$f":"IF(Data!R19=\"\",\"\",Data!R19)","v":""},{"$f":"IF(Data!S19=\"\",\"\",Data!S19)","v":""},null,null,null,null,19]
[{"$f":"IF(Data!A20=\"\",\"\",Data!A20)","v":""},"",{"$f":"IF(Data!B20=\"\",\"\",Data!B20)","v":""},{"$f":"IF(Data!C20=\"\",\"\",Data!C20)","v":""},{"$f":"IF(Data!D20=\"\",\"\",Data!D20)","v":""},{"$f":"IF(Data!E20=\"\",\"\",Data!E20)","v":""},{"$f":"IF(Data!F20=\"\",\"\",Data!F20)","v":""},{"$f":"IF(Data!G20=\"\",\"\",Data!G20)","v":""},{"$f":"IF(Data!H20=\"\",\"\",Data!H20)","v":""},{"$f":"IF(Data!I20=\"\",\"\",Data!I20)","v":""},{"$f":"IF(Data!J20=\"\",\"\",Data!J20)","v":""},{"$f":"IF(Data!K20=\"\",\"\",Data!K20)","v":""},{"$f":"IF(Data!L20=\"\",\"\",Data!L20)","v":""},{"$f":"IF(Data!M20=\"\",\"\",Data!M20)","v":""},{"$f":"IF(Data!N20=\"\",\"\",Data!N20)","v":""},{"$f":"IF(Data!O20=\"\",\"\",Data!O20)","v":""},{"$f":"IF(Data!P20=\"\",\"\",Data!P20)","v":""},{"$f":"IF(Data!Q20=\"\",\"\",Data!Q20)","v":""},{"$f":"IF(Data!R20=\"\",\"\",Data!R20)","v":""},{"$f":"IF(Data!S20=\"\",\"\",Data!S20)","v":""},null,null,null,null,20]
[{"$f":"IF(Data!A21=\"\",\"\",Data!A21)","v":""},"",{"$f":"IF(Data!B21=\"\",\"\",Data!B21)","v":""},{"$f":"IF(Data!C21=\"\",\"\",Data!C21)","v":""},{"$f":"IF(Data!D21=\"\",\"\",Data!D21)","v":""},{"$f":"IF(Data!E21=\"\",\"\",Data!E21)","v":""},{"$f":"IF(Data!F21=\"\",\"\",Data!F21)","v":""},{"$f":"IF(Data!G21=\"\",\"\",Data!G21)","v":""},{"$f":"IF(Data!H21=\"\",\"\",Data!H21)","v":""},{"$f":"IF(Data!I21=\"\",\"\",Data!I21)","v":""},{"$f":"IF(Data!J21=\"\",\"\",Data!J21)","v":""},{"$f":"IF(Data!K21=\"\",\"\",Data!K21)","v":""},{"$f":"IF(Data!L21=\"\",\"\",Data!L21)","v":""},{"$f":"IF(Data!M21=\"\",\"\",Data!M21)","v":""},{"$f":"IF(Data!N21=\"\",\"\",Data!N21)","v":""},{"$f":"IF(Data!O21=\"\",\"\",Data!O21)","v":""},{"$f":"IF(Data!P21=\"\",\"\",Data!P21)","v":""},{"$f":"IF(Data!Q21=\"\",\"\",Data!Q21)","v":""},{"$f":"IF(Data!R21=\"\",\"\",Data!R21)","v":""},{"$f":"IF(Data!S21=\"\",\"\",Data!S21)","v":""},null,null,null,null,21]
[{"$f":"IF(Data!A22=\"\",\"\",Data!A22)","v":""},"",{"$f":"IF(Data!B22=\"\",\"\",Data!B22)","v":""},{"$f":"IF(Data!C22=\"\",\"\",Data!C22)","v":""},{"$f":"IF(Data!D22=\"\",\"\",Data!D22)","v":""},{"$f":"IF(Data!E22=\"\",\"\",Data!E22)","v":""},{"$f":"IF(Data!F22=\"\",\"\",Data!F22)","v":""},{"$f":"IF(Data!G22=\"\",\"\",Data!G22)","v":""},{"$f":"IF(Data!H22=\"\",\"\",Data!H22)","v":""},{"$f":"IF(Data!I22=\"\",\"\",Data!I22)","v":""},{"$f":"IF(Data!J22=\"\",\"\",Data!J22)","v":""},{"$f":"IF(Data!K22=\"\",\"\",Data!K22)","v":""},{"$f":"IF(Data!L22=\"\",\"\",Data!L22)","v":""},{"$f":"IF(Data!M22=\"\",\"\",Data!M22)","v":""},{"$f":"IF(Data!N22=\"\",\"\",Data!N22)","v":""},{"$f":"IF(Data!O22=\"\",\"\",Data!O22)","v":""},{"$f":"IF(Data!P22=\"\",\"\",Data!P22)","v":""},{"$f":"IF(Data!Q22=\"\",\"\",Data!Q22)","v":""},{"$f":"IF(Data!R22=\"\",\"\",Data!R22)","v":""},{"$f":"IF(Data!S22=\"\",\"\",Data!S22)","v":""},null,null,null,null,22]
[{"$f":"IF(Data!A23=\"\",\"\",Data!A23)","v":""},"",{"$f":"IF(Data!B23=\"\",\"\",Data!B23)","v":""},{"$f":"IF(Data!C23=\"\",\"\",Data!C23)","v":""},{"$f":"IF(Data!D23=\"\",\"\",Data!D23)","v":""},{"$f":"IF(Data!E23=\"\",\"\",Data!E23)","v":""},{"$f":"IF(Data!F23=\"\",\"\",Data!F23)","v":""},{"$f":"IF(Data!G23=\"\",\"\",Data!G23)","v":""},{"$f":"IF(Data!H23=\"\",\"\",Data!H23)","v":""},{"$f":"IF(Data!I23=\"\",\"\",Data!I23)","v":""},{"$f":"IF(Data!J23=\"\",\"\",Data!J23)","v":""},{"$f":"IF(Data!K23=\"\",\"\",Data!K23)","v":""},{"$f":"IF(Data!L23=\"\",\"\",Data!L23)","v":""},{"$f":"IF(Data!M23=\"\",\"\",Data!M23)","v":""},{"$f":"IF(Data!N23=\"\",\"\",Data!N23)","v":""},{"$f":"IF(Data!O23=\"\",\"\",Data!O23)","v":""},{"$f":"IF(Data!P23=\"\",\"\",Data!P23)","v":""},{"$f":"IF(Data!Q23=\"\",\"\",Data!Q23)","v":""},{"$f":"IF(Data!R23=\"\",\"\",Data!R23)","v":""},{"$f":"IF(Data!S23=\"\",\"\",Data!S23)","v":""},null,null,null,null,23]
[{"$f":"IF(Data!A24=\"\",\"\",Data!A24)","v":""},"",{"$f":"IF(Data!B24=\"\",\"\",Data!B24)","v":""},{"$f":"IF(Data!C24=\"\",\"\",Data!C24)","v":""},{"$f":"IF(Data!D24=\"\",\"\",Data!D24)","v":""},{"$f":"IF(Data!E24=\"\",\"\",Data!E24)","v":""},{"$f":"IF(Data!F24=\"\",\"\",Data!F24)","v":""},{"$f":"IF(Data!G24=\"\",\"\",Data!G24)","v":""},{"$f":"IF(Data!H24=\"\",\"\",Data!H24)","v":""},{"$f":"IF(Data!I24=\"\",\"\",Data!I24)","v":""},{"$f":"IF(Data!J24=\"\",\"\",Data!J24)","v":""},{"$f":"IF(Data!K24=\"\",\"\",Data!K24)","v":""},{"$f":"IF(Data!L24=\"\",\"\",Data!L24)","v":""},{"$f":"IF(Data!M24=\"\",\"\",Data!M24)","v":""},{"$f":"IF(Data!N24=\"\",\"\",Data!N24)","v":""},{"$f":"IF(Data!O24=\"\",\"\",Data!O24)","v":""},{"$f":"IF(Data!P24=\"\",\"\",Data!P24)","v":""},{"$f":"IF(Data!Q24=\"\",\"\",Data!Q24)","v":""},{"$f":"IF(Data!R24=\"\",\"\",Data!R24)","v":""},{"$f":"IF(Data!S24=\"\",\"\",Data!S24)","v":""},null,null,null,null,24]
[{"$f":"IF(Data!A25=\"\",\"\",Data!A25)","v":""},"",{"$f":"IF(Data!B25=\"\",\"\",Data!B25)","v":""},{"$f":"IF(Data!C25=\"\",\"\",Data!C25)","v":""},{"$f":"IF(Data!D25=\"\",\"\",Data!D25)","v":""},{"$f":"IF(Data!E25=\"\",\"\",Data!E25)","v":""},{"$f":"IF(Data!F25=\"\",\"\",Data!F25)","v":""},{"$f":"IF(Data!G25=\"\",\"\",Data!G25)","v":""},{"$f":"IF(Data!H25=\"\",\"\",Data!H25)","v":""},{"$f":"IF(Data!I25=\"\",\"\",Data!I25)","v":""},{"$f":"IF(Data!J25=\"\",\"\",Data!J25)","v":""},{"$f":"IF(Data!K25=\"\",\"\",Data!K25)","v":""},{"$f":"IF(Data!L25=\"\",\"\",Data!L25)","v":""},{"$f":"IF(Data!M25=\"\",\"\",Data!M25)","v":""},{"$f":"IF(Data!N25=\"\",\"\",Data!N25)","v":""},{"$f":"IF(Data!O25=\"\",\"\",Data!O25)","v":""},{"$f":"IF(Data!P25=\"\",\"\",Data!P25)","v":""},{"$f":"IF(Data!Q25=\"\",\"\",Data!Q25)","v":""},{"$f":"IF(Data!R25=\"\",\"\",Data!R25)","v":""},{"$f":"IF(Data!S25=\"\",\"\",Data!S25)","v":""},null,null,null,null,25]
[{"$f":"IF(Data!A26=\"\",\"\",Data!A26)","v":""},"",{"$f":"IF(Data!B26=\"\",\"\",Data!B26)","v":""},{"$f":"IF(Data!C26=\"\",\"\",Data!C26)","v":""},{"$f":"IF(Data!D26=\"\",\"\",Data!D26)","v":""},{"$f":"IF(Data!E26=\"\",\"\",Data!E26)","v":""},{"$f":"IF(Data!F26=\"\",\"\",Data!F26)","v":""},{"$f":"IF(Data!G26=\"\",\"\",Data!G26)","v":""},{"$f":"IF(Data!H26=\"\",\"\",Data!H26)","v":""},{"$f":"IF(Data!I26=\"\",\"\",Data!I26)","v":""},{"$f":"IF(Data!J26=\"\",\"\",Data!J26)","v":""},{"$f":"IF(Data!K26=\"\",\"\",Data!K26)","v":""},{"$f":"IF(Data!L26=\"\",\"\",Data!L26)","v":""},{"$f":"IF(Data!M26=\"\",\"\",Data!M26)","v":""},{"$f":"IF(Data!N26=\"\",\"\",Data!N26)","v":""},{"$f":"IF(Data!O26=\"\",\"\",Data!O26)","v":""},{"$f":"IF(Data!P26=\"\",\"\",Data!P26)","v":""},{"$f":"IF(Data!Q26=\"\",\"\",Data!Q26)","v":""},{"$f":"IF(Data!R26=\"\",\"\",Data!R26)","v":""},{"$f":"IF(Data!S26=\"\",\"\",Data!S26)","v":""},null,null,null,null,26]
[{"$f":"IF(Data!A27=\"\",\"\",Data!A27)","v":""},"",{"$f":"IF(Data!B27=\"\",\"\",Data!B27)","v":""},{"$f":"IF(Data!C27=\"\",\"\",Data!C27)","v":""},{"$f":"IF(Data!D27=\"\",\"\",Data!D27)","v":""},{"$f":"IF(Data!E27=\"\",\"\",Data!E27)","v":""},{"$f":"IF(Data!F27=\"\",\"\",Data!F27)","v":""},{"$f":"IF(Data!G27=\"\",\"\",Data!G27)","v":""},{"$f":"IF(Data!H27=\"\",\"\",Data!H27)","v":""},{"$f":"IF(Data!I27=\"\",\"\",Data!I27)","v":""},{"$f":"IF(Data!J27=\"\",\"\",Data!J27)","v":""},{"$f":"IF(Data!K27=\"\",\"\",Data!K27)","v":""},{"$f":"IF(Data!L27=\"\",\"\",Data!L27)","v":""},{"$f":"IF(Data!M27=\"\",\"\",Data!M27)","v":""},{"$f":"IF(Data!N27=\"\",\"\",Data!N27)","v":""},{"$f":"IF(Data!O27=\"\",\"\",Data!O27)","v":""},{"$f":"IF(Data!P27=\"\",\"\",Data!P27)","v":""},{"$f":"IF(Data!Q27=\"\",\"\",Data!Q27)","v":""},{"$f":"IF(Data!R27=\"\",\"\",Data!R27)","v":""},{"$f":"IF(Data!S27=\"\",\"\",Data!S27)","v":""},null,null,null,null,27]
[{"$f":"IF(Data!A28=\"\",\"\",Data!A28)","v":""},"",{"$f":"IF(Data!B28=\"\",\"\",Data!B28)","v":""},{"$f":"IF(Data!C28=\"\",\"\",Data!C28)","v":""},{"$f":"IF(Data!D28=\"\",\"\",Data!D28)","v":""},{"$f":"IF(Data!E28=\"\",\"\",Data!E28)","v":""},{"$f":"IF(Data!F28=\"\",\"\",Data!F28)","v":""},{"$f":"IF(Data!G28=\"\",\"\",Data!G28)","v":""},{"$f":"IF(Data!H28=\"\",\"\",Data!H28)","v":""},{"$f":"IF(Data!I28=\"\",\"\",Data!I28)","v":""},{"$f":"IF(Data!J28=\"\",\"\",Data!J28)","v":""},{"$f":"IF(Data!K28=\"\",\"\",Data!K28)","v":""},{"$f":"IF(Data!L28=\"\",\"\",Data!L28)","v":""},{"$f":"IF(Data!M28=\"\",\"\",Data!M28)","v":""},{"$f":"IF(Data!N28=\"\",\"\",Data!N28)","v":""},{"$f":"IF(Data!O28=\"\",\"\",Data!O28)","v":""},{"$f":"IF(Data!P28=\"\",\"\",Data!P28)","v":""},{"$f":"IF(Data!Q28=\"\",\"\",Data!Q28)","v":""},{"$f":"IF(Data!R28=\"\",\"\",Data!R28)","v":""},{"$f":"IF(Data!S28=\"\",\"\",Data!S28)","v":""},null,null,null,null,28]
[{"$f":"IF(Data!A29=\"\",\"\",Data!A29)","v":""},"",{"$f":"IF(Data!B29=\"\",\"\",Data!B29)","v":""},{"$f":"IF(Data!C29=\"\",\"\",Data!C29)","v":""},{"$f":"IF(Data!D29=\"\",\"\",Data!D29)","v":""},{"$f":"IF(Data!E29=\"\",\"\",Data!E29)","v":""},{"$f":"IF(Data!F29=\"\",\"\",Data!F29)","v":""},{"$f":"IF(Data!G29=\"\",\"\",Data!G29)","v":""},{"$f":"IF(Data!H29=\"\",\"\",Data!H29)","v":""},{"$f":"IF(Data!I29=\"\",\"\",Data!I29)","v":""},{"$f":"IF(Data!J29=\"\",\"\",Data!J29)","v":""},{"$f":"IF(Data!K29=\"\",\"\",Data!K29)","v":""},{"$f":"IF(Data!L29=\"\",\"\",Data!L29)","v":""},{"$f":"IF(Data!M29=\"\",\"\",Data!M29)","v":""},{"$f":"IF(Data!N29=\"\",\"\",Data!N29)","v":""},{"$f":"IF(Data!O29=\"\",\"\",Data!O29)","v":""},{"$f":"IF(Data!P29=\"\",\"\",Data!P29)","v":""},{"$f":"IF(Data!Q29=\"\",\"\",Data!Q29)","v":""},{"$f":"IF(Data!R29=\"\",\"\",Data!R29)","v":""},{"$f":"IF(Data!S29=\"\",\"\",Data!S29)","v":""},null,null,null,null,29]
[{"$f":"IF(Data!A30=\"\",\"\",Data!A30)","v":""},"",{"$f":"IF(Data!B30=\"\",\"\",Data!B30)","v":""},{"$f":"IF(Data!C30=\"\",\"\",Data!C30)","v":""},{"$f":"IF(Data!D30=\"\",\"\",Data!D30)","v":""},{"$f":"IF(Data!E30=\"\",\"\",Data!E30)","v":""},{"$f":"IF(Data!F30=\"\",\"\",Data!F30)","v":""},{"$f":"IF(Data!G30=\"\",\"\",Data!G30)","v":""},{"$f":"IF(Data!H30=\"\",\"\",Data!H30)","v":""},{"$f":"IF(Data!I30=\"\",\"\",Data!I30)","v":""},{"$f":"IF(Data!J30=\"\",\"\",Data!J30)","v":""},{"$f":"IF(Data!K30=\"\",\"\",Data!K30)","v":""},{"$f":"IF(Data!L30=\"\",\"\",Data!L30)","v":""},{"$f":"IF(Data!M30=\"\",\"\",Data!M30)","v":""},{"$f":"IF(Data!N30=\"\",\"\",Data!N30)","v":""},{"$f":"IF(Data!O30=\"\",\"\",Data!O30)","v":""},{"$f":"IF(Data!P30=\"\",\"\",Data!P30)","v":""},{"$f":"IF(Data!Q30=\"\",\"\",Data!Q30)","v":""},{"$f":"IF(Data!R30=\"\",\"\",Data!R30)","v":""},{"$f":"IF(Data!S30=\"\",\"\",Data!S30)","v":""},null,null,null,null,30]
[{"$f":"IF(Data!A31=\"\",\"\",Data!A31)","v":""},"",{"$f":"IF(Data!B31=\"\",\"\",Data!B31)","v":""},{"$f":"IF(Data!C31=\"\",\"\",Data!C31)","v":""},{"$f":"IF(Data!D31=\"\",\"\",Data!D31)","v":""},{"$f":"IF(Data!E31=\"\",\"\",Data!E31)","v":""},{"$f":"IF(Data!F31=\"\",\"\",Data!F31)","v":""},{"$f":"IF(Data!G31=\"\",\"\",Data!G31)","v":""},{"$f":"IF(Data!H31=\"\",\"\",Data!H31)","v":""},{"$f":"IF(Data!I31=\"\",\"\",Data!I31)","v":""},{"$f":"IF(Data!J31=\"\",\"\",Data!J31)","v":""},{"$f":"IF(Data!K31=\"\",\"\",Data!K31)","v":""},{"$f":"IF(Data!L31=\"\",\"\",Data!L31)","v":""},{"$f":"IF(Data!M31=\"\",\"\",Data!M31)","v":""},{"$f":"IF(Data!N31=\"\",\"\",Data!N31)","v":""},{"$f":"IF(Data!O31=\"\",\"\",Data!O31)","v":""},{"$f":"IF(Data!P31=\"\",\"\",Data!P31)","v":""},{"$f":"IF(Data!Q31=\"\",\"\",Data!Q31)","v":""},{"$f":"IF(Data!R31=\"\",\"\",Data!R31)","v":""},{"$f":"IF(Data!S31=\"\",\"\",Data!S31)","v":""},null,null,null,null,31]
[{"$f":"IF(Data!A32=\"\",\"\",Data!A32)","v":""},"",{"$f":"IF(Data!B32=\"\",\"\",Data!B32)","v":""},{"$f":"IF(Data!C32=\"\",\"\",Data!C32)","v":""},{"$f":"IF(Data!D32=\"\",\"\",Data!D32)","v":""},{"$f":"IF(Data!E32=\"\",\"\",Data!E32)","v":""},{"$f":"IF(Data!F32=\"\",\"\",Data!F32)","v":""},{"$f":"IF(Data!G32=\"\",\"\",Data!G32)","v":""},{"$f":"IF(Data!H32=\"\",\"\",Data!H32)","v":""},{"$f":"IF(Data!I32=\"\",\"\",Data!I32)","v":""},{"$f":"IF(Data!J32=\"\",\"\",Data!J32)","v":""},{"$f":"IF(Data!K32=\"\",\"\",Data!K32)","v":""},{"$f":"IF(Data!L32=\"\",\"\",Data!L32)","v":""},{"$f":"IF(Data!M32=\"\",\"\",Data!M32)","v":""},{"$f":"IF(Data!N32=\"\",\"\",Data!N32)","v":""},{"$f":"IF(Data!O32=\"\",\"\",Data!O32)","v":""},{"$f":"IF(Data!P32=\"\",\"\",Data!P32)","v":""},{"$f":"IF(Data!Q32=\"\",\"\",Data!Q32)","v":""},{"$f":"IF(Data!R32=\"\",\"\",Data!R32)","v":""},{"$f":"IF(Data!S32=\"\",\"\",Data!S32)","v":""},null,null,null,null,32]
[{"$f":"IF(Data!A33=\"\",\"\",Data!A33)","v":""},"",{"$f":"IF(Data!B33=\"\",\"\",Data!B33)","v":""},{"$f":"IF(Data!C33=\"\",\"\",Data!C33)","v":""},{"$f":"IF(Data!D33=\"\",\"\",Data!D33)","v":""},{"$f":"IF(Data!E33=\"\",\"\",Data!E33)","v":""},{"$f":"IF(Data!F33=\"\",\"\",Data!F33)","v":""},{"$f":"IF(Data!G33=\"\",\"\",Data!G33)","v":""},{"$f":"IF(Data!H33=\"\",\"\",Data!H33)","v":""},{"$f":"IF(Data!I33=\"\",\"\",Data!I33)","v":""},{"$f":"IF(Data!J33=\"\",\"\",Data!J33)","v":""},{"$f":"IF(Data!K33=\"\",\"\",Data!K33)","v":""},{"$f":"IF(Data!L33=\"\",\"\",Data!L33)","v":""},{"$f":"IF(Data!M33=\"\",\"\",Data!M33)","v":""},{"$f":"IF(Data!N33=\"\",\"\",Data!N33)","v":""},{"$f":"IF(Data!O33=\"\",\"\",Data!O33)","v":""},{"$f":"IF(Data!P33=\"\",\"\",Data!P33)","v":""},{"$f":"IF(Data!Q33=\"\",\"\",Data!Q33)","v":""},{"$f":"IF(Data!R33=\"\",\"\",Data!R33)","v":""},{"$f":"IF(Data!S33=\"\",\"\",Data!S33)","v":""},null,null,null,null,33]
[{"$f":"IF(Data!A34=\"\",\"\",Data!A34)","v":""},"",{"$f":"IF(Data!B34=\"\",\"\",Data!B34)","v":""},{"$f":"IF(Data!C34=\"\",\"\",Data!C34)","v":""},{"$f":"IF(Data!D34=\"\",\"\",Data!D34)","v":""},{"$f":"IF(Data!E34=\"\",\"\",Data!E34)","v":""},{"$f":"IF(Data!F34=\"\",\"\",Data!F34)","v":""},{"$f":"IF(Data!G34=\"\",\"\",Data!G34)","v":""},{"$f":"IF(Data!H34=\"\",\"\",Data!H34)","v":""},{"$f":"IF(Data!I34=\"\",\"\",Data!I34)","v":""},{"$f":"IF(Data!J34=\"\",\"\",Data!J34)","v":""},{"$f":"IF(Data!K34=\"\",\"\",Data!K34)","v":""},{"$f":"IF(Data!L34=\"\",\"\",Data!L34)","v":""},{"$f":"IF(Data!M34=\"\",\"\",Data!M34)","v":""},{"$f":"IF(Data!N34=\"\",\"\",Data!N34)","v":""},{"$f":"IF(Data!O34=\"\",\"\",Data!O34)","v":""},{"$f":"IF(Data!P34=\"\",\"\",Data!P34)","v":""},{"$f":"IF(Data!Q34=\"\",\"\",Data!Q34)","v":""},{"$f":"IF(Data!R34=\"\",\"\",Data!R34)","v":""},{"$f":"IF(Data!S34=\"\",\"\",Data!S34)","v":""},null,null,null,null,34]
[{"$f":"IF(Data!A35=\"\",\"\",Data!A35)","v":""},"",{"$f":"IF(Data!B35=\"\",\"\",Data!B35)","v":""},{"$f":"IF(Data!C35=\"\",\"\",Data!C35)","v":""},{"$f":"IF(Data!D35=\"\",\"\",Data!D35)","v":""},{"$f":"IF(Data!E35=\"\",\"\",Data!E35)","v":""},{"$f":"IF(Data!F35=\"\",\"\",Data!F35)","v":""},{"$f":"IF(Data!G35=\"\",\"\",Data!G35)","v":""},{"$f":"IF(Data!H35=\"\",\"\",Data!H35)","v":""},{"$f":"IF(Data!I35=\"\",\"\",Data!I35)","v":""},{"$f":"IF(Data!J35=\"\",\"\",Data!J35)","v":""},{"$f":"IF(Data!K35=\"\",\"\",Data!K35)","v":""},{"$f":"IF(Data!L35=\"\",\"\",Data!L35)","v":""},{"$f":"IF(Data!M35=\"\",\"\",Data!M35)","v":""},{"$f":"IF(Data!N35=\"\",\"\",Data!N35)","v":""},{"$f":"IF(Data!O35=\"\",\"\",Data!O35)","v":""},{"$f":"IF(Data!P35=\"\",\"\",Data!P35)","v":""},{"$f":"IF(Data!Q35=\"\",\"\",Data!Q35)","v":""},{"$f":"IF(Data!R35=\"\",\"\",Data!R35)","v":""},{"$f":"IF(Data!S35=\"\",\"\",Data!S35)","v":""},null,null,null,null,35]
[{"$f":"IF(Data!A36=\"\",\"\",Data!A36)","v":""},"",{"$f":"IF(Data!B36=\"\",\"\",Data!B36)","v":""},{"$f":"IF(Data!C36=\"\",\"\",Data!C36)","v":""},{"$f":"IF(Data!D36=\"\",\"\",Data!D36)","v":""},{"$f":"IF(Data!E36=\"\",\"\",Data!E36)","v":""},{"$f":"IF(Data!F36=\"\",\"\",Data!F36)","v":""},{"$f":"IF(Data!G36=\"\",\"\",Data!G36)","v":""},{"$f":"IF(Data!H36=\"\",\"\",Data!H36)","v":""},{"$f":"IF(Data!I36=\"\",\"\",Data!I36)","v":""},{"$f":"IF(Data!J36=\"\",\"\",Data!J36)","v":""},{"$f":"IF(Data!K36=\"\",\"\",Data!K36)","v":""},{"$f":"IF(Data!L36=\"\",\"\",Data!L36)","v":""},{"$f":"IF(Data!M36=\"\",\"\",Data!M36)","v":""},{"$f":"IF(Data!N36=\"\",\"\",Data!N36)","v":""},{"$f":"IF(Data!O36=\"\",\"\",Data!O36)","v":""},{"$f":"IF(Data!P36=\"\",\"\",Data!P36)","v":""},{"$f":"IF(Data!Q36=\"\",\"\",Data!Q36)","v":""},{"$f":"IF(Data!R36=\"\",\"\",Data!R36)","v":""},{"$f":"IF(Data!S36=\"\",\"\",Data!S36)","v":""},null,null,null,null,36]
[{"$f":"IF(Data!A37=\"\",\"\",Data!A37)","v":""},"",{"$f":"IF(Data!B37=\"\",\"\",Data!B37)","v":""},{"$f":"IF(Data!C37=\"\",\"\",Data!C37)","v":""},{"$f":"IF(Data!D37=\"\",\"\",Data!D37)","v":""},{"$f":"IF(Data!E37=\"\",\"\",Data!E37)","v":""},{"$f":"IF(Data!F37=\"\",\"\",Data!F37)","v":""},{"$f":"IF(Data!G37=\"\",\"\",Data!G37)","v":""},{"$f":"IF(Data!H37=\"\",\"\",Data!H37)","v":""},{"$f":"IF(Data!I37=\"\",\"\",Data!I37)","v":""},{"$f":"IF(Data!J37=\"\",\"\",Data!J37)","v":""},{"$f":"IF(Data!K37=\"\",\"\",Data!K37)","v":""},{"$f":"IF(Data!L37=\"\",\"\",Data!L37)","v":""},{"$f":"IF(Data!M37=\"\",\"\",Data!M37)","v":""},{"$f":"IF(Data!N37=\"\",\"\",Data!N37)","v":""},{"$f":"IF(Data!O37=\"\",\"\",Data!O37)","v":""},{"$f":"IF(Data!P37=\"\",\"\",Data!P37)","v":""},{"$f":"IF(Data!Q37=\"\",\"\",Data!Q37)","v":""},{"$f":"IF(Data!R37=\"\",\"\",Data!R37)","v":""},{"$f":"IF(Data!S37=\"\",\"\",Data!S37)","v":""},null,null,null,null,37]
[{"$f":"IF(Data!A38=\"\",\"\",Data!A38)","v":""},"",{"$f":"IF(Data!B38=\"\",\"\",Data!B38)","v":""},{"$f":"IF(Data!C38=\"\",\"\",Data!C38)","v":""},{"$f":"IF(Data!D38=\"\",\"\",Data!D38)","v":""},{"$f":"IF(Data!E38=\"\",\"\",Data!E38)","v":""},{"$f":"IF(Data!F38=\"\",\"\",Data!F38)","v":""},{"$f":"IF(Data!G38=\"\",\"\",Data!G38)","v":""},{"$f":"IF(Data!H38=\"\",\"\",Data!H38)","v":""},{"$f":"IF(Data!I38=\"\",\"\",Data!I38)","v":""},{"$f":"IF(Data!J38=\"\",\"\",Data!J38)","v":""},{"$f":"IF(Data!K38=\"\",\"\",Data!K38)","v":""},{"$f":"IF(Data!L38=\"\",\"\",Data!L38)","v":""},{"$f":"IF(Data!M38=\"\",\"\",Data!M38)","v":""},{"$f":"IF(Data!N38=\"\",\"\",Data!N38)","v":""},{"$f":"IF(Data!O38=\"\",\"\",Data!O38)","v":""},{"$f":"IF(Data!P38=\"\",\"\",Data!P38)","v":""},{"$f":"IF(Data!Q38=\"\",\"\",Data!Q38)","v":""},{"$f":"IF(Data!R38=\"\",\"\",Data!R38)","v":""},{"$f":"IF(Data!S38=\"\",\"\",Data!S38)","v":""},null,null,null,null,38]
[{"$f":"IF(Data!A39=\"\",\"\",Data!A39)","v":""},"",{"$f":"IF(Data!B39=\"\",\"\",Data!B39)","v":""},{"$f":"IF(Data!C39=\"\",\"\",Data!C39)","v":""},{"$f":"IF(Data!D39=\"\",\"\",Data!D39)","v":""},{"$f":"IF(Data!E39=\"\",\"\",Data!E39)","v":""},{"$f":"IF(Data!F39=\"\",\"\",Data!F39)","v":""},{"$f":"IF(Data!G39=\"\",\"\",Data!G39)","v":""},{"$f":"IF(Data!H39=\"\",\"\",Data!H39)","v":""},{"$f":"IF(Data!I39=\"\",\"\",Data!I39)","v":""},{"$f":"IF(Data!J39=\"\",\"\",Data!J39)","v":""},{"$f":"IF(Data!K39=\"\",\"\",Data!K39)","v":""},{"$f":"IF(Data!L39=\"\",\"\",Data!L39)","v":""},{"$f":"IF(Data!M39=\"\",\"\",Data!M39)","v":""},{"$f":"IF(Data!N39=\"\",\"\",Data!N39)","v":""},{"$f":"IF(Data!O39=\"\",\"\",Data!O39)","v":""},{"$f":"IF(Data!P39=\"\",\"\",Data!P39)","v":""},{"$f":"IF(Data!Q39=\"\",\"\",Data!Q39)","v":""},{"$f":"IF(Data!R39=\"\",\"\",Data!R39)","v":""},{"$f":"IF(Data!S39=\"\",\"\",Data!S39)","v":""},null,null,null,null,39]
[{"$f":"IF(Data!A40=\"\",\"\",Data!A40)","v":""},"",{"$f":"IF(Data!B40=\"\",\"\",Data!B40)","v":""},{"$f":"IF(Data!C40=\"\",\"\",Data!C40)","v":""},{"$f":"IF(Data!D40=\"\",\"\",Data!D40)","v":""},{"$f":"IF(Data!E40=\"\",\"\",Data!E40)","v":""},{"$f":"IF(Data!F40=\"\",\"\",Data!F40)","v":""},{"$f":"IF(Data!G40=\"\",\"\",Data!G40)","v":""},{"$f":"IF(Data!H40=\"\",\"\",Data!H40)","v":""},{"$f":"IF(Data!I40=\"\",\"\",Data!I40)","v":""},{"$f":"IF(Data!J40=\"\",\"\",Data!J40)","v":""},{"$f":"IF(Data!K40=\"\",\"\",Data!K40)","v":""},{"$f":"IF(Data!L40=\"\",\"\",Data!L40)","v":""},{"$f":"IF(Data!M40=\"\",\"\",Data!M40)","v":""},{"$f":"IF(Data!N40=\"\",\"\",Data!N40)","v":""},{"$f":"IF(Data!O40=\"\",\"\",Data!O40)","v":""},{"$f":"IF(Data!P40=\"\",\"\",Data!P40)","v":""},{"$f":"IF(Data!Q40=\"\",\"\",Data!Q40)","v":""},{"$f":"IF(Data!R40=\"\",\"\",Data!R40)","v":""},{"$f":"IF(Data!S40=\"\",\"\",Data!S40)","v":""},null,null,null,null,40]
[{"$f":"IF(Data!A41=\"\",\"\",Data!A41)","v":""},"",{"$f":"IF(Data!B41=\"\",\"\",Data!B41)","v":""},{"$f":"IF(Data!C41=\"\",\"\",Data!C41)","v":""},{"$f":"IF(Data!D41=\"\",\"\",Data!D41)","v":""},{"$f":"IF(Data!E41=\"\",\"\",Data!E41)","v":""},{"$f":"IF(Data!F41=\"\",\"\",Data!F41)","v":""},{"$f":"IF(Data!G41=\"\",\"\",Data!G41)","v":""},{"$f":"IF(Data!H41=\"\",\"\",Data!H41)","v":""},{"$f":"IF(Data!I41=\"\",\"\",Data!I41)","v":""},{"$f":"IF(Data!J41=\"\",\"\",Data!J41)","v":""},{"$f":"IF(Data!K41=\"\",\"\",Data!K41)","v":""},{"$f":"IF(Data!L41=\"\",\"\",Data!L41)","v":""},{"$f":"IF(Data!M41=\"\",\"\",Data!M41)","v":""},{"$f":"IF(Data!N41=\"\",\"\",Data!N41)","v":""},{"$f":"IF(Data!O41=\"\",\"\",Data!O41)","v":""},{"$f":"IF(Data!P41=\"\",\"\",Data!P41)","v":""},{"$f":"IF(Data!Q41=\"\",\"\",Data!Q41)","v":""},{"$f":"IF(Data!R41=\"\",\"\",Data!R41)","v":""},{"$f":"IF(Data!S41=\"\",\"\",Data!S41)","v":""},null,null,null,null,41]
[{"$f":"IF(Data!A42=\"\",\"\",Data!A42)","v":""},"",{"$f":"IF(Data!B42=\"\",\"\",Data!B42)","v":""},{"$f":"IF(Data!C42=\"\",\"\",Data!C42)","v":""},{"$f":"IF(Data!D42=\"\",\"\",Data!D42)","v":""},{"$f":"IF(Data!E42=\"\",\"\",Data!E42)","v":""},{"$f":"IF(Data!F42=\"\",\"\",Data!F42)","v":""},{"$f":"IF(Data!G42=\"\",\"\",Data!G42)","v":""},{"$f":"IF(Data!H42=\"\",\"\",Data!H42)","v":""},{"$f":"IF(Data!I42=\"\",\"\",Data!I42)","v":""},{"$f":"IF(Data!J42=\"\",\"\",Data!J42)","v":""},{"$f":"IF(Data!K42=\"\",\"\",Data!K42)","v":""},{"$f":"IF(Data!L42=\"\",\"\",Data!L42)","v":""},{"$f":"IF(Data!M42=\"\",\"\",Data!M42)","v":""},{"$f":"IF(Data!N42=\"\",\"\",Data!N42)","v":""},{"$f":"IF(Data!O42=\"\",\"\",Data!O42)","v":""},{"$f":"IF(Data!P42=\"\",\"\",Data!P42)","v":""},{"$f":"IF(Data!Q42=\"\",\"\",Data!Q42)","v":""},{"$f":"IF(Data!R42=\"\",\"\",Data!R42)","v":""},{"$f":"IF(Data!S42=\"\",\"\",Data!S42)","v":""},null,null,null,null,42]
[{"$f":"IF(Data!A43=\"\",\"\",Data!A43)","v":""},"",{"$f":"IF(Data!B43=\"\",\"\",Data!B43)","v":""},{"$f":"IF(Data!C43=\"\",\"\",Data!C43)","v":""},{"$f":"IF(Data!D43=\"\",\"\",Data!D43)","v":""},{"$f":"IF(Data!E43=\"\",\"\",Data!E43)","v":""},{"$f":"IF(Data!F43=\"\",\"\",Data!F43)","v":""},{"$f":"IF(Data!G43=\"\",\"\",Data!G43)","v":""},{"$f":"IF(Data!H43=\"\",\"\",Data!H43)","v":""},{"$f":"IF(Data!I43=\"\",\"\",Data!I43)","v":""},{"$f":"IF(Data!J43=\"\",\"\",Data!J43)","v":""},{"$f":"IF(Data!K43=\"\",\"\",Data!K43)","v":""},{"$f":"IF(Data!L43=\"\",\"\",Data!L43)","v":""},{"$f":"IF(Data!M43=\"\",\"\",Data!M43)","v":""},{"$f":"IF(Data!N43=\"\",\"\",Data!N43)","v":""},{"$f":"IF(Data!O43=\"\",\"\",Data!O43)","v":""},{"$f":"IF(Data!P43=\"\",\"\",Data!P43)","v":""},{"$f":"IF(Data!Q43=\"\",\"\",Data!Q43)","v":""},{"$f":"IF(Data!R43=\"\",\"\",Data!R43)","v":""},{"$f":"IF(Data!S43=\"\",\"\",Data!S43)","v":""},null,null,null,null,43]
[{"$f":"IF(Data!A44=\"\",\"\",Data!A44)","v":""},"",{"$f":"IF(Data!B44=\"\",\"\",Data!B44)","v":""},{"$f":"IF(Data!C44=\"\",\"\",Data!C44)","v":""},{"$f":"IF(Data!D44=\"\",\"\",Data!D44)","v":""},{"$f":"IF(Data!E44=\"\",\"\",Data!E44)","v":""},{"$f":"IF(Data!F44=\"\",\"\",Data!F44)","v":""},{"$f":"IF(Data!G44=\"\",\"\",Data!G44)","v":""},{"$f":"IF(Data!H44=\"\",\"\",Data!H44)","v":""},{"$f":"IF(Data!I44=\"\",\"\",Data!I44)","v":""},{"$f":"IF(Data!J44=\"\",\"\",Data!J44)","v":""},{"$f":"IF(Data!K44=\"\",\"\",Data!K44)","v":""},{"$f":"IF(Data!L44=\"\",\"\",Data!L44)","v":""},{"$f":"IF(Data!M44=\"\",\"\",Data!M44)","v":""},{"$f":"IF(Data!N44=\"\",\"\",Data!N44)","v":""},{"$f":"IF(Data!O44=\"\",\"\",Data!O44)","v":""},{"$f":"IF(Data!P44=\"\",\"\",Data!P44)","v":""},{"$f":"IF(Data!Q44=\"\",\"\",Data!Q44)","v":""},{"$f":"IF(Data!R44=\"\",\"\",Data!R44)","v":""},{"$f":"IF(Data!S44=\"\",\"\",Data!S44)","v":""},null,null,null,null,44]
[{"$f":"IF(Data!A45=\"\",\"\",Data!A45)","v":""},"",{"$f":"IF(Data!B45=\"\",\"\",Data!B45)","v":""},{"$f":"IF(Data!C45=\"\",\"\",Data!C45)","v":""},{"$f":"IF(Data!D45=\"\",\"\",Data!D45)","v":""},{"$f":"IF(Data!E45=\"\",\"\",Data!E45)","v":""},{"$f":"IF(Data!F45=\"\",\"\",Data!F45)","v":""},{"$f":"IF(Data!G45=\"\",\"\",Data!G45)","v":""},{"$f":"IF(Data!H45=\"\",\"\",Data!H45)","v":""},{"$f":"IF(Data!I45=\"\",\"\",Data!I45)","v":""},{"$f":"IF(Data!J45=\"\",\"\",Data!J45)","v":""},{"$f":"IF(Data!K45=\"\",\"\",Data!K45)","v":""},{"$f":"IF(Data!L45=\"\",\"\",Data!L45)","v":""},{"$f":"IF(Data!M45=\"\",\"\",Data!M45)","v":""},{"$f":"IF(Data!N45=\"\",\"\",Data!N45)","v":""},{"$f":"IF(Data!O45=\"\",\"\",Data!O45)","v":""},{"$f":"IF(Data!P45=\"\",\"\",Data!P45)","v":""},{"$f":"IF(Data!Q45=\"\",\"\",Data!Q45)","v":""},{"$f":"IF(Data!R45=\"\",\"\",Data!R45)","v":""},{"$f":"IF(Data!S45=\"\",\"\",Data!S45)","v":""},null,null,null,null,45]
[{"$f":"IF(Data!A46=\"\",\"\",Data!A46)","v":""},"",{"$f":"IF(Data!B46=\"\",\"\",Data!B46)","v":""},{"$f":"IF(Data!C46=\"\",\"\",Data!C46)","v":""},{"$f":"IF(Data!D46=\"\",\"\",Data!D46)","v":""},{"$f":"IF(Data!E46=\"\",\"\",Data!E46)","v":""},{"$f":"IF(Data!F46=\"\",\"\",Data!F46)","v":""},{"$f":"IF(Data!G46=\"\",\"\",Data!G46)","v":""},{"$f":"IF(Data!H46=\"\",\"\",Data!H46)","v":""},{"$f":"IF(Data!I46=\"\",\"\",Data!I46)","v":""},{"$f":"IF(Data!J46=\"\",\"\",Data!J46)","v":""},{"$f":"IF(Data!K46=\"\",\"\",Data!K46)","v":""},{"$f":"IF(Data!L46=\"\",\"\",Data!L46)","v":""},{"$f":"IF(Data!M46=\"\",\"\",Data!M46)","v":""},{"$f":"IF(Data!N46=\"\",\"\",Data!N46)","v":""},{"$f":"IF(Data!O46=\"\",\"\",Data!O46)","v":""},{"$f":"IF(Data!P46=\"\",\"\",Data!P46)","v":""},{"$f":"IF(Data!Q46=\"\",\"\",Data!Q46)","v":""},{"$f":"IF(Data!R46=\"\",\"\",Data!R46)","v":""},{"$f":"IF(Data!S46=\"\",\"\",Data!S46)","v":""},null,null,null,null,46]
[{"$f":"IF(Data!A47=\"\",\"\",Data!A47)","v":""},"",{"$f":"IF(Data!B47=\"\",\"\",Data!B47)","v":""},{"$f":"IF(Data!C47=\"\",\"\",Data!C47)","v":""},{"$f":"IF(Data!D47=\"\",\"\",Data!D47)","v":""},{"$f":"IF(Data!E47=\"\",\"\",Data!E47)","v":""},{"$f":"IF(Data!F47=\"\",\"\",Data!F47)","v":""},{"$f":"IF(Data!G47=\"\",\"\",Data!G47)","v":""},{"$f":"IF(Data!H47=\"\",\"\",Data!H47)","v":""},{"$f":"IF(Data!I47=\"\",\"\",Data!I47)","v":""},{"$f":"IF(Data!J47=\"\",\"\",Data!J47)","v":""},{"$f":"IF(Data!K47=\"\",\"\",Data!K47)","v":""},{"$f":"IF(Data!L47=\"\",\"\",Data!L47)","v":""},{"$f":"IF(Data!M47=\"\",\"\",Data!M47)","v":""},{"$f":"IF(Data!N47=\"\",\"\",Data!N47)","v":""},{"$f":"IF(Data!O47=\"\",\"\",Data!O47)","v":""},{"$f":"IF(Data!P47=\"\",\"\",Data!P47)","v":""},{"$f":"IF(Data!Q47=\"\",\"\",Data!Q47)","v":""},{"$f":"IF(Data!R47=\"\",\"\",Data!R47)","v":""},{"$f":"IF(Data!S47=\"\",\"\",Data!S47)","v":""},null,null,null,null,47]
[{"$f":"IF(Data!A48=\"\",\"\",Data!A48)","v":""},"",{"$f":"IF(Data!B48=\"\",\"\",Data!B48)","v":""},{"$f":"IF(Data!C48=\"\",\"\",Data!C48)","v":""},{"$f":"IF(Data!D48=\"\",\"\",Data!D48)","v":""},{"$f":"IF(Data!E48=\"\",\"\",Data!E48)","v":""},{"$f":"IF(Data!F48=\"\",\"\",Data!F48)","v":""},{"$f":"IF(Data!G48=\"\",\"\",Data!G48)","v":""},{"$f":"IF(Data!H48=\"\",\"\",Data!H48)","v":""},{"$f":"IF(Data!I48=\"\",\"\",Data!I48)","v":""},{"$f":"IF(Data!J48=\"\",\"\",Data!J48)","v":""},{"$f":"IF(Data!K48=\"\",\"\",Data!K48)","v":""},{"$f":"IF(Data!L48=\"\",\"\",Data!L48)","v":""},{"$f":"IF(Data!M48=\"\",\"\",Data!M48)","v":""},{"$f":"IF(Data!N48=\"\",\"\",Data!N48)","v":""},{"$f":"IF(Data!O48=\"\",\"\",Data!O48)","v":""},{"$f":"IF(Data!P48=\"\",\"\",Data!P48)","v":""},{"$f":"IF(Data!Q48=\"\",\"\",Data!Q48)","v":""},{"$f":"IF(Data!R48=\"\",\"\",Data!R48)","v":""},{"$f":"IF(Data!S48=\"\",\"\",Data!S48)","v":""},null,null,null,null,48]
[{"$f":"IF(Data!A49=\"\",\"\",Data!A49)","v":""},"",{"$f":"IF(Data!B49=\"\",\"\",Data!B49)","v":""},{"$f":"IF(Data!C49=\"\",\"\",Data!C49)","v":""},{"$f":"IF(Data!D49=\"\",\"\",Data!D49)","v":""},{"$f":"IF(Data!E49=\"\",\"\",Data!E49)","v":""},{"$f":"IF(Data!F49=\"\",\"\",Data!F49)","v":""},{"$f":"IF(Data!G49=\"\",\"\",Data!G49)","v":""},{"$f":"IF(Data!H49=\"\",\"\",Data!H49)","v":""},{"$f":"IF(Data!I49=\"\",\"\",Data!I49)","v":""},{"$f":"IF(Data!J49=\"\",\"\",Data!J49)","v":""},{"$f":"IF(Data!K49=\"\",\"\",Data!K49)","v":""},{"$f":"IF(Data!L49=\"\",\"\",Data!L49)","v":""},{"$f":"IF(Data!M49=\"\",\"\",Data!M49)","v":""},{"$f":"IF(Data!N49=\"\",\"\",Data!N49)","v":""},{"$f":"IF(Data!O49=\"\",\"\",Data!O49)","v":""},{"$f":"IF(Data!P49=\"\",\"\",Data!P49)","v":""},{"$f":"IF(Data!Q49=\"\",\"\",Data!Q49)","v":""},{"$f":"IF(Data!R49=\"\",\"\",Data!R49)","v":""},{"$f":"IF(Data!S49=\"\",\"\",Data!S49)","v":""},null,null,null,null,49]
[{"$f":"IF(Data!A50=\"\",\"\",Data!A50)","v":""},"",{"$f":"IF(Data!B50=\"\",\"\",Data!B50)","v":""},{"$f":"IF(Data!C50=\"\",\"\",Data!C50)","v":""},{"$f":"IF(Data!D50=\"\",\"\",Data!D50)","v":""},{"$f":"IF(Data!E50=\"\",\"\",Data!E50)","v":""},{"$f":"IF(Data!F50=\"\",\"\",Data!F50)","v":""},{"$f":"IF(Data!G50=\"\",\"\",Data!G50)","v":""},{"$f":"IF(Data!H50=\"\",\"\",Data!H50)","v":""},{"$f":"IF(Data!I50=\"\",\"\",Data!I50)","v":""},{"$f":"IF(Data!J50=\"\",\"\",Data!J50)","v":""},{"$f":"IF(Data!K50=\"\",\"\",Data!K50)","v":""},{"$f":"IF(Data!L50=\"\",\"\",Data!L50)","v":""},{"$f":"IF(Data!M50=\"\",\"\",Data!M50)","v":""},{"$f":"IF(Data!N50=\"\",\"\",Data!N50)","v":""},{"$f":"IF(Data!O50=\"\",\"\",Data!O50)","v":""},{"$f":"IF(Data!P50=\"\",\"\",Data!P50)","v":""},{"$f":"IF(Data!Q50=\"\",\"\",Data!Q50)","v":""},{"$f":"IF(Data!R50=\"\",\"\",Data!R50)","v":""},{"$f":"IF(Data!S50=\"\",\"\",Data!S50)","v":""},null,null,null,null,50]
[{"$f":"IF(Data!A51=\"\",\"\",Data!A51)","v":""},"",{"$f":"IF(Data!B51=\"\",\"\",Data!B51)","v":""},{"$f":"IF(Data!C51=\"\",\"\",Data!C51)","v":""},{"$f":"IF(Data!D51=\"\",\"\",Data!D51)","v":""},{"$f":"IF(Data!E51=\"\",\"\",Data!E51)","v":""},{"$f":"IF(Data!F51=\"\",\"\",Data!F51)","v":""},{"$f":"IF(Data!G51=\"\",\"\",Data!G51)","v":""},{"$f":"IF(Data!H51=\"\",\"\",Data!H51)","v":""},{"$f":"IF(Data!I51=\"\",\"\",Data!I51)","v":""},{"$f":"IF(Data!J51=\"\",\"\",Data!J51)","v":""},{"$f":"IF(Data!K51=\"\",\"\",Data!K51)","v":""},{"$f":"IF(Data!L51=\"\",\"\",Data!L51)","v":""},{"$f":"IF(Data!M51=\"\",\"\",Data!M51)","v":""},{"$f":"IF(Data!N51=\"\",\"\",Data!N51)","v":""},{"$f":"IF(Data!O51=\"\",\"\",Data!O51)","v":""},{"$f":"IF(Data!P51=\"\",\"\",Data!P51)","v":""},{"$f":"IF(Data!Q51=\"\",\"\",Data!Q51)","v":""},{"$f":"IF(Data!R51=\"\",\"\",Data!R51)","v":""},{"$f":"IF(Data!S51=\"\",\"\",Data!S51)","v":""},null,null,null,null,51]
[{"$f":"IF(Data!A52=\"\",\"\",Data!A52)","v":""},"",{"$f":"IF(Data!B52=\"\",\"\",Data!B52)","v":""},{"$f":"IF(Data!C52=\"\",\"\",Data!C52)","v":""},{"$f":"IF(Data!D52=\"\",\"\",Data!D52)","v":""},{"$f":"IF(Data!E52=\"\",\"\",Data!E52)","v":""},{"$f":"IF(Data!F52=\"\",\"\",Data!F52)","v":""},{"$f":"IF(Data!G52=\"\",\"\",Data!G52)","v":""},{"$f":"IF(Data!H52=\"\",\"\",Data!H52)","v":""},{"$f":"IF(Data!I52=\"\",\"\",Data!I52)","v":""},{"$f":"IF(Data!J52=\"\",\"\",Data!J52)","v":""},{"$f":"IF(Data!K52=\"\",\"\",Data!K52)","v":""},{"$f":"IF(Data!L52=\"\",\"\",Data!L52)","v":""},{"$f":"IF(Data!M52=\"\",\"\",Data!M52)","v":""},{"$f":"IF(Data!N52=\"\",\"\",Data!N52)","v":""},{"$f":"IF(Data!O52=\"\",\"\",Data!O52)","v":""},{"$f":"IF(Data!P52=\"\",\"\",Data!P52)","v":""},{"$f":"IF(Data!Q52=\"\",\"\",Data!Q52)","v":""},{"$f":"IF(Data!R52=\"\",\"\",Data!R52)","v":""},{"$f":"IF(Data!S52=\"\",\"\",Data!S52)","v":""},null,null,null,null,52]
[{"$f":"IF(Data!A53=\"\",\"\",Data!A53)","v":""},"",{"$f":"IF(Data!B53=\"\",\"\",Data!B53)","v":""},{"$f":"IF(Data!C53=\"\",\"\",Data!C53)","v":""},{"$f":"IF(Data!D53=\"\",\"\",Data!D53)","v":""},{"$f":"IF(Data!E53=\"\",\"\",Data!E53)","v":""},{"$f":"IF(Data!F53=\"\",\"\",Data!F53)","v":""},{"$f":"IF(Data!G53=\"\",\"\",Data!G53)","v":""},{"$f":"IF(Data!H53=\"\",\"\",Data!H53)","v":""},{"$f":"IF(Data!I53=\"\",\"\",Data!I53)","v":""},{"$f":"IF(Data!J53=\"\",\"\",Data!J53)","v":""},{"$f":"IF(Data!K53=\"\",\"\",Data!K53)","v":""},{"$f":"IF(Data!L53=\"\",\"\",Data!L53)","v":""},{"$f":"IF(Data!M53=\"\",\"\",Data!M53)","v":""},{"$f":"IF(Data!N53=\"\",\"\",Data!N53)","v":""},{"$f":"IF(Data!O53=\"\",\"\",Data!O53)","v":""},{"$f":"IF(Data!P53=\"\",\"\",Data!P53)","v":""},{"$f":"IF(Data!Q53=\"\",\"\",Data!Q53)","v":""},{"$f":"IF(Data!R53=\"\",\"\",Data!R53)","v":""},{"$f":"IF(Data!S53=\"\",\"\",Data!S53)","v":""},null,null,null,null,53]
[{"$f":"IF(Data!A54=\"\",\"\",Data!A54)","v":""},"",{"$f":"IF(Data!B54=\"\",\"\",Data!B54)","v":""},{"$f":"IF(Data!C54=\"\",\"\",Data!C54)","v":""},{"$f":"IF(Data!D54=\"\",\"\",Data!D54)","v":""},{"$f":"IF(Data!E54=\"\",\"\",Data!E54)","v":""},{"$f":"IF(Data!F54=\"\",\"\",Data!F54)","v":""},{"$f":"IF(Data!G54=\"\",\"\",Data!G54)","v":""},{"$f":"IF(Data!H54=\"\",\"\",Data!H54)","v":""},{"$f":"IF(Data!I54=\"\",\"\",Data!I54)","v":""},{"$f":"IF(Data!J54=\"\",\"\",Data!J54)","v":""},{"$f":"IF(Data!K54=\"\",\"\",Data!K54)","v":""},{"$f":"IF(Data!L54=\"\",\"\",Data!L54)","v":""},{"$f":"IF(Data!M54=\"\",\"\",Data!M54)","v":""},{"$f":"IF(Data!N54=\"\",\"\",Data!N54)","v":""},{"$f":"IF(Data!O54=\"\",\"\",Data!O54)","v":""},{"$f":"IF(Data!P54=\"\",\"\",Data!P54)","v":""},{"$f":"IF(Data!Q54=\"\",\"\",Data!Q54)","v":""},{"$f":"IF(Data!R54=\"\",\"\",Data!R54)","v":""},{"$f":"IF(Data!S54=\"\",\"\",Data!S54)","v":""},null,null,null,null,54]
[{"$f":"IF(Data!A55=\"\",\"\",Data!A55)","v":""},"",{"$f":"IF(Data!B55=\"\",\"\",Data!B55)","v":""},{"$f":"IF(Data!C55=\"\",\"\",Data!C55)","v":""},{"$f":"IF(Data!D55=\"\",\"\",Data!D55)","v":""},{"$f":"IF(Data!E55=\"\",\"\",Data!E55)","v":""},{"$f":"IF(Data!F55=\"\",\"\",Data!F55)","v":""},{"$f":"IF(Data!G55=\"\",\"\",Data!G55)","v":""},{"$f":"IF(Data!H55=\"\",\"\",Data!H55)","v":""},{"$f":"IF(Data!I55=\"\",\"\",Data!I55)","v":""},{"$f":"IF(Data!J55=\"\",\"\",Data!J55)","v":""},{"$f":"IF(Data!K55=\"\",\"\",Data!K55)","v":""},{"$f":"IF(Data!L55=\"\",\"\",Data!L55)","v":""},{"$f":"IF(Data!M55=\"\",\"\",Data!M55)","v":""},{"$f":"IF(Data!N55=\"\",\"\",Data!N55)","v":""},{"$f":"IF(Data!O55=\"\",\"\",Data!O55)","v":""},{"$f":"IF(Data!P55=\"\",\"\",Data!P55)","v":""},{"$f":"IF(Data!Q55=\"\",\"\",Data!Q55)","v":""},{"$f":"IF(Data!R55=\"\",\"\",Data!R55)","v":""},{"$f":"IF(Data!S55=\"\",\"\",Data!S55)","v":""},null,null,null,null,55]
[{"$f":"IF(Data!A56=\"\",\"\",Data!A56)","v":""},"",{"$f":"IF(Data!B56=\"\",\"\",Data!B56)","v":""},{"$f":"IF(Data!C56=\"\",\"\",Data!C56)","v":""},{"$f":"IF(Data!D56=\"\",\"\",Data!D56)","v":""},{"$f":"IF(Data!E56=\"\",\"\",Data!E56)","v":""},{"$f":"IF(Data!F56=\"\",\"\",Data!F56)","v":""},{"$f":"IF(Data!G56=\"\",\"\",Data!G56)","v":""},{"$f":"IF(Data!H56=\"\",\"\",Data!H56)","v":""},{"$f":"IF(Data!I56=\"\",\"\",Data!I56)","v":""},{"$f":"IF(Data!J56=\"\",\"\",Data!J56)","v":""},{"$f":"IF(Data!K56=\"\",\"\",Data!K56)","v":""},{"$f":"IF(Data!L56=\"\",\"\",Data!L56)","v":""},{"$f":"IF(Data!M56=\"\",\"\",Data!M56)","v":""},{"$f":"IF(Data!N56=\"\",\"\",Data!N56)","v":""},{"$f":"IF(Data!O56=\"\",\"\",Data!O56)","v":""},{"$f":"IF(Data!P56=\"\",\"\",Data!P56)","v":""},{"$f":"IF(Data!Q56=\"\",\"\",Data!Q56)","v":""},{"$f":"IF(Data!R56=\"\",\"\",Data!R56)","v":""},{"$f":"IF(Data!S56=\"\",\"\",Data!S56)","v":""},null,null,null,null,56]
[{"$f":"IF(Data!A57=\"\",\"\",Data!A57)","v":""},"",{"$f":"IF(Data!B57=\"\",\"\",Data!B57)","v":""},{"$f":"IF(Data!C57=\"\",\"\",Data!C57)","v":""},{"$f":"IF(Data!D57=\"\",\"\",Data!D57)","v":""},{"$f":"IF(Data!E57=\"\",\"\",Data!E57)","v":""},{"$f":"IF(Data!F57=\"\",\"\",Data!F57)","v":""},{"$f":"IF(Data!G57=\"\",\"\",Data!G57)","v":""},{"$f":"IF(Data!H57=\"\",\"\",Data!H57)","v":""},{"$f":"IF(Data!I57=\"\",\"\",Data!I57)","v":""},{"$f":"IF(Data!J57=\"\",\"\",Data!J57)","v":""},{"$f":"IF(Data!K57=\"\",\"\",Data!K57)","v":""},{"$f":"IF(Data!L57=\"\",\"\",Data!L57)","v":""},{"$f":"IF(Data!M57=\"\",\"\",Data!M57)","v":""},{"$f":"IF(Data!N57=\"\",\"\",Data!N57)","v":""},{"$f":"IF(Data!O57=\"\",\"\",Data!O57)","v":""},{"$f":"IF(Data!P57=\"\",\"\",Data!P57)","v":""},{"$f":"IF(Data!Q57=\"\",\"\",Data!Q57)","v":""},{"$f":"IF(Data!R57=\"\",\"\",Data!R57)","v":""},{"$f":"IF(Data!S57=\"\",\"\",Data!S57)","v":""},null,null,null,null,57]
[{"$f":"IF(Data!A58=\"\",\"\",Data!A58)","v":""},"",{"$f":"IF(Data!B58=\"\",\"\",Data!B58)","v":""},{"$f":"IF(Data!C58=\"\",\"\",Data!C58)","v":""},{"$f":"IF(Data!D58=\"\",\"\",Data!D58)","v":""},{"$f":"IF(Data!E58=\"\",\"\",Data!E58)","v":""},{"$f":"IF(Data!F58=\"\",\"\",Data!F58)","v":""},{"$f":"IF(Data!G58=\"\",\"\",Data!G58)","v":""},{"$f":"IF(Data!H58=\"\",\"\",Data!H58)","v":""},{"$f":"IF(Data!I58=\"\",\"\",Data!I58)","v":""},{"$f":"IF(Data!J58=\"\",\"\",Data!J58)","v":""},{"$f":"IF(Data!K58=\"\",\"\",Data!K58)","v":""},{"$f":"IF(Data!L58=\"\",\"\",Data!L58)","v":""},{"$f":"IF(Data!M58=\"\",\"\",Data!M58)","v":""},{"$f":"IF(Data!N58=\"\",\"\",Data!N58)","v":""},{"$f":"IF(Data!O58=\"\",\"\",Data!O58)","v":""},{"$f":"IF(Data!P58=\"\",\"\",Data!P58)","v":""},{"$f":"IF(Data!Q58=\"\",\"\",Data!Q58)","v":""},{"$f":"IF(Data!R58=\"\",\"\",Data!R58)","v":""},{"$f":"IF(Data!S58=\"\",\"\",Data!S58)","v":""},null,null,null,null,58]
[{"$f":"IF(Data!A59=\"\",\"\",Data!A59)","v":""},"",{"$f":"IF(Data!B59=\"\",\"\",Data!B59)","v":""},{"$f":"IF(Data!C59=\"\",\"\",Data!C59)","v":""},{"$f":"IF(Data!D59=\"\",\"\",Data!D59)","v":""},{"$f":"IF(Data!E59=\"\",\"\",Data!E59)","v":""},{"$f":"IF(Data!F59=\"\",\"\",Data!F59)","v":""},{"$f":"IF(Data!G59=\"\",\"\",Data!G59)","v":""},{"$f":"IF(Data!H59=\"\",\"\",Data!H59)","v":""},{"$f":"IF(Data!I59=\"\",\"\",Data!I59)","v":""},{"$f":"IF(Data!J59=\"\",\"\",Data!J59)","v":""},{"$f":"IF(Data!K59=\"\",\"\",Data!K59)","v":""},{"$f":"IF(Data!L59=\"\",\"\",Data!L59)","v":""},{"$f":"IF(Data!M59=\"\",\"\",Data!M59)","v":""},{"$f":"IF(Data!N59=\"\",\"\",Data!N59)","v":""},{"$f":"IF(Data!O59=\"\",\"\",Data!O59)","v":""},{"$f":"IF(Data!P59=\"\",\"\",Data!P59)","v":""},{"$f":"IF(Data!Q59=\"\",\"\",Data!Q59)","v":""},{"$f":"IF(Data!R59=\"\",\"\",Data!R59)","v":""},{"$f":"IF(Data!S59=\"\",\"\",Data!S59)","v":""},null,null,null,null,59]
[{"$f":"IF(Data!A60=\"\",\"\",Data!A60)","v":""},"",{"$f":"IF(Data!B60=\"\",\"\",Data!B60)","v":""},{"$f":"IF(Data!C60=\"\",\"\",Data!C60)","v":""},{"$f":"IF(Data!D60=\"\",\"\",Data!D60)","v":""},{"$f":"IF(Data!E60=\"\",\"\",Data!E60)","v":""},{"$f":"IF(Data!F60=\"\",\"\",Data!F60)","v":""},{"$f":"IF(Data!G60=\"\",\"\",Data!G60)","v":""},{"$f":"IF(Data!H60=\"\",\"\",Data!H60)","v":""},{"$f":"IF(Data!I60=\"\",\"\",Data!I60)","v":""},{"$f":"IF(Data!J60=\"\",\"\",Data!J60)","v":""},{"$f":"IF(Data!K60=\"\",\"\",Data!K60)","v":""},{"$f":"IF(Data!L60=\"\",\"\",Data!L60)","v":""},{"$f":"IF(Data!M60=\"\",\"\",Data!M60)","v":""},{"$f":"IF(Data!N60=\"\",\"\",Data!N60)","v":""},{"$f":"IF(Data!O60=\"\",\"\",Data!O60)","v":""},{"$f":"IF(Data!P60=\"\",\"\",Data!P60)","v":""},{"$f":"IF(Data!Q60=\"\",\"\",Data!Q60)","v":""},{"$f":"IF(Data!R60=\"\",\"\",Data!R60)","v":""},{"$f":"IF(Data!S60=\"\",\"\",Data!S60)","v":""},null,null,null,null,60]
[{"$f":"IF(Data!A61=\"\",\"\",Data!A61)","v":""},"",{"$f":"IF(Data!B61=\"\",\"\",Data!B61)","v":""},{"$f":"IF(Data!C61=\"\",\"\",Data!C61)","v":""},{"$f":"IF(Data!D61=\"\",\"\",Data!D61)","v":""},{"$f":"IF(Data!E61=\"\",\"\",Data!E61)","v":""},{"$f":"IF(Data!F61=\"\",\"\",Data!F61)","v":""},{"$f":"IF(Data!G61=\"\",\"\",Data!G61)","v":""},{"$f":"IF(Data!H61=\"\",\"\",Data!H61)","v":""},{"$f":"IF(Data!I61=\"\",\"\",Data!I61)","v":""},{"$f":"IF(Data!J61=\"\",\"\",Data!J61)","v":""},{"$f":"IF(Data!K61=\"\",\"\",Data!K61)","v":""},{"$f":"IF(Data!L61=\"\",\"\",Data!L61)","v":""},{"$f":"IF(Data!M61=\"\",\"\",Data!M61)","v":""},{"$f":"IF(Data!N61=\"\",\"\",Data!N61)","v":""},{"$f":"IF(Data!O61=\"\",\"\",Data!O61)","v":""},{"$f":"IF(Data!P61=\"\",\"\",Data!P61)","v":""},{"$f":"IF(Data!Q61=\"\",\"\",Data!Q61)","v":""},{"$f":"IF(Data!R61=\"\",\"\",Data!R61)","v":""},{"$f":"IF(Data!S61=\"\",\"\",Data!S61)","v":""},null,null,null,null,61]
[{"$f":"IF(Data!A62=\"\",\"\",Data!A62)","v":""},"",{"$f":"IF(Data!B62=\"\",\"\",Data!B62)","v":""},{"$f":"IF(Data!C62=\"\",\"\",Data!C62)","v":""},{"$f":"IF(Data!D62=\"\",\"\",Data!D62)","v":""},{"$f":"IF(Data!E62=\"\",\"\",Data!E62)","v":""},{"$f":"IF(Data!F62=\"\",\"\",Data!F62)","v":""},{"$f":"IF(Data!G62=\"\",\"\",Data!G62)","v":""},{"$f":"IF(Data!H62=\"\",\"\",Data!H62)","v":""},{"$f":"IF(Data!I62=\"\",\"\",Data!I62)","v":""},{"$f":"IF(Data!J62=\"\",\"\",Data!J62)","v":""},{"$f":"IF(Data!K62=\"\",\"\",Data!K62)","v":""},{"$f":"IF(Data!L62=\"\",\"\",Data!L62)","v":""},{"$f":"IF(Data!M62=\"\",\"\",Data!M62)","v":""},{"$f":"IF(Data!N62=\"\",\"\",Data!N62)","v":""},{"$f":"IF(Data!O62=\"\",\"\",Data!O62)","v":""},{"$f":"IF(Data!P62=\"\",\"\",Data!P62)","v":""},{"$f":"IF(Data!Q62=\"\",\"\",Data!Q62)","v":""},{"$f":"IF(Data!R62=\"\",\"\",Data!R62)","v":""},{"$f":"IF(Data!S62=\"\",\"\",Data!S62)","v":""},null,null,null,null,62]
[{"$f":"IF(Data!A63=\"\",\"\",Data!A63)","v":""},"",{"$f":"IF(Data!B63=\"\",\"\",Data!B63)","v":""},{"$f":"IF(Data!C63=\"\",\"\",Data!C63)","v":""},{"$f":"IF(Data!D63=\"\",\"\",Data!D63)","v":""},{"$f":"IF(Data!E63=\"\",\"\",Data!E63)","v":""},{"$f":"IF(Data!F63=\"\",\"\",Data!F63)","v":""},{"$f":"IF(Data!G63=\"\",\"\",Data!G63)","v":""},{"$f":"IF(Data!H63=\"\",\"\",Data!H63)","v":""},{"$f":"IF(Data!I63=\"\",\"\",Data!I63)","v":""},{"$f":"IF(Data!J63=\"\",\"\",Data!J63)","v":""},{"$f":"IF(Data!K63=\"\",\"\",Data!K63)","v":""},{"$f":"IF(Data!L63=\"\",\"\",Data!L63)","v":""},{"$f":"IF(Data!M63=\"\",\"\",Data!M63)","v":""},{"$f":"IF(Data!N63=\"\",\"\",Data!N63)","v":""},{"$f":"IF(Data!O63=\"\",\"\",Data!O63)","v":""},{"$f":"IF(Data!P63=\"\",\"\",Data!P63)","v":""},{"$f":"IF(Data!Q63=\"\",\"\",Data!Q63)","v":""},{"$f":"IF(Data!R63=\"\",\"\",Data!R63)","v":""},{"$f":"IF(Data!S63=\"\",\"\",Data!S63)","v":""},null,null,null,null,63]
[{"$f":"IF(Data!A64=\"\",\"\",Data!A64)","v":""},"",{"$f":"IF(Data!B64=\"\",\"\",Data!B64)","v":""},{"$f":"IF(Data!C64=\"\",\"\",Data!C64)","v":""},{"$f":"IF(Data!D64=\"\",\"\",Data!D64)","v":""},{"$f":"IF(Data!E64=\"\",\"\",Data!E64)","v":""},{"$f":"IF(Data!F64=\"\",\"\",Data!F64)","v":""},{"$f":"IF(Data!G64=\"\",\"\",Data!G64)","v":""},{"$f":"IF(Data!H64=\"\",\"\",Data!H64)","v":""},{"$f":"IF(Data!I64=\"\",\"\",Data!I64)","v":""},{"$f":"IF(Data!J64=\"\",\"\",Data!J64)","v":""},{"$f":"IF(Data!K64=\"\",\"\",Data!K64)","v":""},{"$f":"IF(Data!L64=\"\",\"\",Data!L64)","v":""},{"$f":"IF(Data!M64=\"\",\"\",Data!M64)","v":""},{"$f":"IF(Data!N64=\"\",\"\",Data!N64)","v":""},{"$f":"IF(Data!O64=\"\",\"\",Data!O64)","v":""},{"$f":"IF(Data!P64=\"\",\"\",Data!P64)","v":""},{"$f":"IF(Data!Q64=\"\",\"\",Data!Q64)","v":""},{"$f":"IF(Data!R64=\"\",\"\",Data!R64)","v":""},{"$f":"IF(Data!S64=\"\",\"\",Data!S64)","v":""},null,null,null,null,64]
[{"$f":"IF(Data!A65=\"\",\"\",Data!A65)","v":""},{"$f":"IF(A66=\"\",\"\",Y66)","v":""},{"$f":"IF(Data!B65=\"\",\"\",Data!B65)","v":""},{"$f":"IF(Data!C65=\"\",\"\",Data!C65)","v":""},{"$f":"IF(Data!D65=\"\",\"\",Data!D65)","v":""},{"$f":"IF(Data!E65=\"\",\"\",Data!E65)","v":""},{"$f":"IF(Data!F65=\"\",\"\",Data!F65)","v":""},{"$f":"IF(Data!G65=\"\",\"\",Data!G65)","v":""},{"$f":"IF(Data!H65=\"\",\"\",Data!H65)","v":""},{"$f":"IF(Data!I65=\"\",\"\",Data!I65)","v":""},{"$f":"IF(Data!J65=\"\",\"\",Data!J65)","v":""},{"$f":"IF(Data!K65=\"\",\"\",Data!K65)","v":""},{"$f":"IF(Data!L65=\"\",\"\",Data!L65)","v":""},{"$f":"IF(Data!M65=\"\",\"\",Data!M65)","v":""},{"$f":"IF(Data!N65=\"\",\"\",Data!N65)","v":""},{"$f":"IF(Data!O65=\"\",\"\",Data!O65)","v":""},{"$f":"IF(Data!P65=\"\",\"\",Data!P65)","v":""},{"$f":"IF(Data!Q65=\"\",\"\",Data!Q65)","v":""},{"$f":"IF(Data!R65=\"\",\"\",Data!R65)","v":""},{"$f":"IF(Data!S65=\"\",\"\",Data!S65)","v":""},null,null,null,null,65]
[{"$f":"IF(Data!A66=\"\",\"\",Data!A66)","v":""},"",{"$f":"IF(Data!B66=\"\",\"\",Data!B66)","v":""},{"$f":"IF(Data!C66=\"\",\"\",Data!C66)","v":""},{"$f":"IF(Data!D66=\"\",\"\",Data!D66)","v":""},{"$f":"IF(Data!E66=\"\",\"\",Data!E66)","v":""},{"$f":"IF(Data!F66=\"\",\"\",Data!F66)","v":""},{"$f":"IF(Data!G66=\"\",\"\",Data!G66)","v":""},{"$f":"IF(Data!H66=\"\",\"\",Data!H66)","v":""},{"$f":"IF(Data!I66=\"\",\"\",Data!I66)","v":""},{"$f":"IF(Data!J66=\"\",\"\",Data!J66)","v":""},{"$f":"IF(Data!K66=\"\",\"\",Data!K66)","v":""},{"$f":"IF(Data!L66=\"\",\"\",Data!L66)","v":""},{"$f":"IF(Data!M66=\"\",\"\",Data!M66)","v":""},{"$f":"IF(Data!N66=\"\",\"\",Data!N66)","v":""},{"$f":"IF(Data!O66=\"\",\"\",Data!O66)","v":""},{"$f":"IF(Data!P66=\"\",\"\",Data!P66)","v":""},{"$f":"IF(Data!Q66=\"\",\"\",Data!Q66)","v":""},{"$f":"IF(Data!R66=\"\",\"\",Data!R66)","v":""},{"$f":"IF(Data!S66=\"\",\"\",Data!S66)","v":""},null,null,null,null,66]
[{"$f":"IF(Data!A67=\"\",\"\",Data!A67)","v":""},"",{"$f":"IF(Data!B67=\"\",\"\",Data!B67)","v":""},{"$f":"IF(Data!C67=\"\",\"\",Data!C67)","v":""},{"$f":"IF(Data!D67=\"\",\"\",Data!D67)","v":""},{"$f":"IF(Data!E67=\"\",\"\",Data!E67)","v":""},{"$f":"IF(Data!F67=\"\",\"\",Data!F67)","v":""},{"$f":"IF(Data!G67=\"\",\"\",Data!G67)","v":""},{"$f":"IF(Data!H67=\"\",\"\",Data!H67)","v":""},{"$f":"IF(Data!I67=\"\",\"\",Data!I67)","v":""},{"$f":"IF(Data!J67=\"\",\"\",Data!J67)","v":""},{"$f":"IF(Data!K67=\"\",\"\",Data!K67)","v":""},{"$f":"IF(Data!L67=\"\",\"\",Data!L67)","v":""},{"$f":"IF(Data!M67=\"\",\"\",Data!M67)","v":""},{"$f":"IF(Data!N67=\"\",\"\",Data!N67)","v":""},{"$f":"IF(Data!O67=\"\",\"\",Data!O67)","v":""},{"$f":"IF(Data!P67=\"\",\"\",Data!P67)","v":""},{"$f":"IF(Data!Q67=\"\",\"\",Data!Q67)","v":""},{"$f":"IF(Data!R67=\"\",\"\",Data!R67)","v":""},{"$f":"IF(Data!S67=\"\",\"\",Data!S67)","v":""},null,null,null,null,67]
[{"$f":"IF(Data!A68=\"\",\"\",Data!A68)","v":""},"",{"$f":"IF(Data!B68=\"\",\"\",Data!B68)","v":""},{"$f":"IF(Data!C68=\"\",\"\",Data!C68)","v":""},{"$f":"IF(Data!D68=\"\",\"\",Data!D68)","v":""},{"$f":"IF(Data!E68=\"\",\"\",Data!E68)","v":""},{"$f":"IF(Data!F68=\"\",\"\",Data!F68)","v":""},{"$f":"IF(Data!G68=\"\",\"\",Data!G68)","v":""},{"$f":"IF(Data!H68=\"\",\"\",Data!H68)","v":""},{"$f":"IF(Data!I68=\"\",\"\",Data!I68)","v":""},{"$f":"IF(Data!J68=\"\",\"\",Data!J68)","v":""},{"$f":"IF(Data!K68=\"\",\"\",Data!K68)","v":""},{"$f":"IF(Data!L68=\"\",\"\",Data!L68)","v":""},{"$f":"IF(Data!M68=\"\",\"\",Data!M68)","v":""},{"$f":"IF(Data!N68=\"\",\"\",Data!N68)","v":""},{"$f":"IF(Data!O68=\"\",\"\",Data!O68)","v":""},{"$f":"IF(Data!P68=\"\",\"\",Data!P68)","v":""},{"$f":"IF(Data!Q68=\"\",\"\",Data!Q68)","v":""},{"$f":"IF(Data!R68=\"\",\"\",Data!R68)","v":""},{"$f":"IF(Data!S68=\"\",\"\",Data!S68)","v":""},null,null,null,null,68]
[{"$f":"IF(Data!A69=\"\",\"\",Data!A69)","v":""},"",{"$f":"IF(Data!B69=\"\",\"\",Data!B69)","v":""},{"$f":"IF(Data!C69=\"\",\"\",Data!C69)","v":""},{"$f":"IF(Data!D69=\"\",\"\",Data!D69)","v":""},{"$f":"IF(Data!E69=\"\",\"\",Data!E69)","v":""},{"$f":"IF(Data!F69=\"\",\"\",Data!F69)","v":""},{"$f":"IF(Data!G69=\"\",\"\",Data!G69)","v":""},{"$f":"IF(Data!H69=\"\",\"\",Data!H69)","v":""},{"$f":"IF(Data!I69=\"\",\"\",Data!I69)","v":""},{"$f":"IF(Data!J69=\"\",\"\",Data!J69)","v":""},{"$f":"IF(Data!K69=\"\",\"\",Data!K69)","v":""},{"$f":"IF(Data!L69=\"\",\"\",Data!L69)","v":""},{"$f":"IF(Data!M69=\"\",\"\",Data!M69)","v":""},{"$f":"IF(Data!N69=\"\",\"\",Data!N69)","v":""},{"$f":"IF(Data!O69=\"\",\"\",Data!O69)","v":""},{"$f":"IF(Data!P69=\"\",\"\",Data!P69)","v":""},{"$f":"IF(Data!Q69=\"\",\"\",Data!Q69)","v":""},{"$f":"IF(Data!R69=\"\",\"\",Data!R69)","v":""},{"$f":"IF(Data!S69=\"\",\"\",Data!S69)","v":""},null,null,null,null,69]
[{"$f":"IF(Data!A70=\"\",\"\",Data!A70)","v":""},"",{"$f":"IF(Data!B70=\"\",\"\",Data!B70)","v":""},{"$f":"IF(Data!C70=\"\",\"\",Data!C70)","v":""},{"$f":"IF(Data!D70=\"\",\"\",Data!D70)","v":""},{"$f":"IF(Data!E70=\"\",\"\",Data!E70)","v":""},{"$f":"IF(Data!F70=\"\",\"\",Data!F70)","v":""},{"$f":"IF(Data!G70=\"\",\"\",Data!G70)","v":""},{"$f":"IF(Data!H70=\"\",\"\",Data!H70)","v":""},{"$f":"IF(Data!I70=\"\",\"\",Data!I70)","v":""},{"$f":"IF(Data!J70=\"\",\"\",Data!J70)","v":""},{"$f":"IF(Data!K70=\"\",\"\",Data!K70)","v":""},{"$f":"IF(Data!L70=\"\",\"\",Data!L70)","v":""},{"$f":"IF(Data!M70=\"\",\"\",Data!M70)","v":""},{"$f":"IF(Data!N70=\"\",\"\",Data!N70)","v":""},{"$f":"IF(Data!O70=\"\",\"\",Data!O70)","v":""},{"$f":"IF(Data!P70=\"\",\"\",Data!P70)","v":""},{"$f":"IF(Data!Q70=\"\",\"\",Data!Q70)","v":""},{"$f":"IF(Data!R70=\"\",\"\",Data!R70)","v":""},{"$f":"IF(Data!S70=\"\",\"\",Data!S70)","v":""},null,null,null,null,70]
[{"$f":"IF(Data!A71=\"\",\"\",Data!A71)","v":""},"",{"$f":"IF(Data!B71=\"\",\"\",Data!B71)","v":""},{"$f":"IF(Data!C71=\"\",\"\",Data!C71)","v":""},{"$f":"IF(Data!D71=\"\",\"\",Data!D71)","v":""},{"$f":"IF(Data!E71=\"\",\"\",Data!E71)","v":""},{"$f":"IF(Data!F71=\"\",\"\",Data!F71)","v":""},{"$f":"IF(Data!G71=\"\",\"\",Data!G71)","v":""},{"$f":"IF(Data!H71=\"\",\"\",Data!H71)","v":""},{"$f":"IF(Data!I71=\"\",\"\",Data!I71)","v":""},{"$f":"IF(Data!J71=\"\",\"\",Data!J71)","v":""},{"$f":"IF(Data!K71=\"\",\"\",Data!K71)","v":""},{"$f":"IF(Data!L71=\"\",\"\",Data!L71)","v":""},{"$f":"IF(Data!M71=\"\",\"\",Data!M71)","v":""},{"$f":"IF(Data!N71=\"\",\"\",Data!N71)","v":""},{"$f":"IF(Data!O71=\"\",\"\",Data!O71)","v":""},{"$f":"IF(Data!P71=\"\",\"\",Data!P71)","v":""},{"$f":"IF(Data!Q71=\"\",\"\",Data!Q71)","v":""},{"$f":"IF(Data!R71=\"\",\"\",Data!R71)","v":""},{"$f":"IF(Data!S71=\"\",\"\",Data!S71)","v":""},null,null,null,null,71]
[{"$f":"IF(Data!A72=\"\",\"\",Data!A72)","v":""},"",{"$f":"IF(Data!B72=\"\",\"\",Data!B72)","v":""},{"$f":"IF(Data!C72=\"\",\"\",Data!C72)","v":""},{"$f":"IF(Data!D72=\"\",\"\",Data!D72)","v":""},{"$f":"IF(Data!E72=\"\",\"\",Data!E72)","v":""},{"$f":"IF(Data!F72=\"\",\"\",Data!F72)","v":""},{"$f":"IF(Data!G72=\"\",\"\",Data!G72)","v":""},{"$f":"IF(Data!H72=\"\",\"\",Data!H72)","v":""},{"$f":"IF(Data!I72=\"\",\"\",Data!I72)","v":""},{"$f":"IF(Data!J72=\"\",\"\",Data!J72)","v":""},{"$f":"IF(Data!K72=\"\",\"\",Data!K72)","v":""},{"$f":"IF(Data!L72=\"\",\"\",Data!L72)","v":""},{"$f":"IF(Data!M72=\"\",\"\",Data!M72)","v":""},{"$f":"IF(Data!N72=\"\",\"\",Data!N72)","v":""},{"$f":"IF(Data!O72=\"\",\"\",Data!O72)","v":""},{"$f":"IF(Data!P72=\"\",\"\",Data!P72)","v":""},{"$f":"IF(Data!Q72=\"\",\"\",Data!Q72)","v":""},{"$f":"IF(Data!R72=\"\",\"\",Data!R72)","v":""},{"$f":"IF(Data!S72=\"\",\"\",Data!S72)","v":""},null,null,null,null,72]
[{"$f":"IF(Data!A73=\"\",\"\",Data!A73)","v":""},"",{"$f":"IF(Data!B73=\"\",\"\",Data!B73)","v":""},{"$f":"IF(Data!C73=\"\",\"\",Data!C73)","v":""},{"$f":"IF(Data!D73=\"\",\"\",Data!D73)","v":""},{"$f":"IF(Data!E73=\"\",\"\",Data!E73)","v":""},{"$f":"IF(Data!F73=\"\",\"\",Data!F73)","v":""},{"$f":"IF(Data!G73=\"\",\"\",Data!G73)","v":""},{"$f":"IF(Data!H73=\"\",\"\",Data!H73)","v":""},{"$f":"IF(Data!I73=\"\",\"\",Data!I73)","v":""},{"$f":"IF(Data!J73=\"\",\"\",Data!J73)","v":""},{"$f":"IF(Data!K73=\"\",\"\",Data!K73)","v":""},{"$f":"IF(Data!L73=\"\",\"\",Data!L73)","v":""},{"$f":"IF(Data!M73=\"\",\"\",Data!M73)","v":""},{"$f":"IF(Data!N73=\"\",\"\",Data!N73)","v":""},{"$f":"IF(Data!O73=\"\",\"\",Data!O73)","v":""},{"$f":"IF(Data!P73=\"\",\"\",Data!P73)","v":""},{"$f":"IF(Data!Q73=\"\",\"\",Data!Q73)","v":""},{"$f":"IF(Data!R73=\"\",\"\",Data!R73)","v":""},{"$f":"IF(Data!S73=\"\",\"\",Data!S73)","v":""},null,null,null,null,73]
[{"$f":"IF(Data!A74=\"\",\"\",Data!A74)","v":""},"",{"$f":"IF(Data!B74=\"\",\"\",Data!B74)","v":""},{"$f":"IF(Data!C74=\"\",\"\",Data!C74)","v":""},{"$f":"IF(Data!D74=\"\",\"\",Data!D74)","v":""},{"$f":"IF(Data!E74=\"\",\"\",Data!E74)","v":""},{"$f":"IF(Data!F74=\"\",\"\",Data!F74)","v":""},{"$f":"IF(Data!G74=\"\",\"\",Data!G74)","v":""},{"$f":"IF(Data!H74=\"\",\"\",Data!H74)","v":""},{"$f":"IF(Data!I74=\"\",\"\",Data!I74)","v":""},{"$f":"IF(Data!J74=\"\",\"\",Data!J74)","v":""},{"$f":"IF(Data!K74=\"\",\"\",Data!K74)","v":""},{"$f":"IF(Data!L74=\"\",\"\",Data!L74)","v":""},{"$f":"IF(Data!M74=\"\",\"\",Data!M74)","v":""},{"$f":"IF(Data!N74=\"\",\"\",Data!N74)","v":""},{"$f":"IF(Data!O74=\"\",\"\",Data!O74)","v":""},{"$f":"IF(Data!P74=\"\",\"\",Data!P74)","v":""},{"$f":"IF(Data!Q74=\"\",\"\",Data!Q74)","v":""},{"$f":"IF(Data!R74=\"\",\"\",Data!R74)","v":""},{"$f":"IF(Data!S74=\"\",\"\",Data!S74)","v":""},null,null,null,null,74]
[{"$f":"IF(Data!A75=\"\",\"\",Data!A75)","v":""},"",{"$f":"IF(Data!B75=\"\",\"\",Data!B75)","v":""},{"$f":"IF(Data!C75=\"\",\"\",Data!C75)","v":""},{"$f":"IF(Data!D75=\"\",\"\",Data!D75)","v":""},{"$f":"IF(Data!E75=\"\",\"\",Data!E75)","v":""},{"$f":"IF(Data!F75=\"\",\"\",Data!F75)","v":""},{"$f":"IF(Data!G75=\"\",\"\",Data!G75)","v":""},{"$f":"IF(Data!H75=\"\",\"\",Data!H75)","v":""},{"$f":"IF(Data!I75=\"\",\"\",Data!I75)","v":""},{"$f":"IF(Data!J75=\"\",\"\",Data!J75)","v":""},{"$f":"IF(Data!K75=\"\",\"\",Data!K75)","v":""},{"$f":"IF(Data!L75=\"\",\"\",Data!L75)","v":""},{"$f":"IF(Data!M75=\"\",\"\",Data!M75)","v":""},{"$f":"IF(Data!N75=\"\",\"\",Data!N75)","v":""},{"$f":"IF(Data!O75=\"\",\"\",Data!O75)","v":""},{"$f":"IF(Data!P75=\"\",\"\",Data!P75)","v":""},{"$f":"IF(Data!Q75=\"\",\"\",Data!Q75)","v":""},{"$f":"IF(Data!R75=\"\",\"\",Data!R75)","v":""},{"$f":"IF(Data!S75=\"\",\"\",Data!S75)","v":""},null,null,null,null,75]
[{"$f":"IF(Data!A76=\"\",\"\",Data!A76)","v":""},"",{"$f":"IF(Data!B76=\"\",\"\",Data!B76)","v":""},{"$f":"IF(Data!C76=\"\",\"\",Data!C76)","v":""},{"$f":"IF(Data!D76=\"\",\"\",Data!D76)","v":""},{"$f":"IF(Data!E76=\"\",\"\",Data!E76)","v":""},{"$f":"IF(Data!F76=\"\",\"\",Data!F76)","v":""},{"$f":"IF(Data!G76=\"\",\"\",Data!G76)","v":""},{"$f":"IF(Data!H76=\"\",\"\",Data!H76)","v":""},{"$f":"IF(Data!I76=\"\",\"\",Data!I76)","v":""},{"$f":"IF(Data!J76=\"\",\"\",Data!J76)","v":""},{"$f":"IF(Data!K76=\"\",\"\",Data!K76)","v":""},{"$f":"IF(Data!L76=\"\",\"\",Data!L76)","v":""},{"$f":"IF(Data!M76=\"\",\"\",Data!M76)","v":""},{"$f":"IF(Data!N76=\"\",\"\",Data!N76)","v":""},{"$f":"IF(Data!O76=\"\",\"\",Data!O76)","v":""},{"$f":"IF(Data!P76=\"\",\"\",Data!P76)","v":""},{"$f":"IF(Data!Q76=\"\",\"\",Data!Q76)","v":""},{"$f":"IF(Data!R76=\"\",\"\",Data!R76)","v":""},{"$f":"IF(Data!S76=\"\",\"\",Data!S76)","v":""},null,null,null,null,76]
[{"$f":"IF(Data!A77=\"\",\"\",Data!A77)","v":""},"",{"$f":"IF(Data!B77=\"\",\"\",Data!B77)","v":""},{"$f":"IF(Data!C77=\"\",\"\",Data!C77)","v":""},{"$f":"IF(Data!D77=\"\",\"\",Data!D77)","v":""},{"$f":"IF(Data!E77=\"\",\"\",Data!E77)","v":""},{"$f":"IF(Data!F77=\"\",\"\",Data!F77)","v":""},{"$f":"IF(Data!G77=\"\",\"\",Data!G77)","v":""},{"$f":"IF(Data!H77=\"\",\"\",Data!H77)","v":""},{"$f":"IF(Data!I77=\"\",\"\",Data!I77)","v":""},{"$f":"IF(Data!J77=\"\",\"\",Data!J77)","v":""},{"$f":"IF(Data!K77=\"\",\"\",Data!K77)","v":""},{"$f":"IF(Data!L77=\"\",\"\",Data!L77)","v":""},{"$f":"IF(Data!M77=\"\",\"\",Data!M77)","v":""},{"$f":"IF(Data!N77=\"\",\"\",Data!N77)","v":""},{"$f":"IF(Data!O77=\"\",\"\",Data!O77)","v":""},{"$f":"IF(Data!P77=\"\",\"\",Data!P77)","v":""},{"$f":"IF(Data!Q77=\"\",\"\",Data!Q77)","v":""},{"$f":"IF(Data!R77=\"\",\"\",Data!R77)","v":""},{"$f":"IF(Data!S77=\"\",\"\",Data!S77)","v":""},null,null,null,null,77]
[{"$f":"IF(Data!A78=\"\",\"\",Data!A78)","v":""},"",{"$f":"IF(Data!B78=\"\",\"\",Data!B78)","v":""},{"$f":"IF(Data!C78=\"\",\"\",Data!C78)","v":""},{"$f":"IF(Data!D78=\"\",\"\",Data!D78)","v":""},{"$f":"IF(Data!E78=\"\",\"\",Data!E78)","v":""},{"$f":"IF(Data!F78=\"\",\"\",Data!F78)","v":""},{"$f":"IF(Data!G78=\"\",\"\",Data!G78)","v":""},{"$f":"IF(Data!H78=\"\",\"\",Data!H78)","v":""},{"$f":"IF(Data!I78=\"\",\"\",Data!I78)","v":""},{"$f":"IF(Data!J78=\"\",\"\",Data!J78)","v":""},{"$f":"IF(Data!K78=\"\",\"\",Data!K78)","v":""},{"$f":"IF(Data!L78=\"\",\"\",Data!L78)","v":""},{"$f":"IF(Data!M78=\"\",\"\",Data!M78)","v":""},{"$f":"IF(Data!N78=\"\",\"\",Data!N78)","v":""},{"$f":"IF(Data!O78=\"\",\"\",Data!O78)","v":""},{"$f":"IF(Data!P78=\"\",\"\",Data!P78)","v":""},{"$f":"IF(Data!Q78=\"\",\"\",Data!Q78)","v":""},{"$f":"IF(Data!R78=\"\",\"\",Data!R78)","v":""},{"$f":"IF(Data!S78=\"\",\"\",Data!S78)","v":""},null,null,null,null,78]
[{"$f":"IF(Data!A79=\"\",\"\",Data!A79)","v":""},"",{"$f":"IF(Data!B79=\"\",\"\",Data!B79)","v":""},{"$f":"IF(Data!C79=\"\",\"\",Data!C79)","v":""},{"$f":"IF(Data!D79=\"\",\"\",Data!D79)","v":""},{"$f":"IF(Data!E79=\"\",\"\",Data!E79)","v":""},{"$f":"IF(Data!F79=\"\",\"\",Data!F79)","v":""},{"$f":"IF(Data!G79=\"\",\"\",Data!G79)","v":""},{"$f":"IF(Data!H79=\"\",\"\",Data!H79)","v":""},{"$f":"IF(Data!I79=\"\",\"\",Data!I79)","v":""},{"$f":"IF(Data!J79=\"\",\"\",Data!J79)","v":""},{"$f":"IF(Data!K79=\"\",\"\",Data!K79)","v":""},{"$f":"IF(Data!L79=\"\",\"\",Data!L79)","v":""},{"$f":"IF(Data!M79=\"\",\"\",Data!M79)","v":""},{"$f":"IF(Data!N79=\"\",\"\",Data!N79)","v":""},{"$f":"IF(Data!O79=\"\",\"\",Data!O79)","v":""},{"$f":"IF(Data!P79=\"\",\"\",Data!P79)","v":""},{"$f":"IF(Data!Q79=\"\",\"\",Data!Q79)","v":""},{"$f":"IF(Data!R79=\"\",\"\",Data!R79)","v":""},{"$f":"IF(Data!S79=\"\",\"\",Data!S79)","v":""},null,null,null,null,79]
[{"$f":"IF(Data!A80=\"\",\"\",Data!A80)","v":""},"",{"$f":"IF(Data!B80=\"\",\"\",Data!B80)","v":""},{"$f":"IF(Data!C80=\"\",\"\",Data!C80)","v":""},{"$f":"IF(Data!D80=\"\",\"\",Data!D80)","v":""},{"$f":"IF(Data!E80=\"\",\"\",Data!E80)","v":""},{"$f":"IF(Data!F80=\"\",\"\",Data!F80)","v":""},{"$f":"IF(Data!G80=\"\",\"\",Data!G80)","v":""},{"$f":"IF(Data!H80=\"\",\"\",Data!H80)","v":""},{"$f":"IF(Data!I80=\"\",\"\",Data!I80)","v":""},{"$f":"IF(Data!J80=\"\",\"\",Data!J80)","v":""},{"$f":"IF(Data!K80=\"\",\"\",Data!K80)","v":""},{"$f":"IF(Data!L80=\"\",\"\",Data!L80)","v":""},{"$f":"IF(Data!M80=\"\",\"\",Data!M80)","v":""},{"$f":"IF(Data!N80=\"\",\"\",Data!N80)","v":""},{"$f":"IF(Data!O80=\"\",\"\",Data!O80)","v":""},{"$f":"IF(Data!P80=\"\",\"\",Data!P80)","v":""},{"$f":"IF(Data!Q80=\"\",\"\",Data!Q80)","v":""},{"$f":"IF(Data!R80=\"\",\"\",Data!R80)","v":""},{"$f":"IF(Data!S80=\"\",\"\",Data!S80)","v":""},null,null,null,null,80]
[{"$f":"IF(Data!A81=\"\",\"\",Data!A81)","v":""},"",{"$f":"IF(Data!B81=\"\",\"\",Data!B81)","v":""},{"$f":"IF(Data!C81=\"\",\"\",Data!C81)","v":""},{"$f":"IF(Data!D81=\"\",\"\",Data!D81)","v":""},{"$f":"IF(Data!E81=\"\",\"\",Data!E81)","v":""},{"$f":"IF(Data!F81=\"\",\"\",Data!F81)","v":""},{"$f":"IF(Data!G81=\"\",\"\",Data!G81)","v":""},{"$f":"IF(Data!H81=\"\",\"\",Data!H81)","v":""},{"$f":"IF(Data!I81=\"\",\"\",Data!I81)","v":""},{"$f":"IF(Data!J81=\"\",\"\",Data!J81)","v":""},{"$f":"IF(Data!K81=\"\",\"\",Data!K81)","v":""},{"$f":"IF(Data!L81=\"\",\"\",Data!L81)","v":""},{"$f":"IF(Data!M81=\"\",\"\",Data!M81)","v":""},{"$f":"IF(Data!N81=\"\",\"\",Data!N81)","v":""},{"$f":"IF(Data!O81=\"\",\"\",Data!O81)","v":""},{"$f":"IF(Data!P81=\"\",\"\",Data!P81)","v":""},{"$f":"IF(Data!Q81=\"\",\"\",Data!Q81)","v":""},{"$f":"IF(Data!R81=\"\",\"\",Data!R81)","v":""},{"$f":"IF(Data!S81=\"\",\"\",Data!S81)","v":""},null,null,null,null,81]
[{"$f":"IF(Data!A82=\"\",\"\",Data!A82)","v":""},"",{"$f":"IF(Data!B82=\"\",\"\",Data!B82)","v":""},{"$f":"IF(Data!C82=\"\",\"\",Data!C82)","v":""},{"$f":"IF(Data!D82=\"\",\"\",Data!D82)","v":""},{"$f":"IF(Data!E82=\"\",\"\",Data!E82)","v":""},{"$f":"IF(Data!F82=\"\",\"\",Data!F82)","v":""},{"$f":"IF(Data!G82=\"\",\"\",Data!G82)","v":""},{"$f":"IF(Data!H82=\"\",\"\",Data!H82)","v":""},{"$f":"IF(Data!I82=\"\",\"\",Data!I82)","v":""},{"$f":"IF(Data!J82=\"\",\"\",Data!J82)","v":""},{"$f":"IF(Data!K82=\"\",\"\",Data!K82)","v":""},{"$f":"IF(Data!L82=\"\",\"\",Data!L82)","v":""},{"$f":"IF(Data!M82=\"\",\"\",Data!M82)","v":""},{"$f":"IF(Data!N82=\"\",\"\",Data!N82)","v":""},{"$f":"IF(Data!O82=\"\",\"\",Data!O82)","v":""},{"$f":"IF(Data!P82=\"\",\"\",Data!P82)","v":""},{"$f":"IF(Data!Q82=\"\",\"\",Data!Q82)","v":""},{"$f":"IF(Data!R82=\"\",\"\",Data!R82)","v":""},{"$f":"IF(Data!S82=\"\",\"\",Data!S82)","v":""},null,null,null,null,82]
[{"$f":"IF(Data!A83=\"\",\"\",Data!A83)","v":""},"",{"$f":"IF(Data!B83=\"\",\"\",Data!B83)","v":""},{"$f":"IF(Data!C83=\"\",\"\",Data!C83)","v":""},{"$f":"IF(Data!D83=\"\",\"\",Data!D83)","v":""},{"$f":"IF(Data!E83=\"\",\"\",Data!E83)","v":""},{"$f":"IF(Data!F83=\"\",\"\",Data!F83)","v":""},{"$f":"IF(Data!G83=\"\",\"\",Data!G83)","v":""},{"$f":"IF(Data!H83=\"\",\"\",Data!H83)","v":""},{"$f":"IF(Data!I83=\"\",\"\",Data!I83)","v":""},{"$f":"IF(Data!J83=\"\",\"\",Data!J83)","v":""},{"$f":"IF(Data!K83=\"\",\"\",Data!K83)","v":""},{"$f":"IF(Data!L83=\"\",\"\",Data!L83)","v":""},{"$f":"IF(Data!M83=\"\",\"\",Data!M83)","v":""},{"$f":"IF(Data!N83=\"\",\"\",Data!N83)","v":""},{"$f":"IF(Data!O83=\"\",\"\",Data!O83)","v":""},{"$f":"IF(Data!P83=\"\",\"\",Data!P83)","v":""},{"$f":"IF(Data!Q83=\"\",\"\",Data!Q83)","v":""},{"$f":"IF(Data!R83=\"\",\"\",Data!R83)","v":""},{"$f":"IF(Data!S83=\"\",\"\",Data!S83)","v":""},null,null,null,null,83]
[{"$f":"IF(Data!A84=\"\",\"\",Data!A84)","v":""},"",{"$f":"IF(Data!B84=\"\",\"\",Data!B84)","v":""},{"$f":"IF(Data!C84=\"\",\"\",Data!C84)","v":""},{"$f":"IF(Data!D84=\"\",\"\",Data!D84)","v":""},{"$f":"IF(Data!E84=\"\",\"\",Data!E84)","v":""},{"$f":"IF(Data!F84=\"\",\"\",Data!F84)","v":""},{"$f":"IF(Data!G84=\"\",\"\",Data!G84)","v":""},{"$f":"IF(Data!H84=\"\",\"\",Data!H84)","v":""},{"$f":"IF(Data!I84=\"\",\"\",Data!I84)","v":""},{"$f":"IF(Data!J84=\"\",\"\",Data!J84)","v":""},{"$f":"IF(Data!K84=\"\",\"\",Data!K84)","v":""},{"$f":"IF(Data!L84=\"\",\"\",Data!L84)","v":""},{"$f":"IF(Data!M84=\"\",\"\",Data!M84)","v":""},{"$f":"IF(Data!N84=\"\",\"\",Data!N84)","v":""},{"$f":"IF(Data!O84=\"\",\"\",Data!O84)","v":""},{"$f":"IF(Data!P84=\"\",\"\",Data!P84)","v":""},{"$f":"IF(Data!Q84=\"\",\"\",Data!Q84)","v":""},{"$f":"IF(Data!R84=\"\",\"\",Data!R84)","v":""},{"$f":"IF(Data!S84=\"\",\"\",Data!S84)","v":""},null,null,null,null,84]
[{"$f":"IF(Data!A85=\"\",\"\",Data!A85)","v":""},"",{"$f":"IF(Data!B85=\"\",\"\",Data!B85)","v":""},{"$f":"IF(Data!C85=\"\",\"\",Data!C85)","v":""},{"$f":"IF(Data!D85=\"\",\"\",Data!D85)","v":""},{"$f":"IF(Data!E85=\"\",\"\",Data!E85)","v":""},{"$f":"IF(Data!F85=\"\",\"\",Data!F85)","v":""},{"$f":"IF(Data!G85=\"\",\"\",Data!G85)","v":""},{"$f":"IF(Data!H85=\"\",\"\",Data!H85)","v":""},{"$f":"IF(Data!I85=\"\",\"\",Data!I85)","v":""},{"$f":"IF(Data!J85=\"\",\"\",Data!J85)","v":""},{"$f":"IF(Data!K85=\"\",\"\",Data!K85)","v":""},{"$f":"IF(Data!L85=\"\",\"\",Data!L85)","v":""},{"$f":"IF(Data!M85=\"\",\"\",Data!M85)","v":""},{"$f":"IF(Data!N85=\"\",\"\",Data!N85)","v":""},{"$f":"IF(Data!O85=\"\",\"\",Data!O85)","v":""},{"$f":"IF(Data!P85=\"\",\"\",Data!P85)","v":""},{"$f":"IF(Data!Q85=\"\",\"\",Data!Q85)","v":""},{"$f":"IF(Data!R85=\"\",\"\",Data!R85)","v":""},{"$f":"IF(Data!S85=\"\",\"\",Data!S85)","v":""},null,null,null,null,85]
[{"$f":"IF(Data!A86=\"\",\"\",Data!A86)","v":""},"",{"$f":"IF(Data!B86=\"\",\"\",Data!B86)","v":""},{"$f":"IF(Data!C86=\"\",\"\",Data!C86)","v":""},{"$f":"IF(Data!D86=\"\",\"\",Data!D86)","v":""},{"$f":"IF(Data!E86=\"\",\"\",Data!E86)","v":""},{"$f":"IF(Data!F86=\"\",\"\",Data!F86)","v":""},{"$f":"IF(Data!G86=\"\",\"\",Data!G86)","v":""},{"$f":"IF(Data!H86=\"\",\"\",Data!H86)","v":""},{"$f":"IF(Data!I86=\"\",\"\",Data!I86)","v":""},{"$f":"IF(Data!J86=\"\",\"\",Data!J86)","v":""},{"$f":"IF(Data!K86=\"\",\"\",Data!K86)","v":""},{"$f":"IF(Data!L86=\"\",\"\",Data!L86)","v":""},{"$f":"IF(Data!M86=\"\",\"\",Data!M86)","v":""},{"$f":"IF(Data!N86=\"\",\"\",Data!N86)","v":""},{"$f":"IF(Data!O86=\"\",\"\",Data!O86)","v":""},{"$f":"IF(Data!P86=\"\",\"\",Data!P86)","v":""},{"$f":"IF(Data!Q86=\"\",\"\",Data!Q86)","v":""},{"$f":"IF(Data!R86=\"\",\"\",Data!R86)","v":""},{"$f":"IF(Data!S86=\"\",\"\",Data!S86)","v":""},null,null,null,null,86]
[{"$f":"IF(Data!A87=\"\",\"\",Data!A87)","v":""},"",{"$f":"IF(Data!B87=\"\",\"\",Data!B87)","v":""},{"$f":"IF(Data!C87=\"\",\"\",Data!C87)","v":""},{"$f":"IF(Data!D87=\"\",\"\",Data!D87)","v":""},{"$f":"IF(Data!E87=\"\",\"\",Data!E87)","v":""},{"$f":"IF(Data!F87=\"\",\"\",Data!F87)","v":""},{"$f":"IF(Data!G87=\"\",\"\",Data!G87)","v":""},{"$f":"IF(Data!H87=\"\",\"\",Data!H87)","v":""},{"$f":"IF(Data!I87=\"\",\"\",Data!I87)","v":""},{"$f":"IF(Data!J87=\"\",\"\",Data!J87)","v":""},{"$f":"IF(Data!K87=\"\",\"\",Data!K87)","v":""},{"$f":"IF(Data!L87=\"\",\"\",Data!L87)","v":""},{"$f":"IF(Data!M87=\"\",\"\",Data!M87)","v":""},{"$f":"IF(Data!N87=\"\",\"\",Data!N87)","v":""},{"$f":"IF(Data!O87=\"\",\"\",Data!O87)","v":""},{"$f":"IF(Data!P87=\"\",\"\",Data!P87)","v":""},{"$f":"IF(Data!Q87=\"\",\"\",Data!Q87)","v":""},{"$f":"IF(Data!R87=\"\",\"\",Data!R87)","v":""},{"$f":"IF(Data!S87=\"\",\"\",Data!S87)","v":""},null,null,null,null,87]
[{"$f":"IF(Data!A88=\"\",\"\",Data!A88)","v":""},"",{"$f":"IF(Data!B88=\"\",\"\",Data!B88)","v":""},{"$f":"IF(Data!C88=\"\",\"\",Data!C88)","v":""},{"$f":"IF(Data!D88=\"\",\"\",Data!D88)","v":""},{"$f":"IF(Data!E88=\"\",\"\",Data!E88)","v":""},{"$f":"IF(Data!F88=\"\",\"\",Data!F88)","v":""},{"$f":"IF(Data!G88=\"\",\"\",Data!G88)","v":""},{"$f":"IF(Data!H88=\"\",\"\",Data!H88)","v":""},{"$f":"IF(Data!I88=\"\",\"\",Data!I88)","v":""},{"$f":"IF(Data!J88=\"\",\"\",Data!J88)","v":""},{"$f":"IF(Data!K88=\"\",\"\",Data!K88)","v":""},{"$f":"IF(Data!L88=\"\",\"\",Data!L88)","v":""},{"$f":"IF(Data!M88=\"\",\"\",Data!M88)","v":""},{"$f":"IF(Data!N88=\"\",\"\",Data!N88)","v":""},{"$f":"IF(Data!O88=\"\",\"\",Data!O88)","v":""},{"$f":"IF(Data!P88=\"\",\"\",Data!P88)","v":""},{"$f":"IF(Data!Q88=\"\",\"\",Data!Q88)","v":""},{"$f":"IF(Data!R88=\"\",\"\",Data!R88)","v":""},{"$f":"IF(Data!S88=\"\",\"\",Data!S88)","v":""},null,null,null,null,88]
[{"$f":"IF(Data!A89=\"\",\"\",Data!A89)","v":""},"",{"$f":"IF(Data!B89=\"\",\"\",Data!B89)","v":""},{"$f":"IF(Data!C89=\"\",\"\",Data!C89)","v":""},{"$f":"IF(Data!D89=\"\",\"\",Data!D89)","v":""},{"$f":"IF(Data!E89=\"\",\"\",Data!E89)","v":""},{"$f":"IF(Data!F89=\"\",\"\",Data!F89)","v":""},{"$f":"IF(Data!G89=\"\",\"\",Data!G89)","v":""},{"$f":"IF(Data!H89=\"\",\"\",Data!H89)","v":""},{"$f":"IF(Data!I89=\"\",\"\",Data!I89)","v":""},{"$f":"IF(Data!J89=\"\",\"\",Data!J89)","v":""},{"$f":"IF(Data!K89=\"\",\"\",Data!K89)","v":""},{"$f":"IF(Data!L89=\"\",\"\",Data!L89)","v":""},{"$f":"IF(Data!M89=\"\",\"\",Data!M89)","v":""},{"$f":"IF(Data!N89=\"\",\"\",Data!N89)","v":""},{"$f":"IF(Data!O89=\"\",\"\",Data!O89)","v":""},{"$f":"IF(Data!P89=\"\",\"\",Data!P89)","v":""},{"$f":"IF(Data!Q89=\"\",\"\",Data!Q89)","v":""},{"$f":"IF(Data!R89=\"\",\"\",Data!R89)","v":""},{"$f":"IF(Data!S89=\"\",\"\",Data!S89)","v":""},null,null,null,null,89]
[{"$f":"IF(Data!A90=\"\",\"\",Data!A90)","v":""},"",{"$f":"IF(Data!B90=\"\",\"\",Data!B90)","v":""},{"$f":"IF(Data!C90=\"\",\"\",Data!C90)","v":""},{"$f":"IF(Data!D90=\"\",\"\",Data!D90)","v":""},{"$f":"IF(Data!E90=\"\",\"\",Data!E90)","v":""},{"$f":"IF(Data!F90=\"\",\"\",Data!F90)","v":""},{"$f":"IF(Data!G90=\"\",\"\",Data!G90)","v":""},{"$f":"IF(Data!H90=\"\",\"\",Data!H90)","v":""},{"$f":"IF(Data!I90=\"\",\"\",Data!I90)","v":""},{"$f":"IF(Data!J90=\"\",\"\",Data!J90)","v":""},{"$f":"IF(Data!K90=\"\",\"\",Data!K90)","v":""},{"$f":"IF(Data!L90=\"\",\"\",Data!L90)","v":""},{"$f":"IF(Data!M90=\"\",\"\",Data!M90)","v":""},{"$f":"IF(Data!N90=\"\",\"\",Data!N90)","v":""},{"$f":"IF(Data!O90=\"\",\"\",Data!O90)","v":""},{"$f":"IF(Data!P90=\"\",\"\",Data!P90)","v":""},{"$f":"IF(Data!Q90=\"\",\"\",Data!Q90)","v":""},{"$f":"IF(Data!R90=\"\",\"\",Data!R90)","v":""},{"$f":"IF(Data!S90=\"\",\"\",Data!S90)","v":""},null,null,null,null,90]
[{"$f":"IF(Data!A91=\"\",\"\",Data!A91)","v":""},"",{"$f":"IF(Data!B91=\"\",\"\",Data!B91)","v":""},{"$f":"IF(Data!C91=\"\",\"\",Data!C91)","v":""},{"$f":"IF(Data!D91=\"\",\"\",Data!D91)","v":""},{"$f":"IF(Data!E91=\"\",\"\",Data!E91)","v":""},{"$f":"IF(Data!F91=\"\",\"\",Data!F91)","v":""},{"$f":"IF(Data!G91=\"\",\"\",Data!G91)","v":""},{"$f":"IF(Data!H91=\"\",\"\",Data!H91)","v":""},{"$f":"IF(Data!I91=\"\",\"\",Data!I91)","v":""},{"$f":"IF(Data!J91=\"\",\"\",Data!J91)","v":""},{"$f":"IF(Data!K91=\"\",\"\",Data!K91)","v":""},{"$f":"IF(Data!L91=\"\",\"\",Data!L91)","v":""},{"$f":"IF(Data!M91=\"\",\"\",Data!M91)","v":""},{"$f":"IF(Data!N91=\"\",\"\",Data!N91)","v":""},{"$f":"IF(Data!O91=\"\",\"\",Data!O91)","v":""},{"$f":"IF(Data!P91=\"\",\"\",Data!P91)","v":""},{"$f":"IF(Data!Q91=\"\",\"\",Data!Q91)","v":""},{"$f":"IF(Data!R91=\"\",\"\",Data!R91)","v":""},{"$f":"IF(Data!S91=\"\",\"\",Data!S91)","v":""},null,null,null,null,91]
[{"$f":"IF(Data!A92=\"\",\"\",Data!A92)","v":""},"",{"$f":"IF(Data!B92=\"\",\"\",Data!B92)","v":""},{"$f":"IF(Data!C92=\"\",\"\",Data!C92)","v":""},{"$f":"IF(Data!D92=\"\",\"\",Data!D92)","v":""},{"$f":"IF(Data!E92=\"\",\"\",Data!E92)","v":""},{"$f":"IF(Data!F92=\"\",\"\",Data!F92)","v":""},{"$f":"IF(Data!G92=\"\",\"\",Data!G92)","v":""},{"$f":"IF(Data!H92=\"\",\"\",Data!H92)","v":""},{"$f":"IF(Data!I92=\"\",\"\",Data!I92)","v":""},{"$f":"IF(Data!J92=\"\",\"\",Data!J92)","v":""},{"$f":"IF(Data!K92=\"\",\"\",Data!K92)","v":""},{"$f":"IF(Data!L92=\"\",\"\",Data!L92)","v":""},{"$f":"IF(Data!M92=\"\",\"\",Data!M92)","v":""},{"$f":"IF(Data!N92=\"\",\"\",Data!N92)","v":""},{"$f":"IF(Data!O92=\"\",\"\",Data!O92)","v":""},{"$f":"IF(Data!P92=\"\",\"\",Data!P92)","v":""},{"$f":"IF(Data!Q92=\"\",\"\",Data!Q92)","v":""},{"$f":"IF(Data!R92=\"\",\"\",Data!R92)","v":""},{"$f":"IF(Data!S92=\"\",\"\",Data!S92)","v":""},null,null,null,null,92]
[{"$f":"IF(Data!A93=\"\",\"\",Data!A93)","v":""},"",{"$f":"IF(Data!B93=\"\",\"\",Data!B93)","v":""},{"$f":"IF(Data!C93=\"\",\"\",Data!C93)","v":""},{"$f":"IF(Data!D93=\"\",\"\",Data!D93)","v":""},{"$f":"IF(Data!E93=\"\",\"\",Data!E93)","v":""},{"$f":"IF(Data!F93=\"\",\"\",Data!F93)","v":""},{"$f":"IF(Data!G93=\"\",\"\",Data!G93)","v":""},{"$f":"IF(Data!H93=\"\",\"\",Data!H93)","v":""},{"$f":"IF(Data!I93=\"\",\"\",Data!I93)","v":""},{"$f":"IF(Data!J93=\"\",\"\",Data!J93)","v":""},{"$f":"IF(Data!K93=\"\",\"\",Data!K93)","v":""},{"$f":"IF(Data!L93=\"\",\"\",Data!L93)","v":""},{"$f":"IF(Data!M93=\"\",\"\",Data!M93)","v":""},{"$f":"IF(Data!N93=\"\",\"\",Data!N93)","v":""},{"$f":"IF(Data!O93=\"\",\"\",Data!O93)","v":""},{"$f":"IF(Data!P93=\"\",\"\",Data!P93)","v":""},{"$f":"IF(Data!Q93=\"\",\"\",Data!Q93)","v":""},{"$f":"IF(Data!R93=\"\",\"\",Data!R93)","v":""},{"$f":"IF(Data!S93=\"\",\"\",Data!S93)","v":""},null,null,null,null,93]
[{"$f":"IF(Data!A94=\"\",\"\",Data!A94)","v":""},"",{"$f":"IF(Data!B94=\"\",\"\",Data!B94)","v":""},{"$f":"IF(Data!C94=\"\",\"\",Data!C94)","v":""},{"$f":"IF(Data!D94=\"\",\"\",Data!D94)","v":""},{"$f":"IF(Data!E94=\"\",\"\",Data!E94)","v":""},{"$f":"IF(Data!F94=\"\",\"\",Data!F94)","v":""},{"$f":"IF(Data!G94=\"\",\"\",Data!G94)","v":""},{"$f":"IF(Data!H94=\"\",\"\",Data!H94)","v":""},{"$f":"IF(Data!I94=\"\",\"\",Data!I94)","v":""},{"$f":"IF(Data!J94=\"\",\"\",Data!J94)","v":""},{"$f":"IF(Data!K94=\"\",\"\",Data!K94)","v":""},{"$f":"IF(Data!L94=\"\",\"\",Data!L94)","v":""},{"$f":"IF(Data!M94=\"\",\"\",Data!M94)","v":""},{"$f":"IF(Data!N94=\"\",\"\",Data!N94)","v":""},{"$f":"IF(Data!O94=\"\",\"\",Data!O94)","v":""},{"$f":"IF(Data!P94=\"\",\"\",Data!P94)","v":""},{"$f":"IF(Data!Q94=\"\",\"\",Data!Q94)","v":""},{"$f":"IF(Data!R94=\"\",\"\",Data!R94)","v":""},{"$f":"IF(Data!S94=\"\",\"\",Data!S94)","v":""},null,null,null,null,94]
[{"$f":"IF(Data!A95=\"\",\"\",Data!A95)","v":""},"",{"$f":"IF(Data!B95=\"\",\"\",Data!B95)","v":""},{"$f":"IF(Data!C95=\"\",\"\",Data!C95)","v":""},{"$f":"IF(Data!D95=\"\",\"\",Data!D95)","v":""},{"$f":"IF(Data!E95=\"\",\"\",Data!E95)","v":""},{"$f":"IF(Data!F95=\"\",\"\",Data!F95)","v":""},{"$f":"IF(Data!G95=\"\",\"\",Data!G95)","v":""},{"$f":"IF(Data!H95=\"\",\"\",Data!H95)","v":""},{"$f":"IF(Data!I95=\"\",\"\",Data!I95)","v":""},{"$f":"IF(Data!J95=\"\",\"\",Data!J95)","v":""},{"$f":"IF(Data!K95=\"\",\"\",Data!K95)","v":""},{"$f":"IF(Data!L95=\"\",\"\",Data!L95)","v":""},{"$f":"IF(Data!M95=\"\",\"\",Data!M95)","v":""},{"$f":"IF(Data!N95=\"\",\"\",Data!N95)","v":""},{"$f":"IF(Data!O95=\"\",\"\",Data!O95)","v":""},{"$f":"IF(Data!P95=\"\",\"\",Data!P95)","v":""},{"$f":"IF(Data!Q95=\"\",\"\",Data!Q95)","v":""},{"$f":"IF(Data!R95=\"\",\"\",Data!R95)","v":""},{"$f":"IF(Data!S95=\"\",\"\",Data!S95)","v":""},null,null,null,null,95]
[{"$f":"IF(Data!A96=\"\",\"\",Data!A96)","v":""},"",{"$f":"IF(Data!B96=\"\",\"\",Data!B96)","v":""},{"$f":"IF(Data!C96=\"\",\"\",Data!C96)","v":""},{"$f":"IF(Data!D96=\"\",\"\",Data!D96)","v":""},{"$f":"IF(Data!E96=\"\",\"\",Data!E96)","v":""},{"$f":"IF(Data!F96=\"\",\"\",Data!F96)","v":""},{"$f":"IF(Data!G96=\"\",\"\",Data!G96)","v":""},{"$f":"IF(Data!H96=\"\",\"\",Data!H96)","v":""},{"$f":"IF(Data!I96=\"\",\"\",Data!I96)","v":""},{"$f":"IF(Data!J96=\"\",\"\",Data!J96)","v":""},{"$f":"IF(Data!K96=\"\",\"\",Data!K96)","v":""},{"$f":"IF(Data!L96=\"\",\"\",Data!L96)","v":""},{"$f":"IF(Data!M96=\"\",\"\",Data!M96)","v":""},{"$f":"IF(Data!N96=\"\",\"\",Data!N96)","v":""},{"$f":"IF(Data!O96=\"\",\"\",Data!O96)","v":""},{"$f":"IF(Data!P96=\"\",\"\",Data!P96)","v":""},{"$f":"IF(Data!Q96=\"\",\"\",Data!Q96)","v":""},{"$f":"IF(Data!R96=\"\",\"\",Data!R96)","v":""},{"$f":"IF(Data!S96=\"\",\"\",Data!S96)","v":""},null,null,null,null,96]
[{"$f":"IF(Data!A97=\"\",\"\",Data!A97)","v":""},"",{"$f":"IF(Data!B97=\"\",\"\",Data!B97)","v":""},{"$f":"IF(Data!C97=\"\",\"\",Data!C97)","v":""},{"$f":"IF(Data!D97=\"\",\"\",Data!D97)","v":""},{"$f":"IF(Data!E97=\"\",\"\",Data!E97)","v":""},{"$f":"IF(Data!F97=\"\",\"\",Data!F97)","v":""},{"$f":"IF(Data!G97=\"\",\"\",Data!G97)","v":""},{"$f":"IF(Data!H97=\"\",\"\",Data!H97)","v":""},{"$f":"IF(Data!I97=\"\",\"\",Data!I97)","v":""},{"$f":"IF(Data!J97=\"\",\"\",Data!J97)","v":""},{"$f":"IF(Data!K97=\"\",\"\",Data!K97)","v":""},{"$f":"IF(Data!L97=\"\",\"\",Data!L97)","v":""},{"$f":"IF(Data!M97=\"\",\"\",Data!M97)","v":""},{"$f":"IF(Data!N97=\"\",\"\",Data!N97)","v":""},{"$f":"IF(Data!O97=\"\",\"\",Data!O97)","v":""},{"$f":"IF(Data!P97=\"\",\"\",Data!P97)","v":""},{"$f":"IF(Data!Q97=\"\",\"\",Data!Q97)","v":""},{"$f":"IF(Data!R97=\"\",\"\",Data!R97)","v":""},{"$f":"IF(Data!S97=\"\",\"\",Data!S97)","v":""},null,null,null,null,97]
[{"$f":"IF(Data!A98=\"\",\"\",Data!A98)","v":""},"",{"$f":"IF(Data!B98=\"\",\"\",Data!B98)","v":""},{"$f":"IF(Data!C98=\"\",\"\",Data!C98)","v":""},{"$f":"IF(Data!D98=\"\",\"\",Data!D98)","v":""},{"$f":"IF(Data!E98=\"\",\"\",Data!E98)","v":""},{"$f":"IF(Data!F98=\"\",\"\",Data!F98)","v":""},{"$f":"IF(Data!G98=\"\",\"\",Data!G98)","v":""},{"$f":"IF(Data!H98=\"\",\"\",Data!H98)","v":""},{"$f":"IF(Data!I98=\"\",\"\",Data!I98)","v":""},{"$f":"IF(Data!J98=\"\",\"\",Data!J98)","v":""},{"$f":"IF(Data!K98=\"\",\"\",Data!K98)","v":""},{"$f":"IF(Data!L98=\"\",\"\",Data!L98)","v":""},{"$f":"IF(Data!M98=\"\",\"\",Data!M98)","v":""},{"$f":"IF(Data!N98=\"\",\"\",Data!N98)","v":""},{"$f":"IF(Data!O98=\"\",\"\",Data!O98)","v":""},{"$f":"IF(Data!P98=\"\",\"\",Data!P98)","v":""},{"$f":"IF(Data!Q98=\"\",\"\",Data!Q98)","v":""},{"$f":"IF(Data!R98=\"\",\"\",Data!R98)","v":""},{"$f":"IF(Data!S98=\"\",\"\",Data!S98)","v":""},null,null,null,null,98]
[{"$f":"IF(Data!A99=\"\",\"\",Data!A99)","v":""},"",{"$f":"IF(Data!B99=\"\",\"\",Data!B99)","v":""},{"$f":"IF(Data!C99=\"\",\"\",Data!C99)","v":""},{"$f":"IF(Data!D99=\"\",\"\",Data!D99)","v":""},{"$f":"IF(Data!E99=\"\",\"\",Data!E99)","v":""},{"$f":"IF(Data!F99=\"\",\"\",Data!F99)","v":""},{"$f":"IF(Data!G99=\"\",\"\",Data!G99)","v":""},{"$f":"IF(Data!H99=\"\",\"\",Data!H99)","v":""},{"$f":"IF(Data!I99=\"\",\"\",Data!I99)","v":""},{"$f":"IF(Data!J99=\"\",\"\",Data!J99)","v":""},{"$f":"IF(Data!K99=\"\",\"\",Data!K99)","v":""},{"$f":"IF(Data!L99=\"\",\"\",Data!L99)","v":""},{"$f":"IF(Data!M99=\"\",\"\",Data!M99)","v":""},{"$f":"IF(Data!N99=\"\",\"\",Data!N99)","v":""},{"$f":"IF(Data!O99=\"\",\"\",Data!O99)","v":""},{"$f":"IF(Data!P99=\"\",\"\",Data!P99)","v":""},{"$f":"IF(Data!Q99=\"\",\"\",Data!Q99)","v":""},{"$f":"IF(Data!R99=\"\",\"\",Data!R99)","v":""},{"$f":"IF(Data!S99=\"\",\"\",Data!S99)","v":""},null,null,null,null,99]
[{"$f":"IF(Data!A100=\"\",\"\",Data!A100)","v":""},"",{"$f":"IF(Data!B100=\"\",\"\",Data!B100)","v":""},{"$f":"IF(Data!C100=\"\",\"\",Data!C100)","v":""},{"$f":"IF(Data!D100=\"\",\"\",Data!D100)","v":""},{"$f":"IF(Data!E100=\"\",\"\",Data!E100)","v":""},{"$f":"IF(Data!F100=\"\",\"\",Data!F100)","v":""},{"$f":"IF(Data!G100=\"\",\"\",Data!G100)","v":""},{"$f":"IF(Data!H100=\"\",\"\",Data!H100)","v":""},{"$f":"IF(Data!I100=\"\",\"\",Data!I100)","v":""},{"$f":"IF(Data!J100=\"\",\"\",Data!J100)","v":""},{"$f":"IF(Data!K100=\"\",\"\",Data!K100)","v":""},{"$f":"IF(Data!L100=\"\",\"\",Data!L100)","v":""},{"$f":"IF(Data!M100=\"\",\"\",Data!M100)","v":""},{"$f":"IF(Data!N100=\"\",\"\",Data!N100)","v":""},{"$f":"IF(Data!O100=\"\",\"\",Data!O100)","v":""},{"$f":"IF(Data!P100=\"\",\"\",Data!P100)","v":""},{"$f":"IF(Data!Q100=\"\",\"\",Data!Q100)","v":""},{"$f":"IF(Data!R100=\"\",\"\",Data!R100)","v":""},{"$f":"IF(Data!S100=\"\",\"\",Data!S100)","v":""},null,null,null,null,100]
[{"$f":"IF(Data!A101=\"\",\"\",Data!A101)","v":""},"",{"$f":"IF(Data!B101=\"\",\"\",Data!B101)","v":""},{"$f":"IF(Data!C101=\"\",\"\",Data!C101)","v":""},{"$f":"IF(Data!D101=\"\",\"\",Data!D101)","v":""},{"$f":"IF(Data!E101=\"\",\"\",Data!E101)","v":""},{"$f":"IF(Data!F101=\"\",\"\",Data!F101)","v":""},{"$f":"IF(Data!G101=\"\",\"\",Data!G101)","v":""},{"$f":"IF(Data!H101=\"\",\"\",Data!H101)","v":""},{"$f":"IF(Data!I101=\"\",\"\",Data!I101)","v":""},{"$f":"IF(Data!J101=\"\",\"\",Data!J101)","v":""},{"$f":"IF(Data!K101=\"\",\"\",Data!K101)","v":""},{"$f":"IF(Data!L101=\"\",\"\",Data!L101)","v":""},{"$f":"IF(Data!M101=\"\",\"\",Data!M101)","v":""},{"$f":"IF(Data!N101=\"\",\"\",Data!N101)","v":""},{"$f":"IF(Data!O101=\"\",\"\",Data!O101)","v":""},{"$f":"IF(Data!P101=\"\",\"\",Data!P101)","v":""},{"$f":"IF(Data!Q101=\"\",\"\",Data!Q101)","v":""},{"$f":"IF(Data!R101=\"\",\"\",Data!R101)","v":""},{"$f":"IF(Data!S101=\"\",\"\",Data!S101)","v":""},null,null,null,null,101]
[{"$f":"IF(Data!A102=\"\",\"\",Data!A102)","v":""},"",{"$f":"IF(Data!B102=\"\",\"\",Data!B102)","v":""},{"$f":"IF(Data!C102=\"\",\"\",Data!C102)","v":""},{"$f":"IF(Data!D102=\"\",\"\",Data!D102)","v":""},{"$f":"IF(Data!E102=\"\",\"\",Data!E102)","v":""},{"$f":"IF(Data!F102=\"\",\"\",Data!F102)","v":""},{"$f":"IF(Data!G102=\"\",\"\",Data!G102)","v":""},{"$f":"IF(Data!H102=\"\",\"\",Data!H102)","v":""},{"$f":"IF(Data!I102=\"\",\"\",Data!I102)","v":""},{"$f":"IF(Data!J102=\"\",\"\",Data!J102)","v":""},{"$f":"IF(Data!K102=\"\",\"\",Data!K102)","v":""},{"$f":"IF(Data!L102=\"\",\"\",Data!L102)","v":""},{"$f":"IF(Data!M102=\"\",\"\",Data!M102)","v":""},{"$f":"IF(Data!N102=\"\",\"\",Data!N102)","v":""},{"$f":"IF(Data!O102=\"\",\"\",Data!O102)","v":""},{"$f":"IF(Data!P102=\"\",\"\",Data!P102)","v":""},{"$f":"IF(Data!Q102=\"\",\"\",Data!Q102)","v":""},{"$f":"IF(Data!R102=\"\",\"\",Data!R102)","v":""},{"$f":"IF(Data!S102=\"\",\"\",Data!S102)","v":""},null,null,null,null,102]
[{"$f":"IF(Data!A103=\"\",\"\",Data!A103)","v":""},"",{"$f":"IF(Data!B103=\"\",\"\",Data!B103)","v":""},{"$f":"IF(Data!C103=\"\",\"\",Data!C103)","v":""},{"$f":"IF(Data!D103=\"\",\"\",Data!D103)","v":""},{"$f":"IF(Data!E103=\"\",\"\",Data!E103)","v":""},{"$f":"IF(Data!F103=\"\",\"\",Data!F103)","v":""},{"$f":"IF(Data!G103=\"\",\"\",Data!G103)","v":""},{"$f":"IF(Data!H103=\"\",\"\",Data!H103)","v":""},{"$f":"IF(Data!I103=\"\",\"\",Data!I103)","v":""},{"$f":"IF(Data!J103=\"\",\"\",Data!J103)","v":""},{"$f":"IF(Data!K103=\"\",\"\",Data!K103)","v":""},{"$f":"IF(Data!L103=\"\",\"\",Data!L103)","v":""},{"$f":"IF(Data!M103=\"\",\"\",Data!M103)","v":""},{"$f":"IF(Data!N103=\"\",\"\",Data!N103)","v":""},{"$f":"IF(Data!O103=\"\",\"\",Data!O103)","v":""},{"$f":"IF(Data!P103=\"\",\"\",Data!P103)","v":""},{"$f":"IF(Data!Q103=\"\",\"\",Data!Q103)","v":""},{"$f":"IF(Data!R103=\"\",\"\",Data!R103)","v":""},{"$f":"IF(Data!S103=\"\",\"\",Data!S103)","v":""},null,null,null,null,103]
[{"$f":"IF(Data!A104=\"\",\"\",Data!A104)","v":""},"",{"$f":"IF(Data!B104=\"\",\"\",Data!B104)","v":""},{"$f":"IF(Data!C104=\"\",\"\",Data!C104)","v":""},{"$f":"IF(Data!D104=\"\",\"\",Data!D104)","v":""},{"$f":"IF(Data!E104=\"\",\"\",Data!E104)","v":""},{"$f":"IF(Data!F104=\"\",\"\",Data!F104)","v":""},{"$f":"IF(Data!G104=\"\",\"\",Data!G104)","v":""},{"$f":"IF(Data!H104=\"\",\"\",Data!H104)","v":""},{"$f":"IF(Data!I104=\"\",\"\",Data!I104)","v":""},{"$f":"IF(Data!J104=\"\",\"\",Data!J104)","v":""},{"$f":"IF(Data!K104=\"\",\"\",Data!K104)","v":""},{"$f":"IF(Data!L104=\"\",\"\",Data!L104)","v":""},{"$f":"IF(Data!M104=\"\",\"\",Data!M104)","v":""},{"$f":"IF(Data!N104=\"\",\"\",Data!N104)","v":""},{"$f":"IF(Data!O104=\"\",\"\",Data!O104)","v":""},{"$f":"IF(Data!P104=\"\",\"\",Data!P104)","v":""},{"$f":"IF(Data!Q104=\"\",\"\",Data!Q104)","v":""},{"$f":"IF(Data!R104=\"\",\"\",Data!R104)","v":""},{"$f":"IF(Data!S104=\"\",\"\",Data!S104)","v":""},null,null,null,null,104]
[{"$f":"IF(Data!A105=\"\",\"\",Data!A105)","v":""},"",{"$f":"IF(Data!B105=\"\",\"\",Data!B105)","v":""},{"$f":"IF(Data!C105=\"\",\"\",Data!C105)","v":""},{"$f":"IF(Data!D105=\"\",\"\",Data!D105)","v":""},{"$f":"IF(Data!E105=\"\",\"\",Data!E105)","v":""},{"$f":"IF(Data!F105=\"\",\"\",Data!F105)","v":""},{"$f":"IF(Data!G105=\"\",\"\",Data!G105)","v":""},{"$f":"IF(Data!H105=\"\",\"\",Data!H105)","v":""},{"$f":"IF(Data!I105=\"\",\"\",Data!I105)","v":""},{"$f":"IF(Data!J105=\"\",\"\",Data!J105)","v":""},{"$f":"IF(Data!K105=\"\",\"\",Data!K105)","v":""},{"$f":"IF(Data!L105=\"\",\"\",Data!L105)","v":""},{"$f":"IF(Data!M105=\"\",\"\",Data!M105)","v":""},{"$f":"IF(Data!N105=\"\",\"\",Data!N105)","v":""},{"$f":"IF(Data!O105=\"\",\"\",Data!O105)","v":""},{"$f":"IF(Data!P105=\"\",\"\",Data!P105)","v":""},{"$f":"IF(Data!Q105=\"\",\"\",Data!Q105)","v":""},{"$f":"IF(Data!R105=\"\",\"\",Data!R105)","v":""},{"$f":"IF(Data!S105=\"\",\"\",Data!S105)","v":""},null,null,null,null,105]
[{"$f":"IF(Data!A106=\"\",\"\",Data!A106)","v":""},"",{"$f":"IF(Data!B106=\"\",\"\",Data!B106)","v":""},{"$f":"IF(Data!C106=\"\",\"\",Data!C106)","v":""},{"$f":"IF(Data!D106=\"\",\"\",Data!D106)","v":""},{"$f":"IF(Data!E106=\"\",\"\",Data!E106)","v":""},{"$f":"IF(Data!F106=\"\",\"\",Data!F106)","v":""},{"$f":"IF(Data!G106=\"\",\"\",Data!G106)","v":""},{"$f":"IF(Data!H106=\"\",\"\",Data!H106)","v":""},{"$f":"IF(Data!I106=\"\",\"\",Data!I106)","v":""},{"$f":"IF(Data!J106=\"\",\"\",Data!J106)","v":""},{"$f":"IF(Data!K106=\"\",\"\",Data!K106)","v":""},{"$f":"IF(Data!L106=\"\",\"\",Data!L106)","v":""},{"$f":"IF(Data!M106=\"\",\"\",Data!M106)","v":""},{"$f":"IF(Data!N106=\"\",\"\",Data!N106)","v":""},{"$f":"IF(Data!O106=\"\",\"\",Data!O106)","v":""},{"$f":"IF(Data!P106=\"\",\"\",Data!P106)","v":""},{"$f":"IF(Data!Q106=\"\",\"\",Data!Q106)","v":""},{"$f":"IF(Data!R106=\"\",\"\",Data!R106)","v":""},{"$f":"IF(Data!S106=\"\",\"\",Data!S106)","v":""},null,null,null,null,106]
[{"$f":"IF(Data!A107=\"\",\"\",Data!A107)","v":""},"",{"$f":"IF(Data!B107=\"\",\"\",Data!B107)","v":""},{"$f":"IF(Data!C107=\"\",\"\",Data!C107)","v":""},{"$f":"IF(Data!D107=\"\",\"\",Data!D107)","v":""},{"$f":"IF(Data!E107=\"\",\"\",Data!E107)","v":""},{"$f":"IF(Data!F107=\"\",\"\",Data!F107)","v":""},{"$f":"IF(Data!G107=\"\",\"\",Data!G107)","v":""},{"$f":"IF(Data!H107=\"\",\"\",Data!H107)","v":""},{"$f":"IF(Data!I107=\"\",\"\",Data!I107)","v":""},{"$f":"IF(Data!J107=\"\",\"\",Data!J107)","v":""},{"$f":"IF(Data!K107=\"\",\"\",Data!K107)","v":""},{"$f":"IF(Data!L107=\"\",\"\",Data!L107)","v":""},{"$f":"IF(Data!M107=\"\",\"\",Data!M107)","v":""},{"$f":"IF(Data!N107=\"\",\"\",Data!N107)","v":""},{"$f":"IF(Data!O107=\"\",\"\",Data!O107)","v":""},{"$f":"IF(Data!P107=\"\",\"\",Data!P107)","v":""},{"$f":"IF(Data!Q107=\"\",\"\",Data!Q107)","v":""},{"$f":"IF(Data!R107=\"\",\"\",Data!R107)","v":""},{"$f":"IF(Data!S107=\"\",\"\",Data!S107)","v":""},null,null,null,null,107]
[{"$f":"IF(Data!A108=\"\",\"\",Data!A108)","v":""},"",{"$f":"IF(Data!B108=\"\",\"\",Data!B108)","v":""},{"$f":"IF(Data!C108=\"\",\"\",Data!C108)","v":""},{"$f":"IF(Data!D108=\"\",\"\",Data!D108)","v":""},{"$f":"IF(Data!E108=\"\",\"\",Data!E108)","v":""},{"$f":"IF(Data!F108=\"\",\"\",Data!F108)","v":""},{"$f":"IF(Data!G108=\"\",\"\",Data!G108)","v":""},{"$f":"IF(Data!H108=\"\",\"\",Data!H108)","v":""},{"$f":"IF(Data!I108=\"\",\"\",Data!I108)","v":""},{"$f":"IF(Data!J108=\"\",\"\",Data!J108)","v":""},{"$f":"IF(Data!K108=\"\",\"\",Data!K108)","v":""},{"$f":"IF(Data!L108=\"\",\"\",Data!L108)","v":""},{"$f":"IF(Data!M108=\"\",\"\",Data!M108)","v":""},{"$f":"IF(Data!N108=\"\",\"\",Data!N108)","v":""},{"$f":"IF(Data!O108=\"\",\"\",Data!O108)","v":""},{"$f":"IF(Data!P108=\"\",\"\",Data!P108)","v":""},{"$f":"IF(Data!Q108=\"\",\"\",Data!Q108)","v":""},{"$f":"IF(Data!R108=\"\",\"\",Data!R108)","v":""},{"$f":"IF(Data!S108=\"\",\"\",Data!S108)","v":""},null,null,null,null,108]
[{"$f":"IF(Data!A109=\"\",\"\",Data!A109)","v":""},"",{"$f":"IF(Data!B109=\"\",\"\",Data!B109)","v":""},{"$f":"IF(Data!C109=\"\",\"\",Data!C109)","v":""},{"$f":"IF(Data!D109=\"\",\"\",Data!D109)","v":""},{"$f":"IF(Data!E109=\"\",\"\",Data!E109)","v":""},{"$f":"IF(Data!F109=\"\",\"\",Data!F109)","v":""},{"$f":"IF(Data!G109=\"\",\"\",Data!G109)","v":""},{"$f":"IF(Data!H109=\"\",\"\",Data!H109)","v":""},{"$f":"IF(Data!I109=\"\",\"\",Data!I109)","v":""},{"$f":"IF(Data!J109=\"\",\"\",Data!J109)","v":""},{"$f":"IF(Data!K109=\"\",\"\",Data!K109)","v":""},{"$f":"IF(Data!L109=\"\",\"\",Data!L109)","v":""},{"$f":"IF(Data!M109=\"\",\"\",Data!M109)","v":""},{"$f":"IF(Data!N109=\"\",\"\",Data!N109)","v":""},{"$f":"IF(Data!O109=\"\",\"\",Data!O109)","v":""},{"$f":"IF(Data!P109=\"\",\"\",Data!P109)","v":""},{"$f":"IF(Data!Q109=\"\",\"\",Data!Q109)","v":""},{"$f":"IF(Data!R109=\"\",\"\",Data!R109)","v":""},{"$f":"IF(Data!S109=\"\",\"\",Data!S109)","v":""},null,null,null,null,109]
[{"$f":"IF(Data!A110=\"\",\"\",Data!A110)","v":""},"",{"$f":"IF(Data!B110=\"\",\"\",Data!B110)","v":""},{"$f":"IF(Data!C110=\"\",\"\",Data!C110)","v":""},{"$f":"IF(Data!D110=\"\",\"\",Data!D110)","v":""},{"$f":"IF(Data!E110=\"\",\"\",Data!E110)","v":""},{"$f":"IF(Data!F110=\"\",\"\",Data!F110)","v":""},{"$f":"IF(Data!G110=\"\",\"\",Data!G110)","v":""},{"$f":"IF(Data!H110=\"\",\"\",Data!H110)","v":""},{"$f":"IF(Data!I110=\"\",\"\",Data!I110)","v":""},{"$f":"IF(Data!J110=\"\",\"\",Data!J110)","v":""},{"$f":"IF(Data!K110=\"\",\"\",Data!K110)","v":""},{"$f":"IF(Data!L110=\"\",\"\",Data!L110)","v":""},{"$f":"IF(Data!M110=\"\",\"\",Data!M110)","v":""},{"$f":"IF(Data!N110=\"\",\"\",Data!N110)","v":""},{"$f":"IF(Data!O110=\"\",\"\",Data!O110)","v":""},{"$f":"IF(Data!P110=\"\",\"\",Data!P110)","v":""},{"$f":"IF(Data!Q110=\"\",\"\",Data!Q110)","v":""},{"$f":"IF(Data!R110=\"\",\"\",Data!R110)","v":""},{"$f":"IF(Data!S110=\"\",\"\",Data!S110)","v":""},null,null,null,null,110]
[{"$f":"IF(Data!A111=\"\",\"\",Data!A111)","v":""},"",{"$f":"IF(Data!B111=\"\",\"\",Data!B111)","v":""},{"$f":"IF(Data!C111=\"\",\"\",Data!C111)","v":""},{"$f":"IF(Data!D111=\"\",\"\",Data!D111)","v":""},{"$f":"IF(Data!E111=\"\",\"\",Data!E111)","v":""},{"$f":"IF(Data!F111=\"\",\"\",Data!F111)","v":""},{"$f":"IF(Data!G111=\"\",\"\",Data!G111)","v":""},{"$f":"IF(Data!H111=\"\",\"\",Data!H111)","v":""},{"$f":"IF(Data!I111=\"\",\"\",Data!I111)","v":""},{"$f":"IF(Data!J111=\"\",\"\",Data!J111)","v":""},{"$f":"IF(Data!K111=\"\",\"\",Data!K111)","v":""},{"$f":"IF(Data!L111=\"\",\"\",Data!L111)","v":""},{"$f":"IF(Data!M111=\"\",\"\",Data!M111)","v":""},{"$f":"IF(Data!N111=\"\",\"\",Data!N111)","v":""},{"$f":"IF(Data!O111=\"\",\"\",Data!O111)","v":""},{"$f":"IF(Data!P111=\"\",\"\",Data!P111)","v":""},{"$f":"IF(Data!Q111=\"\",\"\",Data!Q111)","v":""},{"$f":"IF(Data!R111=\"\",\"\",Data!R111)","v":""},{"$f":"IF(Data!S111=\"\",\"\",Data!S111)","v":""},null,null,null,null,111]
[{"$f":"IF(Data!A112=\"\",\"\",Data!A112)","v":""},"",{"$f":"IF(Data!B112=\"\",\"\",Data!B112)","v":""},{"$f":"IF(Data!C112=\"\",\"\",Data!C112)","v":""},{"$f":"IF(Data!D112=\"\",\"\",Data!D112)","v":""},{"$f":"IF(Data!E112=\"\",\"\",Data!E112)","v":""},{"$f":"IF(Data!F112=\"\",\"\",Data!F112)","v":""},{"$f":"IF(Data!G112=\"\",\"\",Data!G112)","v":""},{"$f":"IF(Data!H112=\"\",\"\",Data!H112)","v":""},{"$f":"IF(Data!I112=\"\",\"\",Data!I112)","v":""},{"$f":"IF(Data!J112=\"\",\"\",Data!J112)","v":""},{"$f":"IF(Data!K112=\"\",\"\",Data!K112)","v":""},{"$f":"IF(Data!L112=\"\",\"\",Data!L112)","v":""},{"$f":"IF(Data!M112=\"\",\"\",Data!M112)","v":""},{"$f":"IF(Data!N112=\"\",\"\",Data!N112)","v":""},{"$f":"IF(Data!O112=\"\",\"\",Data!O112)","v":""},{"$f":"IF(Data!P112=\"\",\"\",Data!P112)","v":""},{"$f":"IF(Data!Q112=\"\",\"\",Data!Q112)","v":""},{"$f":"IF(Data!R112=\"\",\"\",Data!R112)","v":""},{"$f":"IF(Data!S112=\"\",\"\",Data!S112)","v":""},null,null,null,null,112]
[{"$f":"IF(Data!A113=\"\",\"\",Data!A113)","v":""},"",{"$f":"IF(Data!B113=\"\",\"\",Data!B113)","v":""},{"$f":"IF(Data!C113=\"\",\"\",Data!C113)","v":""},{"$f":"IF(Data!D113=\"\",\"\",Data!D113)","v":""},{"$f":"IF(Data!E113=\"\",\"\",Data!E113)","v":""},{"$f":"IF(Data!F113=\"\",\"\",Data!F113)","v":""},{"$f":"IF(Data!G113=\"\",\"\",Data!G113)","v":""},{"$f":"IF(Data!H113=\"\",\"\",Data!H113)","v":""},{"$f":"IF(Data!I113=\"\",\"\",Data!I113)","v":""},{"$f":"IF(Data!J113=\"\",\"\",Data!J113)","v":""},{"$f":"IF(Data!K113=\"\",\"\",Data!K113)","v":""},{"$f":"IF(Data!L113=\"\",\"\",Data!L113)","v":""},{"$f":"IF(Data!M113=\"\",\"\",Data!M113)","v":""},{"$f":"IF(Data!N113=\"\",\"\",Data!N113)","v":""},{"$f":"IF(Data!O113=\"\",\"\",Data!O113)","v":""},{"$f":"IF(Data!P113=\"\",\"\",Data!P113)","v":""},{"$f":"IF(Data!Q113=\"\",\"\",Data!Q113)","v":""},{"$f":"IF(Data!R113=\"\",\"\",Data!R113)","v":""},{"$f":"IF(Data!S113=\"\",\"\",Data!S113)","v":""},null,null,null,null,113]
[{"$f":"IF(Data!A114=\"\",\"\",Data!A114)","v":""},"",{"$f":"IF(Data!B114=\"\",\"\",Data!B114)","v":""},{"$f":"IF(Data!C114=\"\",\"\",Data!C114)","v":""},{"$f":"IF(Data!D114=\"\",\"\",Data!D114)","v":""},{"$f":"IF(Data!E114=\"\",\"\",Data!E114)","v":""},{"$f":"IF(Data!F114=\"\",\"\",Data!F114)","v":""},{"$f":"IF(Data!G114=\"\",\"\",Data!G114)","v":""},{"$f":"IF(Data!H114=\"\",\"\",Data!H114)","v":""},{"$f":"IF(Data!I114=\"\",\"\",Data!I114)","v":""},{"$f":"IF(Data!J114=\"\",\"\",Data!J114)","v":""},{"$f":"IF(Data!K114=\"\",\"\",Data!K114)","v":""},{"$f":"IF(Data!L114=\"\",\"\",Data!L114)","v":""},{"$f":"IF(Data!M114=\"\",\"\",Data!M114)","v":""},{"$f":"IF(Data!N114=\"\",\"\",Data!N114)","v":""},{"$f":"IF(Data!O114=\"\",\"\",Data!O114)","v":""},{"$f":"IF(Data!P114=\"\",\"\",Data!P114)","v":""},{"$f":"IF(Data!Q114=\"\",\"\",Data!Q114)","v":""},{"$f":"IF(Data!R114=\"\",\"\",Data!R114)","v":""},{"$f":"IF(Data!S114=\"\",\"\",Data!S114)","v":""},null,null,null,null,114]
[{"$f":"IF(Data!A115=\"\",\"\",Data!A115)","v":""},"",{"$f":"IF(Data!B115=\"\",\"\",Data!B115)","v":""},{"$f":"IF(Data!C115=\"\",\"\",Data!C115)","v":""},{"$f":"IF(Data!D115=\"\",\"\",Data!D115)","v":""},{"$f":"IF(Data!E115=\"\",\"\",Data!E115)","v":""},{"$f":"IF(Data!F115=\"\",\"\",Data!F115)","v":""},{"$f":"IF(Data!G115=\"\",\"\",Data!G115)","v":""},{"$f":"IF(Data!H115=\"\",\"\",Data!H115)","v":""},{"$f":"IF(Data!I115=\"\",\"\",Data!I115)","v":""},{"$f":"IF(Data!J115=\"\",\"\",Data!J115)","v":""},{"$f":"IF(Data!K115=\"\",\"\",Data!K115)","v":""},{"$f":"IF(Data!L115=\"\",\"\",Data!L115)","v":""},{"$f":"IF(Data!M115=\"\",\"\",Data!M115)","v":""},{"$f":"IF(Data!N115=\"\",\"\",Data!N115)","v":""},{"$f":"IF(Data!O115=\"\",\"\",Data!O115)","v":""},{"$f":"IF(Data!P115=\"\",\"\",Data!P115)","v":""},{"$f":"IF(Data!Q115=\"\",\"\",Data!Q115)","v":""},{"$f":"IF(Data!R115=\"\",\"\",Data!R115)","v":""},{"$f":"IF(Data!S115=\"\",\"\",Data!S115)","v":""},null,null,null,null,115]
[{"$f":"IF(Data!A116=\"\",\"\",Data!A116)","v":""},"",{"$f":"IF(Data!B116=\"\",\"\",Data!B116)","v":""},{"$f":"IF(Data!C116=\"\",\"\",Data!C116)","v":""},{"$f":"IF(Data!D116=\"\",\"\",Data!D116)","v":""},{"$f":"IF(Data!E116=\"\",\"\",Data!E116)","v":""},{"$f":"IF(Data!F116=\"\",\"\",Data!F116)","v":""},{"$f":"IF(Data!G116=\"\",\"\",Data!G116)","v":""},{"$f":"IF(Data!H116=\"\",\"\",Data!H116)","v":""},{"$f":"IF(Data!I116=\"\",\"\",Data!I116)","v":""},{"$f":"IF(Data!J116=\"\",\"\",Data!J116)","v":""},{"$f":"IF(Data!K116=\"\",\"\",Data!K116)","v":""},{"$f":"IF(Data!L116=\"\",\"\",Data!L116)","v":""},{"$f":"IF(Data!M116=\"\",\"\",Data!M116)","v":""},{"$f":"IF(Data!N116=\"\",\"\",Data!N116)","v":""},{"$f":"IF(Data!O116=\"\",\"\",Data!O116)","v":""},{"$f":"IF(Data!P116=\"\",\"\",Data!P116)","v":""},{"$f":"IF(Data!Q116=\"\",\"\",Data!Q116)","v":""},{"$f":"IF(Data!R116=\"\",\"\",Data!R116)","v":""},{"$f":"IF(Data!S116=\"\",\"\",Data!S116)","v":""},null,null,null,null,116]
[{"$f":"IF(Data!A117=\"\",\"\",Data!A117)","v":""},"",{"$f":"IF(Data!B117=\"\",\"\",Data!B117)","v":""},{"$f":"IF(Data!C117=\"\",\"\",Data!C117)","v":""},{"$f":"IF(Data!D117=\"\",\"\",Data!D117)","v":""},{"$f":"IF(Data!E117=\"\",\"\",Data!E117)","v":""},{"$f":"IF(Data!F117=\"\",\"\",Data!F117)","v":""},{"$f":"IF(Data!G117=\"\",\"\",Data!G117)","v":""},{"$f":"IF(Data!H117=\"\",\"\",Data!H117)","v":""},{"$f":"IF(Data!I117=\"\",\"\",Data!I117)","v":""},{"$f":"IF(Data!J117=\"\",\"\",Data!J117)","v":""},{"$f":"IF(Data!K117=\"\",\"\",Data!K117)","v":""},{"$f":"IF(Data!L117=\"\",\"\",Data!L117)","v":""},{"$f":"IF(Data!M117=\"\",\"\",Data!M117)","v":""},{"$f":"IF(Data!N117=\"\",\"\",Data!N117)","v":""},{"$f":"IF(Data!O117=\"\",\"\",Data!O117)","v":""},{"$f":"IF(Data!P117=\"\",\"\",Data!P117)","v":""},{"$f":"IF(Data!Q117=\"\",\"\",Data!Q117)","v":""},{"$f":"IF(Data!R117=\"\",\"\",Data!R117)","v":""},{"$f":"IF(Data!S117=\"\",\"\",Data!S117)","v":""},null,null,null,null,117]
[{"$f":"IF(Data!A118=\"\",\"\",Data!A118)","v":""},"",{"$f":"IF(Data!B118=\"\",\"\",Data!B118)","v":""},{"$f":"IF(Data!C118=\"\",\"\",Data!C118)","v":""},{"$f":"IF(Data!D118=\"\",\"\",Data!D118)","v":""},{"$f":"IF(Data!E118=\"\",\"\",Data!E118)","v":""},{"$f":"IF(Data!F118=\"\",\"\",Data!F118)","v":""},{"$f":"IF(Data!G118=\"\",\"\",Data!G118)","v":""},{"$f":"IF(Data!H118=\"\",\"\",Data!H118)","v":""},{"$f":"IF(Data!I118=\"\",\"\",Data!I118)","v":""},{"$f":"IF(Data!J118=\"\",\"\",Data!J118)","v":""},{"$f":"IF(Data!K118=\"\",\"\",Data!K118)","v":""},{"$f":"IF(Data!L118=\"\",\"\",Data!L118)","v":""},{"$f":"IF(Data!M118=\"\",\"\",Data!M118)","v":""},{"$f":"IF(Data!N118=\"\",\"\",Data!N118)","v":""},{"$f":"IF(Data!O118=\"\",\"\",Data!O118)","v":""},{"$f":"IF(Data!P118=\"\",\"\",Data!P118)","v":""},{"$f":"IF(Data!Q118=\"\",\"\",Data!Q118)","v":""},{"$f":"IF(Data!R118=\"\",\"\",Data!R118)","v":""},{"$f":"IF(Data!S118=\"\",\"\",Data!S118)","v":""},null,null,null,null,118]
[{"$f":"IF(Data!A119=\"\",\"\",Data!A119)","v":""},"",{"$f":"IF(Data!B119=\"\",\"\",Data!B119)","v":""},{"$f":"IF(Data!C119=\"\",\"\",Data!C119)","v":""},{"$f":"IF(Data!D119=\"\",\"\",Data!D119)","v":""},{"$f":"IF(Data!E119=\"\",\"\",Data!E119)","v":""},{"$f":"IF(Data!F119=\"\",\"\",Data!F119)","v":""},{"$f":"IF(Data!G119=\"\",\"\",Data!G119)","v":""},{"$f":"IF(Data!H119=\"\",\"\",Data!H119)","v":""},{"$f":"IF(Data!I119=\"\",\"\",Data!I119)","v":""},{"$f":"IF(Data!J119=\"\",\"\",Data!J119)","v":""},{"$f":"IF(Data!K119=\"\",\"\",Data!K119)","v":""},{"$f":"IF(Data!L119=\"\",\"\",Data!L119)","v":""},{"$f":"IF(Data!M119=\"\",\"\",Data!M119)","v":""},{"$f":"IF(Data!N119=\"\",\"\",Data!N119)","v":""},{"$f":"IF(Data!O119=\"\",\"\",Data!O119)","v":""},{"$f":"IF(Data!P119=\"\",\"\",Data!P119)","v":""},{"$f":"IF(Data!Q119=\"\",\"\",Data!Q119)","v":""},{"$f":"IF(Data!R119=\"\",\"\",Data!R119)","v":""},{"$f":"IF(Data!S119=\"\",\"\",Data!S119)","v":""},null,null,null,null,119]
[{"$f":"IF(Data!A120=\"\",\"\",Data!A120)","v":""},"",{"$f":"IF(Data!B120=\"\",\"\",Data!B120)","v":""},{"$f":"IF(Data!C120=\"\",\"\",Data!C120)","v":""},{"$f":"IF(Data!D120=\"\",\"\",Data!D120)","v":""},{"$f":"IF(Data!E120=\"\",\"\",Data!E120)","v":""},{"$f":"IF(Data!F120=\"\",\"\",Data!F120)","v":""},{"$f":"IF(Data!G120=\"\",\"\",Data!G120)","v":""},{"$f":"IF(Data!H120=\"\",\"\",Data!H120)","v":""},{"$f":"IF(Data!I120=\"\",\"\",Data!I120)","v":""},{"$f":"IF(Data!J120=\"\",\"\",Data!J120)","v":""},{"$f":"IF(Data!K120=\"\",\"\",Data!K120)","v":""},{"$f":"IF(Data!L120=\"\",\"\",Data!L120)","v":""},{"$f":"IF(Data!M120=\"\",\"\",Data!M120)","v":""},{"$f":"IF(Data!N120=\"\",\"\",Data!N120)","v":""},{"$f":"IF(Data!O120=\"\",\"\",Data!O120)","v":""},{"$f":"IF(Data!P120=\"\",\"\",Data!P120)","v":""},{"$f":"IF(Data!Q120=\"\",\"\",Data!Q120)","v":""},{"$f":"IF(Data!R120=\"\",\"\",Data!R120)","v":""},{"$f":"IF(Data!S120=\"\",\"\",Data!S120)","v":""},null,null,null,null,120]
[{"$f":"IF(Data!A121=\"\",\"\",Data!A121)","v":""},"",{"$f":"IF(Data!B121=\"\",\"\",Data!B121)","v":""},{"$f":"IF(Data!C121=\"\",\"\",Data!C121)","v":""},{"$f":"IF(Data!D121=\"\",\"\",Data!D121)","v":""},{"$f":"IF(Data!E121=\"\",\"\",Data!E121)","v":""},{"$f":"IF(Data!F121=\"\",\"\",Data!F121)","v":""},{"$f":"IF(Data!G121=\"\",\"\",Data!G121)","v":""},{"$f":"IF(Data!H121=\"\",\"\",Data!H121)","v":""},{"$f":"IF(Data!I121=\"\",\"\",Data!I121)","v":""},{"$f":"IF(Data!J121=\"\",\"\",Data!J121)","v":""},{"$f":"IF(Data!K121=\"\",\"\",Data!K121)","v":""},{"$f":"IF(Data!L121=\"\",\"\",Data!L121)","v":""},{"$f":"IF(Data!M121=\"\",\"\",Data!M121)","v":""},{"$f":"IF(Data!N121=\"\",\"\",Data!N121)","v":""},{"$f":"IF(Data!O121=\"\",\"\",Data!O121)","v":""},{"$f":"IF(Data!P121=\"\",\"\",Data!P121)","v":""},{"$f":"IF(Data!Q121=\"\",\"\",Data!Q121)","v":""},{"$f":"IF(Data!R121=\"\",\"\",Data!R121)","v":""},{"$f":"IF(Data!S121=\"\",\"\",Data!S121)","v":""},null,null,null,null,121]
[{"$f":"IF(Data!A122=\"\",\"\",Data!A122)","v":""},"",{"$f":"IF(Data!B122=\"\",\"\",Data!B122)","v":""},{"$f":"IF(Data!C122=\"\",\"\",Data!C122)","v":""},{"$f":"IF(Data!D122=\"\",\"\",Data!D122)","v":""},{"$f":"IF(Data!E122=\"\",\"\",Data!E122)","v":""},{"$f":"IF(Data!F122=\"\",\"\",Data!F122)","v":""},{"$f":"IF(Data!G122=\"\",\"\",Data!G122)","v":""},{"$f":"IF(Data!H122=\"\",\"\",Data!H122)","v":""},{"$f":"IF(Data!I122=\"\",\"\",Data!I122)","v":""},{"$f":"IF(Data!J122=\"\",\"\",Data!J122)","v":""},{"$f":"IF(Data!K122=\"\",\"\",Data!K122)","v":""},{"$f":"IF(Data!L122=\"\",\"\",Data!L122)","v":""},{"$f":"IF(Data!M122=\"\",\"\",Data!M122)","v":""},{"$f":"IF(Data!N122=\"\",\"\",Data!N122)","v":""},{"$f":"IF(Data!O122=\"\",\"\",Data!O122)","v":""},{"$f":"IF(Data!P122=\"\",\"\",Data!P122)","v":""},{"$f":"IF(Data!Q122=\"\",\"\",Data!Q122)","v":""},{"$f":"IF(Data!R122=\"\",\"\",Data!R122)","v":""},{"$f":"IF(Data!S122=\"\",\"\",Data!S122)","v":""},null,null,null,null,122]
[{"$f":"IF(Data!A123=\"\",\"\",Data!A123)","v":""},"",{"$f":"IF(Data!B123=\"\",\"\",Data!B123)","v":""},{"$f":"IF(Data!C123=\"\",\"\",Data!C123)","v":""},{"$f":"IF(Data!D123=\"\",\"\",Data!D123)","v":""},{"$f":"IF(Data!E123=\"\",\"\",Data!E123)","v":""},{"$f":"IF(Data!F123=\"\",\"\",Data!F123)","v":""},{"$f":"IF(Data!G123=\"\",\"\",Data!G123)","v":""},{"$f":"IF(Data!H123=\"\",\"\",Data!H123)","v":""},{"$f":"IF(Data!I123=\"\",\"\",Data!I123)","v":""},{"$f":"IF(Data!J123=\"\",\"\",Data!J123)","v":""},{"$f":"IF(Data!K123=\"\",\"\",Data!K123)","v":""},{"$f":"IF(Data!L123=\"\",\"\",Data!L123)","v":""},{"$f":"IF(Data!M123=\"\",\"\",Data!M123)","v":""},{"$f":"IF(Data!N123=\"\",\"\",Data!N123)","v":""},{"$f":"IF(Data!O123=\"\",\"\",Data!O123)","v":""},{"$f":"IF(Data!P123=\"\",\"\",Data!P123)","v":""},{"$f":"IF(Data!Q123=\"\",\"\",Data!Q123)","v":""},{"$f":"IF(Data!R123=\"\",\"\",Data!R123)","v":""},{"$f":"IF(Data!S123=\"\",\"\",Data!S123)","v":""},null,null,null,null,123]
[{"$f":"IF(Data!A124=\"\",\"\",Data!A124)","v":""},"",{"$f":"IF(Data!B124=\"\",\"\",Data!B124)","v":""},{"$f":"IF(Data!C124=\"\",\"\",Data!C124)","v":""},{"$f":"IF(Data!D124=\"\",\"\",Data!D124)","v":""},{"$f":"IF(Data!E124=\"\",\"\",Data!E124)","v":""},{"$f":"IF(Data!F124=\"\",\"\",Data!F124)","v":""},{"$f":"IF(Data!G124=\"\",\"\",Data!G124)","v":""},{"$f":"IF(Data!H124=\"\",\"\",Data!H124)","v":""},{"$f":"IF(Data!I124=\"\",\"\",Data!I124)","v":""},{"$f":"IF(Data!J124=\"\",\"\",Data!J124)","v":""},{"$f":"IF(Data!K124=\"\",\"\",Data!K124)","v":""},{"$f":"IF(Data!L124=\"\",\"\",Data!L124)","v":""},{"$f":"IF(Data!M124=\"\",\"\",Data!M124)","v":""},{"$f":"IF(Data!N124=\"\",\"\",Data!N124)","v":""},{"$f":"IF(Data!O124=\"\",\"\",Data!O124)","v":""},{"$f":"IF(Data!P124=\"\",\"\",Data!P124)","v":""},{"$f":"IF(Data!Q124=\"\",\"\",Data!Q124)","v":""},{"$f":"IF(Data!R124=\"\",\"\",Data!R124)","v":""},{"$f":"IF(Data!S124=\"\",\"\",Data!S124)","v":""},null,null,null,null,124]
[{"$f":"IF(Data!A125=\"\",\"\",Data!A125)","v":""},"",{"$f":"IF(Data!B125=\"\",\"\",Data!B125)","v":""},{"$f":"IF(Data!C125=\"\",\"\",Data!C125)","v":""},{"$f":"IF(Data!D125=\"\",\"\",Data!D125)","v":""},{"$f":"IF(Data!E125=\"\",\"\",Data!E125)","v":""},{"$f":"IF(Data!F125=\"\",\"\",Data!F125)","v":""},{"$f":"IF(Data!G125=\"\",\"\",Data!G125)","v":""},{"$f":"IF(Data!H125=\"\",\"\",Data!H125)","v":""},{"$f":"IF(Data!I125=\"\",\"\",Data!I125)","v":""},{"$f":"IF(Data!J125=\"\",\"\",Data!J125)","v":""},{"$f":"IF(Data!K125=\"\",\"\",Data!K125)","v":""},{"$f":"IF(Data!L125=\"\",\"\",Data!L125)","v":""},{"$f":"IF(Data!M125=\"\",\"\",Data!M125)","v":""},{"$f":"IF(Data!N125=\"\",\"\",Data!N125)","v":""},{"$f":"IF(Data!O125=\"\",\"\",Data!O125)","v":""},{"$f":"IF(Data!P125=\"\",\"\",Data!P125)","v":""},{"$f":"IF(Data!Q125=\"\",\"\",Data!Q125)","v":""},{"$f":"IF(Data!R125=\"\",\"\",Data!R125)","v":""},{"$f":"IF(Data!S125=\"\",\"\",Data!S125)","v":""},null,null,null,null,125]
[{"$f":"IF(Data!A126=\"\",\"\",Data!A126)","v":""},"",{"$f":"IF(Data!B126=\"\",\"\",Data!B126)","v":""},{"$f":"IF(Data!C126=\"\",\"\",Data!C126)","v":""},{"$f":"IF(Data!D126=\"\",\"\",Data!D126)","v":""},{"$f":"IF(Data!E126=\"\",\"\",Data!E126)","v":""},{"$f":"IF(Data!F126=\"\",\"\",Data!F126)","v":""},{"$f":"IF(Data!G126=\"\",\"\",Data!G126)","v":""},{"$f":"IF(Data!H126=\"\",\"\",Data!H126)","v":""},{"$f":"IF(Data!I126=\"\",\"\",Data!I126)","v":""},{"$f":"IF(Data!J126=\"\",\"\",Data!J126)","v":""},{"$f":"IF(Data!K126=\"\",\"\",Data!K126)","v":""},{"$f":"IF(Data!L126=\"\",\"\",Data!L126)","v":""},{"$f":"IF(Data!M126=\"\",\"\",Data!M126)","v":""},{"$f":"IF(Data!N126=\"\",\"\",Data!N126)","v":""},{"$f":"IF(Data!O126=\"\",\"\",Data!O126)","v":""},{"$f":"IF(Data!P126=\"\",\"\",Data!P126)","v":""},{"$f":"IF(Data!Q126=\"\",\"\",Data!Q126)","v":""},{"$f":"IF(Data!R126=\"\",\"\",Data!R126)","v":""},{"$f":"IF(Data!S126=\"\",\"\",Data!S126)","v":""},null,null,null,null,126]
[{"$f":"IF(Data!A127=\"\",\"\",Data!A127)","v":""},"",{"$f":"IF(Data!B127=\"\",\"\",Data!B127)","v":""},{"$f":"IF(Data!C127=\"\",\"\",Data!C127)","v":""},{"$f":"IF(Data!D127=\"\",\"\",Data!D127)","v":""},{"$f":"IF(Data!E127=\"\",\"\",Data!E127)","v":""},{"$f":"IF(Data!F127=\"\",\"\",Data!F127)","v":""},{"$f":"IF(Data!G127=\"\",\"\",Data!G127)","v":""},{"$f":"IF(Data!H127=\"\",\"\",Data!H127)","v":""},{"$f":"IF(Data!I127=\"\",\"\",Data!I127)","v":""},{"$f":"IF(Data!J127=\"\",\"\",Data!J127)","v":""},{"$f":"IF(Data!K127=\"\",\"\",Data!K127)","v":""},{"$f":"IF(Data!L127=\"\",\"\",Data!L127)","v":""},{"$f":"IF(Data!M127=\"\",\"\",Data!M127)","v":""},{"$f":"IF(Data!N127=\"\",\"\",Data!N127)","v":""},{"$f":"IF(Data!O127=\"\",\"\",Data!O127)","v":""},{"$f":"IF(Data!P127=\"\",\"\",Data!P127)","v":""},{"$f":"IF(Data!Q127=\"\",\"\",Data!Q127)","v":""},{"$f":"IF(Data!R127=\"\",\"\",Data!R127)","v":""},{"$f":"IF(Data!S127=\"\",\"\",Data!S127)","v":""},null,null,null,null,127]
[{"$f":"IF(Data!A128=\"\",\"\",Data!A128)","v":""},"",{"$f":"IF(Data!B128=\"\",\"\",Data!B128)","v":""},{"$f":"IF(Data!C128=\"\",\"\",Data!C128)","v":""},{"$f":"IF(Data!D128=\"\",\"\",Data!D128)","v":""},{"$f":"IF(Data!E128=\"\",\"\",Data!E128)","v":""},{"$f":"IF(Data!F128=\"\",\"\",Data!F128)","v":""},{"$f":"IF(Data!G128=\"\",\"\",Data!G128)","v":""},{"$f":"IF(Data!H128=\"\",\"\",Data!H128)","v":""},{"$f":"IF(Data!I128=\"\",\"\",Data!I128)","v":""},{"$f":"IF(Data!J128=\"\",\"\",Data!J128)","v":""},{"$f":"IF(Data!K128=\"\",\"\",Data!K128)","v":""},{"$f":"IF(Data!L128=\"\",\"\",Data!L128)","v":""},{"$f":"IF(Data!M128=\"\",\"\",Data!M128)","v":""},{"$f":"IF(Data!N128=\"\",\"\",Data!N128)","v":""},{"$f":"IF(Data!O128=\"\",\"\",Data!O128)","v":""},{"$f":"IF(Data!P128=\"\",\"\",Data!P128)","v":""},{"$f":"IF(Data!Q128=\"\",\"\",Data!Q128)","v":""},{"$f":"IF(Data!R128=\"\",\"\",Data!R128)","v":""},{"$f":"IF(Data!S128=\"\",\"\",Data!S128)","v":""},null,null,null,null,128]
[{"$f":"IF(Data!A129=\"\",\"\",Data!A129)","v":""},{"$f":"IF(A130=\"\",\"\",Y130)","v":""},{"$f":"IF(Data!B129=\"\",\"\",Data!B129)","v":""},{"$f":"IF(Data!C129=\"\",\"\",Data!C129)","v":""},{"$f":"IF(Data!D129=\"\",\"\",Data!D129)","v":""},{"$f":"IF(Data!E129=\"\",\"\",Data!E129)","v":""},{"$f":"IF(Data!F129=\"\",\"\",Data!F129)","v":""},{"$f":"IF(Data!G129=\"\",\"\",Data!G129)","v":""},{"$f":"IF(Data!H129=\"\",\"\",Data!H129)","v":""},{"$f":"IF(Data!I129=\"\",\"\",Data!I129)","v":""},{"$f":"IF(Data!J129=\"\",\"\",Data!J129)","v":""},{"$f":"IF(Data!K129=\"\",\"\",Data!K129)","v":""},{"$f":"IF(Data!L129=\"\",\"\",Data!L129)","v":""},{"$f":"IF(Data!M129=\"\",\"\",Data!M129)","v":""},{"$f":"IF(Data!N129=\"\",\"\",Data!N129)","v":""},{"$f":"IF(Data!O129=\"\",\"\",Data!O129)","v":""},{"$f":"IF(Data!P129=\"\",\"\",Data!P129)","v":""},{"$f":"IF(Data!Q129=\"\",\"\",Data!Q129)","v":""},{"$f":"IF(Data!R129=\"\",\"\",Data!R129)","v":""},{"$f":"IF(Data!S129=\"\",\"\",Data!S129)","v":""},null,null,null,null,129]
[{"$f":"IF(Data!A130=\"\",\"\",Data!A130)","v":""},"",{"$f":"IF(Data!B130=\"\",\"\",Data!B130)","v":""},{"$f":"IF(Data!C130=\"\",\"\",Data!C130)","v":""},{"$f":"IF(Data!D130=\"\",\"\",Data!D130)","v":""},{"$f":"IF(Data!E130=\"\",\"\",Data!E130)","v":""},{"$f":"IF(Data!F130=\"\",\"\",Data!F130)","v":""},{"$f":"IF(Data!G130=\"\",\"\",Data!G130)","v":""},{"$f":"IF(Data!H130=\"\",\"\",Data!H130)","v":""},{"$f":"IF(Data!I130=\"\",\"\",Data!I130)","v":""},{"$f":"IF(Data!J130=\"\",\"\",Data!J130)","v":""},{"$f":"IF(Data!K130=\"\",\"\",Data!K130)","v":""},{"$f":"IF(Data!L130=\"\",\"\",Data!L130)","v":""},{"$f":"IF(Data!M130=\"\",\"\",Data!M130)","v":""},{"$f":"IF(Data!N130=\"\",\"\",Data!N130)","v":""},{"$f":"IF(Data!O130=\"\",\"\",Data!O130)","v":""},{"$f":"IF(Data!P130=\"\",\"\",Data!P130)","v":""},{"$f":"IF(Data!Q130=\"\",\"\",Data!Q130)","v":""},{"$f":"IF(Data!R130=\"\",\"\",Data!R130)","v":""},{"$f":"IF(Data!S130=\"\",\"\",Data!S130)","v":""},null,null,null,null,130]
[{"$f":"IF(Data!A131=\"\",\"\",Data!A131)","v":""},"",{"$f":"IF(Data!B131=\"\",\"\",Data!B131)","v":""},{"$f":"IF(Data!C131=\"\",\"\",Data!C131)","v":""},{"$f":"IF(Data!D131=\"\",\"\",Data!D131)","v":""},{"$f":"IF(Data!E131=\"\",\"\",Data!E131)","v":""},{"$f":"IF(Data!F131=\"\",\"\",Data!F131)","v":""},{"$f":"IF(Data!G131=\"\",\"\",Data!G131)","v":""},{"$f":"IF(Data!H131=\"\",\"\",Data!H131)","v":""},{"$f":"IF(Data!I131=\"\",\"\",Data!I131)","v":""},{"$f":"IF(Data!J131=\"\",\"\",Data!J131)","v":""},{"$f":"IF(Data!K131=\"\",\"\",Data!K131)","v":""},{"$f":"IF(Data!L131=\"\",\"\",Data!L131)","v":""},{"$f":"IF(Data!M131=\"\",\"\",Data!M131)","v":""},{"$f":"IF(Data!N131=\"\",\"\",Data!N131)","v":""},{"$f":"IF(Data!O131=\"\",\"\",Data!O131)","v":""},{"$f":"IF(Data!P131=\"\",\"\",Data!P131)","v":""},{"$f":"IF(Data!Q131=\"\",\"\",Data!Q131)","v":""},{"$f":"IF(Data!R131=\"\",\"\",Data!R131)","v":""},{"$f":"IF(Data!S131=\"\",\"\",Data!S131)","v":""},null,null,null,null,131]
[{"$f":"IF(Data!A132=\"\",\"\",Data!A132)","v":""},"",{"$f":"IF(Data!B132=\"\",\"\",Data!B132)","v":""},{"$f":"IF(Data!C132=\"\",\"\",Data!C132)","v":""},{"$f":"IF(Data!D132=\"\",\"\",Data!D132)","v":""},{"$f":"IF(Data!E132=\"\",\"\",Data!E132)","v":""},{"$f":"IF(Data!F132=\"\",\"\",Data!F132)","v":""},{"$f":"IF(Data!G132=\"\",\"\",Data!G132)","v":""},{"$f":"IF(Data!H132=\"\",\"\",Data!H132)","v":""},{"$f":"IF(Data!I132=\"\",\"\",Data!I132)","v":""},{"$f":"IF(Data!J132=\"\",\"\",Data!J132)","v":""},{"$f":"IF(Data!K132=\"\",\"\",Data!K132)","v":""},{"$f":"IF(Data!L132=\"\",\"\",Data!L132)","v":""},{"$f":"IF(Data!M132=\"\",\"\",Data!M132)","v":""},{"$f":"IF(Data!N132=\"\",\"\",Data!N132)","v":""},{"$f":"IF(Data!O132=\"\",\"\",Data!O132)","v":""},{"$f":"IF(Data!P132=\"\",\"\",Data!P132)","v":""},{"$f":"IF(Data!Q132=\"\",\"\",Data!Q132)","v":""},{"$f":"IF(Data!R132=\"\",\"\",Data!R132)","v":""},{"$f":"IF(Data!S132=\"\",\"\",Data!S132)","v":""},null,null,null,null,132]
[{"$f":"IF(Data!A133=\"\",\"\",Data!A133)","v":""},"",{"$f":"IF(Data!B133=\"\",\"\",Data!B133)","v":""},{"$f":"IF(Data!C133=\"\",\"\",Data!C133)","v":""},{"$f":"IF(Data!D133=\"\",\"\",Data!D133)","v":""},{"$f":"IF(Data!E133=\"\",\"\",Data!E133)","v":""},{"$f":"IF(Data!F133=\"\",\"\",Data!F133)","v":""},{"$f":"IF(Data!G133=\"\",\"\",Data!G133)","v":""},{"$f":"IF(Data!H133=\"\",\"\",Data!H133)","v":""},{"$f":"IF(Data!I133=\"\",\"\",Data!I133)","v":""},{"$f":"IF(Data!J133=\"\",\"\",Data!J133)","v":""},{"$f":"IF(Data!K133=\"\",\"\",Data!K133)","v":""},{"$f":"IF(Data!L133=\"\",\"\",Data!L133)","v":""},{"$f":"IF(Data!M133=\"\",\"\",Data!M133)","v":""},{"$f":"IF(Data!N133=\"\",\"\",Data!N133)","v":""},{"$f":"IF(Data!O133=\"\",\"\",Data!O133)","v":""},{"$f":"IF(Data!P133=\"\",\"\",Data!P133)","v":""},{"$f":"IF(Data!Q133=\"\",\"\",Data!Q133)","v":""},{"$f":"IF(Data!R133=\"\",\"\",Data!R133)","v":""},{"$f":"IF(Data!S133=\"\",\"\",Data!S133)","v":""},null,null,null,null,133]
[{"$f":"IF(Data!A134=\"\",\"\",Data!A134)","v":""},"",{"$f":"IF(Data!B134=\"\",\"\",Data!B134)","v":""},{"$f":"IF(Data!C134=\"\",\"\",Data!C134)","v":""},{"$f":"IF(Data!D134=\"\",\"\",Data!D134)","v":""},{"$f":"IF(Data!E134=\"\",\"\",Data!E134)","v":""},{"$f":"IF(Data!F134=\"\",\"\",Data!F134)","v":""},{"$f":"IF(Data!G134=\"\",\"\",Data!G134)","v":""},{"$f":"IF(Data!H134=\"\",\"\",Data!H134)","v":""},{"$f":"IF(Data!I134=\"\",\"\",Data!I134)","v":""},{"$f":"IF(Data!J134=\"\",\"\",Data!J134)","v":""},{"$f":"IF(Data!K134=\"\",\"\",Data!K134)","v":""},{"$f":"IF(Data!L134=\"\",\"\",Data!L134)","v":""},{"$f":"IF(Data!M134=\"\",\"\",Data!M134)","v":""},{"$f":"IF(Data!N134=\"\",\"\",Data!N134)","v":""},{"$f":"IF(Data!O134=\"\",\"\",Data!O134)","v":""},{"$f":"IF(Data!P134=\"\",\"\",Data!P134)","v":""},{"$f":"IF(Data!Q134=\"\",\"\",Data!Q134)","v":""},{"$f":"IF(Data!R134=\"\",\"\",Data!R134)","v":""},{"$f":"IF(Data!S134=\"\",\"\",Data!S134)","v":""},null,null,null,null,134]
[{"$f":"IF(Data!A135=\"\",\"\",Data!A135)","v":""},"",{"$f":"IF(Data!B135=\"\",\"\",Data!B135)","v":""},{"$f":"IF(Data!C135=\"\",\"\",Data!C135)","v":""},{"$f":"IF(Data!D135=\"\",\"\",Data!D135)","v":""},{"$f":"IF(Data!E135=\"\",\"\",Data!E135)","v":""},{"$f":"IF(Data!F135=\"\",\"\",Data!F135)","v":""},{"$f":"IF(Data!G135=\"\",\"\",Data!G135)","v":""},{"$f":"IF(Data!H135=\"\",\"\",Data!H135)","v":""},{"$f":"IF(Data!I135=\"\",\"\",Data!I135)","v":""},{"$f":"IF(Data!J135=\"\",\"\",Data!J135)","v":""},{"$f":"IF(Data!K135=\"\",\"\",Data!K135)","v":""},{"$f":"IF(Data!L135=\"\",\"\",Data!L135)","v":""},{"$f":"IF(Data!M135=\"\",\"\",Data!M135)","v":""},{"$f":"IF(Data!N135=\"\",\"\",Data!N135)","v":""},{"$f":"IF(Data!O135=\"\",\"\",Data!O135)","v":""},{"$f":"IF(Data!P135=\"\",\"\",Data!P135)","v":""},{"$f":"IF(Data!Q135=\"\",\"\",Data!Q135)","v":""},{"$f":"IF(Data!R135=\"\",\"\",Data!R135)","v":""},{"$f":"IF(Data!S135=\"\",\"\",Data!S135)","v":""},null,null,null,null,135]
[{"$f":"IF(Data!A136=\"\",\"\",Data!A136)","v":""},"",{"$f":"IF(Data!B136=\"\",\"\",Data!B136)","v":""},{"$f":"IF(Data!C136=\"\",\"\",Data!C136)","v":""},{"$f":"IF(Data!D136=\"\",\"\",Data!D136)","v":""},{"$f":"IF(Data!E136=\"\",\"\",Data!E136)","v":""},{"$f":"IF(Data!F136=\"\",\"\",Data!F136)","v":""},{"$f":"IF(Data!G136=\"\",\"\",Data!G136)","v":""},{"$f":"IF(Data!H136=\"\",\"\",Data!H136)","v":""},{"$f":"IF(Data!I136=\"\",\"\",Data!I136)","v":""},{"$f":"IF(Data!J136=\"\",\"\",Data!J136)","v":""},{"$f":"IF(Data!K136=\"\",\"\",Data!K136)","v":""},{"$f":"IF(Data!L136=\"\",\"\",Data!L136)","v":""},{"$f":"IF(Data!M136=\"\",\"\",Data!M136)","v":""},{"$f":"IF(Data!N136=\"\",\"\",Data!N136)","v":""},{"$f":"IF(Data!O136=\"\",\"\",Data!O136)","v":""},{"$f":"IF(Data!P136=\"\",\"\",Data!P136)","v":""},{"$f":"IF(Data!Q136=\"\",\"\",Data!Q136)","v":""},{"$f":"IF(Data!R136=\"\",\"\",Data!R136)","v":""},{"$f":"IF(Data!S136=\"\",\"\",Data!S136)","v":""},null,null,null,null,136]
[{"$f":"IF(Data!A137=\"\",\"\",Data!A137)","v":""},"",{"$f":"IF(Data!B137=\"\",\"\",Data!B137)","v":""},{"$f":"IF(Data!C137=\"\",\"\",Data!C137)","v":""},{"$f":"IF(Data!D137=\"\",\"\",Data!D137)","v":""},{"$f":"IF(Data!E137=\"\",\"\",Data!E137)","v":""},{"$f":"IF(Data!F137=\"\",\"\",Data!F137)","v":""},{"$f":"IF(Data!G137=\"\",\"\",Data!G137)","v":""},{"$f":"IF(Data!H137=\"\",\"\",Data!H137)","v":""},{"$f":"IF(Data!I137=\"\",\"\",Data!I137)","v":""},{"$f":"IF(Data!J137=\"\",\"\",Data!J137)","v":""},{"$f":"IF(Data!K137=\"\",\"\",Data!K137)","v":""},{"$f":"IF(Data!L137=\"\",\"\",Data!L137)","v":""},{"$f":"IF(Data!M137=\"\",\"\",Data!M137)","v":""},{"$f":"IF(Data!N137=\"\",\"\",Data!N137)","v":""},{"$f":"IF(Data!O137=\"\",\"\",Data!O137)","v":""},{"$f":"IF(Data!P137=\"\",\"\",Data!P137)","v":""},{"$f":"IF(Data!Q137=\"\",\"\",Data!Q137)","v":""},{"$f":"IF(Data!R137=\"\",\"\",Data!R137)","v":""},{"$f":"IF(Data!S137=\"\",\"\",Data!S137)","v":""},null,null,null,null,137]
[{"$f":"IF(Data!A138=\"\",\"\",Data!A138)","v":""},"",{"$f":"IF(Data!B138=\"\",\"\",Data!B138)","v":""},{"$f":"IF(Data!C138=\"\",\"\",Data!C138)","v":""},{"$f":"IF(Data!D138=\"\",\"\",Data!D138)","v":""},{"$f":"IF(Data!E138=\"\",\"\",Data!E138)","v":""},{"$f":"IF(Data!F138=\"\",\"\",Data!F138)","v":""},{"$f":"IF(Data!G138=\"\",\"\",Data!G138)","v":""},{"$f":"IF(Data!H138=\"\",\"\",Data!H138)","v":""},{"$f":"IF(Data!I138=\"\",\"\",Data!I138)","v":""},{"$f":"IF(Data!J138=\"\",\"\",Data!J138)","v":""},{"$f":"IF(Data!K138=\"\",\"\",Data!K138)","v":""},{"$f":"IF(Data!L138=\"\",\"\",Data!L138)","v":""},{"$f":"IF(Data!M138=\"\",\"\",Data!M138)","v":""},{"$f":"IF(Data!N138=\"\",\"\",Data!N138)","v":""},{"$f":"IF(Data!O138=\"\",\"\",Data!O138)","v":""},{"$f":"IF(Data!P138=\"\",\"\",Data!P138)","v":""},{"$f":"IF(Data!Q138=\"\",\"\",Data!Q138)","v":""},{"$f":"IF(Data!R138=\"\",\"\",Data!R138)","v":""},{"$f":"IF(Data!S138=\"\",\"\",Data!S138)","v":""},null,null,null,null,138]
[{"$f":"IF(Data!A139=\"\",\"\",Data!A139)","v":""},"",{"$f":"IF(Data!B139=\"\",\"\",Data!B139)","v":""},{"$f":"IF(Data!C139=\"\",\"\",Data!C139)","v":""},{"$f":"IF(Data!D139=\"\",\"\",Data!D139)","v":""},{"$f":"IF(Data!E139=\"\",\"\",Data!E139)","v":""},{"$f":"IF(Data!F139=\"\",\"\",Data!F139)","v":""},{"$f":"IF(Data!G139=\"\",\"\",Data!G139)","v":""},{"$f":"IF(Data!H139=\"\",\"\",Data!H139)","v":""},{"$f":"IF(Data!I139=\"\",\"\",Data!I139)","v":""},{"$f":"IF(Data!J139=\"\",\"\",Data!J139)","v":""},{"$f":"IF(Data!K139=\"\",\"\",Data!K139)","v":""},{"$f":"IF(Data!L139=\"\",\"\",Data!L139)","v":""},{"$f":"IF(Data!M139=\"\",\"\",Data!M139)","v":""},{"$f":"IF(Data!N139=\"\",\"\",Data!N139)","v":""},{"$f":"IF(Data!O139=\"\",\"\",Data!O139)","v":""},{"$f":"IF(Data!P139=\"\",\"\",Data!P139)","v":""},{"$f":"IF(Data!Q139=\"\",\"\",Data!Q139)","v":""},{"$f":"IF(Data!R139=\"\",\"\",Data!R139)","v":""},{"$f":"IF(Data!S139=\"\",\"\",Data!S139)","v":""},null,null,null,null,139]
[{"$f":"IF(Data!A140=\"\",\"\",Data!A140)","v":""},"",{"$f":"IF(Data!B140=\"\",\"\",Data!B140)","v":""},{"$f":"IF(Data!C140=\"\",\"\",Data!C140)","v":""},{"$f":"IF(Data!D140=\"\",\"\",Data!D140)","v":""},{"$f":"IF(Data!E140=\"\",\"\",Data!E140)","v":""},{"$f":"IF(Data!F140=\"\",\"\",Data!F140)","v":""},{"$f":"IF(Data!G140=\"\",\"\",Data!G140)","v":""},{"$f":"IF(Data!H140=\"\",\"\",Data!H140)","v":""},{"$f":"IF(Data!I140=\"\",\"\",Data!I140)","v":""},{"$f":"IF(Data!J140=\"\",\"\",Data!J140)","v":""},{"$f":"IF(Data!K140=\"\",\"\",Data!K140)","v":""},{"$f":"IF(Data!L140=\"\",\"\",Data!L140)","v":""},{"$f":"IF(Data!M140=\"\",\"\",Data!M140)","v":""},{"$f":"IF(Data!N140=\"\",\"\",Data!N140)","v":""},{"$f":"IF(Data!O140=\"\",\"\",Data!O140)","v":""},{"$f":"IF(Data!P140=\"\",\"\",Data!P140)","v":""},{"$f":"IF(Data!Q140=\"\",\"\",Data!Q140)","v":""},{"$f":"IF(Data!R140=\"\",\"\",Data!R140)","v":""},{"$f":"IF(Data!S140=\"\",\"\",Data!S140)","v":""},null,null,null,null,140]
[{"$f":"IF(Data!A141=\"\",\"\",Data!A141)","v":""},"",{"$f":"IF(Data!B141=\"\",\"\",Data!B141)","v":""},{"$f":"IF(Data!C141=\"\",\"\",Data!C141)","v":""},{"$f":"IF(Data!D141=\"\",\"\",Data!D141)","v":""},{"$f":"IF(Data!E141=\"\",\"\",Data!E141)","v":""},{"$f":"IF(Data!F141=\"\",\"\",Data!F141)","v":""},{"$f":"IF(Data!G141=\"\",\"\",Data!G141)","v":""},{"$f":"IF(Data!H141=\"\",\"\",Data!H141)","v":""},{"$f":"IF(Data!I141=\"\",\"\",Data!I141)","v":""},{"$f":"IF(Data!J141=\"\",\"\",Data!J141)","v":""},{"$f":"IF(Data!K141=\"\",\"\",Data!K141)","v":""},{"$f":"IF(Data!L141=\"\",\"\",Data!L141)","v":""},{"$f":"IF(Data!M141=\"\",\"\",Data!M141)","v":""},{"$f":"IF(Data!N141=\"\",\"\",Data!N141)","v":""},{"$f":"IF(Data!O141=\"\",\"\",Data!O141)","v":""},{"$f":"IF(Data!P141=\"\",\"\",Data!P141)","v":""},{"$f":"IF(Data!Q141=\"\",\"\",Data!Q141)","v":""},{"$f":"IF(Data!R141=\"\",\"\",Data!R141)","v":""},{"$f":"IF(Data!S141=\"\",\"\",Data!S141)","v":""},null,null,null,null,141]
[{"$f":"IF(Data!A142=\"\",\"\",Data!A142)","v":""},"",{"$f":"IF(Data!B142=\"\",\"\",Data!B142)","v":""},{"$f":"IF(Data!C142=\"\",\"\",Data!C142)","v":""},{"$f":"IF(Data!D142=\"\",\"\",Data!D142)","v":""},{"$f":"IF(Data!E142=\"\",\"\",Data!E142)","v":""},{"$f":"IF(Data!F142=\"\",\"\",Data!F142)","v":""},{"$f":"IF(Data!G142=\"\",\"\",Data!G142)","v":""},{"$f":"IF(Data!H142=\"\",\"\",Data!H142)","v":""},{"$f":"IF(Data!I142=\"\",\"\",Data!I142)","v":""},{"$f":"IF(Data!J142=\"\",\"\",Data!J142)","v":""},{"$f":"IF(Data!K142=\"\",\"\",Data!K142)","v":""},{"$f":"IF(Data!L142=\"\",\"\",Data!L142)","v":""},{"$f":"IF(Data!M142=\"\",\"\",Data!M142)","v":""},{"$f":"IF(Data!N142=\"\",\"\",Data!N142)","v":""},{"$f":"IF(Data!O142=\"\",\"\",Data!O142)","v":""},{"$f":"IF(Data!P142=\"\",\"\",Data!P142)","v":""},{"$f":"IF(Data!Q142=\"\",\"\",Data!Q142)","v":""},{"$f":"IF(Data!R142=\"\",\"\",Data!R142)","v":""},{"$f":"IF(Data!S142=\"\",\"\",Data!S142)","v":""},null,null,null,null,142]
[{"$f":"IF(Data!A143=\"\",\"\",Data!A143)","v":""},"",{"$f":"IF(Data!B143=\"\",\"\",Data!B143)","v":""},{"$f":"IF(Data!C143=\"\",\"\",Data!C143)","v":""},{"$f":"IF(Data!D143=\"\",\"\",Data!D143)","v":""},{"$f":"IF(Data!E143=\"\",\"\",Data!E143)","v":""},{"$f":"IF(Data!F143=\"\",\"\",Data!F143)","v":""},{"$f":"IF(Data!G143=\"\",\"\",Data!G143)","v":""},{"$f":"IF(Data!H143=\"\",\"\",Data!H143)","v":""},{"$f":"IF(Data!I143=\"\",\"\",Data!I143)","v":""},{"$f":"IF(Data!J143=\"\",\"\",Data!J143)","v":""},{"$f":"IF(Data!K143=\"\",\"\",Data!K143)","v":""},{"$f":"IF(Data!L143=\"\",\"\",Data!L143)","v":""},{"$f":"IF(Data!M143=\"\",\"\",Data!M143)","v":""},{"$f":"IF(Data!N143=\"\",\"\",Data!N143)","v":""},{"$f":"IF(Data!O143=\"\",\"\",Data!O143)","v":""},{"$f":"IF(Data!P143=\"\",\"\",Data!P143)","v":""},{"$f":"IF(Data!Q143=\"\",\"\",Data!Q143)","v":""},{"$f":"IF(Data!R143=\"\",\"\",Data!R143)","v":""},{"$f":"IF(Data!S143=\"\",\"\",Data!S143)","v":""},null,null,null,null,143]
[{"$f":"IF(Data!A144=\"\",\"\",Data!A144)","v":""},"",{"$f":"IF(Data!B144=\"\",\"\",Data!B144)","v":""},{"$f":"IF(Data!C144=\"\",\"\",Data!C144)","v":""},{"$f":"IF(Data!D144=\"\",\"\",Data!D144)","v":""},{"$f":"IF(Data!E144=\"\",\"\",Data!E144)","v":""},{"$f":"IF(Data!F144=\"\",\"\",Data!F144)","v":""},{"$f":"IF(Data!G144=\"\",\"\",Data!G144)","v":""},{"$f":"IF(Data!H144=\"\",\"\",Data!H144)","v":""},{"$f":"IF(Data!I144=\"\",\"\",Data!I144)","v":""},{"$f":"IF(Data!J144=\"\",\"\",Data!J144)","v":""},{"$f":"IF(Data!K144=\"\",\"\",Data!K144)","v":""},{"$f":"IF(Data!L144=\"\",\"\",Data!L144)","v":""},{"$f":"IF(Data!M144=\"\",\"\",Data!M144)","v":""},{"$f":"IF(Data!N144=\"\",\"\",Data!N144)","v":""},{"$f":"IF(Data!O144=\"\",\"\",Data!O144)","v":""},{"$f":"IF(Data!P144=\"\",\"\",Data!P144)","v":""},{"$f":"IF(Data!Q144=\"\",\"\",Data!Q144)","v":""},{"$f":"IF(Data!R144=\"\",\"\",Data!R144)","v":""},{"$f":"IF(Data!S144=\"\",\"\",Data!S144)","v":""},null,null,null,null,144]
[{"$f":"IF(Data!A145=\"\",\"\",Data!A145)","v":""},"",{"$f":"IF(Data!B145=\"\",\"\",Data!B145)","v":""},{"$f":"IF(Data!C145=\"\",\"\",Data!C145)","v":""},{"$f":"IF(Data!D145=\"\",\"\",Data!D145)","v":""},{"$f":"IF(Data!E145=\"\",\"\",Data!E145)","v":""},{"$f":"IF(Data!F145=\"\",\"\",Data!F145)","v":""},{"$f":"IF(Data!G145=\"\",\"\",Data!G145)","v":""},{"$f":"IF(Data!H145=\"\",\"\",Data!H145)","v":""},{"$f":"IF(Data!I145=\"\",\"\",Data!I145)","v":""},{"$f":"IF(Data!J145=\"\",\"\",Data!J145)","v":""},{"$f":"IF(Data!K145=\"\",\"\",Data!K145)","v":""},{"$f":"IF(Data!L145=\"\",\"\",Data!L145)","v":""},{"$f":"IF(Data!M145=\"\",\"\",Data!M145)","v":""},{"$f":"IF(Data!N145=\"\",\"\",Data!N145)","v":""},{"$f":"IF(Data!O145=\"\",\"\",Data!O145)","v":""},{"$f":"IF(Data!P145=\"\",\"\",Data!P145)","v":""},{"$f":"IF(Data!Q145=\"\",\"\",Data!Q145)","v":""},{"$f":"IF(Data!R145=\"\",\"\",Data!R145)","v":""},{"$f":"IF(Data!S145=\"\",\"\",Data!S145)","v":""},null,null,null,null,145]
[{"$f":"IF(Data!A146=\"\",\"\",Data!A146)","v":""},"",{"$f":"IF(Data!B146=\"\",\"\",Data!B146)","v":""},{"$f":"IF(Data!C146=\"\",\"\",Data!C146)","v":""},{"$f":"IF(Data!D146=\"\",\"\",Data!D146)","v":""},{"$f":"IF(Data!E146=\"\",\"\",Data!E146)","v":""},{"$f":"IF(Data!F146=\"\",\"\",Data!F146)","v":""},{"$f":"IF(Data!G146=\"\",\"\",Data!G146)","v":""},{"$f":"IF(Data!H146=\"\",\"\",Data!H146)","v":""},{"$f":"IF(Data!I146=\"\",\"\",Data!I146)","v":""},{"$f":"IF(Data!J146=\"\",\"\",Data!J146)","v":""},{"$f":"IF(Data!K146=\"\",\"\",Data!K146)","v":""},{"$f":"IF(Data!L146=\"\",\"\",Data!L146)","v":""},{"$f":"IF(Data!M146=\"\",\"\",Data!M146)","v":""},{"$f":"IF(Data!N146=\"\",\"\",Data!N146)","v":""},{"$f":"IF(Data!O146=\"\",\"\",Data!O146)","v":""},{"$f":"IF(Data!P146=\"\",\"\",Data!P146)","v":""},{"$f":"IF(Data!Q146=\"\",\"\",Data!Q146)","v":""},{"$f":"IF(Data!R146=\"\",\"\",Data!R146)","v":""},{"$f":"IF(Data!S146=\"\",\"\",Data!S146)","v":""},null,null,null,null,146]
[{"$f":"IF(Data!A147=\"\",\"\",Data!A147)","v":""},"",{"$f":"IF(Data!B147=\"\",\"\",Data!B147)","v":""},{"$f":"IF(Data!C147=\"\",\"\",Data!C147)","v":""},{"$f":"IF(Data!D147=\"\",\"\",Data!D147)","v":""},{"$f":"IF(Data!E147=\"\",\"\",Data!E147)","v":""},{"$f":"IF(Data!F147=\"\",\"\",Data!F147)","v":""},{"$f":"IF(Data!G147=\"\",\"\",Data!G147)","v":""},{"$f":"IF(Data!H147=\"\",\"\",Data!H147)","v":""},{"$f":"IF(Data!I147=\"\",\"\",Data!I147)","v":""},{"$f":"IF(Data!J147=\"\",\"\",Data!J147)","v":""},{"$f":"IF(Data!K147=\"\",\"\",Data!K147)","v":""},{"$f":"IF(Data!L147=\"\",\"\",Data!L147)","v":""},{"$f":"IF(Data!M147=\"\",\"\",Data!M147)","v":""},{"$f":"IF(Data!N147=\"\",\"\",Data!N147)","v":""},{"$f":"IF(Data!O147=\"\",\"\",Data!O147)","v":""},{"$f":"IF(Data!P147=\"\",\"\",Data!P147)","v":""},{"$f":"IF(Data!Q147=\"\",\"\",Data!Q147)","v":""},{"$f":"IF(Data!R147=\"\",\"\",Data!R147)","v":""},{"$f":"IF(Data!S147=\"\",\"\",Data!S147)","v":""},null,null,null,null,147]
[{"$f":"IF(Data!A148=\"\",\"\",Data!A148)","v":""},"",{"$f":"IF(Data!B148=\"\",\"\",Data!B148)","v":""},{"$f":"IF(Data!C148=\"\",\"\",Data!C148)","v":""},{"$f":"IF(Data!D148=\"\",\"\",Data!D148)","v":""},{"$f":"IF(Data!E148=\"\",\"\",Data!E148)","v":""},{"$f":"IF(Data!F148=\"\",\"\",Data!F148)","v":""},{"$f":"IF(Data!G148=\"\",\"\",Data!G148)","v":""},{"$f":"IF(Data!H148=\"\",\"\",Data!H148)","v":""},{"$f":"IF(Data!I148=\"\",\"\",Data!I148)","v":""},{"$f":"IF(Data!J148=\"\",\"\",Data!J148)","v":""},{"$f":"IF(Data!K148=\"\",\"\",Data!K148)","v":""},{"$f":"IF(Data!L148=\"\",\"\",Data!L148)","v":""},{"$f":"IF(Data!M148=\"\",\"\",Data!M148)","v":""},{"$f":"IF(Data!N148=\"\",\"\",Data!N148)","v":""},{"$f":"IF(Data!O148=\"\",\"\",Data!O148)","v":""},{"$f":"IF(Data!P148=\"\",\"\",Data!P148)","v":""},{"$f":"IF(Data!Q148=\"\",\"\",Data!Q148)","v":""},{"$f":"IF(Data!R148=\"\",\"\",Data!R148)","v":""},{"$f":"IF(Data!S148=\"\",\"\",Data!S148)","v":""},null,null,null,null,148]
[{"$f":"IF(Data!A149=\"\",\"\",Data!A149)","v":""},"",{"$f":"IF(Data!B149=\"\",\"\",Data!B149)","v":""},{"$f":"IF(Data!C149=\"\",\"\",Data!C149)","v":""},{"$f":"IF(Data!D149=\"\",\"\",Data!D149)","v":""},{"$f":"IF(Data!E149=\"\",\"\",Data!E149)","v":""},{"$f":"IF(Data!F149=\"\",\"\",Data!F149)","v":""},{"$f":"IF(Data!G149=\"\",\"\",Data!G149)","v":""},{"$f":"IF(Data!H149=\"\",\"\",Data!H149)","v":""},{"$f":"IF(Data!I149=\"\",\"\",Data!I149)","v":""},{"$f":"IF(Data!J149=\"\",\"\",Data!J149)","v":""},{"$f":"IF(Data!K149=\"\",\"\",Data!K149)","v":""},{"$f":"IF(Data!L149=\"\",\"\",Data!L149)","v":""},{"$f":"IF(Data!M149=\"\",\"\",Data!M149)","v":""},{"$f":"IF(Data!N149=\"\",\"\",Data!N149)","v":""},{"$f":"IF(Data!O149=\"\",\"\",Data!O149)","v":""},{"$f":"IF(Data!P149=\"\",\"\",Data!P149)","v":""},{"$f":"IF(Data!Q149=\"\",\"\",Data!Q149)","v":""},{"$f":"IF(Data!R149=\"\",\"\",Data!R149)","v":""},{"$f":"IF(Data!S149=\"\",\"\",Data!S149)","v":""},null,null,null,null,149]
[{"$f":"IF(Data!A150=\"\",\"\",Data!A150)","v":""},"",{"$f":"IF(Data!B150=\"\",\"\",Data!B150)","v":""},{"$f":"IF(Data!C150=\"\",\"\",Data!C150)","v":""},{"$f":"IF(Data!D150=\"\",\"\",Data!D150)","v":""},{"$f":"IF(Data!E150=\"\",\"\",Data!E150)","v":""},{"$f":"IF(Data!F150=\"\",\"\",Data!F150)","v":""},{"$f":"IF(Data!G150=\"\",\"\",Data!G150)","v":""},{"$f":"IF(Data!H150=\"\",\"\",Data!H150)","v":""},{"$f":"IF(Data!I150=\"\",\"\",Data!I150)","v":""},{"$f":"IF(Data!J150=\"\",\"\",Data!J150)","v":""},{"$f":"IF(Data!K150=\"\",\"\",Data!K150)","v":""},{"$f":"IF(Data!L150=\"\",\"\",Data!L150)","v":""},{"$f":"IF(Data!M150=\"\",\"\",Data!M150)","v":""},{"$f":"IF(Data!N150=\"\",\"\",Data!N150)","v":""},{"$f":"IF(Data!O150=\"\",\"\",Data!O150)","v":""},{"$f":"IF(Data!P150=\"\",\"\",Data!P150)","v":""},{"$f":"IF(Data!Q150=\"\",\"\",Data!Q150)","v":""},{"$f":"IF(Data!R150=\"\",\"\",Data!R150)","v":""},{"$f":"IF(Data!S150=\"\",\"\",Data!S150)","v":""},null,null,null,null,150]
[{"$f":"IF(Data!A151=\"\",\"\",Data!A151)","v":""},"",{"$f":"IF(Data!B151=\"\",\"\",Data!B151)","v":""},{"$f":"IF(Data!C151=\"\",\"\",Data!C151)","v":""},{"$f":"IF(Data!D151=\"\",\"\",Data!D151)","v":""},{"$f":"IF(Data!E151=\"\",\"\",Data!E151)","v":""},{"$f":"IF(Data!F151=\"\",\"\",Data!F151)","v":""},{"$f":"IF(Data!G151=\"\",\"\",Data!G151)","v":""},{"$f":"IF(Data!H151=\"\",\"\",Data!H151)","v":""},{"$f":"IF(Data!I151=\"\",\"\",Data!I151)","v":""},{"$f":"IF(Data!J151=\"\",\"\",Data!J151)","v":""},{"$f":"IF(Data!K151=\"\",\"\",Data!K151)","v":""},{"$f":"IF(Data!L151=\"\",\"\",Data!L151)","v":""},{"$f":"IF(Data!M151=\"\",\"\",Data!M151)","v":""},{"$f":"IF(Data!N151=\"\",\"\",Data!N151)","v":""},{"$f":"IF(Data!O151=\"\",\"\",Data!O151)","v":""},{"$f":"IF(Data!P151=\"\",\"\",Data!P151)","v":""},{"$f":"IF(Data!Q151=\"\",\"\",Data!Q151)","v":""},{"$f":"IF(Data!R151=\"\",\"\",Data!R151)","v":""},{"$f":"IF(Data!S151=\"\",\"\",Data!S151)","v":""},null,null,null,null,151]
[{"$f":"IF(Data!A152=\"\",\"\",Data!A152)","v":""},"",{"$f":"IF(Data!B152=\"\",\"\",Data!B152)","v":""},{"$f":"IF(Data!C152=\"\",\"\",Data!C152)","v":""},{"$f":"IF(Data!D152=\"\",\"\",Data!D152)","v":""},{"$f":"IF(Data!E152=\"\",\"\",Data!E152)","v":""},{"$f":"IF(Data!F152=\"\",\"\",Data!F152)","v":""},{"$f":"IF(Data!G152=\"\",\"\",Data!G152)","v":""},{"$f":"IF(Data!H152=\"\",\"\",Data!H152)","v":""},{"$f":"IF(Data!I152=\"\",\"\",Data!I152)","v":""},{"$f":"IF(Data!J152=\"\",\"\",Data!J152)","v":""},{"$f":"IF(Data!K152=\"\",\"\",Data!K152)","v":""},{"$f":"IF(Data!L152=\"\",\"\",Data!L152)","v":""},{"$f":"IF(Data!M152=\"\",\"\",Data!M152)","v":""},{"$f":"IF(Data!N152=\"\",\"\",Data!N152)","v":""},{"$f":"IF(Data!O152=\"\",\"\",Data!O152)","v":""},{"$f":"IF(Data!P152=\"\",\"\",Data!P152)","v":""},{"$f":"IF(Data!Q152=\"\",\"\",Data!Q152)","v":""},{"$f":"IF(Data!R152=\"\",\"\",Data!R152)","v":""},{"$f":"IF(Data!S152=\"\",\"\",Data!S152)","v":""},null,null,null,null,152]
[{"$f":"IF(Data!A153=\"\",\"\",Data!A153)","v":""},"",{"$f":"IF(Data!B153=\"\",\"\",Data!B153)","v":""},{"$f":"IF(Data!C153=\"\",\"\",Data!C153)","v":""},{"$f":"IF(Data!D153=\"\",\"\",Data!D153)","v":""},{"$f":"IF(Data!E153=\"\",\"\",Data!E153)","v":""},{"$f":"IF(Data!F153=\"\",\"\",Data!F153)","v":""},{"$f":"IF(Data!G153=\"\",\"\",Data!G153)","v":""},{"$f":"IF(Data!H153=\"\",\"\",Data!H153)","v":""},{"$f":"IF(Data!I153=\"\",\"\",Data!I153)","v":""},{"$f":"IF(Data!J153=\"\",\"\",Data!J153)","v":""},{"$f":"IF(Data!K153=\"\",\"\",Data!K153)","v":""},{"$f":"IF(Data!L153=\"\",\"\",Data!L153)","v":""},{"$f":"IF(Data!M153=\"\",\"\",Data!M153)","v":""},{"$f":"IF(Data!N153=\"\",\"\",Data!N153)","v":""},{"$f":"IF(Data!O153=\"\",\"\",Data!O153)","v":""},{"$f":"IF(Data!P153=\"\",\"\",Data!P153)","v":""},{"$f":"IF(Data!Q153=\"\",\"\",Data!Q153)","v":""},{"$f":"IF(Data!R153=\"\",\"\",Data!R153)","v":""},{"$f":"IF(Data!S153=\"\",\"\",Data!S153)","v":""},null,null,null,null,153]
[{"$f":"IF(Data!A154=\"\",\"\",Data!A154)","v":""},"",{"$f":"IF(Data!B154=\"\",\"\",Data!B154)","v":""},{"$f":"IF(Data!C154=\"\",\"\",Data!C154)","v":""},{"$f":"IF(Data!D154=\"\",\"\",Data!D154)","v":""},{"$f":"IF(Data!E154=\"\",\"\",Data!E154)","v":""},{"$f":"IF(Data!F154=\"\",\"\",Data!F154)","v":""},{"$f":"IF(Data!G154=\"\",\"\",Data!G154)","v":""},{"$f":"IF(Data!H154=\"\",\"\",Data!H154)","v":""},{"$f":"IF(Data!I154=\"\",\"\",Data!I154)","v":""},{"$f":"IF(Data!J154=\"\",\"\",Data!J154)","v":""},{"$f":"IF(Data!K154=\"\",\"\",Data!K154)","v":""},{"$f":"IF(Data!L154=\"\",\"\",Data!L154)","v":""},{"$f":"IF(Data!M154=\"\",\"\",Data!M154)","v":""},{"$f":"IF(Data!N154=\"\",\"\",Data!N154)","v":""},{"$f":"IF(Data!O154=\"\",\"\",Data!O154)","v":""},{"$f":"IF(Data!P154=\"\",\"\",Data!P154)","v":""},{"$f":"IF(Data!Q154=\"\",\"\",Data!Q154)","v":""},{"$f":"IF(Data!R154=\"\",\"\",Data!R154)","v":""},{"$f":"IF(Data!S154=\"\",\"\",Data!S154)","v":""},null,null,null,null,154]
[{"$f":"IF(Data!A155=\"\",\"\",Data!A155)","v":""},"",{"$f":"IF(Data!B155=\"\",\"\",Data!B155)","v":""},{"$f":"IF(Data!C155=\"\",\"\",Data!C155)","v":""},{"$f":"IF(Data!D155=\"\",\"\",Data!D155)","v":""},{"$f":"IF(Data!E155=\"\",\"\",Data!E155)","v":""},{"$f":"IF(Data!F155=\"\",\"\",Data!F155)","v":""},{"$f":"IF(Data!G155=\"\",\"\",Data!G155)","v":""},{"$f":"IF(Data!H155=\"\",\"\",Data!H155)","v":""},{"$f":"IF(Data!I155=\"\",\"\",Data!I155)","v":""},{"$f":"IF(Data!J155=\"\",\"\",Data!J155)","v":""},{"$f":"IF(Data!K155=\"\",\"\",Data!K155)","v":""},{"$f":"IF(Data!L155=\"\",\"\",Data!L155)","v":""},{"$f":"IF(Data!M155=\"\",\"\",Data!M155)","v":""},{"$f":"IF(Data!N155=\"\",\"\",Data!N155)","v":""},{"$f":"IF(Data!O155=\"\",\"\",Data!O155)","v":""},{"$f":"IF(Data!P155=\"\",\"\",Data!P155)","v":""},{"$f":"IF(Data!Q155=\"\",\"\",Data!Q155)","v":""},{"$f":"IF(Data!R155=\"\",\"\",Data!R155)","v":""},{"$f":"IF(Data!S155=\"\",\"\",Data!S155)","v":""},null,null,null,null,155]
[{"$f":"IF(Data!A156=\"\",\"\",Data!A156)","v":""},"",{"$f":"IF(Data!B156=\"\",\"\",Data!B156)","v":""},{"$f":"IF(Data!C156=\"\",\"\",Data!C156)","v":""},{"$f":"IF(Data!D156=\"\",\"\",Data!D156)","v":""},{"$f":"IF(Data!E156=\"\",\"\",Data!E156)","v":""},{"$f":"IF(Data!F156=\"\",\"\",Data!F156)","v":""},{"$f":"IF(Data!G156=\"\",\"\",Data!G156)","v":""},{"$f":"IF(Data!H156=\"\",\"\",Data!H156)","v":""},{"$f":"IF(Data!I156=\"\",\"\",Data!I156)","v":""},{"$f":"IF(Data!J156=\"\",\"\",Data!J156)","v":""},{"$f":"IF(Data!K156=\"\",\"\",Data!K156)","v":""},{"$f":"IF(Data!L156=\"\",\"\",Data!L156)","v":""},{"$f":"IF(Data!M156=\"\",\"\",Data!M156)","v":""},{"$f":"IF(Data!N156=\"\",\"\",Data!N156)","v":""},{"$f":"IF(Data!O156=\"\",\"\",Data!O156)","v":""},{"$f":"IF(Data!P156=\"\",\"\",Data!P156)","v":""},{"$f":"IF(Data!Q156=\"\",\"\",Data!Q156)","v":""},{"$f":"IF(Data!R156=\"\",\"\",Data!R156)","v":""},{"$f":"IF(Data!S156=\"\",\"\",Data!S156)","v":""},null,null,null,null,156]
[{"$f":"IF(Data!A157=\"\",\"\",Data!A157)","v":""},"",{"$f":"IF(Data!B157=\"\",\"\",Data!B157)","v":""},{"$f":"IF(Data!C157=\"\",\"\",Data!C157)","v":""},{"$f":"IF(Data!D157=\"\",\"\",Data!D157)","v":""},{"$f":"IF(Data!E157=\"\",\"\",Data!E157)","v":""},{"$f":"IF(Data!F157=\"\",\"\",Data!F157)","v":""},{"$f":"IF(Data!G157=\"\",\"\",Data!G157)","v":""},{"$f":"IF(Data!H157=\"\",\"\",Data!H157)","v":""},{"$f":"IF(Data!I157=\"\",\"\",Data!I157)","v":""},{"$f":"IF(Data!J157=\"\",\"\",Data!J157)","v":""},{"$f":"IF(Data!K157=\"\",\"\",Data!K157)","v":""},{"$f":"IF(Data!L157=\"\",\"\",Data!L157)","v":""},{"$f":"IF(Data!M157=\"\",\"\",Data!M157)","v":""},{"$f":"IF(Data!N157=\"\",\"\",Data!N157)","v":""},{"$f":"IF(Data!O157=\"\",\"\",Data!O157)","v":""},{"$f":"IF(Data!P157=\"\",\"\",Data!P157)","v":""},{"$f":"IF(Data!Q157=\"\",\"\",Data!Q157)","v":""},{"$f":"IF(Data!R157=\"\",\"\",Data!R157)","v":""},{"$f":"IF(Data!S157=\"\",\"\",Data!S157)","v":""},null,null,null,null,157]
[{"$f":"IF(Data!A158=\"\",\"\",Data!A158)","v":""},"",{"$f":"IF(Data!B158=\"\",\"\",Data!B158)","v":""},{"$f":"IF(Data!C158=\"\",\"\",Data!C158)","v":""},{"$f":"IF(Data!D158=\"\",\"\",Data!D158)","v":""},{"$f":"IF(Data!E158=\"\",\"\",Data!E158)","v":""},{"$f":"IF(Data!F158=\"\",\"\",Data!F158)","v":""},{"$f":"IF(Data!G158=\"\",\"\",Data!G158)","v":""},{"$f":"IF(Data!H158=\"\",\"\",Data!H158)","v":""},{"$f":"IF(Data!I158=\"\",\"\",Data!I158)","v":""},{"$f":"IF(Data!J158=\"\",\"\",Data!J158)","v":""},{"$f":"IF(Data!K158=\"\",\"\",Data!K158)","v":""},{"$f":"IF(Data!L158=\"\",\"\",Data!L158)","v":""},{"$f":"IF(Data!M158=\"\",\"\",Data!M158)","v":""},{"$f":"IF(Data!N158=\"\",\"\",Data!N158)","v":""},{"$f":"IF(Data!O158=\"\",\"\",Data!O158)","v":""},{"$f":"IF(Data!P158=\"\",\"\",Data!P158)","v":""},{"$f":"IF(Data!Q158=\"\",\"\",Data!Q158)","v":""},{"$f":"IF(Data!R158=\"\",\"\",Data!R158)","v":""},{"$f":"IF(Data!S158=\"\",\"\",Data!S158)","v":""},null,null,null,null,158]
[{"$f":"IF(Data!A159=\"\",\"\",Data!A159)","v":""},"",{"$f":"IF(Data!B159=\"\",\"\",Data!B159)","v":""},{"$f":"IF(Data!C159=\"\",\"\",Data!C159)","v":""},{"$f":"IF(Data!D159=\"\",\"\",Data!D159)","v":""},{"$f":"IF(Data!E159=\"\",\"\",Data!E159)","v":""},{"$f":"IF(Data!F159=\"\",\"\",Data!F159)","v":""},{"$f":"IF(Data!G159=\"\",\"\",Data!G159)","v":""},{"$f":"IF(Data!H159=\"\",\"\",Data!H159)","v":""},{"$f":"IF(Data!I159=\"\",\"\",Data!I159)","v":""},{"$f":"IF(Data!J159=\"\",\"\",Data!J159)","v":""},{"$f":"IF(Data!K159=\"\",\"\",Data!K159)","v":""},{"$f":"IF(Data!L159=\"\",\"\",Data!L159)","v":""},{"$f":"IF(Data!M159=\"\",\"\",Data!M159)","v":""},{"$f":"IF(Data!N159=\"\",\"\",Data!N159)","v":""},{"$f":"IF(Data!O159=\"\",\"\",Data!O159)","v":""},{"$f":"IF(Data!P159=\"\",\"\",Data!P159)","v":""},{"$f":"IF(Data!Q159=\"\",\"\",Data!Q159)","v":""},{"$f":"IF(Data!R159=\"\",\"\",Data!R159)","v":""},{"$f":"IF(Data!S159=\"\",\"\",Data!S159)","v":""},null,null,null,null,159]
[{"$f":"IF(Data!A160=\"\",\"\",Data!A160)","v":""},"",{"$f":"IF(Data!B160=\"\",\"\",Data!B160)","v":""},{"$f":"IF(Data!C160=\"\",\"\",Data!C160)","v":""},{"$f":"IF(Data!D160=\"\",\"\",Data!D160)","v":""},{"$f":"IF(Data!E160=\"\",\"\",Data!E160)","v":""},{"$f":"IF(Data!F160=\"\",\"\",Data!F160)","v":""},{"$f":"IF(Data!G160=\"\",\"\",Data!G160)","v":""},{"$f":"IF(Data!H160=\"\",\"\",Data!H160)","v":""},{"$f":"IF(Data!I160=\"\",\"\",Data!I160)","v":""},{"$f":"IF(Data!J160=\"\",\"\",Data!J160)","v":""},{"$f":"IF(Data!K160=\"\",\"\",Data!K160)","v":""},{"$f":"IF(Data!L160=\"\",\"\",Data!L160)","v":""},{"$f":"IF(Data!M160=\"\",\"\",Data!M160)","v":""},{"$f":"IF(Data!N160=\"\",\"\",Data!N160)","v":""},{"$f":"IF(Data!O160=\"\",\"\",Data!O160)","v":""},{"$f":"IF(Data!P160=\"\",\"\",Data!P160)","v":""},{"$f":"IF(Data!Q160=\"\",\"\",Data!Q160)","v":""},{"$f":"IF(Data!R160=\"\",\"\",Data!R160)","v":""},{"$f":"IF(Data!S160=\"\",\"\",Data!S160)","v":""},null,null,null,null,160]
[{"$f":"IF(Data!A161=\"\",\"\",Data!A161)","v":""},"",{"$f":"IF(Data!B161=\"\",\"\",Data!B161)","v":""},{"$f":"IF(Data!C161=\"\",\"\",Data!C161)","v":""},{"$f":"IF(Data!D161=\"\",\"\",Data!D161)","v":""},{"$f":"IF(Data!E161=\"\",\"\",Data!E161)","v":""},{"$f":"IF(Data!F161=\"\",\"\",Data!F161)","v":""},{"$f":"IF(Data!G161=\"\",\"\",Data!G161)","v":""},{"$f":"IF(Data!H161=\"\",\"\",Data!H161)","v":""},{"$f":"IF(Data!I161=\"\",\"\",Data!I161)","v":""},{"$f":"IF(Data!J161=\"\",\"\",Data!J161)","v":""},{"$f":"IF(Data!K161=\"\",\"\",Data!K161)","v":""},{"$f":"IF(Data!L161=\"\",\"\",Data!L161)","v":""},{"$f":"IF(Data!M161=\"\",\"\",Data!M161)","v":""},{"$f":"IF(Data!N161=\"\",\"\",Data!N161)","v":""},{"$f":"IF(Data!O161=\"\",\"\",Data!O161)","v":""},{"$f":"IF(Data!P161=\"\",\"\",Data!P161)","v":""},{"$f":"IF(Data!Q161=\"\",\"\",Data!Q161)","v":""},{"$f":"IF(Data!R161=\"\",\"\",Data!R161)","v":""},{"$f":"IF(Data!S161=\"\",\"\",Data!S161)","v":""},null,null,null,null,161]
[{"$f":"IF(Data!A162=\"\",\"\",Data!A162)","v":""},"",{"$f":"IF(Data!B162=\"\",\"\",Data!B162)","v":""},{"$f":"IF(Data!C162=\"\",\"\",Data!C162)","v":""},{"$f":"IF(Data!D162=\"\",\"\",Data!D162)","v":""},{"$f":"IF(Data!E162=\"\",\"\",Data!E162)","v":""},{"$f":"IF(Data!F162=\"\",\"\",Data!F162)","v":""},{"$f":"IF(Data!G162=\"\",\"\",Data!G162)","v":""},{"$f":"IF(Data!H162=\"\",\"\",Data!H162)","v":""},{"$f":"IF(Data!I162=\"\",\"\",Data!I162)","v":""},{"$f":"IF(Data!J162=\"\",\"\",Data!J162)","v":""},{"$f":"IF(Data!K162=\"\",\"\",Data!K162)","v":""},{"$f":"IF(Data!L162=\"\",\"\",Data!L162)","v":""},{"$f":"IF(Data!M162=\"\",\"\",Data!M162)","v":""},{"$f":"IF(Data!N162=\"\",\"\",Data!N162)","v":""},{"$f":"IF(Data!O162=\"\",\"\",Data!O162)","v":""},{"$f":"IF(Data!P162=\"\",\"\",Data!P162)","v":""},{"$f":"IF(Data!Q162=\"\",\"\",Data!Q162)","v":""},{"$f":"IF(Data!R162=\"\",\"\",Data!R162)","v":""},{"$f":"IF(Data!S162=\"\",\"\",Data!S162)","v":""},null,null,null,null,162]
[{"$f":"IF(Data!A163=\"\",\"\",Data!A163)","v":""},"",{"$f":"IF(Data!B163=\"\",\"\",Data!B163)","v":""},{"$f":"IF(Data!C163=\"\",\"\",Data!C163)","v":""},{"$f":"IF(Data!D163=\"\",\"\",Data!D163)","v":""},{"$f":"IF(Data!E163=\"\",\"\",Data!E163)","v":""},{"$f":"IF(Data!F163=\"\",\"\",Data!F163)","v":""},{"$f":"IF(Data!G163=\"\",\"\",Data!G163)","v":""},{"$f":"IF(Data!H163=\"\",\"\",Data!H163)","v":""},{"$f":"IF(Data!I163=\"\",\"\",Data!I163)","v":""},{"$f":"IF(Data!J163=\"\",\"\",Data!J163)","v":""},{"$f":"IF(Data!K163=\"\",\"\",Data!K163)","v":""},{"$f":"IF(Data!L163=\"\",\"\",Data!L163)","v":""},{"$f":"IF(Data!M163=\"\",\"\",Data!M163)","v":""},{"$f":"IF(Data!N163=\"\",\"\",Data!N163)","v":""},{"$f":"IF(Data!O163=\"\",\"\",Data!O163)","v":""},{"$f":"IF(Data!P163=\"\",\"\",Data!P163)","v":""},{"$f":"IF(Data!Q163=\"\",\"\",Data!Q163)","v":""},{"$f":"IF(Data!R163=\"\",\"\",Data!R163)","v":""},{"$f":"IF(Data!S163=\"\",\"\",Data!S163)","v":""},null,null,null,null,163]
[{"$f":"IF(Data!A164=\"\",\"\",Data!A164)","v":""},"",{"$f":"IF(Data!B164=\"\",\"\",Data!B164)","v":""},{"$f":"IF(Data!C164=\"\",\"\",Data!C164)","v":""},{"$f":"IF(Data!D164=\"\",\"\",Data!D164)","v":""},{"$f":"IF(Data!E164=\"\",\"\",Data!E164)","v":""},{"$f":"IF(Data!F164=\"\",\"\",Data!F164)","v":""},{"$f":"IF(Data!G164=\"\",\"\",Data!G164)","v":""},{"$f":"IF(Data!H164=\"\",\"\",Data!H164)","v":""},{"$f":"IF(Data!I164=\"\",\"\",Data!I164)","v":""},{"$f":"IF(Data!J164=\"\",\"\",Data!J164)","v":""},{"$f":"IF(Data!K164=\"\",\"\",Data!K164)","v":""},{"$f":"IF(Data!L164=\"\",\"\",Data!L164)","v":""},{"$f":"IF(Data!M164=\"\",\"\",Data!M164)","v":""},{"$f":"IF(Data!N164=\"\",\"\",Data!N164)","v":""},{"$f":"IF(Data!O164=\"\",\"\",Data!O164)","v":""},{"$f":"IF(Data!P164=\"\",\"\",Data!P164)","v":""},{"$f":"IF(Data!Q164=\"\",\"\",Data!Q164)","v":""},{"$f":"IF(Data!R164=\"\",\"\",Data!R164)","v":""},{"$f":"IF(Data!S164=\"\",\"\",Data!S164)","v":""},null,null,null,null,164]
[{"$f":"IF(Data!A165=\"\",\"\",Data!A165)","v":""},"",{"$f":"IF(Data!B165=\"\",\"\",Data!B165)","v":""},{"$f":"IF(Data!C165=\"\",\"\",Data!C165)","v":""},{"$f":"IF(Data!D165=\"\",\"\",Data!D165)","v":""},{"$f":"IF(Data!E165=\"\",\"\",Data!E165)","v":""},{"$f":"IF(Data!F165=\"\",\"\",Data!F165)","v":""},{"$f":"IF(Data!G165=\"\",\"\",Data!G165)","v":""},{"$f":"IF(Data!H165=\"\",\"\",Data!H165)","v":""},{"$f":"IF(Data!I165=\"\",\"\",Data!I165)","v":""},{"$f":"IF(Data!J165=\"\",\"\",Data!J165)","v":""},{"$f":"IF(Data!K165=\"\",\"\",Data!K165)","v":""},{"$f":"IF(Data!L165=\"\",\"\",Data!L165)","v":""},{"$f":"IF(Data!M165=\"\",\"\",Data!M165)","v":""},{"$f":"IF(Data!N165=\"\",\"\",Data!N165)","v":""},{"$f":"IF(Data!O165=\"\",\"\",Data!O165)","v":""},{"$f":"IF(Data!P165=\"\",\"\",Data!P165)","v":""},{"$f":"IF(Data!Q165=\"\",\"\",Data!Q165)","v":""},{"$f":"IF(Data!R165=\"\",\"\",Data!R165)","v":""},{"$f":"IF(Data!S165=\"\",\"\",Data!S165)","v":""},null,null,null,null,165]
[{"$f":"IF(Data!A166=\"\",\"\",Data!A166)","v":""},"",{"$f":"IF(Data!B166=\"\",\"\",Data!B166)","v":""},{"$f":"IF(Data!C166=\"\",\"\",Data!C166)","v":""},{"$f":"IF(Data!D166=\"\",\"\",Data!D166)","v":""},{"$f":"IF(Data!E166=\"\",\"\",Data!E166)","v":""},{"$f":"IF(Data!F166=\"\",\"\",Data!F166)","v":""},{"$f":"IF(Data!G166=\"\",\"\",Data!G166)","v":""},{"$f":"IF(Data!H166=\"\",\"\",Data!H166)","v":""},{"$f":"IF(Data!I166=\"\",\"\",Data!I166)","v":""},{"$f":"IF(Data!J166=\"\",\"\",Data!J166)","v":""},{"$f":"IF(Data!K166=\"\",\"\",Data!K166)","v":""},{"$f":"IF(Data!L166=\"\",\"\",Data!L166)","v":""},{"$f":"IF(Data!M166=\"\",\"\",Data!M166)","v":""},{"$f":"IF(Data!N166=\"\",\"\",Data!N166)","v":""},{"$f":"IF(Data!O166=\"\",\"\",Data!O166)","v":""},{"$f":"IF(Data!P166=\"\",\"\",Data!P166)","v":""},{"$f":"IF(Data!Q166=\"\",\"\",Data!Q166)","v":""},{"$f":"IF(Data!R166=\"\",\"\",Data!R166)","v":""},{"$f":"IF(Data!S166=\"\",\"\",Data!S166)","v":""},null,null,null,null,166]
[{"$f":"IF(Data!A167=\"\",\"\",Data!A167)","v":""},"",{"$f":"IF(Data!B167=\"\",\"\",Data!B167)","v":""},{"$f":"IF(Data!C167=\"\",\"\",Data!C167)","v":""},{"$f":"IF(Data!D167=\"\",\"\",Data!D167)","v":""},{"$f":"IF(Data!E167=\"\",\"\",Data!E167)","v":""},{"$f":"IF(Data!F167=\"\",\"\",Data!F167)","v":""},{"$f":"IF(Data!G167=\"\",\"\",Data!G167)","v":""},{"$f":"IF(Data!H167=\"\",\"\",Data!H167)","v":""},{"$f":"IF(Data!I167=\"\",\"\",Data!I167)","v":""},{"$f":"IF(Data!J167=\"\",\"\",Data!J167)","v":""},{"$f":"IF(Data!K167=\"\",\"\",Data!K167)","v":""},{"$f":"IF(Data!L167=\"\",\"\",Data!L167)","v":""},{"$f":"IF(Data!M167=\"\",\"\",Data!M167)","v":""},{"$f":"IF(Data!N167=\"\",\"\",Data!N167)","v":""},{"$f":"IF(Data!O167=\"\",\"\",Data!O167)","v":""},{"$f":"IF(Data!P167=\"\",\"\",Data!P167)","v":""},{"$f":"IF(Data!Q167=\"\",\"\",Data!Q167)","v":""},{"$f":"IF(Data!R167=\"\",\"\",Data!R167)","v":""},{"$f":"IF(Data!S167=\"\",\"\",Data!S167)","v":""},null,null,null,null,167]
[{"$f":"IF(Data!A168=\"\",\"\",Data!A168)","v":""},"",{"$f":"IF(Data!B168=\"\",\"\",Data!B168)","v":""},{"$f":"IF(Data!C168=\"\",\"\",Data!C168)","v":""},{"$f":"IF(Data!D168=\"\",\"\",Data!D168)","v":""},{"$f":"IF(Data!E168=\"\",\"\",Data!E168)","v":""},{"$f":"IF(Data!F168=\"\",\"\",Data!F168)","v":""},{"$f":"IF(Data!G168=\"\",\"\",Data!G168)","v":""},{"$f":"IF(Data!H168=\"\",\"\",Data!H168)","v":""},{"$f":"IF(Data!I168=\"\",\"\",Data!I168)","v":""},{"$f":"IF(Data!J168=\"\",\"\",Data!J168)","v":""},{"$f":"IF(Data!K168=\"\",\"\",Data!K168)","v":""},{"$f":"IF(Data!L168=\"\",\"\",Data!L168)","v":""},{"$f":"IF(Data!M168=\"\",\"\",Data!M168)","v":""},{"$f":"IF(Data!N168=\"\",\"\",Data!N168)","v":""},{"$f":"IF(Data!O168=\"\",\"\",Data!O168)","v":""},{"$f":"IF(Data!P168=\"\",\"\",Data!P168)","v":""},{"$f":"IF(Data!Q168=\"\",\"\",Data!Q168)","v":""},{"$f":"IF(Data!R168=\"\",\"\",Data!R168)","v":""},{"$f":"IF(Data!S168=\"\",\"\",Data!S168)","v":""},null,null,null,null,168]
[{"$f":"IF(Data!A169=\"\",\"\",Data!A169)","v":""},"",{"$f":"IF(Data!B169=\"\",\"\",Data!B169)","v":""},{"$f":"IF(Data!C169=\"\",\"\",Data!C169)","v":""},{"$f":"IF(Data!D169=\"\",\"\",Data!D169)","v":""},{"$f":"IF(Data!E169=\"\",\"\",Data!E169)","v":""},{"$f":"IF(Data!F169=\"\",\"\",Data!F169)","v":""},{"$f":"IF(Data!G169=\"\",\"\",Data!G169)","v":""},{"$f":"IF(Data!H169=\"\",\"\",Data!H169)","v":""},{"$f":"IF(Data!I169=\"\",\"\",Data!I169)","v":""},{"$f":"IF(Data!J169=\"\",\"\",Data!J169)","v":""},{"$f":"IF(Data!K169=\"\",\"\",Data!K169)","v":""},{"$f":"IF(Data!L169=\"\",\"\",Data!L169)","v":""},{"$f":"IF(Data!M169=\"\",\"\",Data!M169)","v":""},{"$f":"IF(Data!N169=\"\",\"\",Data!N169)","v":""},{"$f":"IF(Data!O169=\"\",\"\",Data!O169)","v":""},{"$f":"IF(Data!P169=\"\",\"\",Data!P169)","v":""},{"$f":"IF(Data!Q169=\"\",\"\",Data!Q169)","v":""},{"$f":"IF(Data!R169=\"\",\"\",Data!R169)","v":""},{"$f":"IF(Data!S169=\"\",\"\",Data!S169)","v":""},null,null,null,null,169]
[{"$f":"IF(Data!A170=\"\",\"\",Data!A170)","v":""},"",{"$f":"IF(Data!B170=\"\",\"\",Data!B170)","v":""},{"$f":"IF(Data!C170=\"\",\"\",Data!C170)","v":""},{"$f":"IF(Data!D170=\"\",\"\",Data!D170)","v":""},{"$f":"IF(Data!E170=\"\",\"\",Data!E170)","v":""},{"$f":"IF(Data!F170=\"\",\"\",Data!F170)","v":""},{"$f":"IF(Data!G170=\"\",\"\",Data!G170)","v":""},{"$f":"IF(Data!H170=\"\",\"\",Data!H170)","v":""},{"$f":"IF(Data!I170=\"\",\"\",Data!I170)","v":""},{"$f":"IF(Data!J170=\"\",\"\",Data!J170)","v":""},{"$f":"IF(Data!K170=\"\",\"\",Data!K170)","v":""},{"$f":"IF(Data!L170=\"\",\"\",Data!L170)","v":""},{"$f":"IF(Data!M170=\"\",\"\",Data!M170)","v":""},{"$f":"IF(Data!N170=\"\",\"\",Data!N170)","v":""},{"$f":"IF(Data!O170=\"\",\"\",Data!O170)","v":""},{"$f":"IF(Data!P170=\"\",\"\",Data!P170)","v":""},{"$f":"IF(Data!Q170=\"\",\"\",Data!Q170)","v":""},{"$f":"IF(Data!R170=\"\",\"\",Data!R170)","v":""},{"$f":"IF(Data!S170=\"\",\"\",Data!S170)","v":""},null,null,null,null,170]
[{"$f":"IF(Data!A171=\"\",\"\",Data!A171)","v":""},"",{"$f":"IF(Data!B171=\"\",\"\",Data!B171)","v":""},{"$f":"IF(Data!C171=\"\",\"\",Data!C171)","v":""},{"$f":"IF(Data!D171=\"\",\"\",Data!D171)","v":""},{"$f":"IF(Data!E171=\"\",\"\",Data!E171)","v":""},{"$f":"IF(Data!F171=\"\",\"\",Data!F171)","v":""},{"$f":"IF(Data!G171=\"\",\"\",Data!G171)","v":""},{"$f":"IF(Data!H171=\"\",\"\",Data!H171)","v":""},{"$f":"IF(Data!I171=\"\",\"\",Data!I171)","v":""},{"$f":"IF(Data!J171=\"\",\"\",Data!J171)","v":""},{"$f":"IF(Data!K171=\"\",\"\",Data!K171)","v":""},{"$f":"IF(Data!L171=\"\",\"\",Data!L171)","v":""},{"$f":"IF(Data!M171=\"\",\"\",Data!M171)","v":""},{"$f":"IF(Data!N171=\"\",\"\",Data!N171)","v":""},{"$f":"IF(Data!O171=\"\",\"\",Data!O171)","v":""},{"$f":"IF(Data!P171=\"\",\"\",Data!P171)","v":""},{"$f":"IF(Data!Q171=\"\",\"\",Data!Q171)","v":""},{"$f":"IF(Data!R171=\"\",\"\",Data!R171)","v":""},{"$f":"IF(Data!S171=\"\",\"\",Data!S171)","v":""},null,null,null,null,171]
[{"$f":"IF(Data!A172=\"\",\"\",Data!A172)","v":""},"",{"$f":"IF(Data!B172=\"\",\"\",Data!B172)","v":""},{"$f":"IF(Data!C172=\"\",\"\",Data!C172)","v":""},{"$f":"IF(Data!D172=\"\",\"\",Data!D172)","v":""},{"$f":"IF(Data!E172=\"\",\"\",Data!E172)","v":""},{"$f":"IF(Data!F172=\"\",\"\",Data!F172)","v":""},{"$f":"IF(Data!G172=\"\",\"\",Data!G172)","v":""},{"$f":"IF(Data!H172=\"\",\"\",Data!H172)","v":""},{"$f":"IF(Data!I172=\"\",\"\",Data!I172)","v":""},{"$f":"IF(Data!J172=\"\",\"\",Data!J172)","v":""},{"$f":"IF(Data!K172=\"\",\"\",Data!K172)","v":""},{"$f":"IF(Data!L172=\"\",\"\",Data!L172)","v":""},{"$f":"IF(Data!M172=\"\",\"\",Data!M172)","v":""},{"$f":"IF(Data!N172=\"\",\"\",Data!N172)","v":""},{"$f":"IF(Data!O172=\"\",\"\",Data!O172)","v":""},{"$f":"IF(Data!P172=\"\",\"\",Data!P172)","v":""},{"$f":"IF(Data!Q172=\"\",\"\",Data!Q172)","v":""},{"$f":"IF(Data!R172=\"\",\"\",Data!R172)","v":""},{"$f":"IF(Data!S172=\"\",\"\",Data!S172)","v":""},null,null,null,null,172]
[{"$f":"IF(Data!A173=\"\",\"\",Data!A173)","v":""},"",{"$f":"IF(Data!B173=\"\",\"\",Data!B173)","v":""},{"$f":"IF(Data!C173=\"\",\"\",Data!C173)","v":""},{"$f":"IF(Data!D173=\"\",\"\",Data!D173)","v":""},{"$f":"IF(Data!E173=\"\",\"\",Data!E173)","v":""},{"$f":"IF(Data!F173=\"\",\"\",Data!F173)","v":""},{"$f":"IF(Data!G173=\"\",\"\",Data!G173)","v":""},{"$f":"IF(Data!H173=\"\",\"\",Data!H173)","v":""},{"$f":"IF(Data!I173=\"\",\"\",Data!I173)","v":""},{"$f":"IF(Data!J173=\"\",\"\",Data!J173)","v":""},{"$f":"IF(Data!K173=\"\",\"\",Data!K173)","v":""},{"$f":"IF(Data!L173=\"\",\"\",Data!L173)","v":""},{"$f":"IF(Data!M173=\"\",\"\",Data!M173)","v":""},{"$f":"IF(Data!N173=\"\",\"\",Data!N173)","v":""},{"$f":"IF(Data!O173=\"\",\"\",Data!O173)","v":""},{"$f":"IF(Data!P173=\"\",\"\",Data!P173)","v":""},{"$f":"IF(Data!Q173=\"\",\"\",Data!Q173)","v":""},{"$f":"IF(Data!R173=\"\",\"\",Data!R173)","v":""},{"$f":"IF(Data!S173=\"\",\"\",Data!S173)","v":""},null,null,null,null,173]
[{"$f":"IF(Data!A174=\"\",\"\",Data!A174)","v":""},"",{"$f":"IF(Data!B174=\"\",\"\",Data!B174)","v":""},{"$f":"IF(Data!C174=\"\",\"\",Data!C174)","v":""},{"$f":"IF(Data!D174=\"\",\"\",Data!D174)","v":""},{"$f":"IF(Data!E174=\"\",\"\",Data!E174)","v":""},{"$f":"IF(Data!F174=\"\",\"\",Data!F174)","v":""},{"$f":"IF(Data!G174=\"\",\"\",Data!G174)","v":""},{"$f":"IF(Data!H174=\"\",\"\",Data!H174)","v":""},{"$f":"IF(Data!I174=\"\",\"\",Data!I174)","v":""},{"$f":"IF(Data!J174=\"\",\"\",Data!J174)","v":""},{"$f":"IF(Data!K174=\"\",\"\",Data!K174)","v":""},{"$f":"IF(Data!L174=\"\",\"\",Data!L174)","v":""},{"$f":"IF(Data!M174=\"\",\"\",Data!M174)","v":""},{"$f":"IF(Data!N174=\"\",\"\",Data!N174)","v":""},{"$f":"IF(Data!O174=\"\",\"\",Data!O174)","v":""},{"$f":"IF(Data!P174=\"\",\"\",Data!P174)","v":""},{"$f":"IF(Data!Q174=\"\",\"\",Data!Q174)","v":""},{"$f":"IF(Data!R174=\"\",\"\",Data!R174)","v":""},{"$f":"IF(Data!S174=\"\",\"\",Data!S174)","v":""},null,null,null,null,174]
[{"$f":"IF(Data!A175=\"\",\"\",Data!A175)","v":""},"",{"$f":"IF(Data!B175=\"\",\"\",Data!B175)","v":""},{"$f":"IF(Data!C175=\"\",\"\",Data!C175)","v":""},{"$f":"IF(Data!D175=\"\",\"\",Data!D175)","v":""},{"$f":"IF(Data!E175=\"\",\"\",Data!E175)","v":""},{"$f":"IF(Data!F175=\"\",\"\",Data!F175)","v":""},{"$f":"IF(Data!G175=\"\",\"\",Data!G175)","v":""},{"$f":"IF(Data!H175=\"\",\"\",Data!H175)","v":""},{"$f":"IF(Data!I175=\"\",\"\",Data!I175)","v":""},{"$f":"IF(Data!J175=\"\",\"\",Data!J175)","v":""},{"$f":"IF(Data!K175=\"\",\"\",Data!K175)","v":""},{"$f":"IF(Data!L175=\"\",\"\",Data!L175)","v":""},{"$f":"IF(Data!M175=\"\",\"\",Data!M175)","v":""},{"$f":"IF(Data!N175=\"\",\"\",Data!N175)","v":""},{"$f":"IF(Data!O175=\"\",\"\",Data!O175)","v":""},{"$f":"IF(Data!P175=\"\",\"\",Data!P175)","v":""},{"$f":"IF(Data!Q175=\"\",\"\",Data!Q175)","v":""},{"$f":"IF(Data!R175=\"\",\"\",Data!R175)","v":""},{"$f":"IF(Data!S175=\"\",\"\",Data!S175)","v":""},null,null,null,null,175]
[{"$f":"IF(Data!A176=\"\",\"\",Data!A176)","v":""},"",{"$f":"IF(Data!B176=\"\",\"\",Data!B176)","v":""},{"$f":"IF(Data!C176=\"\",\"\",Data!C176)","v":""},{"$f":"IF(Data!D176=\"\",\"\",Data!D176)","v":""},{"$f":"IF(Data!E176=\"\",\"\",Data!E176)","v":""},{"$f":"IF(Data!F176=\"\",\"\",Data!F176)","v":""},{"$f":"IF(Data!G176=\"\",\"\",Data!G176)","v":""},{"$f":"IF(Data!H176=\"\",\"\",Data!H176)","v":""},{"$f":"IF(Data!I176=\"\",\"\",Data!I176)","v":""},{"$f":"IF(Data!J176=\"\",\"\",Data!J176)","v":""},{"$f":"IF(Data!K176=\"\",\"\",Data!K176)","v":""},{"$f":"IF(Data!L176=\"\",\"\",Data!L176)","v":""},{"$f":"IF(Data!M176=\"\",\"\",Data!M176)","v":""},{"$f":"IF(Data!N176=\"\",\"\",Data!N176)","v":""},{"$f":"IF(Data!O176=\"\",\"\",Data!O176)","v":""},{"$f":"IF(Data!P176=\"\",\"\",Data!P176)","v":""},{"$f":"IF(Data!Q176=\"\",\"\",Data!Q176)","v":""},{"$f":"IF(Data!R176=\"\",\"\",Data!R176)","v":""},{"$f":"IF(Data!S176=\"\",\"\",Data!S176)","v":""},null,null,null,null,176]
[{"$f":"IF(Data!A177=\"\",\"\",Data!A177)","v":""},"",{"$f":"IF(Data!B177=\"\",\"\",Data!B177)","v":""},{"$f":"IF(Data!C177=\"\",\"\",Data!C177)","v":""},{"$f":"IF(Data!D177=\"\",\"\",Data!D177)","v":""},{"$f":"IF(Data!E177=\"\",\"\",Data!E177)","v":""},{"$f":"IF(Data!F177=\"\",\"\",Data!F177)","v":""},{"$f":"IF(Data!G177=\"\",\"\",Data!G177)","v":""},{"$f":"IF(Data!H177=\"\",\"\",Data!H177)","v":""},{"$f":"IF(Data!I177=\"\",\"\",Data!I177)","v":""},{"$f":"IF(Data!J177=\"\",\"\",Data!J177)","v":""},{"$f":"IF(Data!K177=\"\",\"\",Data!K177)","v":""},{"$f":"IF(Data!L177=\"\",\"\",Data!L177)","v":""},{"$f":"IF(Data!M177=\"\",\"\",Data!M177)","v":""},{"$f":"IF(Data!N177=\"\",\"\",Data!N177)","v":""},{"$f":"IF(Data!O177=\"\",\"\",Data!O177)","v":""},{"$f":"IF(Data!P177=\"\",\"\",Data!P177)","v":""},{"$f":"IF(Data!Q177=\"\",\"\",Data!Q177)","v":""},{"$f":"IF(Data!R177=\"\",\"\",Data!R177)","v":""},{"$f":"IF(Data!S177=\"\",\"\",Data!S177)","v":""},null,null,null,null,177]
[{"$f":"IF(Data!A178=\"\",\"\",Data!A178)","v":""},"",{"$f":"IF(Data!B178=\"\",\"\",Data!B178)","v":""},{"$f":"IF(Data!C178=\"\",\"\",Data!C178)","v":""},{"$f":"IF(Data!D178=\"\",\"\",Data!D178)","v":""},{"$f":"IF(Data!E178=\"\",\"\",Data!E178)","v":""},{"$f":"IF(Data!F178=\"\",\"\",Data!F178)","v":""},{"$f":"IF(Data!G178=\"\",\"\",Data!G178)","v":""},{"$f":"IF(Data!H178=\"\",\"\",Data!H178)","v":""},{"$f":"IF(Data!I178=\"\",\"\",Data!I178)","v":""},{"$f":"IF(Data!J178=\"\",\"\",Data!J178)","v":""},{"$f":"IF(Data!K178=\"\",\"\",Data!K178)","v":""},{"$f":"IF(Data!L178=\"\",\"\",Data!L178)","v":""},{"$f":"IF(Data!M178=\"\",\"\",Data!M178)","v":""},{"$f":"IF(Data!N178=\"\",\"\",Data!N178)","v":""},{"$f":"IF(Data!O178=\"\",\"\",Data!O178)","v":""},{"$f":"IF(Data!P178=\"\",\"\",Data!P178)","v":""},{"$f":"IF(Data!Q178=\"\",\"\",Data!Q178)","v":""},{"$f":"IF(Data!R178=\"\",\"\",Data!R178)","v":""},{"$f":"IF(Data!S178=\"\",\"\",Data!S178)","v":""},null,null,null,null,178]
[{"$f":"IF(Data!A179=\"\",\"\",Data!A179)","v":""},"",{"$f":"IF(Data!B179=\"\",\"\",Data!B179)","v":""},{"$f":"IF(Data!C179=\"\",\"\",Data!C179)","v":""},{"$f":"IF(Data!D179=\"\",\"\",Data!D179)","v":""},{"$f":"IF(Data!E179=\"\",\"\",Data!E179)","v":""},{"$f":"IF(Data!F179=\"\",\"\",Data!F179)","v":""},{"$f":"IF(Data!G179=\"\",\"\",Data!G179)","v":""},{"$f":"IF(Data!H179=\"\",\"\",Data!H179)","v":""},{"$f":"IF(Data!I179=\"\",\"\",Data!I179)","v":""},{"$f":"IF(Data!J179=\"\",\"\",Data!J179)","v":""},{"$f":"IF(Data!K179=\"\",\"\",Data!K179)","v":""},{"$f":"IF(Data!L179=\"\",\"\",Data!L179)","v":""},{"$f":"IF(Data!M179=\"\",\"\",Data!M179)","v":""},{"$f":"IF(Data!N179=\"\",\"\",Data!N179)","v":""},{"$f":"IF(Data!O179=\"\",\"\",Data!O179)","v":""},{"$f":"IF(Data!P179=\"\",\"\",Data!P179)","v":""},{"$f":"IF(Data!Q179=\"\",\"\",Data!Q179)","v":""},{"$f":"IF(Data!R179=\"\",\"\",Data!R179)","v":""},{"$f":"IF(Data!S179=\"\",\"\",Data!S179)","v":""},null,null,null,null,179]
[{"$f":"IF(Data!A180=\"\",\"\",Data!A180)","v":""},"",{"$f":"IF(Data!B180=\"\",\"\",Data!B180)","v":""},{"$f":"IF(Data!C180=\"\",\"\",Data!C180)","v":""},{"$f":"IF(Data!D180=\"\",\"\",Data!D180)","v":""},{"$f":"IF(Data!E180=\"\",\"\",Data!E180)","v":""},{"$f":"IF(Data!F180=\"\",\"\",Data!F180)","v":""},{"$f":"IF(Data!G180=\"\",\"\",Data!G180)","v":""},{"$f":"IF(Data!H180=\"\",\"\",Data!H180)","v":""},{"$f":"IF(Data!I180=\"\",\"\",Data!I180)","v":""},{"$f":"IF(Data!J180=\"\",\"\",Data!J180)","v":""},{"$f":"IF(Data!K180=\"\",\"\",Data!K180)","v":""},{"$f":"IF(Data!L180=\"\",\"\",Data!L180)","v":""},{"$f":"IF(Data!M180=\"\",\"\",Data!M180)","v":""},{"$f":"IF(Data!N180=\"\",\"\",Data!N180)","v":""},{"$f":"IF(Data!O180=\"\",\"\",Data!O180)","v":""},{"$f":"IF(Data!P180=\"\",\"\",Data!P180)","v":""},{"$f":"IF(Data!Q180=\"\",\"\",Data!Q180)","v":""},{"$f":"IF(Data!R180=\"\",\"\",Data!R180)","v":""},{"$f":"IF(Data!S180=\"\",\"\",Data!S180)","v":""},null,null,null,null,180]
[{"$f":"IF(Data!A181=\"\",\"\",Data!A181)","v":""},"",{"$f":"IF(Data!B181=\"\",\"\",Data!B181)","v":""},{"$f":"IF(Data!C181=\"\",\"\",Data!C181)","v":""},{"$f":"IF(Data!D181=\"\",\"\",Data!D181)","v":""},{"$f":"IF(Data!E181=\"\",\"\",Data!E181)","v":""},{"$f":"IF(Data!F181=\"\",\"\",Data!F181)","v":""},{"$f":"IF(Data!G181=\"\",\"\",Data!G181)","v":""},{"$f":"IF(Data!H181=\"\",\"\",Data!H181)","v":""},{"$f":"IF(Data!I181=\"\",\"\",Data!I181)","v":""},{"$f":"IF(Data!J181=\"\",\"\",Data!J181)","v":""},{"$f":"IF(Data!K181=\"\",\"\",Data!K181)","v":""},{"$f":"IF(Data!L181=\"\",\"\",Data!L181)","v":""},{"$f":"IF(Data!M181=\"\",\"\",Data!M181)","v":""},{"$f":"IF(Data!N181=\"\",\"\",Data!N181)","v":""},{"$f":"IF(Data!O181=\"\",\"\",Data!O181)","v":""},{"$f":"IF(Data!P181=\"\",\"\",Data!P181)","v":""},{"$f":"IF(Data!Q181=\"\",\"\",Data!Q181)","v":""},{"$f":"IF(Data!R181=\"\",\"\",Data!R181)","v":""},{"$f":"IF(Data!S181=\"\",\"\",Data!S181)","v":""},null,null,null,null,181]
[{"$f":"IF(Data!A182=\"\",\"\",Data!A182)","v":""},"",{"$f":"IF(Data!B182=\"\",\"\",Data!B182)","v":""},{"$f":"IF(Data!C182=\"\",\"\",Data!C182)","v":""},{"$f":"IF(Data!D182=\"\",\"\",Data!D182)","v":""},{"$f":"IF(Data!E182=\"\",\"\",Data!E182)","v":""},{"$f":"IF(Data!F182=\"\",\"\",Data!F182)","v":""},{"$f":"IF(Data!G182=\"\",\"\",Data!G182)","v":""},{"$f":"IF(Data!H182=\"\",\"\",Data!H182)","v":""},{"$f":"IF(Data!I182=\"\",\"\",Data!I182)","v":""},{"$f":"IF(Data!J182=\"\",\"\",Data!J182)","v":""},{"$f":"IF(Data!K182=\"\",\"\",Data!K182)","v":""},{"$f":"IF(Data!L182=\"\",\"\",Data!L182)","v":""},{"$f":"IF(Data!M182=\"\",\"\",Data!M182)","v":""},{"$f":"IF(Data!N182=\"\",\"\",Data!N182)","v":""},{"$f":"IF(Data!O182=\"\",\"\",Data!O182)","v":""},{"$f":"IF(Data!P182=\"\",\"\",Data!P182)","v":""},{"$f":"IF(Data!Q182=\"\",\"\",Data!Q182)","v":""},{"$f":"IF(Data!R182=\"\",\"\",Data!R182)","v":""},{"$f":"IF(Data!S182=\"\",\"\",Data!S182)","v":""},null,null,null,null,182]
[{"$f":"IF(Data!A183=\"\",\"\",Data!A183)","v":""},"",{"$f":"IF(Data!B183=\"\",\"\",Data!B183)","v":""},{"$f":"IF(Data!C183=\"\",\"\",Data!C183)","v":""},{"$f":"IF(Data!D183=\"\",\"\",Data!D183)","v":""},{"$f":"IF(Data!E183=\"\",\"\",Data!E183)","v":""},{"$f":"IF(Data!F183=\"\",\"\",Data!F183)","v":""},{"$f":"IF(Data!G183=\"\",\"\",Data!G183)","v":""},{"$f":"IF(Data!H183=\"\",\"\",Data!H183)","v":""},{"$f":"IF(Data!I183=\"\",\"\",Data!I183)","v":""},{"$f":"IF(Data!J183=\"\",\"\",Data!J183)","v":""},{"$f":"IF(Data!K183=\"\",\"\",Data!K183)","v":""},{"$f":"IF(Data!L183=\"\",\"\",Data!L183)","v":""},{"$f":"IF(Data!M183=\"\",\"\",Data!M183)","v":""},{"$f":"IF(Data!N183=\"\",\"\",Data!N183)","v":""},{"$f":"IF(Data!O183=\"\",\"\",Data!O183)","v":""},{"$f":"IF(Data!P183=\"\",\"\",Data!P183)","v":""},{"$f":"IF(Data!Q183=\"\",\"\",Data!Q183)","v":""},{"$f":"IF(Data!R183=\"\",\"\",Data!R183)","v":""},{"$f":"IF(Data!S183=\"\",\"\",Data!S183)","v":""},null,null,null,null,183]
[{"$f":"IF(Data!A184=\"\",\"\",Data!A184)","v":""},"",{"$f":"IF(Data!B184=\"\",\"\",Data!B184)","v":""},{"$f":"IF(Data!C184=\"\",\"\",Data!C184)","v":""},{"$f":"IF(Data!D184=\"\",\"\",Data!D184)","v":""},{"$f":"IF(Data!E184=\"\",\"\",Data!E184)","v":""},{"$f":"IF(Data!F184=\"\",\"\",Data!F184)","v":""},{"$f":"IF(Data!G184=\"\",\"\",Data!G184)","v":""},{"$f":"IF(Data!H184=\"\",\"\",Data!H184)","v":""},{"$f":"IF(Data!I184=\"\",\"\",Data!I184)","v":""},{"$f":"IF(Data!J184=\"\",\"\",Data!J184)","v":""},{"$f":"IF(Data!K184=\"\",\"\",Data!K184)","v":""},{"$f":"IF(Data!L184=\"\",\"\",Data!L184)","v":""},{"$f":"IF(Data!M184=\"\",\"\",Data!M184)","v":""},{"$f":"IF(Data!N184=\"\",\"\",Data!N184)","v":""},{"$f":"IF(Data!O184=\"\",\"\",Data!O184)","v":""},{"$f":"IF(Data!P184=\"\",\"\",Data!P184)","v":""},{"$f":"IF(Data!Q184=\"\",\"\",Data!Q184)","v":""},{"$f":"IF(Data!R184=\"\",\"\",Data!R184)","v":""},{"$f":"IF(Data!S184=\"\",\"\",Data!S184)","v":""},null,null,null,null,184]
[{"$f":"IF(Data!A185=\"\",\"\",Data!A185)","v":""},"",{"$f":"IF(Data!B185=\"\",\"\",Data!B185)","v":""},{"$f":"IF(Data!C185=\"\",\"\",Data!C185)","v":""},{"$f":"IF(Data!D185=\"\",\"\",Data!D185)","v":""},{"$f":"IF(Data!E185=\"\",\"\",Data!E185)","v":""},{"$f":"IF(Data!F185=\"\",\"\",Data!F185)","v":""},{"$f":"IF(Data!G185=\"\",\"\",Data!G185)","v":""},{"$f":"IF(Data!H185=\"\",\"\",Data!H185)","v":""},{"$f":"IF(Data!I185=\"\",\"\",Data!I185)","v":""},{"$f":"IF(Data!J185=\"\",\"\",Data!J185)","v":""},{"$f":"IF(Data!K185=\"\",\"\",Data!K185)","v":""},{"$f":"IF(Data!L185=\"\",\"\",Data!L185)","v":""},{"$f":"IF(Data!M185=\"\",\"\",Data!M185)","v":""},{"$f":"IF(Data!N185=\"\",\"\",Data!N185)","v":""},{"$f":"IF(Data!O185=\"\",\"\",Data!O185)","v":""},{"$f":"IF(Data!P185=\"\",\"\",Data!P185)","v":""},{"$f":"IF(Data!Q185=\"\",\"\",Data!Q185)","v":""},{"$f":"IF(Data!R185=\"\",\"\",Data!R185)","v":""},{"$f":"IF(Data!S185=\"\",\"\",Data!S185)","v":""},null,null,null,null,185]
[{"$f":"IF(Data!A186=\"\",\"\",Data!A186)","v":""},"",{"$f":"IF(Data!B186=\"\",\"\",Data!B186)","v":""},{"$f":"IF(Data!C186=\"\",\"\",Data!C186)","v":""},{"$f":"IF(Data!D186=\"\",\"\",Data!D186)","v":""},{"$f":"IF(Data!E186=\"\",\"\",Data!E186)","v":""},{"$f":"IF(Data!F186=\"\",\"\",Data!F186)","v":""},{"$f":"IF(Data!G186=\"\",\"\",Data!G186)","v":""},{"$f":"IF(Data!H186=\"\",\"\",Data!H186)","v":""},{"$f":"IF(Data!I186=\"\",\"\",Data!I186)","v":""},{"$f":"IF(Data!J186=\"\",\"\",Data!J186)","v":""},{"$f":"IF(Data!K186=\"\",\"\",Data!K186)","v":""},{"$f":"IF(Data!L186=\"\",\"\",Data!L186)","v":""},{"$f":"IF(Data!M186=\"\",\"\",Data!M186)","v":""},{"$f":"IF(Data!N186=\"\",\"\",Data!N186)","v":""},{"$f":"IF(Data!O186=\"\",\"\",Data!O186)","v":""},{"$f":"IF(Data!P186=\"\",\"\",Data!P186)","v":""},{"$f":"IF(Data!Q186=\"\",\"\",Data!Q186)","v":""},{"$f":"IF(Data!R186=\"\",\"\",Data!R186)","v":""},{"$f":"IF(Data!S186=\"\",\"\",Data!S186)","v":""},null,null,null,null,186]
[{"$f":"IF(Data!A187=\"\",\"\",Data!A187)","v":""},"",{"$f":"IF(Data!B187=\"\",\"\",Data!B187)","v":""},{"$f":"IF(Data!C187=\"\",\"\",Data!C187)","v":""},{"$f":"IF(Data!D187=\"\",\"\",Data!D187)","v":""},{"$f":"IF(Data!E187=\"\",\"\",Data!E187)","v":""},{"$f":"IF(Data!F187=\"\",\"\",Data!F187)","v":""},{"$f":"IF(Data!G187=\"\",\"\",Data!G187)","v":""},{"$f":"IF(Data!H187=\"\",\"\",Data!H187)","v":""},{"$f":"IF(Data!I187=\"\",\"\",Data!I187)","v":""},{"$f":"IF(Data!J187=\"\",\"\",Data!J187)","v":""},{"$f":"IF(Data!K187=\"\",\"\",Data!K187)","v":""},{"$f":"IF(Data!L187=\"\",\"\",Data!L187)","v":""},{"$f":"IF(Data!M187=\"\",\"\",Data!M187)","v":""},{"$f":"IF(Data!N187=\"\",\"\",Data!N187)","v":""},{"$f":"IF(Data!O187=\"\",\"\",Data!O187)","v":""},{"$f":"IF(Data!P187=\"\",\"\",Data!P187)","v":""},{"$f":"IF(Data!Q187=\"\",\"\",Data!Q187)","v":""},{"$f":"IF(Data!R187=\"\",\"\",Data!R187)","v":""},{"$f":"IF(Data!S187=\"\",\"\",Data!S187)","v":""},null,null,null,null,187]
[{"$f":"IF(Data!A188=\"\",\"\",Data!A188)","v":""},"",{"$f":"IF(Data!B188=\"\",\"\",Data!B188)","v":""},{"$f":"IF(Data!C188=\"\",\"\",Data!C188)","v":""},{"$f":"IF(Data!D188=\"\",\"\",Data!D188)","v":""},{"$f":"IF(Data!E188=\"\",\"\",Data!E188)","v":""},{"$f":"IF(Data!F188=\"\",\"\",Data!F188)","v":""},{"$f":"IF(Data!G188=\"\",\"\",Data!G188)","v":""},{"$f":"IF(Data!H188=\"\",\"\",Data!H188)","v":""},{"$f":"IF(Data!I188=\"\",\"\",Data!I188)","v":""},{"$f":"IF(Data!J188=\"\",\"\",Data!J188)","v":""},{"$f":"IF(Data!K188=\"\",\"\",Data!K188)","v":""},{"$f":"IF(Data!L188=\"\",\"\",Data!L188)","v":""},{"$f":"IF(Data!M188=\"\",\"\",Data!M188)","v":""},{"$f":"IF(Data!N188=\"\",\"\",Data!N188)","v":""},{"$f":"IF(Data!O188=\"\",\"\",Data!O188)","v":""},{"$f":"IF(Data!P188=\"\",\"\",Data!P188)","v":""},{"$f":"IF(Data!Q188=\"\",\"\",Data!Q188)","v":""},{"$f":"IF(Data!R188=\"\",\"\",Data!R188)","v":""},{"$f":"IF(Data!S188=\"\",\"\",Data!S188)","v":""},null,null,null,null,188]
[{"$f":"IF(Data!A189=\"\",\"\",Data!A189)","v":""},"",{"$f":"IF(Data!B189=\"\",\"\",Data!B189)","v":""},{"$f":"IF(Data!C189=\"\",\"\",Data!C189)","v":""},{"$f":"IF(Data!D189=\"\",\"\",Data!D189)","v":""},{"$f":"IF(Data!E189=\"\",\"\",Data!E189)","v":""},{"$f":"IF(Data!F189=\"\",\"\",Data!F189)","v":""},{"$f":"IF(Data!G189=\"\",\"\",Data!G189)","v":""},{"$f":"IF(Data!H189=\"\",\"\",Data!H189)","v":""},{"$f":"IF(Data!I189=\"\",\"\",Data!I189)","v":""},{"$f":"IF(Data!J189=\"\",\"\",Data!J189)","v":""},{"$f":"IF(Data!K189=\"\",\"\",Data!K189)","v":""},{"$f":"IF(Data!L189=\"\",\"\",Data!L189)","v":""},{"$f":"IF(Data!M189=\"\",\"\",Data!M189)","v":""},{"$f":"IF(Data!N189=\"\",\"\",Data!N189)","v":""},{"$f":"IF(Data!O189=\"\",\"\",Data!O189)","v":""},{"$f":"IF(Data!P189=\"\",\"\",Data!P189)","v":""},{"$f":"IF(Data!Q189=\"\",\"\",Data!Q189)","v":""},{"$f":"IF(Data!R189=\"\",\"\",Data!R189)","v":""},{"$f":"IF(Data!S189=\"\",\"\",Data!S189)","v":""},null,null,null,null,189]
[{"$f":"IF(Data!A190=\"\",\"\",Data!A190)","v":""},"",{"$f":"IF(Data!B190=\"\",\"\",Data!B190)","v":""},{"$f":"IF(Data!C190=\"\",\"\",Data!C190)","v":""},{"$f":"IF(Data!D190=\"\",\"\",Data!D190)","v":""},{"$f":"IF(Data!E190=\"\",\"\",Data!E190)","v":""},{"$f":"IF(Data!F190=\"\",\"\",Data!F190)","v":""},{"$f":"IF(Data!G190=\"\",\"\",Data!G190)","v":""},{"$f":"IF(Data!H190=\"\",\"\",Data!H190)","v":""},{"$f":"IF(Data!I190=\"\",\"\",Data!I190)","v":""},{"$f":"IF(Data!J190=\"\",\"\",Data!J190)","v":""},{"$f":"IF(Data!K190=\"\",\"\",Data!K190)","v":""},{"$f":"IF(Data!L190=\"\",\"\",Data!L190)","v":""},{"$f":"IF(Data!M190=\"\",\"\",Data!M190)","v":""},{"$f":"IF(Data!N190=\"\",\"\",Data!N190)","v":""},{"$f":"IF(Data!O190=\"\",\"\",Data!O190)","v":""},{"$f":"IF(Data!P190=\"\",\"\",Data!P190)","v":""},{"$f":"IF(Data!Q190=\"\",\"\",Data!Q190)","v":""},{"$f":"IF(Data!R190=\"\",\"\",Data!R190)","v":""},{"$f":"IF(Data!S190=\"\",\"\",Data!S190)","v":""},null,null,null,null,190]
[{"$f":"IF(Data!A191=\"\",\"\",Data!A191)","v":""},"",{"$f":"IF(Data!B191=\"\",\"\",Data!B191)","v":""},{"$f":"IF(Data!C191=\"\",\"\",Data!C191)","v":""},{"$f":"IF(Data!D191=\"\",\"\",Data!D191)","v":""},{"$f":"IF(Data!E191=\"\",\"\",Data!E191)","v":""},{"$f":"IF(Data!F191=\"\",\"\",Data!F191)","v":""},{"$f":"IF(Data!G191=\"\",\"\",Data!G191)","v":""},{"$f":"IF(Data!H191=\"\",\"\",Data!H191)","v":""},{"$f":"IF(Data!I191=\"\",\"\",Data!I191)","v":""},{"$f":"IF(Data!J191=\"\",\"\",Data!J191)","v":""},{"$f":"IF(Data!K191=\"\",\"\",Data!K191)","v":""},{"$f":"IF(Data!L191=\"\",\"\",Data!L191)","v":""},{"$f":"IF(Data!M191=\"\",\"\",Data!M191)","v":""},{"$f":"IF(Data!N191=\"\",\"\",Data!N191)","v":""},{"$f":"IF(Data!O191=\"\",\"\",Data!O191)","v":""},{"$f":"IF(Data!P191=\"\",\"\",Data!P191)","v":""},{"$f":"IF(Data!Q191=\"\",\"\",Data!Q191)","v":""},{"$f":"IF(Data!R191=\"\",\"\",Data!R191)","v":""},{"$f":"IF(Data!S191=\"\",\"\",Data!S191)","v":""},null,null,null,null,191]
[{"$f":"IF(Data!A192=\"\",\"\",Data!A192)","v":""},"",{"$f":"IF(Data!B192=\"\",\"\",Data!B192)","v":""},{"$f":"IF(Data!C192=\"\",\"\",Data!C192)","v":""},{"$f":"IF(Data!D192=\"\",\"\",Data!D192)","v":""},{"$f":"IF(Data!E192=\"\",\"\",Data!E192)","v":""},{"$f":"IF(Data!F192=\"\",\"\",Data!F192)","v":""},{"$f":"IF(Data!G192=\"\",\"\",Data!G192)","v":""},{"$f":"IF(Data!H192=\"\",\"\",Data!H192)","v":""},{"$f":"IF(Data!I192=\"\",\"\",Data!I192)","v":""},{"$f":"IF(Data!J192=\"\",\"\",Data!J192)","v":""},{"$f":"IF(Data!K192=\"\",\"\",Data!K192)","v":""},{"$f":"IF(Data!L192=\"\",\"\",Data!L192)","v":""},{"$f":"IF(Data!M192=\"\",\"\",Data!M192)","v":""},{"$f":"IF(Data!N192=\"\",\"\",Data!N192)","v":""},{"$f":"IF(Data!O192=\"\",\"\",Data!O192)","v":""},{"$f":"IF(Data!P192=\"\",\"\",Data!P192)","v":""},{"$f":"IF(Data!Q192=\"\",\"\",Data!Q192)","v":""},{"$f":"IF(Data!R192=\"\",\"\",Data!R192)","v":""},{"$f":"IF(Data!S192=\"\",\"\",Data!S192)","v":""},null,null,null,null,192]
[{"$f":"IF(Data!A193=\"\",\"\",Data!A193)","v":""},{"$f":"IF(A194=\"\",\"\",Y194)","v":""},{"$f":"IF(Data!B193=\"\",\"\",Data!B193)","v":""},{"$f":"IF(Data!C193=\"\",\"\",Data!C193)","v":""},{"$f":"IF(Data!D193=\"\",\"\",Data!D193)","v":""},{"$f":"IF(Data!E193=\"\",\"\",Data!E193)","v":""},{"$f":"IF(Data!F193=\"\",\"\",Data!F193)","v":""},{"$f":"IF(Data!G193=\"\",\"\",Data!G193)","v":""},{"$f":"IF(Data!H193=\"\",\"\",Data!H193)","v":""},{"$f":"IF(Data!I193=\"\",\"\",Data!I193)","v":""},{"$f":"IF(Data!J193=\"\",\"\",Data!J193)","v":""},{"$f":"IF(Data!K193=\"\",\"\",Data!K193)","v":""},{"$f":"IF(Data!L193=\"\",\"\",Data!L193)","v":""},{"$f":"IF(Data!M193=\"\",\"\",Data!M193)","v":""},{"$f":"IF(Data!N193=\"\",\"\",Data!N193)","v":""},{"$f":"IF(Data!O193=\"\",\"\",Data!O193)","v":""},{"$f":"IF(Data!P193=\"\",\"\",Data!P193)","v":""},{"$f":"IF(Data!Q193=\"\",\"\",Data!Q193)","v":""},{"$f":"IF(Data!R193=\"\",\"\",Data!R193)","v":""},{"$f":"IF(Data!S193=\"\",\"\",Data!S193)","v":""},null,null,null,null,193]
[{"$f":"IF(Data!A194=\"\",\"\",Data!A194)","v":""},"",{"$f":"IF(Data!B194=\"\",\"\",Data!B194)","v":""},{"$f":"IF(Data!C194=\"\",\"\",Data!C194)","v":""},{"$f":"IF(Data!D194=\"\",\"\",Data!D194)","v":""},{"$f":"IF(Data!E194=\"\",\"\",Data!E194)","v":""},{"$f":"IF(Data!F194=\"\",\"\",Data!F194)","v":""},{"$f":"IF(Data!G194=\"\",\"\",Data!G194)","v":""},{"$f":"IF(Data!H194=\"\",\"\",Data!H194)","v":""},{"$f":"IF(Data!I194=\"\",\"\",Data!I194)","v":""},{"$f":"IF(Data!J194=\"\",\"\",Data!J194)","v":""},{"$f":"IF(Data!K194=\"\",\"\",Data!K194)","v":""},{"$f":"IF(Data!L194=\"\",\"\",Data!L194)","v":""},{"$f":"IF(Data!M194=\"\",\"\",Data!M194)","v":""},{"$f":"IF(Data!N194=\"\",\"\",Data!N194)","v":""},{"$f":"IF(Data!O194=\"\",\"\",Data!O194)","v":""},{"$f":"IF(Data!P194=\"\",\"\",Data!P194)","v":""},{"$f":"IF(Data!Q194=\"\",\"\",Data!Q194)","v":""},{"$f":"IF(Data!R194=\"\",\"\",Data!R194)","v":""},{"$f":"IF(Data!S194=\"\",\"\",Data!S194)","v":""},null,null,null,null,194]
[{"$f":"IF(Data!A195=\"\",\"\",Data!A195)","v":""},"",{"$f":"IF(Data!B195=\"\",\"\",Data!B195)","v":""},{"$f":"IF(Data!C195=\"\",\"\",Data!C195)","v":""},{"$f":"IF(Data!D195=\"\",\"\",Data!D195)","v":""},{"$f":"IF(Data!E195=\"\",\"\",Data!E195)","v":""},{"$f":"IF(Data!F195=\"\",\"\",Data!F195)","v":""},{"$f":"IF(Data!G195=\"\",\"\",Data!G195)","v":""},{"$f":"IF(Data!H195=\"\",\"\",Data!H195)","v":""},{"$f":"IF(Data!I195=\"\",\"\",Data!I195)","v":""},{"$f":"IF(Data!J195=\"\",\"\",Data!J195)","v":""},{"$f":"IF(Data!K195=\"\",\"\",Data!K195)","v":""},{"$f":"IF(Data!L195=\"\",\"\",Data!L195)","v":""},{"$f":"IF(Data!M195=\"\",\"\",Data!M195)","v":""},{"$f":"IF(Data!N195=\"\",\"\",Data!N195)","v":""},{"$f":"IF(Data!O195=\"\",\"\",Data!O195)","v":""},{"$f":"IF(Data!P195=\"\",\"\",Data!P195)","v":""},{"$f":"IF(Data!Q195=\"\",\"\",Data!Q195)","v":""},{"$f":"IF(Data!R195=\"\",\"\",Data!R195)","v":""},{"$f":"IF(Data!S195=\"\",\"\",Data!S195)","v":""},null,null,null,null,195]
[{"$f":"IF(Data!A196=\"\",\"\",Data!A196)","v":""},"",{"$f":"IF(Data!B196=\"\",\"\",Data!B196)","v":""},{"$f":"IF(Data!C196=\"\",\"\",Data!C196)","v":""},{"$f":"IF(Data!D196=\"\",\"\",Data!D196)","v":""},{"$f":"IF(Data!E196=\"\",\"\",Data!E196)","v":""},{"$f":"IF(Data!F196=\"\",\"\",Data!F196)","v":""},{"$f":"IF(Data!G196=\"\",\"\",Data!G196)","v":""},{"$f":"IF(Data!H196=\"\",\"\",Data!H196)","v":""},{"$f":"IF(Data!I196=\"\",\"\",Data!I196)","v":""},{"$f":"IF(Data!J196=\"\",\"\",Data!J196)","v":""},{"$f":"IF(Data!K196=\"\",\"\",Data!K196)","v":""},{"$f":"IF(Data!L196=\"\",\"\",Data!L196)","v":""},{"$f":"IF(Data!M196=\"\",\"\",Data!M196)","v":""},{"$f":"IF(Data!N196=\"\",\"\",Data!N196)","v":""},{"$f":"IF(Data!O196=\"\",\"\",Data!O196)","v":""},{"$f":"IF(Data!P196=\"\",\"\",Data!P196)","v":""},{"$f":"IF(Data!Q196=\"\",\"\",Data!Q196)","v":""},{"$f":"IF(Data!R196=\"\",\"\",Data!R196)","v":""},{"$f":"IF(Data!S196=\"\",\"\",Data!S196)","v":""},null,null,null,null,196]
[{"$f":"IF(Data!A197=\"\",\"\",Data!A197)","v":""},"",{"$f":"IF(Data!B197=\"\",\"\",Data!B197)","v":""},{"$f":"IF(Data!C197=\"\",\"\",Data!C197)","v":""},{"$f":"IF(Data!D197=\"\",\"\",Data!D197)","v":""},{"$f":"IF(Data!E197=\"\",\"\",Data!E197)","v":""},{"$f":"IF(Data!F197=\"\",\"\",Data!F197)","v":""},{"$f":"IF(Data!G197=\"\",\"\",Data!G197)","v":""},{"$f":"IF(Data!H197=\"\",\"\",Data!H197)","v":""},{"$f":"IF(Data!I197=\"\",\"\",Data!I197)","v":""},{"$f":"IF(Data!J197=\"\",\"\",Data!J197)","v":""},{"$f":"IF(Data!K197=\"\",\"\",Data!K197)","v":""},{"$f":"IF(Data!L197=\"\",\"\",Data!L197)","v":""},{"$f":"IF(Data!M197=\"\",\"\",Data!M197)","v":""},{"$f":"IF(Data!N197=\"\",\"\",Data!N197)","v":""},{"$f":"IF(Data!O197=\"\",\"\",Data!O197)","v":""},{"$f":"IF(Data!P197=\"\",\"\",Data!P197)","v":""},{"$f":"IF(Data!Q197=\"\",\"\",Data!Q197)","v":""},{"$f":"IF(Data!R197=\"\",\"\",Data!R197)","v":""},{"$f":"IF(Data!S197=\"\",\"\",Data!S197)","v":""},null,null,null,null,197]
[{"$f":"IF(Data!A198=\"\",\"\",Data!A198)","v":""},"",{"$f":"IF(Data!B198=\"\",\"\",Data!B198)","v":""},{"$f":"IF(Data!C198=\"\",\"\",Data!C198)","v":""},{"$f":"IF(Data!D198=\"\",\"\",Data!D198)","v":""},{"$f":"IF(Data!E198=\"\",\"\",Data!E198)","v":""},{"$f":"IF(Data!F198=\"\",\"\",Data!F198)","v":""},{"$f":"IF(Data!G198=\"\",\"\",Data!G198)","v":""},{"$f":"IF(Data!H198=\"\",\"\",Data!H198)","v":""},{"$f":"IF(Data!I198=\"\",\"\",Data!I198)","v":""},{"$f":"IF(Data!J198=\"\",\"\",Data!J198)","v":""},{"$f":"IF(Data!K198=\"\",\"\",Data!K198)","v":""},{"$f":"IF(Data!L198=\"\",\"\",Data!L198)","v":""},{"$f":"IF(Data!M198=\"\",\"\",Data!M198)","v":""},{"$f":"IF(Data!N198=\"\",\"\",Data!N198)","v":""},{"$f":"IF(Data!O198=\"\",\"\",Data!O198)","v":""},{"$f":"IF(Data!P198=\"\",\"\",Data!P198)","v":""},{"$f":"IF(Data!Q198=\"\",\"\",Data!Q198)","v":""},{"$f":"IF(Data!R198=\"\",\"\",Data!R198)","v":""},{"$f":"IF(Data!S198=\"\",\"\",Data!S198)","v":""},null,null,null,null,198]
[{"$f":"IF(Data!A199=\"\",\"\",Data!A199)","v":""},"",{"$f":"IF(Data!B199=\"\",\"\",Data!B199)","v":""},{"$f":"IF(Data!C199=\"\",\"\",Data!C199)","v":""},{"$f":"IF(Data!D199=\"\",\"\",Data!D199)","v":""},{"$f":"IF(Data!E199=\"\",\"\",Data!E199)","v":""},{"$f":"IF(Data!F199=\"\",\"\",Data!F199)","v":""},{"$f":"IF(Data!G199=\"\",\"\",Data!G199)","v":""},{"$f":"IF(Data!H199=\"\",\"\",Data!H199)","v":""},{"$f":"IF(Data!I199=\"\",\"\",Data!I199)","v":""},{"$f":"IF(Data!J199=\"\",\"\",Data!J199)","v":""},{"$f":"IF(Data!K199=\"\",\"\",Data!K199)","v":""},{"$f":"IF(Data!L199=\"\",\"\",Data!L199)","v":""},{"$f":"IF(Data!M199=\"\",\"\",Data!M199)","v":""},{"$f":"IF(Data!N199=\"\",\"\",Data!N199)","v":""},{"$f":"IF(Data!O199=\"\",\"\",Data!O199)","v":""},{"$f":"IF(Data!P199=\"\",\"\",Data!P199)","v":""},{"$f":"IF(Data!Q199=\"\",\"\",Data!Q199)","v":""},{"$f":"IF(Data!R199=\"\",\"\",Data!R199)","v":""},{"$f":"IF(Data!S199=\"\",\"\",Data!S199)","v":""},null,null,null,null,199]
[{"$f":"IF(Data!A200=\"\",\"\",Data!A200)","v":""},"",{"$f":"IF(Data!B200=\"\",\"\",Data!B200)","v":""},{"$f":"IF(Data!C200=\"\",\"\",Data!C200)","v":""},{"$f":"IF(Data!D200=\"\",\"\",Data!D200)","v":""},{"$f":"IF(Data!E200=\"\",\"\",Data!E200)","v":""},{"$f":"IF(Data!F200=\"\",\"\",Data!F200)","v":""},{"$f":"IF(Data!G200=\"\",\"\",Data!G200)","v":""},{"$f":"IF(Data!H200=\"\",\"\",Data!H200)","v":""},{"$f":"IF(Data!I200=\"\",\"\",Data!I200)","v":""},{"$f":"IF(Data!J200=\"\",\"\",Data!J200)","v":""},{"$f":"IF(Data!K200=\"\",\"\",Data!K200)","v":""},{"$f":"IF(Data!L200=\"\",\"\",Data!L200)","v":""},{"$f":"IF(Data!M200=\"\",\"\",Data!M200)","v":""},{"$f":"IF(Data!N200=\"\",\"\",Data!N200)","v":""},{"$f":"IF(Data!O200=\"\",\"\",Data!O200)","v":""},{"$f":"IF(Data!P200=\"\",\"\",Data!P200)","v":""},{"$f":"IF(Data!Q200=\"\",\"\",Data!Q200)","v":""},{"$f":"IF(Data!R200=\"\",\"\",Data!R200)","v":""},{"$f":"IF(Data!S200=\"\",\"\",Data!S200)","v":""},null,null,null,null,200]
[{"$f":"IF(Data!A201=\"\",\"\",Data!A201)","v":""},"",{"$f":"IF(Data!B201=\"\",\"\",Data!B201)","v":""},{"$f":"IF(Data!C201=\"\",\"\",Data!C201)","v":""},{"$f":"IF(Data!D201=\"\",\"\",Data!D201)","v":""},{"$f":"IF(Data!E201=\"\",\"\",Data!E201)","v":""},{"$f":"IF(Data!F201=\"\",\"\",Data!F201)","v":""},{"$f":"IF(Data!G201=\"\",\"\",Data!G201)","v":""},{"$f":"IF(Data!H201=\"\",\"\",Data!H201)","v":""},{"$f":"IF(Data!I201=\"\",\"\",Data!I201)","v":""},{"$f":"IF(Data!J201=\"\",\"\",Data!J201)","v":""},{"$f":"IF(Data!K201=\"\",\"\",Data!K201)","v":""},{"$f":"IF(Data!L201=\"\",\"\",Data!L201)","v":""},{"$f":"IF(Data!M201=\"\",\"\",Data!M201)","v":""},{"$f":"IF(Data!N201=\"\",\"\",Data!N201)","v":""},{"$f":"IF(Data!O201=\"\",\"\",Data!O201)","v":""},{"$f":"IF(Data!P201=\"\",\"\",Data!P201)","v":""},{"$f":"IF(Data!Q201=\"\",\"\",Data!Q201)","v":""},{"$f":"IF(Data!R201=\"\",\"\",Data!R201)","v":""},{"$f":"IF(Data!S201=\"\",\"\",Data!S201)","v":""},null,null,null,null,201]
[{"$f":"IF(Data!A202=\"\",\"\",Data!A202)","v":""},"",{"$f":"IF(Data!B202=\"\",\"\",Data!B202)","v":""},{"$f":"IF(Data!C202=\"\",\"\",Data!C202)","v":""},{"$f":"IF(Data!D202=\"\",\"\",Data!D202)","v":""},{"$f":"IF(Data!E202=\"\",\"\",Data!E202)","v":""},{"$f":"IF(Data!F202=\"\",\"\",Data!F202)","v":""},{"$f":"IF(Data!G202=\"\",\"\",Data!G202)","v":""},{"$f":"IF(Data!H202=\"\",\"\",Data!H202)","v":""},{"$f":"IF(Data!I202=\"\",\"\",Data!I202)","v":""},{"$f":"IF(Data!J202=\"\",\"\",Data!J202)","v":""},{"$f":"IF(Data!K202=\"\",\"\",Data!K202)","v":""},{"$f":"IF(Data!L202=\"\",\"\",Data!L202)","v":""},{"$f":"IF(Data!M202=\"\",\"\",Data!M202)","v":""},{"$f":"IF(Data!N202=\"\",\"\",Data!N202)","v":""},{"$f":"IF(Data!O202=\"\",\"\",Data!O202)","v":""},{"$f":"IF(Data!P202=\"\",\"\",Data!P202)","v":""},{"$f":"IF(Data!Q202=\"\",\"\",Data!Q202)","v":""},{"$f":"IF(Data!R202=\"\",\"\",Data!R202)","v":""},{"$f":"IF(Data!S202=\"\",\"\",Data!S202)","v":""},null,null,null,null,202]
[{"$f":"IF(Data!A203=\"\",\"\",Data!A203)","v":""},"",{"$f":"IF(Data!B203=\"\",\"\",Data!B203)","v":""},{"$f":"IF(Data!C203=\"\",\"\",Data!C203)","v":""},{"$f":"IF(Data!D203=\"\",\"\",Data!D203)","v":""},{"$f":"IF(Data!E203=\"\",\"\",Data!E203)","v":""},{"$f":"IF(Data!F203=\"\",\"\",Data!F203)","v":""},{"$f":"IF(Data!G203=\"\",\"\",Data!G203)","v":""},{"$f":"IF(Data!H203=\"\",\"\",Data!H203)","v":""},{"$f":"IF(Data!I203=\"\",\"\",Data!I203)","v":""},{"$f":"IF(Data!J203=\"\",\"\",Data!J203)","v":""},{"$f":"IF(Data!K203=\"\",\"\",Data!K203)","v":""},{"$f":"IF(Data!L203=\"\",\"\",Data!L203)","v":""},{"$f":"IF(Data!M203=\"\",\"\",Data!M203)","v":""},{"$f":"IF(Data!N203=\"\",\"\",Data!N203)","v":""},{"$f":"IF(Data!O203=\"\",\"\",Data!O203)","v":""},{"$f":"IF(Data!P203=\"\",\"\",Data!P203)","v":""},{"$f":"IF(Data!Q203=\"\",\"\",Data!Q203)","v":""},{"$f":"IF(Data!R203=\"\",\"\",Data!R203)","v":""},{"$f":"IF(Data!S203=\"\",\"\",Data!S203)","v":""},null,null,null,null,203]
[{"$f":"IF(Data!A204=\"\",\"\",Data!A204)","v":""},"",{"$f":"IF(Data!B204=\"\",\"\",Data!B204)","v":""},{"$f":"IF(Data!C204=\"\",\"\",Data!C204)","v":""},{"$f":"IF(Data!D204=\"\",\"\",Data!D204)","v":""},{"$f":"IF(Data!E204=\"\",\"\",Data!E204)","v":""},{"$f":"IF(Data!F204=\"\",\"\",Data!F204)","v":""},{"$f":"IF(Data!G204=\"\",\"\",Data!G204)","v":""},{"$f":"IF(Data!H204=\"\",\"\",Data!H204)","v":""},{"$f":"IF(Data!I204=\"\",\"\",Data!I204)","v":""},{"$f":"IF(Data!J204=\"\",\"\",Data!J204)","v":""},{"$f":"IF(Data!K204=\"\",\"\",Data!K204)","v":""},{"$f":"IF(Data!L204=\"\",\"\",Data!L204)","v":""},{"$f":"IF(Data!M204=\"\",\"\",Data!M204)","v":""},{"$f":"IF(Data!N204=\"\",\"\",Data!N204)","v":""},{"$f":"IF(Data!O204=\"\",\"\",Data!O204)","v":""},{"$f":"IF(Data!P204=\"\",\"\",Data!P204)","v":""},{"$f":"IF(Data!Q204=\"\",\"\",Data!Q204)","v":""},{"$f":"IF(Data!R204=\"\",\"\",Data!R204)","v":""},{"$f":"IF(Data!S204=\"\",\"\",Data!S204)","v":""},null,null,null,null,204]
[{"$f":"IF(Data!A205=\"\",\"\",Data!A205)","v":""},"",{"$f":"IF(Data!B205=\"\",\"\",Data!B205)","v":""},{"$f":"IF(Data!C205=\"\",\"\",Data!C205)","v":""},{"$f":"IF(Data!D205=\"\",\"\",Data!D205)","v":""},{"$f":"IF(Data!E205=\"\",\"\",Data!E205)","v":""},{"$f":"IF(Data!F205=\"\",\"\",Data!F205)","v":""},{"$f":"IF(Data!G205=\"\",\"\",Data!G205)","v":""},{"$f":"IF(Data!H205=\"\",\"\",Data!H205)","v":""},{"$f":"IF(Data!I205=\"\",\"\",Data!I205)","v":""},{"$f":"IF(Data!J205=\"\",\"\",Data!J205)","v":""},{"$f":"IF(Data!K205=\"\",\"\",Data!K205)","v":""},{"$f":"IF(Data!L205=\"\",\"\",Data!L205)","v":""},{"$f":"IF(Data!M205=\"\",\"\",Data!M205)","v":""},{"$f":"IF(Data!N205=\"\",\"\",Data!N205)","v":""},{"$f":"IF(Data!O205=\"\",\"\",Data!O205)","v":""},{"$f":"IF(Data!P205=\"\",\"\",Data!P205)","v":""},{"$f":"IF(Data!Q205=\"\",\"\",Data!Q205)","v":""},{"$f":"IF(Data!R205=\"\",\"\",Data!R205)","v":""},{"$f":"IF(Data!S205=\"\",\"\",Data!S205)","v":""},null,null,null,null,205]
[{"$f":"IF(Data!A206=\"\",\"\",Data!A206)","v":""},"",{"$f":"IF(Data!B206=\"\",\"\",Data!B206)","v":""},{"$f":"IF(Data!C206=\"\",\"\",Data!C206)","v":""},{"$f":"IF(Data!D206=\"\",\"\",Data!D206)","v":""},{"$f":"IF(Data!E206=\"\",\"\",Data!E206)","v":""},{"$f":"IF(Data!F206=\"\",\"\",Data!F206)","v":""},{"$f":"IF(Data!G206=\"\",\"\",Data!G206)","v":""},{"$f":"IF(Data!H206=\"\",\"\",Data!H206)","v":""},{"$f":"IF(Data!I206=\"\",\"\",Data!I206)","v":""},{"$f":"IF(Data!J206=\"\",\"\",Data!J206)","v":""},{"$f":"IF(Data!K206=\"\",\"\",Data!K206)","v":""},{"$f":"IF(Data!L206=\"\",\"\",Data!L206)","v":""},{"$f":"IF(Data!M206=\"\",\"\",Data!M206)","v":""},{"$f":"IF(Data!N206=\"\",\"\",Data!N206)","v":""},{"$f":"IF(Data!O206=\"\",\"\",Data!O206)","v":""},{"$f":"IF(Data!P206=\"\",\"\",Data!P206)","v":""},{"$f":"IF(Data!Q206=\"\",\"\",Data!Q206)","v":""},{"$f":"IF(Data!R206=\"\",\"\",Data!R206)","v":""},{"$f":"IF(Data!S206=\"\",\"\",Data!S206)","v":""},null,null,null,null,206]
[{"$f":"IF(Data!A207=\"\",\"\",Data!A207)","v":""},"",{"$f":"IF(Data!B207=\"\",\"\",Data!B207)","v":""},{"$f":"IF(Data!C207=\"\",\"\",Data!C207)","v":""},{"$f":"IF(Data!D207=\"\",\"\",Data!D207)","v":""},{"$f":"IF(Data!E207=\"\",\"\",Data!E207)","v":""},{"$f":"IF(Data!F207=\"\",\"\",Data!F207)","v":""},{"$f":"IF(Data!G207=\"\",\"\",Data!G207)","v":""},{"$f":"IF(Data!H207=\"\",\"\",Data!H207)","v":""},{"$f":"IF(Data!I207=\"\",\"\",Data!I207)","v":""},{"$f":"IF(Data!J207=\"\",\"\",Data!J207)","v":""},{"$f":"IF(Data!K207=\"\",\"\",Data!K207)","v":""},{"$f":"IF(Data!L207=\"\",\"\",Data!L207)","v":""},{"$f":"IF(Data!M207=\"\",\"\",Data!M207)","v":""},{"$f":"IF(Data!N207=\"\",\"\",Data!N207)","v":""},{"$f":"IF(Data!O207=\"\",\"\",Data!O207)","v":""},{"$f":"IF(Data!P207=\"\",\"\",Data!P207)","v":""},{"$f":"IF(Data!Q207=\"\",\"\",Data!Q207)","v":""},{"$f":"IF(Data!R207=\"\",\"\",Data!R207)","v":""},{"$f":"IF(Data!S207=\"\",\"\",Data!S207)","v":""},null,null,null,null,207]
[{"$f":"IF(Data!A208=\"\",\"\",Data!A208)","v":""},"",{"$f":"IF(Data!B208=\"\",\"\",Data!B208)","v":""},{"$f":"IF(Data!C208=\"\",\"\",Data!C208)","v":""},{"$f":"IF(Data!D208=\"\",\"\",Data!D208)","v":""},{"$f":"IF(Data!E208=\"\",\"\",Data!E208)","v":""},{"$f":"IF(Data!F208=\"\",\"\",Data!F208)","v":""},{"$f":"IF(Data!G208=\"\",\"\",Data!G208)","v":""},{"$f":"IF(Data!H208=\"\",\"\",Data!H208)","v":""},{"$f":"IF(Data!I208=\"\",\"\",Data!I208)","v":""},{"$f":"IF(Data!J208=\"\",\"\",Data!J208)","v":""},{"$f":"IF(Data!K208=\"\",\"\",Data!K208)","v":""},{"$f":"IF(Data!L208=\"\",\"\",Data!L208)","v":""},{"$f":"IF(Data!M208=\"\",\"\",Data!M208)","v":""},{"$f":"IF(Data!N208=\"\",\"\",Data!N208)","v":""},{"$f":"IF(Data!O208=\"\",\"\",Data!O208)","v":""},{"$f":"IF(Data!P208=\"\",\"\",Data!P208)","v":""},{"$f":"IF(Data!Q208=\"\",\"\",Data!Q208)","v":""},{"$f":"IF(Data!R208=\"\",\"\",Data!R208)","v":""},{"$f":"IF(Data!S208=\"\",\"\",Data!S208)","v":""},null,null,null,null,208]
[{"$f":"IF(Data!A209=\"\",\"\",Data!A209)","v":""},"",{"$f":"IF(Data!B209=\"\",\"\",Data!B209)","v":""},{"$f":"IF(Data!C209=\"\",\"\",Data!C209)","v":""},{"$f":"IF(Data!D209=\"\",\"\",Data!D209)","v":""},{"$f":"IF(Data!E209=\"\",\"\",Data!E209)","v":""},{"$f":"IF(Data!F209=\"\",\"\",Data!F209)","v":""},{"$f":"IF(Data!G209=\"\",\"\",Data!G209)","v":""},{"$f":"IF(Data!H209=\"\",\"\",Data!H209)","v":""},{"$f":"IF(Data!I209=\"\",\"\",Data!I209)","v":""},{"$f":"IF(Data!J209=\"\",\"\",Data!J209)","v":""},{"$f":"IF(Data!K209=\"\",\"\",Data!K209)","v":""},{"$f":"IF(Data!L209=\"\",\"\",Data!L209)","v":""},{"$f":"IF(Data!M209=\"\",\"\",Data!M209)","v":""},{"$f":"IF(Data!N209=\"\",\"\",Data!N209)","v":""},{"$f":"IF(Data!O209=\"\",\"\",Data!O209)","v":""},{"$f":"IF(Data!P209=\"\",\"\",Data!P209)","v":""},{"$f":"IF(Data!Q209=\"\",\"\",Data!Q209)","v":""},{"$f":"IF(Data!R209=\"\",\"\",Data!R209)","v":""},{"$f":"IF(Data!S209=\"\",\"\",Data!S209)","v":""},null,null,null,null,209]
[{"$f":"IF(Data!A210=\"\",\"\",Data!A210)","v":""},"",{"$f":"IF(Data!B210=\"\",\"\",Data!B210)","v":""},{"$f":"IF(Data!C210=\"\",\"\",Data!C210)","v":""},{"$f":"IF(Data!D210=\"\",\"\",Data!D210)","v":""},{"$f":"IF(Data!E210=\"\",\"\",Data!E210)","v":""},{"$f":"IF(Data!F210=\"\",\"\",Data!F210)","v":""},{"$f":"IF(Data!G210=\"\",\"\",Data!G210)","v":""},{"$f":"IF(Data!H210=\"\",\"\",Data!H210)","v":""},{"$f":"IF(Data!I210=\"\",\"\",Data!I210)","v":""},{"$f":"IF(Data!J210=\"\",\"\",Data!J210)","v":""},{"$f":"IF(Data!K210=\"\",\"\",Data!K210)","v":""},{"$f":"IF(Data!L210=\"\",\"\",Data!L210)","v":""},{"$f":"IF(Data!M210=\"\",\"\",Data!M210)","v":""},{"$f":"IF(Data!N210=\"\",\"\",Data!N210)","v":""},{"$f":"IF(Data!O210=\"\",\"\",Data!O210)","v":""},{"$f":"IF(Data!P210=\"\",\"\",Data!P210)","v":""},{"$f":"IF(Data!Q210=\"\",\"\",Data!Q210)","v":""},{"$f":"IF(Data!R210=\"\",\"\",Data!R210)","v":""},{"$f":"IF(Data!S210=\"\",\"\",Data!S210)","v":""},null,null,null,null,210]
[{"$f":"IF(Data!A211=\"\",\"\",Data!A211)","v":""},"",{"$f":"IF(Data!B211=\"\",\"\",Data!B211)","v":""},{"$f":"IF(Data!C211=\"\",\"\",Data!C211)","v":""},{"$f":"IF(Data!D211=\"\",\"\",Data!D211)","v":""},{"$f":"IF(Data!E211=\"\",\"\",Data!E211)","v":""},{"$f":"IF(Data!F211=\"\",\"\",Data!F211)","v":""},{"$f":"IF(Data!G211=\"\",\"\",Data!G211)","v":""},{"$f":"IF(Data!H211=\"\",\"\",Data!H211)","v":""},{"$f":"IF(Data!I211=\"\",\"\",Data!I211)","v":""},{"$f":"IF(Data!J211=\"\",\"\",Data!J211)","v":""},{"$f":"IF(Data!K211=\"\",\"\",Data!K211)","v":""},{"$f":"IF(Data!L211=\"\",\"\",Data!L211)","v":""},{"$f":"IF(Data!M211=\"\",\"\",Data!M211)","v":""},{"$f":"IF(Data!N211=\"\",\"\",Data!N211)","v":""},{"$f":"IF(Data!O211=\"\",\"\",Data!O211)","v":""},{"$f":"IF(Data!P211=\"\",\"\",Data!P211)","v":""},{"$f":"IF(Data!Q211=\"\",\"\",Data!Q211)","v":""},{"$f":"IF(Data!R211=\"\",\"\",Data!R211)","v":""},{"$f":"IF(Data!S211=\"\",\"\",Data!S211)","v":""},null,null,null,null,211]
[{"$f":"IF(Data!A212=\"\",\"\",Data!A212)","v":""},"",{"$f":"IF(Data!B212=\"\",\"\",Data!B212)","v":""},{"$f":"IF(Data!C212=\"\",\"\",Data!C212)","v":""},{"$f":"IF(Data!D212=\"\",\"\",Data!D212)","v":""},{"$f":"IF(Data!E212=\"\",\"\",Data!E212)","v":""},{"$f":"IF(Data!F212=\"\",\"\",Data!F212)","v":""},{"$f":"IF(Data!G212=\"\",\"\",Data!G212)","v":""},{"$f":"IF(Data!H212=\"\",\"\",Data!H212)","v":""},{"$f":"IF(Data!I212=\"\",\"\",Data!I212)","v":""},{"$f":"IF(Data!J212=\"\",\"\",Data!J212)","v":""},{"$f":"IF(Data!K212=\"\",\"\",Data!K212)","v":""},{"$f":"IF(Data!L212=\"\",\"\",Data!L212)","v":""},{"$f":"IF(Data!M212=\"\",\"\",Data!M212)","v":""},{"$f":"IF(Data!N212=\"\",\"\",Data!N212)","v":""},{"$f":"IF(Data!O212=\"\",\"\",Data!O212)","v":""},{"$f":"IF(Data!P212=\"\",\"\",Data!P212)","v":""},{"$f":"IF(Data!Q212=\"\",\"\",Data!Q212)","v":""},{"$f":"IF(Data!R212=\"\",\"\",Data!R212)","v":""},{"$f":"IF(Data!S212=\"\",\"\",Data!S212)","v":""},null,null,null,null,212]
[{"$f":"IF(Data!A213=\"\",\"\",Data!A213)","v":""},"",{"$f":"IF(Data!B213=\"\",\"\",Data!B213)","v":""},{"$f":"IF(Data!C213=\"\",\"\",Data!C213)","v":""},{"$f":"IF(Data!D213=\"\",\"\",Data!D213)","v":""},{"$f":"IF(Data!E213=\"\",\"\",Data!E213)","v":""},{"$f":"IF(Data!F213=\"\",\"\",Data!F213)","v":""},{"$f":"IF(Data!G213=\"\",\"\",Data!G213)","v":""},{"$f":"IF(Data!H213=\"\",\"\",Data!H213)","v":""},{"$f":"IF(Data!I213=\"\",\"\",Data!I213)","v":""},{"$f":"IF(Data!J213=\"\",\"\",Data!J213)","v":""},{"$f":"IF(Data!K213=\"\",\"\",Data!K213)","v":""},{"$f":"IF(Data!L213=\"\",\"\",Data!L213)","v":""},{"$f":"IF(Data!M213=\"\",\"\",Data!M213)","v":""},{"$f":"IF(Data!N213=\"\",\"\",Data!N213)","v":""},{"$f":"IF(Data!O213=\"\",\"\",Data!O213)","v":""},{"$f":"IF(Data!P213=\"\",\"\",Data!P213)","v":""},{"$f":"IF(Data!Q213=\"\",\"\",Data!Q213)","v":""},{"$f":"IF(Data!R213=\"\",\"\",Data!R213)","v":""},{"$f":"IF(Data!S213=\"\",\"\",Data!S213)","v":""},null,null,null,null,213]
[{"$f":"IF(Data!A214=\"\",\"\",Data!A214)","v":""},"",{"$f":"IF(Data!B214=\"\",\"\",Data!B214)","v":""},{"$f":"IF(Data!C214=\"\",\"\",Data!C214)","v":""},{"$f":"IF(Data!D214=\"\",\"\",Data!D214)","v":""},{"$f":"IF(Data!E214=\"\",\"\",Data!E214)","v":""},{"$f":"IF(Data!F214=\"\",\"\",Data!F214)","v":""},{"$f":"IF(Data!G214=\"\",\"\",Data!G214)","v":""},{"$f":"IF(Data!H214=\"\",\"\",Data!H214)","v":""},{"$f":"IF(Data!I214=\"\",\"\",Data!I214)","v":""},{"$f":"IF(Data!J214=\"\",\"\",Data!J214)","v":""},{"$f":"IF(Data!K214=\"\",\"\",Data!K214)","v":""},{"$f":"IF(Data!L214=\"\",\"\",Data!L214)","v":""},{"$f":"IF(Data!M214=\"\",\"\",Data!M214)","v":""},{"$f":"IF(Data!N214=\"\",\"\",Data!N214)","v":""},{"$f":"IF(Data!O214=\"\",\"\",Data!O214)","v":""},{"$f":"IF(Data!P214=\"\",\"\",Data!P214)","v":""},{"$f":"IF(Data!Q214=\"\",\"\",Data!Q214)","v":""},{"$f":"IF(Data!R214=\"\",\"\",Data!R214)","v":""},{"$f":"IF(Data!S214=\"\",\"\",Data!S214)","v":""},null,null,null,null,214]
[{"$f":"IF(Data!A215=\"\",\"\",Data!A215)","v":""},"",{"$f":"IF(Data!B215=\"\",\"\",Data!B215)","v":""},{"$f":"IF(Data!C215=\"\",\"\",Data!C215)","v":""},{"$f":"IF(Data!D215=\"\",\"\",Data!D215)","v":""},{"$f":"IF(Data!E215=\"\",\"\",Data!E215)","v":""},{"$f":"IF(Data!F215=\"\",\"\",Data!F215)","v":""},{"$f":"IF(Data!G215=\"\",\"\",Data!G215)","v":""},{"$f":"IF(Data!H215=\"\",\"\",Data!H215)","v":""},{"$f":"IF(Data!I215=\"\",\"\",Data!I215)","v":""},{"$f":"IF(Data!J215=\"\",\"\",Data!J215)","v":""},{"$f":"IF(Data!K215=\"\",\"\",Data!K215)","v":""},{"$f":"IF(Data!L215=\"\",\"\",Data!L215)","v":""},{"$f":"IF(Data!M215=\"\",\"\",Data!M215)","v":""},{"$f":"IF(Data!N215=\"\",\"\",Data!N215)","v":""},{"$f":"IF(Data!O215=\"\",\"\",Data!O215)","v":""},{"$f":"IF(Data!P215=\"\",\"\",Data!P215)","v":""},{"$f":"IF(Data!Q215=\"\",\"\",Data!Q215)","v":""},{"$f":"IF(Data!R215=\"\",\"\",Data!R215)","v":""},{"$f":"IF(Data!S215=\"\",\"\",Data!S215)","v":""},null,null,null,null,215]
[{"$f":"IF(Data!A216=\"\",\"\",Data!A216)","v":""},"",{"$f":"IF(Data!B216=\"\",\"\",Data!B216)","v":""},{"$f":"IF(Data!C216=\"\",\"\",Data!C216)","v":""},{"$f":"IF(Data!D216=\"\",\"\",Data!D216)","v":""},{"$f":"IF(Data!E216=\"\",\"\",Data!E216)","v":""},{"$f":"IF(Data!F216=\"\",\"\",Data!F216)","v":""},{"$f":"IF(Data!G216=\"\",\"\",Data!G216)","v":""},{"$f":"IF(Data!H216=\"\",\"\",Data!H216)","v":""},{"$f":"IF(Data!I216=\"\",\"\",Data!I216)","v":""},{"$f":"IF(Data!J216=\"\",\"\",Data!J216)","v":""},{"$f":"IF(Data!K216=\"\",\"\",Data!K216)","v":""},{"$f":"IF(Data!L216=\"\",\"\",Data!L216)","v":""},{"$f":"IF(Data!M216=\"\",\"\",Data!M216)","v":""},{"$f":"IF(Data!N216=\"\",\"\",Data!N216)","v":""},{"$f":"IF(Data!O216=\"\",\"\",Data!O216)","v":""},{"$f":"IF(Data!P216=\"\",\"\",Data!P216)","v":""},{"$f":"IF(Data!Q216=\"\",\"\",Data!Q216)","v":""},{"$f":"IF(Data!R216=\"\",\"\",Data!R216)","v":""},{"$f":"IF(Data!S216=\"\",\"\",Data!S216)","v":""},null,null,null,null,216]
[{"$f":"IF(Data!A217=\"\",\"\",Data!A217)","v":""},"",{"$f":"IF(Data!B217=\"\",\"\",Data!B217)","v":""},{"$f":"IF(Data!C217=\"\",\"\",Data!C217)","v":""},{"$f":"IF(Data!D217=\"\",\"\",Data!D217)","v":""},{"$f":"IF(Data!E217=\"\",\"\",Data!E217)","v":""},{"$f":"IF(Data!F217=\"\",\"\",Data!F217)","v":""},{"$f":"IF(Data!G217=\"\",\"\",Data!G217)","v":""},{"$f":"IF(Data!H217=\"\",\"\",Data!H217)","v":""},{"$f":"IF(Data!I217=\"\",\"\",Data!I217)","v":""},{"$f":"IF(Data!J217=\"\",\"\",Data!J217)","v":""},{"$f":"IF(Data!K217=\"\",\"\",Data!K217)","v":""},{"$f":"IF(Data!L217=\"\",\"\",Data!L217)","v":""},{"$f":"IF(Data!M217=\"\",\"\",Data!M217)","v":""},{"$f":"IF(Data!N217=\"\",\"\",Data!N217)","v":""},{"$f":"IF(Data!O217=\"\",\"\",Data!O217)","v":""},{"$f":"IF(Data!P217=\"\",\"\",Data!P217)","v":""},{"$f":"IF(Data!Q217=\"\",\"\",Data!Q217)","v":""},{"$f":"IF(Data!R217=\"\",\"\",Data!R217)","v":""},{"$f":"IF(Data!S217=\"\",\"\",Data!S217)","v":""},null,null,null,null,217]
[{"$f":"IF(Data!A218=\"\",\"\",Data!A218)","v":""},"",{"$f":"IF(Data!B218=\"\",\"\",Data!B218)","v":""},{"$f":"IF(Data!C218=\"\",\"\",Data!C218)","v":""},{"$f":"IF(Data!D218=\"\",\"\",Data!D218)","v":""},{"$f":"IF(Data!E218=\"\",\"\",Data!E218)","v":""},{"$f":"IF(Data!F218=\"\",\"\",Data!F218)","v":""},{"$f":"IF(Data!G218=\"\",\"\",Data!G218)","v":""},{"$f":"IF(Data!H218=\"\",\"\",Data!H218)","v":""},{"$f":"IF(Data!I218=\"\",\"\",Data!I218)","v":""},{"$f":"IF(Data!J218=\"\",\"\",Data!J218)","v":""},{"$f":"IF(Data!K218=\"\",\"\",Data!K218)","v":""},{"$f":"IF(Data!L218=\"\",\"\",Data!L218)","v":""},{"$f":"IF(Data!M218=\"\",\"\",Data!M218)","v":""},{"$f":"IF(Data!N218=\"\",\"\",Data!N218)","v":""},{"$f":"IF(Data!O218=\"\",\"\",Data!O218)","v":""},{"$f":"IF(Data!P218=\"\",\"\",Data!P218)","v":""},{"$f":"IF(Data!Q218=\"\",\"\",Data!Q218)","v":""},{"$f":"IF(Data!R218=\"\",\"\",Data!R218)","v":""},{"$f":"IF(Data!S218=\"\",\"\",Data!S218)","v":""},null,null,null,null,218]
[{"$f":"IF(Data!A219=\"\",\"\",Data!A219)","v":""},"",{"$f":"IF(Data!B219=\"\",\"\",Data!B219)","v":""},{"$f":"IF(Data!C219=\"\",\"\",Data!C219)","v":""},{"$f":"IF(Data!D219=\"\",\"\",Data!D219)","v":""},{"$f":"IF(Data!E219=\"\",\"\",Data!E219)","v":""},{"$f":"IF(Data!F219=\"\",\"\",Data!F219)","v":""},{"$f":"IF(Data!G219=\"\",\"\",Data!G219)","v":""},{"$f":"IF(Data!H219=\"\",\"\",Data!H219)","v":""},{"$f":"IF(Data!I219=\"\",\"\",Data!I219)","v":""},{"$f":"IF(Data!J219=\"\",\"\",Data!J219)","v":""},{"$f":"IF(Data!K219=\"\",\"\",Data!K219)","v":""},{"$f":"IF(Data!L219=\"\",\"\",Data!L219)","v":""},{"$f":"IF(Data!M219=\"\",\"\",Data!M219)","v":""},{"$f":"IF(Data!N219=\"\",\"\",Data!N219)","v":""},{"$f":"IF(Data!O219=\"\",\"\",Data!O219)","v":""},{"$f":"IF(Data!P219=\"\",\"\",Data!P219)","v":""},{"$f":"IF(Data!Q219=\"\",\"\",Data!Q219)","v":""},{"$f":"IF(Data!R219=\"\",\"\",Data!R219)","v":""},{"$f":"IF(Data!S219=\"\",\"\",Data!S219)","v":""},null,null,null,null,219]
[{"$f":"IF(Data!A220=\"\",\"\",Data!A220)","v":""},"",{"$f":"IF(Data!B220=\"\",\"\",Data!B220)","v":""},{"$f":"IF(Data!C220=\"\",\"\",Data!C220)","v":""},{"$f":"IF(Data!D220=\"\",\"\",Data!D220)","v":""},{"$f":"IF(Data!E220=\"\",\"\",Data!E220)","v":""},{"$f":"IF(Data!F220=\"\",\"\",Data!F220)","v":""},{"$f":"IF(Data!G220=\"\",\"\",Data!G220)","v":""},{"$f":"IF(Data!H220=\"\",\"\",Data!H220)","v":""},{"$f":"IF(Data!I220=\"\",\"\",Data!I220)","v":""},{"$f":"IF(Data!J220=\"\",\"\",Data!J220)","v":""},{"$f":"IF(Data!K220=\"\",\"\",Data!K220)","v":""},{"$f":"IF(Data!L220=\"\",\"\",Data!L220)","v":""},{"$f":"IF(Data!M220=\"\",\"\",Data!M220)","v":""},{"$f":"IF(Data!N220=\"\",\"\",Data!N220)","v":""},{"$f":"IF(Data!O220=\"\",\"\",Data!O220)","v":""},{"$f":"IF(Data!P220=\"\",\"\",Data!P220)","v":""},{"$f":"IF(Data!Q220=\"\",\"\",Data!Q220)","v":""},{"$f":"IF(Data!R220=\"\",\"\",Data!R220)","v":""},{"$f":"IF(Data!S220=\"\",\"\",Data!S220)","v":""},null,null,null,null,220]
[{"$f":"IF(Data!A221=\"\",\"\",Data!A221)","v":""},"",{"$f":"IF(Data!B221=\"\",\"\",Data!B221)","v":""},{"$f":"IF(Data!C221=\"\",\"\",Data!C221)","v":""},{"$f":"IF(Data!D221=\"\",\"\",Data!D221)","v":""},{"$f":"IF(Data!E221=\"\",\"\",Data!E221)","v":""},{"$f":"IF(Data!F221=\"\",\"\",Data!F221)","v":""},{"$f":"IF(Data!G221=\"\",\"\",Data!G221)","v":""},{"$f":"IF(Data!H221=\"\",\"\",Data!H221)","v":""},{"$f":"IF(Data!I221=\"\",\"\",Data!I221)","v":""},{"$f":"IF(Data!J221=\"\",\"\",Data!J221)","v":""},{"$f":"IF(Data!K221=\"\",\"\",Data!K221)","v":""},{"$f":"IF(Data!L221=\"\",\"\",Data!L221)","v":""},{"$f":"IF(Data!M221=\"\",\"\",Data!M221)","v":""},{"$f":"IF(Data!N221=\"\",\"\",Data!N221)","v":""},{"$f":"IF(Data!O221=\"\",\"\",Data!O221)","v":""},{"$f":"IF(Data!P221=\"\",\"\",Data!P221)","v":""},{"$f":"IF(Data!Q221=\"\",\"\",Data!Q221)","v":""},{"$f":"IF(Data!R221=\"\",\"\",Data!R221)","v":""},{"$f":"IF(Data!S221=\"\",\"\",Data!S221)","v":""},null,null,null,null,221]
[{"$f":"IF(Data!A222=\"\",\"\",Data!A222)","v":""},"",{"$f":"IF(Data!B222=\"\",\"\",Data!B222)","v":""},{"$f":"IF(Data!C222=\"\",\"\",Data!C222)","v":""},{"$f":"IF(Data!D222=\"\",\"\",Data!D222)","v":""},{"$f":"IF(Data!E222=\"\",\"\",Data!E222)","v":""},{"$f":"IF(Data!F222=\"\",\"\",Data!F222)","v":""},{"$f":"IF(Data!G222=\"\",\"\",Data!G222)","v":""},{"$f":"IF(Data!H222=\"\",\"\",Data!H222)","v":""},{"$f":"IF(Data!I222=\"\",\"\",Data!I222)","v":""},{"$f":"IF(Data!J222=\"\",\"\",Data!J222)","v":""},{"$f":"IF(Data!K222=\"\",\"\",Data!K222)","v":""},{"$f":"IF(Data!L222=\"\",\"\",Data!L222)","v":""},{"$f":"IF(Data!M222=\"\",\"\",Data!M222)","v":""},{"$f":"IF(Data!N222=\"\",\"\",Data!N222)","v":""},{"$f":"IF(Data!O222=\"\",\"\",Data!O222)","v":""},{"$f":"IF(Data!P222=\"\",\"\",Data!P222)","v":""},{"$f":"IF(Data!Q222=\"\",\"\",Data!Q222)","v":""},{"$f":"IF(Data!R222=\"\",\"\",Data!R222)","v":""},{"$f":"IF(Data!S222=\"\",\"\",Data!S222)","v":""},null,null,null,null,222]
[{"$f":"IF(Data!A223=\"\",\"\",Data!A223)","v":""},"",{"$f":"IF(Data!B223=\"\",\"\",Data!B223)","v":""},{"$f":"IF(Data!C223=\"\",\"\",Data!C223)","v":""},{"$f":"IF(Data!D223=\"\",\"\",Data!D223)","v":""},{"$f":"IF(Data!E223=\"\",\"\",Data!E223)","v":""},{"$f":"IF(Data!F223=\"\",\"\",Data!F223)","v":""},{"$f":"IF(Data!G223=\"\",\"\",Data!G223)","v":""},{"$f":"IF(Data!H223=\"\",\"\",Data!H223)","v":""},{"$f":"IF(Data!I223=\"\",\"\",Data!I223)","v":""},{"$f":"IF(Data!J223=\"\",\"\",Data!J223)","v":""},{"$f":"IF(Data!K223=\"\",\"\",Data!K223)","v":""},{"$f":"IF(Data!L223=\"\",\"\",Data!L223)","v":""},{"$f":"IF(Data!M223=\"\",\"\",Data!M223)","v":""},{"$f":"IF(Data!N223=\"\",\"\",Data!N223)","v":""},{"$f":"IF(Data!O223=\"\",\"\",Data!O223)","v":""},{"$f":"IF(Data!P223=\"\",\"\",Data!P223)","v":""},{"$f":"IF(Data!Q223=\"\",\"\",Data!Q223)","v":""},{"$f":"IF(Data!R223=\"\",\"\",Data!R223)","v":""},{"$f":"IF(Data!S223=\"\",\"\",Data!S223)","v":""},null,null,null,null,223]
[{"$f":"IF(Data!A224=\"\",\"\",Data!A224)","v":""},"",{"$f":"IF(Data!B224=\"\",\"\",Data!B224)","v":""},{"$f":"IF(Data!C224=\"\",\"\",Data!C224)","v":""},{"$f":"IF(Data!D224=\"\",\"\",Data!D224)","v":""},{"$f":"IF(Data!E224=\"\",\"\",Data!E224)","v":""},{"$f":"IF(Data!F224=\"\",\"\",Data!F224)","v":""},{"$f":"IF(Data!G224=\"\",\"\",Data!G224)","v":""},{"$f":"IF(Data!H224=\"\",\"\",Data!H224)","v":""},{"$f":"IF(Data!I224=\"\",\"\",Data!I224)","v":""},{"$f":"IF(Data!J224=\"\",\"\",Data!J224)","v":""},{"$f":"IF(Data!K224=\"\",\"\",Data!K224)","v":""},{"$f":"IF(Data!L224=\"\",\"\",Data!L224)","v":""},{"$f":"IF(Data!M224=\"\",\"\",Data!M224)","v":""},{"$f":"IF(Data!N224=\"\",\"\",Data!N224)","v":""},{"$f":"IF(Data!O224=\"\",\"\",Data!O224)","v":""},{"$f":"IF(Data!P224=\"\",\"\",Data!P224)","v":""},{"$f":"IF(Data!Q224=\"\",\"\",Data!Q224)","v":""},{"$f":"IF(Data!R224=\"\",\"\",Data!R224)","v":""},{"$f":"IF(Data!S224=\"\",\"\",Data!S224)","v":""},null,null,null,null,224]
[{"$f":"IF(Data!A225=\"\",\"\",Data!A225)","v":""},"",{"$f":"IF(Data!B225=\"\",\"\",Data!B225)","v":""},{"$f":"IF(Data!C225=\"\",\"\",Data!C225)","v":""},{"$f":"IF(Data!D225=\"\",\"\",Data!D225)","v":""},{"$f":"IF(Data!E225=\"\",\"\",Data!E225)","v":""},{"$f":"IF(Data!F225=\"\",\"\",Data!F225)","v":""},{"$f":"IF(Data!G225=\"\",\"\",Data!G225)","v":""},{"$f":"IF(Data!H225=\"\",\"\",Data!H225)","v":""},{"$f":"IF(Data!I225=\"\",\"\",Data!I225)","v":""},{"$f":"IF(Data!J225=\"\",\"\",Data!J225)","v":""},{"$f":"IF(Data!K225=\"\",\"\",Data!K225)","v":""},{"$f":"IF(Data!L225=\"\",\"\",Data!L225)","v":""},{"$f":"IF(Data!M225=\"\",\"\",Data!M225)","v":""},{"$f":"IF(Data!N225=\"\",\"\",Data!N225)","v":""},{"$f":"IF(Data!O225=\"\",\"\",Data!O225)","v":""},{"$f":"IF(Data!P225=\"\",\"\",Data!P225)","v":""},{"$f":"IF(Data!Q225=\"\",\"\",Data!Q225)","v":""},{"$f":"IF(Data!R225=\"\",\"\",Data!R225)","v":""},{"$f":"IF(Data!S225=\"\",\"\",Data!S225)","v":""},null,null,null,null,225]
[{"$f":"IF(Data!A226=\"\",\"\",Data!A226)","v":""},"",{"$f":"IF(Data!B226=\"\",\"\",Data!B226)","v":""},{"$f":"IF(Data!C226=\"\",\"\",Data!C226)","v":""},{"$f":"IF(Data!D226=\"\",\"\",Data!D226)","v":""},{"$f":"IF(Data!E226=\"\",\"\",Data!E226)","v":""},{"$f":"IF(Data!F226=\"\",\"\",Data!F226)","v":""},{"$f":"IF(Data!G226=\"\",\"\",Data!G226)","v":""},{"$f":"IF(Data!H226=\"\",\"\",Data!H226)","v":""},{"$f":"IF(Data!I226=\"\",\"\",Data!I226)","v":""},{"$f":"IF(Data!J226=\"\",\"\",Data!J226)","v":""},{"$f":"IF(Data!K226=\"\",\"\",Data!K226)","v":""},{"$f":"IF(Data!L226=\"\",\"\",Data!L226)","v":""},{"$f":"IF(Data!M226=\"\",\"\",Data!M226)","v":""},{"$f":"IF(Data!N226=\"\",\"\",Data!N226)","v":""},{"$f":"IF(Data!O226=\"\",\"\",Data!O226)","v":""},{"$f":"IF(Data!P226=\"\",\"\",Data!P226)","v":""},{"$f":"IF(Data!Q226=\"\",\"\",Data!Q226)","v":""},{"$f":"IF(Data!R226=\"\",\"\",Data!R226)","v":""},{"$f":"IF(Data!S226=\"\",\"\",Data!S226)","v":""},null,null,null,null,226]
[{"$f":"IF(Data!A227=\"\",\"\",Data!A227)","v":""},"",{"$f":"IF(Data!B227=\"\",\"\",Data!B227)","v":""},{"$f":"IF(Data!C227=\"\",\"\",Data!C227)","v":""},{"$f":"IF(Data!D227=\"\",\"\",Data!D227)","v":""},{"$f":"IF(Data!E227=\"\",\"\",Data!E227)","v":""},{"$f":"IF(Data!F227=\"\",\"\",Data!F227)","v":""},{"$f":"IF(Data!G227=\"\",\"\",Data!G227)","v":""},{"$f":"IF(Data!H227=\"\",\"\",Data!H227)","v":""},{"$f":"IF(Data!I227=\"\",\"\",Data!I227)","v":""},{"$f":"IF(Data!J227=\"\",\"\",Data!J227)","v":""},{"$f":"IF(Data!K227=\"\",\"\",Data!K227)","v":""},{"$f":"IF(Data!L227=\"\",\"\",Data!L227)","v":""},{"$f":"IF(Data!M227=\"\",\"\",Data!M227)","v":""},{"$f":"IF(Data!N227=\"\",\"\",Data!N227)","v":""},{"$f":"IF(Data!O227=\"\",\"\",Data!O227)","v":""},{"$f":"IF(Data!P227=\"\",\"\",Data!P227)","v":""},{"$f":"IF(Data!Q227=\"\",\"\",Data!Q227)","v":""},{"$f":"IF(Data!R227=\"\",\"\",Data!R227)","v":""},{"$f":"IF(Data!S227=\"\",\"\",Data!S227)","v":""},null,null,null,null,227]
[{"$f":"IF(Data!A228=\"\",\"\",Data!A228)","v":""},"",{"$f":"IF(Data!B228=\"\",\"\",Data!B228)","v":""},{"$f":"IF(Data!C228=\"\",\"\",Data!C228)","v":""},{"$f":"IF(Data!D228=\"\",\"\",Data!D228)","v":""},{"$f":"IF(Data!E228=\"\",\"\",Data!E228)","v":""},{"$f":"IF(Data!F228=\"\",\"\",Data!F228)","v":""},{"$f":"IF(Data!G228=\"\",\"\",Data!G228)","v":""},{"$f":"IF(Data!H228=\"\",\"\",Data!H228)","v":""},{"$f":"IF(Data!I228=\"\",\"\",Data!I228)","v":""},{"$f":"IF(Data!J228=\"\",\"\",Data!J228)","v":""},{"$f":"IF(Data!K228=\"\",\"\",Data!K228)","v":""},{"$f":"IF(Data!L228=\"\",\"\",Data!L228)","v":""},{"$f":"IF(Data!M228=\"\",\"\",Data!M228)","v":""},{"$f":"IF(Data!N228=\"\",\"\",Data!N228)","v":""},{"$f":"IF(Data!O228=\"\",\"\",Data!O228)","v":""},{"$f":"IF(Data!P228=\"\",\"\",Data!P228)","v":""},{"$f":"IF(Data!Q228=\"\",\"\",Data!Q228)","v":""},{"$f":"IF(Data!R228=\"\",\"\",Data!R228)","v":""},{"$f":"IF(Data!S228=\"\",\"\",Data!S228)","v":""},null,null,null,null,228]
[{"$f":"IF(Data!A229=\"\",\"\",Data!A229)","v":""},"",{"$f":"IF(Data!B229=\"\",\"\",Data!B229)","v":""},{"$f":"IF(Data!C229=\"\",\"\",Data!C229)","v":""},{"$f":"IF(Data!D229=\"\",\"\",Data!D229)","v":""},{"$f":"IF(Data!E229=\"\",\"\",Data!E229)","v":""},{"$f":"IF(Data!F229=\"\",\"\",Data!F229)","v":""},{"$f":"IF(Data!G229=\"\",\"\",Data!G229)","v":""},{"$f":"IF(Data!H229=\"\",\"\",Data!H229)","v":""},{"$f":"IF(Data!I229=\"\",\"\",Data!I229)","v":""},{"$f":"IF(Data!J229=\"\",\"\",Data!J229)","v":""},{"$f":"IF(Data!K229=\"\",\"\",Data!K229)","v":""},{"$f":"IF(Data!L229=\"\",\"\",Data!L229)","v":""},{"$f":"IF(Data!M229=\"\",\"\",Data!M229)","v":""},{"$f":"IF(Data!N229=\"\",\"\",Data!N229)","v":""},{"$f":"IF(Data!O229=\"\",\"\",Data!O229)","v":""},{"$f":"IF(Data!P229=\"\",\"\",Data!P229)","v":""},{"$f":"IF(Data!Q229=\"\",\"\",Data!Q229)","v":""},{"$f":"IF(Data!R229=\"\",\"\",Data!R229)","v":""},{"$f":"IF(Data!S229=\"\",\"\",Data!S229)","v":""},null,null,null,null,229]
[{"$f":"IF(Data!A230=\"\",\"\",Data!A230)","v":""},"",{"$f":"IF(Data!B230=\"\",\"\",Data!B230)","v":""},{"$f":"IF(Data!C230=\"\",\"\",Data!C230)","v":""},{"$f":"IF(Data!D230=\"\",\"\",Data!D230)","v":""},{"$f":"IF(Data!E230=\"\",\"\",Data!E230)","v":""},{"$f":"IF(Data!F230=\"\",\"\",Data!F230)","v":""},{"$f":"IF(Data!G230=\"\",\"\",Data!G230)","v":""},{"$f":"IF(Data!H230=\"\",\"\",Data!H230)","v":""},{"$f":"IF(Data!I230=\"\",\"\",Data!I230)","v":""},{"$f":"IF(Data!J230=\"\",\"\",Data!J230)","v":""},{"$f":"IF(Data!K230=\"\",\"\",Data!K230)","v":""},{"$f":"IF(Data!L230=\"\",\"\",Data!L230)","v":""},{"$f":"IF(Data!M230=\"\",\"\",Data!M230)","v":""},{"$f":"IF(Data!N230=\"\",\"\",Data!N230)","v":""},{"$f":"IF(Data!O230=\"\",\"\",Data!O230)","v":""},{"$f":"IF(Data!P230=\"\",\"\",Data!P230)","v":""},{"$f":"IF(Data!Q230=\"\",\"\",Data!Q230)","v":""},{"$f":"IF(Data!R230=\"\",\"\",Data!R230)","v":""},{"$f":"IF(Data!S230=\"\",\"\",Data!S230)","v":""},null,null,null,null,230]
[{"$f":"IF(Data!A231=\"\",\"\",Data!A231)","v":""},"",{"$f":"IF(Data!B231=\"\",\"\",Data!B231)","v":""},{"$f":"IF(Data!C231=\"\",\"\",Data!C231)","v":""},{"$f":"IF(Data!D231=\"\",\"\",Data!D231)","v":""},{"$f":"IF(Data!E231=\"\",\"\",Data!E231)","v":""},{"$f":"IF(Data!F231=\"\",\"\",Data!F231)","v":""},{"$f":"IF(Data!G231=\"\",\"\",Data!G231)","v":""},{"$f":"IF(Data!H231=\"\",\"\",Data!H231)","v":""},{"$f":"IF(Data!I231=\"\",\"\",Data!I231)","v":""},{"$f":"IF(Data!J231=\"\",\"\",Data!J231)","v":""},{"$f":"IF(Data!K231=\"\",\"\",Data!K231)","v":""},{"$f":"IF(Data!L231=\"\",\"\",Data!L231)","v":""},{"$f":"IF(Data!M231=\"\",\"\",Data!M231)","v":""},{"$f":"IF(Data!N231=\"\",\"\",Data!N231)","v":""},{"$f":"IF(Data!O231=\"\",\"\",Data!O231)","v":""},{"$f":"IF(Data!P231=\"\",\"\",Data!P231)","v":""},{"$f":"IF(Data!Q231=\"\",\"\",Data!Q231)","v":""},{"$f":"IF(Data!R231=\"\",\"\",Data!R231)","v":""},{"$f":"IF(Data!S231=\"\",\"\",Data!S231)","v":""},null,null,null,null,231]
[{"$f":"IF(Data!A232=\"\",\"\",Data!A232)","v":""},"",{"$f":"IF(Data!B232=\"\",\"\",Data!B232)","v":""},{"$f":"IF(Data!C232=\"\",\"\",Data!C232)","v":""},{"$f":"IF(Data!D232=\"\",\"\",Data!D232)","v":""},{"$f":"IF(Data!E232=\"\",\"\",Data!E232)","v":""},{"$f":"IF(Data!F232=\"\",\"\",Data!F232)","v":""},{"$f":"IF(Data!G232=\"\",\"\",Data!G232)","v":""},{"$f":"IF(Data!H232=\"\",\"\",Data!H232)","v":""},{"$f":"IF(Data!I232=\"\",\"\",Data!I232)","v":""},{"$f":"IF(Data!J232=\"\",\"\",Data!J232)","v":""},{"$f":"IF(Data!K232=\"\",\"\",Data!K232)","v":""},{"$f":"IF(Data!L232=\"\",\"\",Data!L232)","v":""},{"$f":"IF(Data!M232=\"\",\"\",Data!M232)","v":""},{"$f":"IF(Data!N232=\"\",\"\",Data!N232)","v":""},{"$f":"IF(Data!O232=\"\",\"\",Data!O232)","v":""},{"$f":"IF(Data!P232=\"\",\"\",Data!P232)","v":""},{"$f":"IF(Data!Q232=\"\",\"\",Data!Q232)","v":""},{"$f":"IF(Data!R232=\"\",\"\",Data!R232)","v":""},{"$f":"IF(Data!S232=\"\",\"\",Data!S232)","v":""},null,null,null,null,232]
[{"$f":"IF(Data!A233=\"\",\"\",Data!A233)","v":""},"",{"$f":"IF(Data!B233=\"\",\"\",Data!B233)","v":""},{"$f":"IF(Data!C233=\"\",\"\",Data!C233)","v":""},{"$f":"IF(Data!D233=\"\",\"\",Data!D233)","v":""},{"$f":"IF(Data!E233=\"\",\"\",Data!E233)","v":""},{"$f":"IF(Data!F233=\"\",\"\",Data!F233)","v":""},{"$f":"IF(Data!G233=\"\",\"\",Data!G233)","v":""},{"$f":"IF(Data!H233=\"\",\"\",Data!H233)","v":""},{"$f":"IF(Data!I233=\"\",\"\",Data!I233)","v":""},{"$f":"IF(Data!J233=\"\",\"\",Data!J233)","v":""},{"$f":"IF(Data!K233=\"\",\"\",Data!K233)","v":""},{"$f":"IF(Data!L233=\"\",\"\",Data!L233)","v":""},{"$f":"IF(Data!M233=\"\",\"\",Data!M233)","v":""},{"$f":"IF(Data!N233=\"\",\"\",Data!N233)","v":""},{"$f":"IF(Data!O233=\"\",\"\",Data!O233)","v":""},{"$f":"IF(Data!P233=\"\",\"\",Data!P233)","v":""},{"$f":"IF(Data!Q233=\"\",\"\",Data!Q233)","v":""},{"$f":"IF(Data!R233=\"\",\"\",Data!R233)","v":""},{"$f":"IF(Data!S233=\"\",\"\",Data!S233)","v":""},null,null,null,null,233]
[{"$f":"IF(Data!A234=\"\",\"\",Data!A234)","v":""},"",{"$f":"IF(Data!B234=\"\",\"\",Data!B234)","v":""},{"$f":"IF(Data!C234=\"\",\"\",Data!C234)","v":""},{"$f":"IF(Data!D234=\"\",\"\",Data!D234)","v":""},{"$f":"IF(Data!E234=\"\",\"\",Data!E234)","v":""},{"$f":"IF(Data!F234=\"\",\"\",Data!F234)","v":""},{"$f":"IF(Data!G234=\"\",\"\",Data!G234)","v":""},{"$f":"IF(Data!H234=\"\",\"\",Data!H234)","v":""},{"$f":"IF(Data!I234=\"\",\"\",Data!I234)","v":""},{"$f":"IF(Data!J234=\"\",\"\",Data!J234)","v":""},{"$f":"IF(Data!K234=\"\",\"\",Data!K234)","v":""},{"$f":"IF(Data!L234=\"\",\"\",Data!L234)","v":""},{"$f":"IF(Data!M234=\"\",\"\",Data!M234)","v":""},{"$f":"IF(Data!N234=\"\",\"\",Data!N234)","v":""},{"$f":"IF(Data!O234=\"\",\"\",Data!O234)","v":""},{"$f":"IF(Data!P234=\"\",\"\",Data!P234)","v":""},{"$f":"IF(Data!Q234=\"\",\"\",Data!Q234)","v":""},{"$f":"IF(Data!R234=\"\",\"\",Data!R234)","v":""},{"$f":"IF(Data!S234=\"\",\"\",Data!S234)","v":""},null,null,null,null,234]
[{"$f":"IF(Data!A235=\"\",\"\",Data!A235)","v":""},"",{"$f":"IF(Data!B235=\"\",\"\",Data!B235)","v":""},{"$f":"IF(Data!C235=\"\",\"\",Data!C235)","v":""},{"$f":"IF(Data!D235=\"\",\"\",Data!D235)","v":""},{"$f":"IF(Data!E235=\"\",\"\",Data!E235)","v":""},{"$f":"IF(Data!F235=\"\",\"\",Data!F235)","v":""},{"$f":"IF(Data!G235=\"\",\"\",Data!G235)","v":""},{"$f":"IF(Data!H235=\"\",\"\",Data!H235)","v":""},{"$f":"IF(Data!I235=\"\",\"\",Data!I235)","v":""},{"$f":"IF(Data!J235=\"\",\"\",Data!J235)","v":""},{"$f":"IF(Data!K235=\"\",\"\",Data!K235)","v":""},{"$f":"IF(Data!L235=\"\",\"\",Data!L235)","v":""},{"$f":"IF(Data!M235=\"\",\"\",Data!M235)","v":""},{"$f":"IF(Data!N235=\"\",\"\",Data!N235)","v":""},{"$f":"IF(Data!O235=\"\",\"\",Data!O235)","v":""},{"$f":"IF(Data!P235=\"\",\"\",Data!P235)","v":""},{"$f":"IF(Data!Q235=\"\",\"\",Data!Q235)","v":""},{"$f":"IF(Data!R235=\"\",\"\",Data!R235)","v":""},{"$f":"IF(Data!S235=\"\",\"\",Data!S235)","v":""},null,null,null,null,235]
[{"$f":"IF(Data!A236=\"\",\"\",Data!A236)","v":""},"",{"$f":"IF(Data!B236=\"\",\"\",Data!B236)","v":""},{"$f":"IF(Data!C236=\"\",\"\",Data!C236)","v":""},{"$f":"IF(Data!D236=\"\",\"\",Data!D236)","v":""},{"$f":"IF(Data!E236=\"\",\"\",Data!E236)","v":""},{"$f":"IF(Data!F236=\"\",\"\",Data!F236)","v":""},{"$f":"IF(Data!G236=\"\",\"\",Data!G236)","v":""},{"$f":"IF(Data!H236=\"\",\"\",Data!H236)","v":""},{"$f":"IF(Data!I236=\"\",\"\",Data!I236)","v":""},{"$f":"IF(Data!J236=\"\",\"\",Data!J236)","v":""},{"$f":"IF(Data!K236=\"\",\"\",Data!K236)","v":""},{"$f":"IF(Data!L236=\"\",\"\",Data!L236)","v":""},{"$f":"IF(Data!M236=\"\",\"\",Data!M236)","v":""},{"$f":"IF(Data!N236=\"\",\"\",Data!N236)","v":""},{"$f":"IF(Data!O236=\"\",\"\",Data!O236)","v":""},{"$f":"IF(Data!P236=\"\",\"\",Data!P236)","v":""},{"$f":"IF(Data!Q236=\"\",\"\",Data!Q236)","v":""},{"$f":"IF(Data!R236=\"\",\"\",Data!R236)","v":""},{"$f":"IF(Data!S236=\"\",\"\",Data!S236)","v":""},null,null,null,null,236]
[{"$f":"IF(Data!A237=\"\",\"\",Data!A237)","v":""},"",{"$f":"IF(Data!B237=\"\",\"\",Data!B237)","v":""},{"$f":"IF(Data!C237=\"\",\"\",Data!C237)","v":""},{"$f":"IF(Data!D237=\"\",\"\",Data!D237)","v":""},{"$f":"IF(Data!E237=\"\",\"\",Data!E237)","v":""},{"$f":"IF(Data!F237=\"\",\"\",Data!F237)","v":""},{"$f":"IF(Data!G237=\"\",\"\",Data!G237)","v":""},{"$f":"IF(Data!H237=\"\",\"\",Data!H237)","v":""},{"$f":"IF(Data!I237=\"\",\"\",Data!I237)","v":""},{"$f":"IF(Data!J237=\"\",\"\",Data!J237)","v":""},{"$f":"IF(Data!K237=\"\",\"\",Data!K237)","v":""},{"$f":"IF(Data!L237=\"\",\"\",Data!L237)","v":""},{"$f":"IF(Data!M237=\"\",\"\",Data!M237)","v":""},{"$f":"IF(Data!N237=\"\",\"\",Data!N237)","v":""},{"$f":"IF(Data!O237=\"\",\"\",Data!O237)","v":""},{"$f":"IF(Data!P237=\"\",\"\",Data!P237)","v":""},{"$f":"IF(Data!Q237=\"\",\"\",Data!Q237)","v":""},{"$f":"IF(Data!R237=\"\",\"\",Data!R237)","v":""},{"$f":"IF(Data!S237=\"\",\"\",Data!S237)","v":""},null,null,null,null,237]
[{"$f":"IF(Data!A238=\"\",\"\",Data!A238)","v":""},"",{"$f":"IF(Data!B238=\"\",\"\",Data!B238)","v":""},{"$f":"IF(Data!C238=\"\",\"\",Data!C238)","v":""},{"$f":"IF(Data!D238=\"\",\"\",Data!D238)","v":""},{"$f":"IF(Data!E238=\"\",\"\",Data!E238)","v":""},{"$f":"IF(Data!F238=\"\",\"\",Data!F238)","v":""},{"$f":"IF(Data!G238=\"\",\"\",Data!G238)","v":""},{"$f":"IF(Data!H238=\"\",\"\",Data!H238)","v":""},{"$f":"IF(Data!I238=\"\",\"\",Data!I238)","v":""},{"$f":"IF(Data!J238=\"\",\"\",Data!J238)","v":""},{"$f":"IF(Data!K238=\"\",\"\",Data!K238)","v":""},{"$f":"IF(Data!L238=\"\",\"\",Data!L238)","v":""},{"$f":"IF(Data!M238=\"\",\"\",Data!M238)","v":""},{"$f":"IF(Data!N238=\"\",\"\",Data!N238)","v":""},{"$f":"IF(Data!O238=\"\",\"\",Data!O238)","v":""},{"$f":"IF(Data!P238=\"\",\"\",Data!P238)","v":""},{"$f":"IF(Data!Q238=\"\",\"\",Data!Q238)","v":""},{"$f":"IF(Data!R238=\"\",\"\",Data!R238)","v":""},{"$f":"IF(Data!S238=\"\",\"\",Data!S238)","v":""},null,null,null,null,238]
[{"$f":"IF(Data!A239=\"\",\"\",Data!A239)","v":""},"",{"$f":"IF(Data!B239=\"\",\"\",Data!B239)","v":""},{"$f":"IF(Data!C239=\"\",\"\",Data!C239)","v":""},{"$f":"IF(Data!D239=\"\",\"\",Data!D239)","v":""},{"$f":"IF(Data!E239=\"\",\"\",Data!E239)","v":""},{"$f":"IF(Data!F239=\"\",\"\",Data!F239)","v":""},{"$f":"IF(Data!G239=\"\",\"\",Data!G239)","v":""},{"$f":"IF(Data!H239=\"\",\"\",Data!H239)","v":""},{"$f":"IF(Data!I239=\"\",\"\",Data!I239)","v":""},{"$f":"IF(Data!J239=\"\",\"\",Data!J239)","v":""},{"$f":"IF(Data!K239=\"\",\"\",Data!K239)","v":""},{"$f":"IF(Data!L239=\"\",\"\",Data!L239)","v":""},{"$f":"IF(Data!M239=\"\",\"\",Data!M239)","v":""},{"$f":"IF(Data!N239=\"\",\"\",Data!N239)","v":""},{"$f":"IF(Data!O239=\"\",\"\",Data!O239)","v":""},{"$f":"IF(Data!P239=\"\",\"\",Data!P239)","v":""},{"$f":"IF(Data!Q239=\"\",\"\",Data!Q239)","v":""},{"$f":"IF(Data!R239=\"\",\"\",Data!R239)","v":""},{"$f":"IF(Data!S239=\"\",\"\",Data!S239)","v":""},null,null,null,null,239]
[{"$f":"IF(Data!A240=\"\",\"\",Data!A240)","v":""},"",{"$f":"IF(Data!B240=\"\",\"\",Data!B240)","v":""},{"$f":"IF(Data!C240=\"\",\"\",Data!C240)","v":""},{"$f":"IF(Data!D240=\"\",\"\",Data!D240)","v":""},{"$f":"IF(Data!E240=\"\",\"\",Data!E240)","v":""},{"$f":"IF(Data!F240=\"\",\"\",Data!F240)","v":""},{"$f":"IF(Data!G240=\"\",\"\",Data!G240)","v":""},{"$f":"IF(Data!H240=\"\",\"\",Data!H240)","v":""},{"$f":"IF(Data!I240=\"\",\"\",Data!I240)","v":""},{"$f":"IF(Data!J240=\"\",\"\",Data!J240)","v":""},{"$f":"IF(Data!K240=\"\",\"\",Data!K240)","v":""},{"$f":"IF(Data!L240=\"\",\"\",Data!L240)","v":""},{"$f":"IF(Data!M240=\"\",\"\",Data!M240)","v":""},{"$f":"IF(Data!N240=\"\",\"\",Data!N240)","v":""},{"$f":"IF(Data!O240=\"\",\"\",Data!O240)","v":""},{"$f":"IF(Data!P240=\"\",\"\",Data!P240)","v":""},{"$f":"IF(Data!Q240=\"\",\"\",Data!Q240)","v":""},{"$f":"IF(Data!R240=\"\",\"\",Data!R240)","v":""},{"$f":"IF(Data!S240=\"\",\"\",Data!S240)","v":""},null,null,null,null,240]
[{"$f":"IF(Data!A241=\"\",\"\",Data!A241)","v":""},"",{"$f":"IF(Data!B241=\"\",\"\",Data!B241)","v":""},{"$f":"IF(Data!C241=\"\",\"\",Data!C241)","v":""},{"$f":"IF(Data!D241=\"\",\"\",Data!D241)","v":""},{"$f":"IF(Data!E241=\"\",\"\",Data!E241)","v":""},{"$f":"IF(Data!F241=\"\",\"\",Data!F241)","v":""},{"$f":"IF(Data!G241=\"\",\"\",Data!G241)","v":""},{"$f":"IF(Data!H241=\"\",\"\",Data!H241)","v":""},{"$f":"IF(Data!I241=\"\",\"\",Data!I241)","v":""},{"$f":"IF(Data!J241=\"\",\"\",Data!J241)","v":""},{"$f":"IF(Data!K241=\"\",\"\",Data!K241)","v":""},{"$f":"IF(Data!L241=\"\",\"\",Data!L241)","v":""},{"$f":"IF(Data!M241=\"\",\"\",Data!M241)","v":""},{"$f":"IF(Data!N241=\"\",\"\",Data!N241)","v":""},{"$f":"IF(Data!O241=\"\",\"\",Data!O241)","v":""},{"$f":"IF(Data!P241=\"\",\"\",Data!P241)","v":""},{"$f":"IF(Data!Q241=\"\",\"\",Data!Q241)","v":""},{"$f":"IF(Data!R241=\"\",\"\",Data!R241)","v":""},{"$f":"IF(Data!S241=\"\",\"\",Data!S241)","v":""},null,null,null,null,241]
[{"$f":"IF(Data!A242=\"\",\"\",Data!A242)","v":""},"",{"$f":"IF(Data!B242=\"\",\"\",Data!B242)","v":""},{"$f":"IF(Data!C242=\"\",\"\",Data!C242)","v":""},{"$f":"IF(Data!D242=\"\",\"\",Data!D242)","v":""},{"$f":"IF(Data!E242=\"\",\"\",Data!E242)","v":""},{"$f":"IF(Data!F242=\"\",\"\",Data!F242)","v":""},{"$f":"IF(Data!G242=\"\",\"\",Data!G242)","v":""},{"$f":"IF(Data!H242=\"\",\"\",Data!H242)","v":""},{"$f":"IF(Data!I242=\"\",\"\",Data!I242)","v":""},{"$f":"IF(Data!J242=\"\",\"\",Data!J242)","v":""},{"$f":"IF(Data!K242=\"\",\"\",Data!K242)","v":""},{"$f":"IF(Data!L242=\"\",\"\",Data!L242)","v":""},{"$f":"IF(Data!M242=\"\",\"\",Data!M242)","v":""},{"$f":"IF(Data!N242=\"\",\"\",Data!N242)","v":""},{"$f":"IF(Data!O242=\"\",\"\",Data!O242)","v":""},{"$f":"IF(Data!P242=\"\",\"\",Data!P242)","v":""},{"$f":"IF(Data!Q242=\"\",\"\",Data!Q242)","v":""},{"$f":"IF(Data!R242=\"\",\"\",Data!R242)","v":""},{"$f":"IF(Data!S242=\"\",\"\",Data!S242)","v":""},null,null,null,null,242]
[{"$f":"IF(Data!A243=\"\",\"\",Data!A243)","v":""},"",{"$f":"IF(Data!B243=\"\",\"\",Data!B243)","v":""},{"$f":"IF(Data!C243=\"\",\"\",Data!C243)","v":""},{"$f":"IF(Data!D243=\"\",\"\",Data!D243)","v":""},{"$f":"IF(Data!E243=\"\",\"\",Data!E243)","v":""},{"$f":"IF(Data!F243=\"\",\"\",Data!F243)","v":""},{"$f":"IF(Data!G243=\"\",\"\",Data!G243)","v":""},{"$f":"IF(Data!H243=\"\",\"\",Data!H243)","v":""},{"$f":"IF(Data!I243=\"\",\"\",Data!I243)","v":""},{"$f":"IF(Data!J243=\"\",\"\",Data!J243)","v":""},{"$f":"IF(Data!K243=\"\",\"\",Data!K243)","v":""},{"$f":"IF(Data!L243=\"\",\"\",Data!L243)","v":""},{"$f":"IF(Data!M243=\"\",\"\",Data!M243)","v":""},{"$f":"IF(Data!N243=\"\",\"\",Data!N243)","v":""},{"$f":"IF(Data!O243=\"\",\"\",Data!O243)","v":""},{"$f":"IF(Data!P243=\"\",\"\",Data!P243)","v":""},{"$f":"IF(Data!Q243=\"\",\"\",Data!Q243)","v":""},{"$f":"IF(Data!R243=\"\",\"\",Data!R243)","v":""},{"$f":"IF(Data!S243=\"\",\"\",Data!S243)","v":""},null,null,null,null,243]
[{"$f":"IF(Data!A244=\"\",\"\",Data!A244)","v":""},"",{"$f":"IF(Data!B244=\"\",\"\",Data!B244)","v":""},{"$f":"IF(Data!C244=\"\",\"\",Data!C244)","v":""},{"$f":"IF(Data!D244=\"\",\"\",Data!D244)","v":""},{"$f":"IF(Data!E244=\"\",\"\",Data!E244)","v":""},{"$f":"IF(Data!F244=\"\",\"\",Data!F244)","v":""},{"$f":"IF(Data!G244=\"\",\"\",Data!G244)","v":""},{"$f":"IF(Data!H244=\"\",\"\",Data!H244)","v":""},{"$f":"IF(Data!I244=\"\",\"\",Data!I244)","v":""},{"$f":"IF(Data!J244=\"\",\"\",Data!J244)","v":""},{"$f":"IF(Data!K244=\"\",\"\",Data!K244)","v":""},{"$f":"IF(Data!L244=\"\",\"\",Data!L244)","v":""},{"$f":"IF(Data!M244=\"\",\"\",Data!M244)","v":""},{"$f":"IF(Data!N244=\"\",\"\",Data!N244)","v":""},{"$f":"IF(Data!O244=\"\",\"\",Data!O244)","v":""},{"$f":"IF(Data!P244=\"\",\"\",Data!P244)","v":""},{"$f":"IF(Data!Q244=\"\",\"\",Data!Q244)","v":""},{"$f":"IF(Data!R244=\"\",\"\",Data!R244)","v":""},{"$f":"IF(Data!S244=\"\",\"\",Data!S244)","v":""},null,null,null,null,244]
[{"$f":"IF(Data!A245=\"\",\"\",Data!A245)","v":""},"",{"$f":"IF(Data!B245=\"\",\"\",Data!B245)","v":""},{"$f":"IF(Data!C245=\"\",\"\",Data!C245)","v":""},{"$f":"IF(Data!D245=\"\",\"\",Data!D245)","v":""},{"$f":"IF(Data!E245=\"\",\"\",Data!E245)","v":""},{"$f":"IF(Data!F245=\"\",\"\",Data!F245)","v":""},{"$f":"IF(Data!G245=\"\",\"\",Data!G245)","v":""},{"$f":"IF(Data!H245=\"\",\"\",Data!H245)","v":""},{"$f":"IF(Data!I245=\"\",\"\",Data!I245)","v":""},{"$f":"IF(Data!J245=\"\",\"\",Data!J245)","v":""},{"$f":"IF(Data!K245=\"\",\"\",Data!K245)","v":""},{"$f":"IF(Data!L245=\"\",\"\",Data!L245)","v":""},{"$f":"IF(Data!M245=\"\",\"\",Data!M245)","v":""},{"$f":"IF(Data!N245=\"\",\"\",Data!N245)","v":""},{"$f":"IF(Data!O245=\"\",\"\",Data!O245)","v":""},{"$f":"IF(Data!P245=\"\",\"\",Data!P245)","v":""},{"$f":"IF(Data!Q245=\"\",\"\",Data!Q245)","v":""},{"$f":"IF(Data!R245=\"\",\"\",Data!R245)","v":""},{"$f":"IF(Data!S245=\"\",\"\",Data!S245)","v":""},null,null,null,null,245]
[{"$f":"IF(Data!A246=\"\",\"\",Data!A246)","v":""},"",{"$f":"IF(Data!B246=\"\",\"\",Data!B246)","v":""},{"$f":"IF(Data!C246=\"\",\"\",Data!C246)","v":""},{"$f":"IF(Data!D246=\"\",\"\",Data!D246)","v":""},{"$f":"IF(Data!E246=\"\",\"\",Data!E246)","v":""},{"$f":"IF(Data!F246=\"\",\"\",Data!F246)","v":""},{"$f":"IF(Data!G246=\"\",\"\",Data!G246)","v":""},{"$f":"IF(Data!H246=\"\",\"\",Data!H246)","v":""},{"$f":"IF(Data!I246=\"\",\"\",Data!I246)","v":""},{"$f":"IF(Data!J246=\"\",\"\",Data!J246)","v":""},{"$f":"IF(Data!K246=\"\",\"\",Data!K246)","v":""},{"$f":"IF(Data!L246=\"\",\"\",Data!L246)","v":""},{"$f":"IF(Data!M246=\"\",\"\",Data!M246)","v":""},{"$f":"IF(Data!N246=\"\",\"\",Data!N246)","v":""},{"$f":"IF(Data!O246=\"\",\"\",Data!O246)","v":""},{"$f":"IF(Data!P246=\"\",\"\",Data!P246)","v":""},{"$f":"IF(Data!Q246=\"\",\"\",Data!Q246)","v":""},{"$f":"IF(Data!R246=\"\",\"\",Data!R246)","v":""},{"$f":"IF(Data!S246=\"\",\"\",Data!S246)","v":""},null,null,null,null,246]
[{"$f":"IF(Data!A247=\"\",\"\",Data!A247)","v":""},"",{"$f":"IF(Data!B247=\"\",\"\",Data!B247)","v":""},{"$f":"IF(Data!C247=\"\",\"\",Data!C247)","v":""},{"$f":"IF(Data!D247=\"\",\"\",Data!D247)","v":""},{"$f":"IF(Data!E247=\"\",\"\",Data!E247)","v":""},{"$f":"IF(Data!F247=\"\",\"\",Data!F247)","v":""},{"$f":"IF(Data!G247=\"\",\"\",Data!G247)","v":""},{"$f":"IF(Data!H247=\"\",\"\",Data!H247)","v":""},{"$f":"IF(Data!I247=\"\",\"\",Data!I247)","v":""},{"$f":"IF(Data!J247=\"\",\"\",Data!J247)","v":""},{"$f":"IF(Data!K247=\"\",\"\",Data!K247)","v":""},{"$f":"IF(Data!L247=\"\",\"\",Data!L247)","v":""},{"$f":"IF(Data!M247=\"\",\"\",Data!M247)","v":""},{"$f":"IF(Data!N247=\"\",\"\",Data!N247)","v":""},{"$f":"IF(Data!O247=\"\",\"\",Data!O247)","v":""},{"$f":"IF(Data!P247=\"\",\"\",Data!P247)","v":""},{"$f":"IF(Data!Q247=\"\",\"\",Data!Q247)","v":""},{"$f":"IF(Data!R247=\"\",\"\",Data!R247)","v":""},{"$f":"IF(Data!S247=\"\",\"\",Data!S247)","v":""},null,null,null,null,247]
[{"$f":"IF(Data!A248=\"\",\"\",Data!A248)","v":""},"",{"$f":"IF(Data!B248=\"\",\"\",Data!B248)","v":""},{"$f":"IF(Data!C248=\"\",\"\",Data!C248)","v":""},{"$f":"IF(Data!D248=\"\",\"\",Data!D248)","v":""},{"$f":"IF(Data!E248=\"\",\"\",Data!E248)","v":""},{"$f":"IF(Data!F248=\"\",\"\",Data!F248)","v":""},{"$f":"IF(Data!G248=\"\",\"\",Data!G248)","v":""},{"$f":"IF(Data!H248=\"\",\"\",Data!H248)","v":""},{"$f":"IF(Data!I248=\"\",\"\",Data!I248)","v":""},{"$f":"IF(Data!J248=\"\",\"\",Data!J248)","v":""},{"$f":"IF(Data!K248=\"\",\"\",Data!K248)","v":""},{"$f":"IF(Data!L248=\"\",\"\",Data!L248)","v":""},{"$f":"IF(Data!M248=\"\",\"\",Data!M248)","v":""},{"$f":"IF(Data!N248=\"\",\"\",Data!N248)","v":""},{"$f":"IF(Data!O248=\"\",\"\",Data!O248)","v":""},{"$f":"IF(Data!P248=\"\",\"\",Data!P248)","v":""},{"$f":"IF(Data!Q248=\"\",\"\",Data!Q248)","v":""},{"$f":"IF(Data!R248=\"\",\"\",Data!R248)","v":""},{"$f":"IF(Data!S248=\"\",\"\",Data!S248)","v":""},null,null,null,null,248]
[{"$f":"IF(Data!A249=\"\",\"\",Data!A249)","v":""},"",{"$f":"IF(Data!B249=\"\",\"\",Data!B249)","v":""},{"$f":"IF(Data!C249=\"\",\"\",Data!C249)","v":""},{"$f":"IF(Data!D249=\"\",\"\",Data!D249)","v":""},{"$f":"IF(Data!E249=\"\",\"\",Data!E249)","v":""},{"$f":"IF(Data!F249=\"\",\"\",Data!F249)","v":""},{"$f":"IF(Data!G249=\"\",\"\",Data!G249)","v":""},{"$f":"IF(Data!H249=\"\",\"\",Data!H249)","v":""},{"$f":"IF(Data!I249=\"\",\"\",Data!I249)","v":""},{"$f":"IF(Data!J249=\"\",\"\",Data!J249)","v":""},{"$f":"IF(Data!K249=\"\",\"\",Data!K249)","v":""},{"$f":"IF(Data!L249=\"\",\"\",Data!L249)","v":""},{"$f":"IF(Data!M249=\"\",\"\",Data!M249)","v":""},{"$f":"IF(Data!N249=\"\",\"\",Data!N249)","v":""},{"$f":"IF(Data!O249=\"\",\"\",Data!O249)","v":""},{"$f":"IF(Data!P249=\"\",\"\",Data!P249)","v":""},{"$f":"IF(Data!Q249=\"\",\"\",Data!Q249)","v":""},{"$f":"IF(Data!R249=\"\",\"\",Data!R249)","v":""},{"$f":"IF(Data!S249=\"\",\"\",Data!S249)","v":""},null,null,null,null,249]
[{"$f":"IF(Data!A250=\"\",\"\",Data!A250)","v":""},"",{"$f":"IF(Data!B250=\"\",\"\",Data!B250)","v":""},{"$f":"IF(Data!C250=\"\",\"\",Data!C250)","v":""},{"$f":"IF(Data!D250=\"\",\"\",Data!D250)","v":""},{"$f":"IF(Data!E250=\"\",\"\",Data!E250)","v":""},{"$f":"IF(Data!F250=\"\",\"\",Data!F250)","v":""},{"$f":"IF(Data!G250=\"\",\"\",Data!G250)","v":""},{"$f":"IF(Data!H250=\"\",\"\",Data!H250)","v":""},{"$f":"IF(Data!I250=\"\",\"\",Data!I250)","v":""},{"$f":"IF(Data!J250=\"\",\"\",Data!J250)","v":""},{"$f":"IF(Data!K250=\"\",\"\",Data!K250)","v":""},{"$f":"IF(Data!L250=\"\",\"\",Data!L250)","v":""},{"$f":"IF(Data!M250=\"\",\"\",Data!M250)","v":""},{"$f":"IF(Data!N250=\"\",\"\",Data!N250)","v":""},{"$f":"IF(Data!O250=\"\",\"\",Data!O250)","v":""},{"$f":"IF(Data!P250=\"\",\"\",Data!P250)","v":""},{"$f":"IF(Data!Q250=\"\",\"\",Data!Q250)","v":""},{"$f":"IF(Data!R250=\"\",\"\",Data!R250)","v":""},{"$f":"IF(Data!S250=\"\",\"\",Data!S250)","v":""},null,null,null,null,250]
[{"$f":"IF(Data!A251=\"\",\"\",Data!A251)","v":""},"",{"$f":"IF(Data!B251=\"\",\"\",Data!B251)","v":""},{"$f":"IF(Data!C251=\"\",\"\",Data!C251)","v":""},{"$f":"IF(Data!D251=\"\",\"\",Data!D251)","v":""},{"$f":"IF(Data!E251=\"\",\"\",Data!E251)","v":""},{"$f":"IF(Data!F251=\"\",\"\",Data!F251)","v":""},{"$f":"IF(Data!G251=\"\",\"\",Data!G251)","v":""},{"$f":"IF(Data!H251=\"\",\"\",Data!H251)","v":""},{"$f":"IF(Data!I251=\"\",\"\",Data!I251)","v":""},{"$f":"IF(Data!J251=\"\",\"\",Data!J251)","v":""},{"$f":"IF(Data!K251=\"\",\"\",Data!K251)","v":""},{"$f":"IF(Data!L251=\"\",\"\",Data!L251)","v":""},{"$f":"IF(Data!M251=\"\",\"\",Data!M251)","v":""},{"$f":"IF(Data!N251=\"\",\"\",Data!N251)","v":""},{"$f":"IF(Data!O251=\"\",\"\",Data!O251)","v":""},{"$f":"IF(Data!P251=\"\",\"\",Data!P251)","v":""},{"$f":"IF(Data!Q251=\"\",\"\",Data!Q251)","v":""},{"$f":"IF(Data!R251=\"\",\"\",Data!R251)","v":""},{"$f":"IF(Data!S251=\"\",\"\",Data!S251)","v":""},null,null,null,null,251]
[{"$f":"IF(Data!A252=\"\",\"\",Data!A252)","v":""},"",{"$f":"IF(Data!B252=\"\",\"\",Data!B252)","v":""},{"$f":"IF(Data!C252=\"\",\"\",Data!C252)","v":""},{"$f":"IF(Data!D252=\"\",\"\",Data!D252)","v":""},{"$f":"IF(Data!E252=\"\",\"\",Data!E252)","v":""},{"$f":"IF(Data!F252=\"\",\"\",Data!F252)","v":""},{"$f":"IF(Data!G252=\"\",\"\",Data!G252)","v":""},{"$f":"IF(Data!H252=\"\",\"\",Data!H252)","v":""},{"$f":"IF(Data!I252=\"\",\"\",Data!I252)","v":""},{"$f":"IF(Data!J252=\"\",\"\",Data!J252)","v":""},{"$f":"IF(Data!K252=\"\",\"\",Data!K252)","v":""},{"$f":"IF(Data!L252=\"\",\"\",Data!L252)","v":""},{"$f":"IF(Data!M252=\"\",\"\",Data!M252)","v":""},{"$f":"IF(Data!N252=\"\",\"\",Data!N252)","v":""},{"$f":"IF(Data!O252=\"\",\"\",Data!O252)","v":""},{"$f":"IF(Data!P252=\"\",\"\",Data!P252)","v":""},{"$f":"IF(Data!Q252=\"\",\"\",Data!Q252)","v":""},{"$f":"IF(Data!R252=\"\",\"\",Data!R252)","v":""},{"$f":"IF(Data!S252=\"\",\"\",Data!S252)","v":""},null,null,null,null,252]
[{"$f":"IF(Data!A253=\"\",\"\",Data!A253)","v":""},"",{"$f":"IF(Data!B253=\"\",\"\",Data!B253)","v":""},{"$f":"IF(Data!C253=\"\",\"\",Data!C253)","v":""},{"$f":"IF(Data!D253=\"\",\"\",Data!D253)","v":""},{"$f":"IF(Data!E253=\"\",\"\",Data!E253)","v":""},{"$f":"IF(Data!F253=\"\",\"\",Data!F253)","v":""},{"$f":"IF(Data!G253=\"\",\"\",Data!G253)","v":""},{"$f":"IF(Data!H253=\"\",\"\",Data!H253)","v":""},{"$f":"IF(Data!I253=\"\",\"\",Data!I253)","v":""},{"$f":"IF(Data!J253=\"\",\"\",Data!J253)","v":""},{"$f":"IF(Data!K253=\"\",\"\",Data!K253)","v":""},{"$f":"IF(Data!L253=\"\",\"\",Data!L253)","v":""},{"$f":"IF(Data!M253=\"\",\"\",Data!M253)","v":""},{"$f":"IF(Data!N253=\"\",\"\",Data!N253)","v":""},{"$f":"IF(Data!O253=\"\",\"\",Data!O253)","v":""},{"$f":"IF(Data!P253=\"\",\"\",Data!P253)","v":""},{"$f":"IF(Data!Q253=\"\",\"\",Data!Q253)","v":""},{"$f":"IF(Data!R253=\"\",\"\",Data!R253)","v":""},{"$f":"IF(Data!S253=\"\",\"\",Data!S253)","v":""},null,null,null,null,253]
[{"$f":"IF(Data!A254=\"\",\"\",Data!A254)","v":""},"",{"$f":"IF(Data!B254=\"\",\"\",Data!B254)","v":""},{"$f":"IF(Data!C254=\"\",\"\",Data!C254)","v":""},{"$f":"IF(Data!D254=\"\",\"\",Data!D254)","v":""},{"$f":"IF(Data!E254=\"\",\"\",Data!E254)","v":""},{"$f":"IF(Data!F254=\"\",\"\",Data!F254)","v":""},{"$f":"IF(Data!G254=\"\",\"\",Data!G254)","v":""},{"$f":"IF(Data!H254=\"\",\"\",Data!H254)","v":""},{"$f":"IF(Data!I254=\"\",\"\",Data!I254)","v":""},{"$f":"IF(Data!J254=\"\",\"\",Data!J254)","v":""},{"$f":"IF(Data!K254=\"\",\"\",Data!K254)","v":""},{"$f":"IF(Data!L254=\"\",\"\",Data!L254)","v":""},{"$f":"IF(Data!M254=\"\",\"\",Data!M254)","v":""},{"$f":"IF(Data!N254=\"\",\"\",Data!N254)","v":""},{"$f":"IF(Data!O254=\"\",\"\",Data!O254)","v":""},{"$f":"IF(Data!P254=\"\",\"\",Data!P254)","v":""},{"$f":"IF(Data!Q254=\"\",\"\",Data!Q254)","v":""},{"$f":"IF(Data!R254=\"\",\"\",Data!R254)","v":""},{"$f":"IF(Data!S254=\"\",\"\",Data!S254)","v":""},null,null,null,null,254]
[{"$f":"IF(Data!A255=\"\",\"\",Data!A255)","v":""},"",{"$f":"IF(Data!B255=\"\",\"\",Data!B255)","v":""},{"$f":"IF(Data!C255=\"\",\"\",Data!C255)","v":""},{"$f":"IF(Data!D255=\"\",\"\",Data!D255)","v":""},{"$f":"IF(Data!E255=\"\",\"\",Data!E255)","v":""},{"$f":"IF(Data!F255=\"\",\"\",Data!F255)","v":""},{"$f":"IF(Data!G255=\"\",\"\",Data!G255)","v":""},{"$f":"IF(Data!H255=\"\",\"\",Data!H255)","v":""},{"$f":"IF(Data!I255=\"\",\"\",Data!I255)","v":""},{"$f":"IF(Data!J255=\"\",\"\",Data!J255)","v":""},{"$f":"IF(Data!K255=\"\",\"\",Data!K255)","v":""},{"$f":"IF(Data!L255=\"\",\"\",Data!L255)","v":""},{"$f":"IF(Data!M255=\"\",\"\",Data!M255)","v":""},{"$f":"IF(Data!N255=\"\",\"\",Data!N255)","v":""},{"$f":"IF(Data!O255=\"\",\"\",Data!O255)","v":""},{"$f":"IF(Data!P255=\"\",\"\",Data!P255)","v":""},{"$f":"IF(Data!Q255=\"\",\"\",Data!Q255)","v":""},{"$f":"IF(Data!R255=\"\",\"\",Data!R255)","v":""},{"$f":"IF(Data!S255=\"\",\"\",Data!S255)","v":""},null,null,null,null,255]
[{"$f":"IF(Data!A256=\"\",\"\",Data!A256)","v":""},"",{"$f":"IF(Data!B256=\"\",\"\",Data!B256)","v":""},{"$f":"IF(Data!C256=\"\",\"\",Data!C256)","v":""},{"$f":"IF(Data!D256=\"\",\"\",Data!D256)","v":""},{"$f":"IF(Data!E256=\"\",\"\",Data!E256)","v":""},{"$f":"IF(Data!F256=\"\",\"\",Data!F256)","v":""},{"$f":"IF(Data!G256=\"\",\"\",Data!G256)","v":""},{"$f":"IF(Data!H256=\"\",\"\",Data!H256)","v":""},{"$f":"IF(Data!I256=\"\",\"\",Data!I256)","v":""},{"$f":"IF(Data!J256=\"\",\"\",Data!J256)","v":""},{"$f":"IF(Data!K256=\"\",\"\",Data!K256)","v":""},{"$f":"IF(Data!L256=\"\",\"\",Data!L256)","v":""},{"$f":"IF(Data!M256=\"\",\"\",Data!M256)","v":""},{"$f":"IF(Data!N256=\"\",\"\",Data!N256)","v":""},{"$f":"IF(Data!O256=\"\",\"\",Data!O256)","v":""},{"$f":"IF(Data!P256=\"\",\"\",Data!P256)","v":""},{"$f":"IF(Data!Q256=\"\",\"\",Data!Q256)","v":""},{"$f":"IF(Data!R256=\"\",\"\",Data!R256)","v":""},{"$f":"IF(Data!S256=\"\",\"\",Data!S256)","v":""},null,null,null,null,256]
[{"$f":"IF(Data!A257=\"\",\"\",Data!A257)","v":""},{"$f":"IF(A258=\"\",\"\",Y258)","v":""},{"$f":"IF(Data!B257=\"\",\"\",Data!B257)","v":""},{"$f":"IF(Data!C257=\"\",\"\",Data!C257)","v":""},{"$f":"IF(Data!D257=\"\",\"\",Data!D257)","v":""},{"$f":"IF(Data!E257=\"\",\"\",Data!E257)","v":""},{"$f":"IF(Data!F257=\"\",\"\",Data!F257)","v":""},{"$f":"IF(Data!G257=\"\",\"\",Data!G257)","v":""},{"$f":"IF(Data!H257=\"\",\"\",Data!H257)","v":""},{"$f":"IF(Data!I257=\"\",\"\",Data!I257)","v":""},{"$f":"IF(Data!J257=\"\",\"\",Data!J257)","v":""},{"$f":"IF(Data!K257=\"\",\"\",Data!K257)","v":""},{"$f":"IF(Data!L257=\"\",\"\",Data!L257)","v":""},{"$f":"IF(Data!M257=\"\",\"\",Data!M257)","v":""},{"$f":"IF(Data!N257=\"\",\"\",Data!N257)","v":""},{"$f":"IF(Data!O257=\"\",\"\",Data!O257)","v":""},{"$f":"IF(Data!P257=\"\",\"\",Data!P257)","v":""},{"$f":"IF(Data!Q257=\"\",\"\",Data!Q257)","v":""},{"$f":"IF(Data!R257=\"\",\"\",Data!R257)","v":""},{"$f":"IF(Data!S257=\"\",\"\",Data!S257)","v":""},null,null,null,null,257]
[{"$f":"IF(Data!A258=\"\",\"\",Data!A258)","v":""},"",{"$f":"IF(Data!B258=\"\",\"\",Data!B258)","v":""},{"$f":"IF(Data!C258=\"\",\"\",Data!C258)","v":""},{"$f":"IF(Data!D258=\"\",\"\",Data!D258)","v":""},{"$f":"IF(Data!E258=\"\",\"\",Data!E258)","v":""},{"$f":"IF(Data!F258=\"\",\"\",Data!F258)","v":""},{"$f":"IF(Data!G258=\"\",\"\",Data!G258)","v":""},{"$f":"IF(Data!H258=\"\",\"\",Data!H258)","v":""},{"$f":"IF(Data!I258=\"\",\"\",Data!I258)","v":""},{"$f":"IF(Data!J258=\"\",\"\",Data!J258)","v":""},{"$f":"IF(Data!K258=\"\",\"\",Data!K258)","v":""},{"$f":"IF(Data!L258=\"\",\"\",Data!L258)","v":""},{"$f":"IF(Data!M258=\"\",\"\",Data!M258)","v":""},{"$f":"IF(Data!N258=\"\",\"\",Data!N258)","v":""},{"$f":"IF(Data!O258=\"\",\"\",Data!O258)","v":""},{"$f":"IF(Data!P258=\"\",\"\",Data!P258)","v":""},{"$f":"IF(Data!Q258=\"\",\"\",Data!Q258)","v":""},{"$f":"IF(Data!R258=\"\",\"\",Data!R258)","v":""},{"$f":"IF(Data!S258=\"\",\"\",Data!S258)","v":""},null,null,null,null,258]
[{"$f":"IF(Data!A259=\"\",\"\",Data!A259)","v":""},"",{"$f":"IF(Data!B259=\"\",\"\",Data!B259)","v":""},{"$f":"IF(Data!C259=\"\",\"\",Data!C259)","v":""},{"$f":"IF(Data!D259=\"\",\"\",Data!D259)","v":""},{"$f":"IF(Data!E259=\"\",\"\",Data!E259)","v":""},{"$f":"IF(Data!F259=\"\",\"\",Data!F259)","v":""},{"$f":"IF(Data!G259=\"\",\"\",Data!G259)","v":""},{"$f":"IF(Data!H259=\"\",\"\",Data!H259)","v":""},{"$f":"IF(Data!I259=\"\",\"\",Data!I259)","v":""},{"$f":"IF(Data!J259=\"\",\"\",Data!J259)","v":""},{"$f":"IF(Data!K259=\"\",\"\",Data!K259)","v":""},{"$f":"IF(Data!L259=\"\",\"\",Data!L259)","v":""},{"$f":"IF(Data!M259=\"\",\"\",Data!M259)","v":""},{"$f":"IF(Data!N259=\"\",\"\",Data!N259)","v":""},{"$f":"IF(Data!O259=\"\",\"\",Data!O259)","v":""},{"$f":"IF(Data!P259=\"\",\"\",Data!P259)","v":""},{"$f":"IF(Data!Q259=\"\",\"\",Data!Q259)","v":""},{"$f":"IF(Data!R259=\"\",\"\",Data!R259)","v":""},{"$f":"IF(Data!S259=\"\",\"\",Data!S259)","v":""},null,null,null,null,259]
[{"$f":"IF(Data!A260=\"\",\"\",Data!A260)","v":""},"",{"$f":"IF(Data!B260=\"\",\"\",Data!B260)","v":""},{"$f":"IF(Data!C260=\"\",\"\",Data!C260)","v":""},{"$f":"IF(Data!D260=\"\",\"\",Data!D260)","v":""},{"$f":"IF(Data!E260=\"\",\"\",Data!E260)","v":""},{"$f":"IF(Data!F260=\"\",\"\",Data!F260)","v":""},{"$f":"IF(Data!G260=\"\",\"\",Data!G260)","v":""},{"$f":"IF(Data!H260=\"\",\"\",Data!H260)","v":""},{"$f":"IF(Data!I260=\"\",\"\",Data!I260)","v":""},{"$f":"IF(Data!J260=\"\",\"\",Data!J260)","v":""},{"$f":"IF(Data!K260=\"\",\"\",Data!K260)","v":""},{"$f":"IF(Data!L260=\"\",\"\",Data!L260)","v":""},{"$f":"IF(Data!M260=\"\",\"\",Data!M260)","v":""},{"$f":"IF(Data!N260=\"\",\"\",Data!N260)","v":""},{"$f":"IF(Data!O260=\"\",\"\",Data!O260)","v":""},{"$f":"IF(Data!P260=\"\",\"\",Data!P260)","v":""},{"$f":"IF(Data!Q260=\"\",\"\",Data!Q260)","v":""},{"$f":"IF(Data!R260=\"\",\"\",Data!R260)","v":""},{"$f":"IF(Data!S260=\"\",\"\",Data!S260)","v":""},null,null,null,null,260]
[{"$f":"IF(Data!A261=\"\",\"\",Data!A261)","v":""},"",{"$f":"IF(Data!B261=\"\",\"\",Data!B261)","v":""},{"$f":"IF(Data!C261=\"\",\"\",Data!C261)","v":""},{"$f":"IF(Data!D261=\"\",\"\",Data!D261)","v":""},{"$f":"IF(Data!E261=\"\",\"\",Data!E261)","v":""},{"$f":"IF(Data!F261=\"\",\"\",Data!F261)","v":""},{"$f":"IF(Data!G261=\"\",\"\",Data!G261)","v":""},{"$f":"IF(Data!H261=\"\",\"\",Data!H261)","v":""},{"$f":"IF(Data!I261=\"\",\"\",Data!I261)","v":""},{"$f":"IF(Data!J261=\"\",\"\",Data!J261)","v":""},{"$f":"IF(Data!K261=\"\",\"\",Data!K261)","v":""},{"$f":"IF(Data!L261=\"\",\"\",Data!L261)","v":""},{"$f":"IF(Data!M261=\"\",\"\",Data!M261)","v":""},{"$f":"IF(Data!N261=\"\",\"\",Data!N261)","v":""},{"$f":"IF(Data!O261=\"\",\"\",Data!O261)","v":""},{"$f":"IF(Data!P261=\"\",\"\",Data!P261)","v":""},{"$f":"IF(Data!Q261=\"\",\"\",Data!Q261)","v":""},{"$f":"IF(Data!R261=\"\",\"\",Data!R261)","v":""},{"$f":"IF(Data!S261=\"\",\"\",Data!S261)","v":""},null,null,null,null,261]
[{"$f":"IF(Data!A262=\"\",\"\",Data!A262)","v":""},"",{"$f":"IF(Data!B262=\"\",\"\",Data!B262)","v":""},{"$f":"IF(Data!C262=\"\",\"\",Data!C262)","v":""},{"$f":"IF(Data!D262=\"\",\"\",Data!D262)","v":""},{"$f":"IF(Data!E262=\"\",\"\",Data!E262)","v":""},{"$f":"IF(Data!F262=\"\",\"\",Data!F262)","v":""},{"$f":"IF(Data!G262=\"\",\"\",Data!G262)","v":""},{"$f":"IF(Data!H262=\"\",\"\",Data!H262)","v":""},{"$f":"IF(Data!I262=\"\",\"\",Data!I262)","v":""},{"$f":"IF(Data!J262=\"\",\"\",Data!J262)","v":""},{"$f":"IF(Data!K262=\"\",\"\",Data!K262)","v":""},{"$f":"IF(Data!L262=\"\",\"\",Data!L262)","v":""},{"$f":"IF(Data!M262=\"\",\"\",Data!M262)","v":""},{"$f":"IF(Data!N262=\"\",\"\",Data!N262)","v":""},{"$f":"IF(Data!O262=\"\",\"\",Data!O262)","v":""},{"$f":"IF(Data!P262=\"\",\"\",Data!P262)","v":""},{"$f":"IF(Data!Q262=\"\",\"\",Data!Q262)","v":""},{"$f":"IF(Data!R262=\"\",\"\",Data!R262)","v":""},{"$f":"IF(Data!S262=\"\",\"\",Data!S262)","v":""},null,null,null,null,262]
[{"$f":"IF(Data!A263=\"\",\"\",Data!A263)","v":""},"",{"$f":"IF(Data!B263=\"\",\"\",Data!B263)","v":""},{"$f":"IF(Data!C263=\"\",\"\",Data!C263)","v":""},{"$f":"IF(Data!D263=\"\",\"\",Data!D263)","v":""},{"$f":"IF(Data!E263=\"\",\"\",Data!E263)","v":""},{"$f":"IF(Data!F263=\"\",\"\",Data!F263)","v":""},{"$f":"IF(Data!G263=\"\",\"\",Data!G263)","v":""},{"$f":"IF(Data!H263=\"\",\"\",Data!H263)","v":""},{"$f":"IF(Data!I263=\"\",\"\",Data!I263)","v":""},{"$f":"IF(Data!J263=\"\",\"\",Data!J263)","v":""},{"$f":"IF(Data!K263=\"\",\"\",Data!K263)","v":""},{"$f":"IF(Data!L263=\"\",\"\",Data!L263)","v":""},{"$f":"IF(Data!M263=\"\",\"\",Data!M263)","v":""},{"$f":"IF(Data!N263=\"\",\"\",Data!N263)","v":""},{"$f":"IF(Data!O263=\"\",\"\",Data!O263)","v":""},{"$f":"IF(Data!P263=\"\",\"\",Data!P263)","v":""},{"$f":"IF(Data!Q263=\"\",\"\",Data!Q263)","v":""},{"$f":"IF(Data!R263=\"\",\"\",Data!R263)","v":""},{"$f":"IF(Data!S263=\"\",\"\",Data!S263)","v":""},null,null,null,null,263]
[{"$f":"IF(Data!A264=\"\",\"\",Data!A264)","v":""},"",{"$f":"IF(Data!B264=\"\",\"\",Data!B264)","v":""},{"$f":"IF(Data!C264=\"\",\"\",Data!C264)","v":""},{"$f":"IF(Data!D264=\"\",\"\",Data!D264)","v":""},{"$f":"IF(Data!E264=\"\",\"\",Data!E264)","v":""},{"$f":"IF(Data!F264=\"\",\"\",Data!F264)","v":""},{"$f":"IF(Data!G264=\"\",\"\",Data!G264)","v":""},{"$f":"IF(Data!H264=\"\",\"\",Data!H264)","v":""},{"$f":"IF(Data!I264=\"\",\"\",Data!I264)","v":""},{"$f":"IF(Data!J264=\"\",\"\",Data!J264)","v":""},{"$f":"IF(Data!K264=\"\",\"\",Data!K264)","v":""},{"$f":"IF(Data!L264=\"\",\"\",Data!L264)","v":""},{"$f":"IF(Data!M264=\"\",\"\",Data!M264)","v":""},{"$f":"IF(Data!N264=\"\",\"\",Data!N264)","v":""},{"$f":"IF(Data!O264=\"\",\"\",Data!O264)","v":""},{"$f":"IF(Data!P264=\"\",\"\",Data!P264)","v":""},{"$f":"IF(Data!Q264=\"\",\"\",Data!Q264)","v":""},{"$f":"IF(Data!R264=\"\",\"\",Data!R264)","v":""},{"$f":"IF(Data!S264=\"\",\"\",Data!S264)","v":""},null,null,null,null,264]
[{"$f":"IF(Data!A265=\"\",\"\",Data!A265)","v":""},"",{"$f":"IF(Data!B265=\"\",\"\",Data!B265)","v":""},{"$f":"IF(Data!C265=\"\",\"\",Data!C265)","v":""},{"$f":"IF(Data!D265=\"\",\"\",Data!D265)","v":""},{"$f":"IF(Data!E265=\"\",\"\",Data!E265)","v":""},{"$f":"IF(Data!F265=\"\",\"\",Data!F265)","v":""},{"$f":"IF(Data!G265=\"\",\"\",Data!G265)","v":""},{"$f":"IF(Data!H265=\"\",\"\",Data!H265)","v":""},{"$f":"IF(Data!I265=\"\",\"\",Data!I265)","v":""},{"$f":"IF(Data!J265=\"\",\"\",Data!J265)","v":""},{"$f":"IF(Data!K265=\"\",\"\",Data!K265)","v":""},{"$f":"IF(Data!L265=\"\",\"\",Data!L265)","v":""},{"$f":"IF(Data!M265=\"\",\"\",Data!M265)","v":""},{"$f":"IF(Data!N265=\"\",\"\",Data!N265)","v":""},{"$f":"IF(Data!O265=\"\",\"\",Data!O265)","v":""},{"$f":"IF(Data!P265=\"\",\"\",Data!P265)","v":""},{"$f":"IF(Data!Q265=\"\",\"\",Data!Q265)","v":""},{"$f":"IF(Data!R265=\"\",\"\",Data!R265)","v":""},{"$f":"IF(Data!S265=\"\",\"\",Data!S265)","v":""},null,null,null,null,265]
[{"$f":"IF(Data!A266=\"\",\"\",Data!A266)","v":""},"",{"$f":"IF(Data!B266=\"\",\"\",Data!B266)","v":""},{"$f":"IF(Data!C266=\"\",\"\",Data!C266)","v":""},{"$f":"IF(Data!D266=\"\",\"\",Data!D266)","v":""},{"$f":"IF(Data!E266=\"\",\"\",Data!E266)","v":""},{"$f":"IF(Data!F266=\"\",\"\",Data!F266)","v":""},{"$f":"IF(Data!G266=\"\",\"\",Data!G266)","v":""},{"$f":"IF(Data!H266=\"\",\"\",Data!H266)","v":""},{"$f":"IF(Data!I266=\"\",\"\",Data!I266)","v":""},{"$f":"IF(Data!J266=\"\",\"\",Data!J266)","v":""},{"$f":"IF(Data!K266=\"\",\"\",Data!K266)","v":""},{"$f":"IF(Data!L266=\"\",\"\",Data!L266)","v":""},{"$f":"IF(Data!M266=\"\",\"\",Data!M266)","v":""},{"$f":"IF(Data!N266=\"\",\"\",Data!N266)","v":""},{"$f":"IF(Data!O266=\"\",\"\",Data!O266)","v":""},{"$f":"IF(Data!P266=\"\",\"\",Data!P266)","v":""},{"$f":"IF(Data!Q266=\"\",\"\",Data!Q266)","v":""},{"$f":"IF(Data!R266=\"\",\"\",Data!R266)","v":""},{"$f":"IF(Data!S266=\"\",\"\",Data!S266)","v":""},null,null,null,null,266]
[{"$f":"IF(Data!A267=\"\",\"\",Data!A267)","v":""},"",{"$f":"IF(Data!B267=\"\",\"\",Data!B267)","v":""},{"$f":"IF(Data!C267=\"\",\"\",Data!C267)","v":""},{"$f":"IF(Data!D267=\"\",\"\",Data!D267)","v":""},{"$f":"IF(Data!E267=\"\",\"\",Data!E267)","v":""},{"$f":"IF(Data!F267=\"\",\"\",Data!F267)","v":""},{"$f":"IF(Data!G267=\"\",\"\",Data!G267)","v":""},{"$f":"IF(Data!H267=\"\",\"\",Data!H267)","v":""},{"$f":"IF(Data!I267=\"\",\"\",Data!I267)","v":""},{"$f":"IF(Data!J267=\"\",\"\",Data!J267)","v":""},{"$f":"IF(Data!K267=\"\",\"\",Data!K267)","v":""},{"$f":"IF(Data!L267=\"\",\"\",Data!L267)","v":""},{"$f":"IF(Data!M267=\"\",\"\",Data!M267)","v":""},{"$f":"IF(Data!N267=\"\",\"\",Data!N267)","v":""},{"$f":"IF(Data!O267=\"\",\"\",Data!O267)","v":""},{"$f":"IF(Data!P267=\"\",\"\",Data!P267)","v":""},{"$f":"IF(Data!Q267=\"\",\"\",Data!Q267)","v":""},{"$f":"IF(Data!R267=\"\",\"\",Data!R267)","v":""},{"$f":"IF(Data!S267=\"\",\"\",Data!S267)","v":""},null,null,null,null,267]
[{"$f":"IF(Data!A268=\"\",\"\",Data!A268)","v":""},"",{"$f":"IF(Data!B268=\"\",\"\",Data!B268)","v":""},{"$f":"IF(Data!C268=\"\",\"\",Data!C268)","v":""},{"$f":"IF(Data!D268=\"\",\"\",Data!D268)","v":""},{"$f":"IF(Data!E268=\"\",\"\",Data!E268)","v":""},{"$f":"IF(Data!F268=\"\",\"\",Data!F268)","v":""},{"$f":"IF(Data!G268=\"\",\"\",Data!G268)","v":""},{"$f":"IF(Data!H268=\"\",\"\",Data!H268)","v":""},{"$f":"IF(Data!I268=\"\",\"\",Data!I268)","v":""},{"$f":"IF(Data!J268=\"\",\"\",Data!J268)","v":""},{"$f":"IF(Data!K268=\"\",\"\",Data!K268)","v":""},{"$f":"IF(Data!L268=\"\",\"\",Data!L268)","v":""},{"$f":"IF(Data!M268=\"\",\"\",Data!M268)","v":""},{"$f":"IF(Data!N268=\"\",\"\",Data!N268)","v":""},{"$f":"IF(Data!O268=\"\",\"\",Data!O268)","v":""},{"$f":"IF(Data!P268=\"\",\"\",Data!P268)","v":""},{"$f":"IF(Data!Q268=\"\",\"\",Data!Q268)","v":""},{"$f":"IF(Data!R268=\"\",\"\",Data!R268)","v":""},{"$f":"IF(Data!S268=\"\",\"\",Data!S268)","v":""},null,null,null,null,268]
[{"$f":"IF(Data!A269=\"\",\"\",Data!A269)","v":""},"",{"$f":"IF(Data!B269=\"\",\"\",Data!B269)","v":""},{"$f":"IF(Data!C269=\"\",\"\",Data!C269)","v":""},{"$f":"IF(Data!D269=\"\",\"\",Data!D269)","v":""},{"$f":"IF(Data!E269=\"\",\"\",Data!E269)","v":""},{"$f":"IF(Data!F269=\"\",\"\",Data!F269)","v":""},{"$f":"IF(Data!G269=\"\",\"\",Data!G269)","v":""},{"$f":"IF(Data!H269=\"\",\"\",Data!H269)","v":""},{"$f":"IF(Data!I269=\"\",\"\",Data!I269)","v":""},{"$f":"IF(Data!J269=\"\",\"\",Data!J269)","v":""},{"$f":"IF(Data!K269=\"\",\"\",Data!K269)","v":""},{"$f":"IF(Data!L269=\"\",\"\",Data!L269)","v":""},{"$f":"IF(Data!M269=\"\",\"\",Data!M269)","v":""},{"$f":"IF(Data!N269=\"\",\"\",Data!N269)","v":""},{"$f":"IF(Data!O269=\"\",\"\",Data!O269)","v":""},{"$f":"IF(Data!P269=\"\",\"\",Data!P269)","v":""},{"$f":"IF(Data!Q269=\"\",\"\",Data!Q269)","v":""},{"$f":"IF(Data!R269=\"\",\"\",Data!R269)","v":""},{"$f":"IF(Data!S269=\"\",\"\",Data!S269)","v":""},null,null,null,null,269]
[{"$f":"IF(Data!A270=\"\",\"\",Data!A270)","v":""},"",{"$f":"IF(Data!B270=\"\",\"\",Data!B270)","v":""},{"$f":"IF(Data!C270=\"\",\"\",Data!C270)","v":""},{"$f":"IF(Data!D270=\"\",\"\",Data!D270)","v":""},{"$f":"IF(Data!E270=\"\",\"\",Data!E270)","v":""},{"$f":"IF(Data!F270=\"\",\"\",Data!F270)","v":""},{"$f":"IF(Data!G270=\"\",\"\",Data!G270)","v":""},{"$f":"IF(Data!H270=\"\",\"\",Data!H270)","v":""},{"$f":"IF(Data!I270=\"\",\"\",Data!I270)","v":""},{"$f":"IF(Data!J270=\"\",\"\",Data!J270)","v":""},{"$f":"IF(Data!K270=\"\",\"\",Data!K270)","v":""},{"$f":"IF(Data!L270=\"\",\"\",Data!L270)","v":""},{"$f":"IF(Data!M270=\"\",\"\",Data!M270)","v":""},{"$f":"IF(Data!N270=\"\",\"\",Data!N270)","v":""},{"$f":"IF(Data!O270=\"\",\"\",Data!O270)","v":""},{"$f":"IF(Data!P270=\"\",\"\",Data!P270)","v":""},{"$f":"IF(Data!Q270=\"\",\"\",Data!Q270)","v":""},{"$f":"IF(Data!R270=\"\",\"\",Data!R270)","v":""},{"$f":"IF(Data!S270=\"\",\"\",Data!S270)","v":""},null,null,null,null,270]
[{"$f":"IF(Data!A271=\"\",\"\",Data!A271)","v":""},"",{"$f":"IF(Data!B271=\"\",\"\",Data!B271)","v":""},{"$f":"IF(Data!C271=\"\",\"\",Data!C271)","v":""},{"$f":"IF(Data!D271=\"\",\"\",Data!D271)","v":""},{"$f":"IF(Data!E271=\"\",\"\",Data!E271)","v":""},{"$f":"IF(Data!F271=\"\",\"\",Data!F271)","v":""},{"$f":"IF(Data!G271=\"\",\"\",Data!G271)","v":""},{"$f":"IF(Data!H271=\"\",\"\",Data!H271)","v":""},{"$f":"IF(Data!I271=\"\",\"\",Data!I271)","v":""},{"$f":"IF(Data!J271=\"\",\"\",Data!J271)","v":""},{"$f":"IF(Data!K271=\"\",\"\",Data!K271)","v":""},{"$f":"IF(Data!L271=\"\",\"\",Data!L271)","v":""},{"$f":"IF(Data!M271=\"\",\"\",Data!M271)","v":""},{"$f":"IF(Data!N271=\"\",\"\",Data!N271)","v":""},{"$f":"IF(Data!O271=\"\",\"\",Data!O271)","v":""},{"$f":"IF(Data!P271=\"\",\"\",Data!P271)","v":""},{"$f":"IF(Data!Q271=\"\",\"\",Data!Q271)","v":""},{"$f":"IF(Data!R271=\"\",\"\",Data!R271)","v":""},{"$f":"IF(Data!S271=\"\",\"\",Data!S271)","v":""},null,null,null,null,271]
[{"$f":"IF(Data!A272=\"\",\"\",Data!A272)","v":""},"",{"$f":"IF(Data!B272=\"\",\"\",Data!B272)","v":""},{"$f":"IF(Data!C272=\"\",\"\",Data!C272)","v":""},{"$f":"IF(Data!D272=\"\",\"\",Data!D272)","v":""},{"$f":"IF(Data!E272=\"\",\"\",Data!E272)","v":""},{"$f":"IF(Data!F272=\"\",\"\",Data!F272)","v":""},{"$f":"IF(Data!G272=\"\",\"\",Data!G272)","v":""},{"$f":"IF(Data!H272=\"\",\"\",Data!H272)","v":""},{"$f":"IF(Data!I272=\"\",\"\",Data!I272)","v":""},{"$f":"IF(Data!J272=\"\",\"\",Data!J272)","v":""},{"$f":"IF(Data!K272=\"\",\"\",Data!K272)","v":""},{"$f":"IF(Data!L272=\"\",\"\",Data!L272)","v":""},{"$f":"IF(Data!M272=\"\",\"\",Data!M272)","v":""},{"$f":"IF(Data!N272=\"\",\"\",Data!N272)","v":""},{"$f":"IF(Data!O272=\"\",\"\",Data!O272)","v":""},{"$f":"IF(Data!P272=\"\",\"\",Data!P272)","v":""},{"$f":"IF(Data!Q272=\"\",\"\",Data!Q272)","v":""},{"$f":"IF(Data!R272=\"\",\"\",Data!R272)","v":""},{"$f":"IF(Data!S272=\"\",\"\",Data!S272)","v":""},null,null,null,null,272]
[{"$f":"IF(Data!A273=\"\",\"\",Data!A273)","v":""},"",{"$f":"IF(Data!B273=\"\",\"\",Data!B273)","v":""},{"$f":"IF(Data!C273=\"\",\"\",Data!C273)","v":""},{"$f":"IF(Data!D273=\"\",\"\",Data!D273)","v":""},{"$f":"IF(Data!E273=\"\",\"\",Data!E273)","v":""},{"$f":"IF(Data!F273=\"\",\"\",Data!F273)","v":""},{"$f":"IF(Data!G273=\"\",\"\",Data!G273)","v":""},{"$f":"IF(Data!H273=\"\",\"\",Data!H273)","v":""},{"$f":"IF(Data!I273=\"\",\"\",Data!I273)","v":""},{"$f":"IF(Data!J273=\"\",\"\",Data!J273)","v":""},{"$f":"IF(Data!K273=\"\",\"\",Data!K273)","v":""},{"$f":"IF(Data!L273=\"\",\"\",Data!L273)","v":""},{"$f":"IF(Data!M273=\"\",\"\",Data!M273)","v":""},{"$f":"IF(Data!N273=\"\",\"\",Data!N273)","v":""},{"$f":"IF(Data!O273=\"\",\"\",Data!O273)","v":""},{"$f":"IF(Data!P273=\"\",\"\",Data!P273)","v":""},{"$f":"IF(Data!Q273=\"\",\"\",Data!Q273)","v":""},{"$f":"IF(Data!R273=\"\",\"\",Data!R273)","v":""},{"$f":"IF(Data!S273=\"\",\"\",Data!S273)","v":""},null,null,null,null,273]
[{"$f":"IF(Data!A274=\"\",\"\",Data!A274)","v":""},"",{"$f":"IF(Data!B274=\"\",\"\",Data!B274)","v":""},{"$f":"IF(Data!C274=\"\",\"\",Data!C274)","v":""},{"$f":"IF(Data!D274=\"\",\"\",Data!D274)","v":""},{"$f":"IF(Data!E274=\"\",\"\",Data!E274)","v":""},{"$f":"IF(Data!F274=\"\",\"\",Data!F274)","v":""},{"$f":"IF(Data!G274=\"\",\"\",Data!G274)","v":""},{"$f":"IF(Data!H274=\"\",\"\",Data!H274)","v":""},{"$f":"IF(Data!I274=\"\",\"\",Data!I274)","v":""},{"$f":"IF(Data!J274=\"\",\"\",Data!J274)","v":""},{"$f":"IF(Data!K274=\"\",\"\",Data!K274)","v":""},{"$f":"IF(Data!L274=\"\",\"\",Data!L274)","v":""},{"$f":"IF(Data!M274=\"\",\"\",Data!M274)","v":""},{"$f":"IF(Data!N274=\"\",\"\",Data!N274)","v":""},{"$f":"IF(Data!O274=\"\",\"\",Data!O274)","v":""},{"$f":"IF(Data!P274=\"\",\"\",Data!P274)","v":""},{"$f":"IF(Data!Q274=\"\",\"\",Data!Q274)","v":""},{"$f":"IF(Data!R274=\"\",\"\",Data!R274)","v":""},{"$f":"IF(Data!S274=\"\",\"\",Data!S274)","v":""},null,null,null,null,274]
[{"$f":"IF(Data!A275=\"\",\"\",Data!A275)","v":""},"",{"$f":"IF(Data!B275=\"\",\"\",Data!B275)","v":""},{"$f":"IF(Data!C275=\"\",\"\",Data!C275)","v":""},{"$f":"IF(Data!D275=\"\",\"\",Data!D275)","v":""},{"$f":"IF(Data!E275=\"\",\"\",Data!E275)","v":""},{"$f":"IF(Data!F275=\"\",\"\",Data!F275)","v":""},{"$f":"IF(Data!G275=\"\",\"\",Data!G275)","v":""},{"$f":"IF(Data!H275=\"\",\"\",Data!H275)","v":""},{"$f":"IF(Data!I275=\"\",\"\",Data!I275)","v":""},{"$f":"IF(Data!J275=\"\",\"\",Data!J275)","v":""},{"$f":"IF(Data!K275=\"\",\"\",Data!K275)","v":""},{"$f":"IF(Data!L275=\"\",\"\",Data!L275)","v":""},{"$f":"IF(Data!M275=\"\",\"\",Data!M275)","v":""},{"$f":"IF(Data!N275=\"\",\"\",Data!N275)","v":""},{"$f":"IF(Data!O275=\"\",\"\",Data!O275)","v":""},{"$f":"IF(Data!P275=\"\",\"\",Data!P275)","v":""},{"$f":"IF(Data!Q275=\"\",\"\",Data!Q275)","v":""},{"$f":"IF(Data!R275=\"\",\"\",Data!R275)","v":""},{"$f":"IF(Data!S275=\"\",\"\",Data!S275)","v":""},null,null,null,null,275]
[{"$f":"IF(Data!A276=\"\",\"\",Data!A276)","v":""},"",{"$f":"IF(Data!B276=\"\",\"\",Data!B276)","v":""},{"$f":"IF(Data!C276=\"\",\"\",Data!C276)","v":""},{"$f":"IF(Data!D276=\"\",\"\",Data!D276)","v":""},{"$f":"IF(Data!E276=\"\",\"\",Data!E276)","v":""},{"$f":"IF(Data!F276=\"\",\"\",Data!F276)","v":""},{"$f":"IF(Data!G276=\"\",\"\",Data!G276)","v":""},{"$f":"IF(Data!H276=\"\",\"\",Data!H276)","v":""},{"$f":"IF(Data!I276=\"\",\"\",Data!I276)","v":""},{"$f":"IF(Data!J276=\"\",\"\",Data!J276)","v":""},{"$f":"IF(Data!K276=\"\",\"\",Data!K276)","v":""},{"$f":"IF(Data!L276=\"\",\"\",Data!L276)","v":""},{"$f":"IF(Data!M276=\"\",\"\",Data!M276)","v":""},{"$f":"IF(Data!N276=\"\",\"\",Data!N276)","v":""},{"$f":"IF(Data!O276=\"\",\"\",Data!O276)","v":""},{"$f":"IF(Data!P276=\"\",\"\",Data!P276)","v":""},{"$f":"IF(Data!Q276=\"\",\"\",Data!Q276)","v":""},{"$f":"IF(Data!R276=\"\",\"\",Data!R276)","v":""},{"$f":"IF(Data!S276=\"\",\"\",Data!S276)","v":""},null,null,null,null,276]
[{"$f":"IF(Data!A277=\"\",\"\",Data!A277)","v":""},"",{"$f":"IF(Data!B277=\"\",\"\",Data!B277)","v":""},{"$f":"IF(Data!C277=\"\",\"\",Data!C277)","v":""},{"$f":"IF(Data!D277=\"\",\"\",Data!D277)","v":""},{"$f":"IF(Data!E277=\"\",\"\",Data!E277)","v":""},{"$f":"IF(Data!F277=\"\",\"\",Data!F277)","v":""},{"$f":"IF(Data!G277=\"\",\"\",Data!G277)","v":""},{"$f":"IF(Data!H277=\"\",\"\",Data!H277)","v":""},{"$f":"IF(Data!I277=\"\",\"\",Data!I277)","v":""},{"$f":"IF(Data!J277=\"\",\"\",Data!J277)","v":""},{"$f":"IF(Data!K277=\"\",\"\",Data!K277)","v":""},{"$f":"IF(Data!L277=\"\",\"\",Data!L277)","v":""},{"$f":"IF(Data!M277=\"\",\"\",Data!M277)","v":""},{"$f":"IF(Data!N277=\"\",\"\",Data!N277)","v":""},{"$f":"IF(Data!O277=\"\",\"\",Data!O277)","v":""},{"$f":"IF(Data!P277=\"\",\"\",Data!P277)","v":""},{"$f":"IF(Data!Q277=\"\",\"\",Data!Q277)","v":""},{"$f":"IF(Data!R277=\"\",\"\",Data!R277)","v":""},{"$f":"IF(Data!S277=\"\",\"\",Data!S277)","v":""},null,null,null,null,277]
[{"$f":"IF(Data!A278=\"\",\"\",Data!A278)","v":""},"",{"$f":"IF(Data!B278=\"\",\"\",Data!B278)","v":""},{"$f":"IF(Data!C278=\"\",\"\",Data!C278)","v":""},{"$f":"IF(Data!D278=\"\",\"\",Data!D278)","v":""},{"$f":"IF(Data!E278=\"\",\"\",Data!E278)","v":""},{"$f":"IF(Data!F278=\"\",\"\",Data!F278)","v":""},{"$f":"IF(Data!G278=\"\",\"\",Data!G278)","v":""},{"$f":"IF(Data!H278=\"\",\"\",Data!H278)","v":""},{"$f":"IF(Data!I278=\"\",\"\",Data!I278)","v":""},{"$f":"IF(Data!J278=\"\",\"\",Data!J278)","v":""},{"$f":"IF(Data!K278=\"\",\"\",Data!K278)","v":""},{"$f":"IF(Data!L278=\"\",\"\",Data!L278)","v":""},{"$f":"IF(Data!M278=\"\",\"\",Data!M278)","v":""},{"$f":"IF(Data!N278=\"\",\"\",Data!N278)","v":""},{"$f":"IF(Data!O278=\"\",\"\",Data!O278)","v":""},{"$f":"IF(Data!P278=\"\",\"\",Data!P278)","v":""},{"$f":"IF(Data!Q278=\"\",\"\",Data!Q278)","v":""},{"$f":"IF(Data!R278=\"\",\"\",Data!R278)","v":""},{"$f":"IF(Data!S278=\"\",\"\",Data!S278)","v":""},null,null,null,null,278]
[{"$f":"IF(Data!A279=\"\",\"\",Data!A279)","v":""},"",{"$f":"IF(Data!B279=\"\",\"\",Data!B279)","v":""},{"$f":"IF(Data!C279=\"\",\"\",Data!C279)","v":""},{"$f":"IF(Data!D279=\"\",\"\",Data!D279)","v":""},{"$f":"IF(Data!E279=\"\",\"\",Data!E279)","v":""},{"$f":"IF(Data!F279=\"\",\"\",Data!F279)","v":""},{"$f":"IF(Data!G279=\"\",\"\",Data!G279)","v":""},{"$f":"IF(Data!H279=\"\",\"\",Data!H279)","v":""},{"$f":"IF(Data!I279=\"\",\"\",Data!I279)","v":""},{"$f":"IF(Data!J279=\"\",\"\",Data!J279)","v":""},{"$f":"IF(Data!K279=\"\",\"\",Data!K279)","v":""},{"$f":"IF(Data!L279=\"\",\"\",Data!L279)","v":""},{"$f":"IF(Data!M279=\"\",\"\",Data!M279)","v":""},{"$f":"IF(Data!N279=\"\",\"\",Data!N279)","v":""},{"$f":"IF(Data!O279=\"\",\"\",Data!O279)","v":""},{"$f":"IF(Data!P279=\"\",\"\",Data!P279)","v":""},{"$f":"IF(Data!Q279=\"\",\"\",Data!Q279)","v":""},{"$f":"IF(Data!R279=\"\",\"\",Data!R279)","v":""},{"$f":"IF(Data!S279=\"\",\"\",Data!S279)","v":""},null,null,null,null,279]
[{"$f":"IF(Data!A280=\"\",\"\",Data!A280)","v":""},"",{"$f":"IF(Data!B280=\"\",\"\",Data!B280)","v":""},{"$f":"IF(Data!C280=\"\",\"\",Data!C280)","v":""},{"$f":"IF(Data!D280=\"\",\"\",Data!D280)","v":""},{"$f":"IF(Data!E280=\"\",\"\",Data!E280)","v":""},{"$f":"IF(Data!F280=\"\",\"\",Data!F280)","v":""},{"$f":"IF(Data!G280=\"\",\"\",Data!G280)","v":""},{"$f":"IF(Data!H280=\"\",\"\",Data!H280)","v":""},{"$f":"IF(Data!I280=\"\",\"\",Data!I280)","v":""},{"$f":"IF(Data!J280=\"\",\"\",Data!J280)","v":""},{"$f":"IF(Data!K280=\"\",\"\",Data!K280)","v":""},{"$f":"IF(Data!L280=\"\",\"\",Data!L280)","v":""},{"$f":"IF(Data!M280=\"\",\"\",Data!M280)","v":""},{"$f":"IF(Data!N280=\"\",\"\",Data!N280)","v":""},{"$f":"IF(Data!O280=\"\",\"\",Data!O280)","v":""},{"$f":"IF(Data!P280=\"\",\"\",Data!P280)","v":""},{"$f":"IF(Data!Q280=\"\",\"\",Data!Q280)","v":""},{"$f":"IF(Data!R280=\"\",\"\",Data!R280)","v":""},{"$f":"IF(Data!S280=\"\",\"\",Data!S280)","v":""},null,null,null,null,280]
[{"$f":"IF(Data!A281=\"\",\"\",Data!A281)","v":""},"",{"$f":"IF(Data!B281=\"\",\"\",Data!B281)","v":""},{"$f":"IF(Data!C281=\"\",\"\",Data!C281)","v":""},{"$f":"IF(Data!D281=\"\",\"\",Data!D281)","v":""},{"$f":"IF(Data!E281=\"\",\"\",Data!E281)","v":""},{"$f":"IF(Data!F281=\"\",\"\",Data!F281)","v":""},{"$f":"IF(Data!G281=\"\",\"\",Data!G281)","v":""},{"$f":"IF(Data!H281=\"\",\"\",Data!H281)","v":""},{"$f":"IF(Data!I281=\"\",\"\",Data!I281)","v":""},{"$f":"IF(Data!J281=\"\",\"\",Data!J281)","v":""},{"$f":"IF(Data!K281=\"\",\"\",Data!K281)","v":""},{"$f":"IF(Data!L281=\"\",\"\",Data!L281)","v":""},{"$f":"IF(Data!M281=\"\",\"\",Data!M281)","v":""},{"$f":"IF(Data!N281=\"\",\"\",Data!N281)","v":""},{"$f":"IF(Data!O281=\"\",\"\",Data!O281)","v":""},{"$f":"IF(Data!P281=\"\",\"\",Data!P281)","v":""},{"$f":"IF(Data!Q281=\"\",\"\",Data!Q281)","v":""},{"$f":"IF(Data!R281=\"\",\"\",Data!R281)","v":""},{"$f":"IF(Data!S281=\"\",\"\",Data!S281)","v":""},null,null,null,null,281]
[{"$f":"IF(Data!A282=\"\",\"\",Data!A282)","v":""},"",{"$f":"IF(Data!B282=\"\",\"\",Data!B282)","v":""},{"$f":"IF(Data!C282=\"\",\"\",Data!C282)","v":""},{"$f":"IF(Data!D282=\"\",\"\",Data!D282)","v":""},{"$f":"IF(Data!E282=\"\",\"\",Data!E282)","v":""},{"$f":"IF(Data!F282=\"\",\"\",Data!F282)","v":""},{"$f":"IF(Data!G282=\"\",\"\",Data!G282)","v":""},{"$f":"IF(Data!H282=\"\",\"\",Data!H282)","v":""},{"$f":"IF(Data!I282=\"\",\"\",Data!I282)","v":""},{"$f":"IF(Data!J282=\"\",\"\",Data!J282)","v":""},{"$f":"IF(Data!K282=\"\",\"\",Data!K282)","v":""},{"$f":"IF(Data!L282=\"\",\"\",Data!L282)","v":""},{"$f":"IF(Data!M282=\"\",\"\",Data!M282)","v":""},{"$f":"IF(Data!N282=\"\",\"\",Data!N282)","v":""},{"$f":"IF(Data!O282=\"\",\"\",Data!O282)","v":""},{"$f":"IF(Data!P282=\"\",\"\",Data!P282)","v":""},{"$f":"IF(Data!Q282=\"\",\"\",Data!Q282)","v":""},{"$f":"IF(Data!R282=\"\",\"\",Data!R282)","v":""},{"$f":"IF(Data!S282=\"\",\"\",Data!S282)","v":""},null,null,null,null,282]
[{"$f":"IF(Data!A283=\"\",\"\",Data!A283)","v":""},"",{"$f":"IF(Data!B283=\"\",\"\",Data!B283)","v":""},{"$f":"IF(Data!C283=\"\",\"\",Data!C283)","v":""},{"$f":"IF(Data!D283=\"\",\"\",Data!D283)","v":""},{"$f":"IF(Data!E283=\"\",\"\",Data!E283)","v":""},{"$f":"IF(Data!F283=\"\",\"\",Data!F283)","v":""},{"$f":"IF(Data!G283=\"\",\"\",Data!G283)","v":""},{"$f":"IF(Data!H283=\"\",\"\",Data!H283)","v":""},{"$f":"IF(Data!I283=\"\",\"\",Data!I283)","v":""},{"$f":"IF(Data!J283=\"\",\"\",Data!J283)","v":""},{"$f":"IF(Data!K283=\"\",\"\",Data!K283)","v":""},{"$f":"IF(Data!L283=\"\",\"\",Data!L283)","v":""},{"$f":"IF(Data!M283=\"\",\"\",Data!M283)","v":""},{"$f":"IF(Data!N283=\"\",\"\",Data!N283)","v":""},{"$f":"IF(Data!O283=\"\",\"\",Data!O283)","v":""},{"$f":"IF(Data!P283=\"\",\"\",Data!P283)","v":""},{"$f":"IF(Data!Q283=\"\",\"\",Data!Q283)","v":""},{"$f":"IF(Data!R283=\"\",\"\",Data!R283)","v":""},{"$f":"IF(Data!S283=\"\",\"\",Data!S283)","v":""},null,null,null,null,283]
[{"$f":"IF(Data!A284=\"\",\"\",Data!A284)","v":""},"",{"$f":"IF(Data!B284=\"\",\"\",Data!B284)","v":""},{"$f":"IF(Data!C284=\"\",\"\",Data!C284)","v":""},{"$f":"IF(Data!D284=\"\",\"\",Data!D284)","v":""},{"$f":"IF(Data!E284=\"\",\"\",Data!E284)","v":""},{"$f":"IF(Data!F284=\"\",\"\",Data!F284)","v":""},{"$f":"IF(Data!G284=\"\",\"\",Data!G284)","v":""},{"$f":"IF(Data!H284=\"\",\"\",Data!H284)","v":""},{"$f":"IF(Data!I284=\"\",\"\",Data!I284)","v":""},{"$f":"IF(Data!J284=\"\",\"\",Data!J284)","v":""},{"$f":"IF(Data!K284=\"\",\"\",Data!K284)","v":""},{"$f":"IF(Data!L284=\"\",\"\",Data!L284)","v":""},{"$f":"IF(Data!M284=\"\",\"\",Data!M284)","v":""},{"$f":"IF(Data!N284=\"\",\"\",Data!N284)","v":""},{"$f":"IF(Data!O284=\"\",\"\",Data!O284)","v":""},{"$f":"IF(Data!P284=\"\",\"\",Data!P284)","v":""},{"$f":"IF(Data!Q284=\"\",\"\",Data!Q284)","v":""},{"$f":"IF(Data!R284=\"\",\"\",Data!R284)","v":""},{"$f":"IF(Data!S284=\"\",\"\",Data!S284)","v":""},null,null,null,null,284]
[{"$f":"IF(Data!A285=\"\",\"\",Data!A285)","v":""},"",{"$f":"IF(Data!B285=\"\",\"\",Data!B285)","v":""},{"$f":"IF(Data!C285=\"\",\"\",Data!C285)","v":""},{"$f":"IF(Data!D285=\"\",\"\",Data!D285)","v":""},{"$f":"IF(Data!E285=\"\",\"\",Data!E285)","v":""},{"$f":"IF(Data!F285=\"\",\"\",Data!F285)","v":""},{"$f":"IF(Data!G285=\"\",\"\",Data!G285)","v":""},{"$f":"IF(Data!H285=\"\",\"\",Data!H285)","v":""},{"$f":"IF(Data!I285=\"\",\"\",Data!I285)","v":""},{"$f":"IF(Data!J285=\"\",\"\",Data!J285)","v":""},{"$f":"IF(Data!K285=\"\",\"\",Data!K285)","v":""},{"$f":"IF(Data!L285=\"\",\"\",Data!L285)","v":""},{"$f":"IF(Data!M285=\"\",\"\",Data!M285)","v":""},{"$f":"IF(Data!N285=\"\",\"\",Data!N285)","v":""},{"$f":"IF(Data!O285=\"\",\"\",Data!O285)","v":""},{"$f":"IF(Data!P285=\"\",\"\",Data!P285)","v":""},{"$f":"IF(Data!Q285=\"\",\"\",Data!Q285)","v":""},{"$f":"IF(Data!R285=\"\",\"\",Data!R285)","v":""},{"$f":"IF(Data!S285=\"\",\"\",Data!S285)","v":""},null,null,null,null,285]
[{"$f":"IF(Data!A286=\"\",\"\",Data!A286)","v":""},"",{"$f":"IF(Data!B286=\"\",\"\",Data!B286)","v":""},{"$f":"IF(Data!C286=\"\",\"\",Data!C286)","v":""},{"$f":"IF(Data!D286=\"\",\"\",Data!D286)","v":""},{"$f":"IF(Data!E286=\"\",\"\",Data!E286)","v":""},{"$f":"IF(Data!F286=\"\",\"\",Data!F286)","v":""},{"$f":"IF(Data!G286=\"\",\"\",Data!G286)","v":""},{"$f":"IF(Data!H286=\"\",\"\",Data!H286)","v":""},{"$f":"IF(Data!I286=\"\",\"\",Data!I286)","v":""},{"$f":"IF(Data!J286=\"\",\"\",Data!J286)","v":""},{"$f":"IF(Data!K286=\"\",\"\",Data!K286)","v":""},{"$f":"IF(Data!L286=\"\",\"\",Data!L286)","v":""},{"$f":"IF(Data!M286=\"\",\"\",Data!M286)","v":""},{"$f":"IF(Data!N286=\"\",\"\",Data!N286)","v":""},{"$f":"IF(Data!O286=\"\",\"\",Data!O286)","v":""},{"$f":"IF(Data!P286=\"\",\"\",Data!P286)","v":""},{"$f":"IF(Data!Q286=\"\",\"\",Data!Q286)","v":""},{"$f":"IF(Data!R286=\"\",\"\",Data!R286)","v":""},{"$f":"IF(Data!S286=\"\",\"\",Data!S286)","v":""},null,null,null,null,286]
[{"$f":"IF(Data!A287=\"\",\"\",Data!A287)","v":""},"",{"$f":"IF(Data!B287=\"\",\"\",Data!B287)","v":""},{"$f":"IF(Data!C287=\"\",\"\",Data!C287)","v":""},{"$f":"IF(Data!D287=\"\",\"\",Data!D287)","v":""},{"$f":"IF(Data!E287=\"\",\"\",Data!E287)","v":""},{"$f":"IF(Data!F287=\"\",\"\",Data!F287)","v":""},{"$f":"IF(Data!G287=\"\",\"\",Data!G287)","v":""},{"$f":"IF(Data!H287=\"\",\"\",Data!H287)","v":""},{"$f":"IF(Data!I287=\"\",\"\",Data!I287)","v":""},{"$f":"IF(Data!J287=\"\",\"\",Data!J287)","v":""},{"$f":"IF(Data!K287=\"\",\"\",Data!K287)","v":""},{"$f":"IF(Data!L287=\"\",\"\",Data!L287)","v":""},{"$f":"IF(Data!M287=\"\",\"\",Data!M287)","v":""},{"$f":"IF(Data!N287=\"\",\"\",Data!N287)","v":""},{"$f":"IF(Data!O287=\"\",\"\",Data!O287)","v":""},{"$f":"IF(Data!P287=\"\",\"\",Data!P287)","v":""},{"$f":"IF(Data!Q287=\"\",\"\",Data!Q287)","v":""},{"$f":"IF(Data!R287=\"\",\"\",Data!R287)","v":""},{"$f":"IF(Data!S287=\"\",\"\",Data!S287)","v":""},null,null,null,null,287]
[{"$f":"IF(Data!A288=\"\",\"\",Data!A288)","v":""},"",{"$f":"IF(Data!B288=\"\",\"\",Data!B288)","v":""},{"$f":"IF(Data!C288=\"\",\"\",Data!C288)","v":""},{"$f":"IF(Data!D288=\"\",\"\",Data!D288)","v":""},{"$f":"IF(Data!E288=\"\",\"\",Data!E288)","v":""},{"$f":"IF(Data!F288=\"\",\"\",Data!F288)","v":""},{"$f":"IF(Data!G288=\"\",\"\",Data!G288)","v":""},{"$f":"IF(Data!H288=\"\",\"\",Data!H288)","v":""},{"$f":"IF(Data!I288=\"\",\"\",Data!I288)","v":""},{"$f":"IF(Data!J288=\"\",\"\",Data!J288)","v":""},{"$f":"IF(Data!K288=\"\",\"\",Data!K288)","v":""},{"$f":"IF(Data!L288=\"\",\"\",Data!L288)","v":""},{"$f":"IF(Data!M288=\"\",\"\",Data!M288)","v":""},{"$f":"IF(Data!N288=\"\",\"\",Data!N288)","v":""},{"$f":"IF(Data!O288=\"\",\"\",Data!O288)","v":""},{"$f":"IF(Data!P288=\"\",\"\",Data!P288)","v":""},{"$f":"IF(Data!Q288=\"\",\"\",Data!Q288)","v":""},{"$f":"IF(Data!R288=\"\",\"\",Data!R288)","v":""},{"$f":"IF(Data!S288=\"\",\"\",Data!S288)","v":""},null,null,null,null,288]
[{"$f":"IF(Data!A289=\"\",\"\",Data!A289)","v":""},"",{"$f":"IF(Data!B289=\"\",\"\",Data!B289)","v":""},{"$f":"IF(Data!C289=\"\",\"\",Data!C289)","v":""},{"$f":"IF(Data!D289=\"\",\"\",Data!D289)","v":""},{"$f":"IF(Data!E289=\"\",\"\",Data!E289)","v":""},{"$f":"IF(Data!F289=\"\",\"\",Data!F289)","v":""},{"$f":"IF(Data!G289=\"\",\"\",Data!G289)","v":""},{"$f":"IF(Data!H289=\"\",\"\",Data!H289)","v":""},{"$f":"IF(Data!I289=\"\",\"\",Data!I289)","v":""},{"$f":"IF(Data!J289=\"\",\"\",Data!J289)","v":""},{"$f":"IF(Data!K289=\"\",\"\",Data!K289)","v":""},{"$f":"IF(Data!L289=\"\",\"\",Data!L289)","v":""},{"$f":"IF(Data!M289=\"\",\"\",Data!M289)","v":""},{"$f":"IF(Data!N289=\"\",\"\",Data!N289)","v":""},{"$f":"IF(Data!O289=\"\",\"\",Data!O289)","v":""},{"$f":"IF(Data!P289=\"\",\"\",Data!P289)","v":""},{"$f":"IF(Data!Q289=\"\",\"\",Data!Q289)","v":""},{"$f":"IF(Data!R289=\"\",\"\",Data!R289)","v":""},{"$f":"IF(Data!S289=\"\",\"\",Data!S289)","v":""},null,null,null,null,289]
[{"$f":"IF(Data!A290=\"\",\"\",Data!A290)","v":""},"",{"$f":"IF(Data!B290=\"\",\"\",Data!B290)","v":""},{"$f":"IF(Data!C290=\"\",\"\",Data!C290)","v":""},{"$f":"IF(Data!D290=\"\",\"\",Data!D290)","v":""},{"$f":"IF(Data!E290=\"\",\"\",Data!E290)","v":""},{"$f":"IF(Data!F290=\"\",\"\",Data!F290)","v":""},{"$f":"IF(Data!G290=\"\",\"\",Data!G290)","v":""},{"$f":"IF(Data!H290=\"\",\"\",Data!H290)","v":""},{"$f":"IF(Data!I290=\"\",\"\",Data!I290)","v":""},{"$f":"IF(Data!J290=\"\",\"\",Data!J290)","v":""},{"$f":"IF(Data!K290=\"\",\"\",Data!K290)","v":""},{"$f":"IF(Data!L290=\"\",\"\",Data!L290)","v":""},{"$f":"IF(Data!M290=\"\",\"\",Data!M290)","v":""},{"$f":"IF(Data!N290=\"\",\"\",Data!N290)","v":""},{"$f":"IF(Data!O290=\"\",\"\",Data!O290)","v":""},{"$f":"IF(Data!P290=\"\",\"\",Data!P290)","v":""},{"$f":"IF(Data!Q290=\"\",\"\",Data!Q290)","v":""},{"$f":"IF(Data!R290=\"\",\"\",Data!R290)","v":""},{"$f":"IF(Data!S290=\"\",\"\",Data!S290)","v":""},null,null,null,null,290]
[{"$f":"IF(Data!A291=\"\",\"\",Data!A291)","v":""},"",{"$f":"IF(Data!B291=\"\",\"\",Data!B291)","v":""},{"$f":"IF(Data!C291=\"\",\"\",Data!C291)","v":""},{"$f":"IF(Data!D291=\"\",\"\",Data!D291)","v":""},{"$f":"IF(Data!E291=\"\",\"\",Data!E291)","v":""},{"$f":"IF(Data!F291=\"\",\"\",Data!F291)","v":""},{"$f":"IF(Data!G291=\"\",\"\",Data!G291)","v":""},{"$f":"IF(Data!H291=\"\",\"\",Data!H291)","v":""},{"$f":"IF(Data!I291=\"\",\"\",Data!I291)","v":""},{"$f":"IF(Data!J291=\"\",\"\",Data!J291)","v":""},{"$f":"IF(Data!K291=\"\",\"\",Data!K291)","v":""},{"$f":"IF(Data!L291=\"\",\"\",Data!L291)","v":""},{"$f":"IF(Data!M291=\"\",\"\",Data!M291)","v":""},{"$f":"IF(Data!N291=\"\",\"\",Data!N291)","v":""},{"$f":"IF(Data!O291=\"\",\"\",Data!O291)","v":""},{"$f":"IF(Data!P291=\"\",\"\",Data!P291)","v":""},{"$f":"IF(Data!Q291=\"\",\"\",Data!Q291)","v":""},{"$f":"IF(Data!R291=\"\",\"\",Data!R291)","v":""},{"$f":"IF(Data!S291=\"\",\"\",Data!S291)","v":""},null,null,null,null,291]
[{"$f":"IF(Data!A292=\"\",\"\",Data!A292)","v":""},"",{"$f":"IF(Data!B292=\"\",\"\",Data!B292)","v":""},{"$f":"IF(Data!C292=\"\",\"\",Data!C292)","v":""},{"$f":"IF(Data!D292=\"\",\"\",Data!D292)","v":""},{"$f":"IF(Data!E292=\"\",\"\",Data!E292)","v":""},{"$f":"IF(Data!F292=\"\",\"\",Data!F292)","v":""},{"$f":"IF(Data!G292=\"\",\"\",Data!G292)","v":""},{"$f":"IF(Data!H292=\"\",\"\",Data!H292)","v":""},{"$f":"IF(Data!I292=\"\",\"\",Data!I292)","v":""},{"$f":"IF(Data!J292=\"\",\"\",Data!J292)","v":""},{"$f":"IF(Data!K292=\"\",\"\",Data!K292)","v":""},{"$f":"IF(Data!L292=\"\",\"\",Data!L292)","v":""},{"$f":"IF(Data!M292=\"\",\"\",Data!M292)","v":""},{"$f":"IF(Data!N292=\"\",\"\",Data!N292)","v":""},{"$f":"IF(Data!O292=\"\",\"\",Data!O292)","v":""},{"$f":"IF(Data!P292=\"\",\"\",Data!P292)","v":""},{"$f":"IF(Data!Q292=\"\",\"\",Data!Q292)","v":""},{"$f":"IF(Data!R292=\"\",\"\",Data!R292)","v":""},{"$f":"IF(Data!S292=\"\",\"\",Data!S292)","v":""},null,null,null,null,292]
[{"$f":"IF(Data!A293=\"\",\"\",Data!A293)","v":""},"",{"$f":"IF(Data!B293=\"\",\"\",Data!B293)","v":""},{"$f":"IF(Data!C293=\"\",\"\",Data!C293)","v":""},{"$f":"IF(Data!D293=\"\",\"\",Data!D293)","v":""},{"$f":"IF(Data!E293=\"\",\"\",Data!E293)","v":""},{"$f":"IF(Data!F293=\"\",\"\",Data!F293)","v":""},{"$f":"IF(Data!G293=\"\",\"\",Data!G293)","v":""},{"$f":"IF(Data!H293=\"\",\"\",Data!H293)","v":""},{"$f":"IF(Data!I293=\"\",\"\",Data!I293)","v":""},{"$f":"IF(Data!J293=\"\",\"\",Data!J293)","v":""},{"$f":"IF(Data!K293=\"\",\"\",Data!K293)","v":""},{"$f":"IF(Data!L293=\"\",\"\",Data!L293)","v":""},{"$f":"IF(Data!M293=\"\",\"\",Data!M293)","v":""},{"$f":"IF(Data!N293=\"\",\"\",Data!N293)","v":""},{"$f":"IF(Data!O293=\"\",\"\",Data!O293)","v":""},{"$f":"IF(Data!P293=\"\",\"\",Data!P293)","v":""},{"$f":"IF(Data!Q293=\"\",\"\",Data!Q293)","v":""},{"$f":"IF(Data!R293=\"\",\"\",Data!R293)","v":""},{"$f":"IF(Data!S293=\"\",\"\",Data!S293)","v":""},null,null,null,null,293]
[{"$f":"IF(Data!A294=\"\",\"\",Data!A294)","v":""},"",{"$f":"IF(Data!B294=\"\",\"\",Data!B294)","v":""},{"$f":"IF(Data!C294=\"\",\"\",Data!C294)","v":""},{"$f":"IF(Data!D294=\"\",\"\",Data!D294)","v":""},{"$f":"IF(Data!E294=\"\",\"\",Data!E294)","v":""},{"$f":"IF(Data!F294=\"\",\"\",Data!F294)","v":""},{"$f":"IF(Data!G294=\"\",\"\",Data!G294)","v":""},{"$f":"IF(Data!H294=\"\",\"\",Data!H294)","v":""},{"$f":"IF(Data!I294=\"\",\"\",Data!I294)","v":""},{"$f":"IF(Data!J294=\"\",\"\",Data!J294)","v":""},{"$f":"IF(Data!K294=\"\",\"\",Data!K294)","v":""},{"$f":"IF(Data!L294=\"\",\"\",Data!L294)","v":""},{"$f":"IF(Data!M294=\"\",\"\",Data!M294)","v":""},{"$f":"IF(Data!N294=\"\",\"\",Data!N294)","v":""},{"$f":"IF(Data!O294=\"\",\"\",Data!O294)","v":""},{"$f":"IF(Data!P294=\"\",\"\",Data!P294)","v":""},{"$f":"IF(Data!Q294=\"\",\"\",Data!Q294)","v":""},{"$f":"IF(Data!R294=\"\",\"\",Data!R294)","v":""},{"$f":"IF(Data!S294=\"\",\"\",Data!S294)","v":""},null,null,null,null,294]
[{"$f":"IF(Data!A295=\"\",\"\",Data!A295)","v":""},"",{"$f":"IF(Data!B295=\"\",\"\",Data!B295)","v":""},{"$f":"IF(Data!C295=\"\",\"\",Data!C295)","v":""},{"$f":"IF(Data!D295=\"\",\"\",Data!D295)","v":""},{"$f":"IF(Data!E295=\"\",\"\",Data!E295)","v":""},{"$f":"IF(Data!F295=\"\",\"\",Data!F295)","v":""},{"$f":"IF(Data!G295=\"\",\"\",Data!G295)","v":""},{"$f":"IF(Data!H295=\"\",\"\",Data!H295)","v":""},{"$f":"IF(Data!I295=\"\",\"\",Data!I295)","v":""},{"$f":"IF(Data!J295=\"\",\"\",Data!J295)","v":""},{"$f":"IF(Data!K295=\"\",\"\",Data!K295)","v":""},{"$f":"IF(Data!L295=\"\",\"\",Data!L295)","v":""},{"$f":"IF(Data!M295=\"\",\"\",Data!M295)","v":""},{"$f":"IF(Data!N295=\"\",\"\",Data!N295)","v":""},{"$f":"IF(Data!O295=\"\",\"\",Data!O295)","v":""},{"$f":"IF(Data!P295=\"\",\"\",Data!P295)","v":""},{"$f":"IF(Data!Q295=\"\",\"\",Data!Q295)","v":""},{"$f":"IF(Data!R295=\"\",\"\",Data!R295)","v":""},{"$f":"IF(Data!S295=\"\",\"\",Data!S295)","v":""},null,null,null,null,295]
[{"$f":"IF(Data!A296=\"\",\"\",Data!A296)","v":""},"",{"$f":"IF(Data!B296=\"\",\"\",Data!B296)","v":""},{"$f":"IF(Data!C296=\"\",\"\",Data!C296)","v":""},{"$f":"IF(Data!D296=\"\",\"\",Data!D296)","v":""},{"$f":"IF(Data!E296=\"\",\"\",Data!E296)","v":""},{"$f":"IF(Data!F296=\"\",\"\",Data!F296)","v":""},{"$f":"IF(Data!G296=\"\",\"\",Data!G296)","v":""},{"$f":"IF(Data!H296=\"\",\"\",Data!H296)","v":""},{"$f":"IF(Data!I296=\"\",\"\",Data!I296)","v":""},{"$f":"IF(Data!J296=\"\",\"\",Data!J296)","v":""},{"$f":"IF(Data!K296=\"\",\"\",Data!K296)","v":""},{"$f":"IF(Data!L296=\"\",\"\",Data!L296)","v":""},{"$f":"IF(Data!M296=\"\",\"\",Data!M296)","v":""},{"$f":"IF(Data!N296=\"\",\"\",Data!N296)","v":""},{"$f":"IF(Data!O296=\"\",\"\",Data!O296)","v":""},{"$f":"IF(Data!P296=\"\",\"\",Data!P296)","v":""},{"$f":"IF(Data!Q296=\"\",\"\",Data!Q296)","v":""},{"$f":"IF(Data!R296=\"\",\"\",Data!R296)","v":""},{"$f":"IF(Data!S296=\"\",\"\",Data!S296)","v":""},null,null,null,null,296]
[{"$f":"IF(Data!A297=\"\",\"\",Data!A297)","v":""},"",{"$f":"IF(Data!B297=\"\",\"\",Data!B297)","v":""},{"$f":"IF(Data!C297=\"\",\"\",Data!C297)","v":""},{"$f":"IF(Data!D297=\"\",\"\",Data!D297)","v":""},{"$f":"IF(Data!E297=\"\",\"\",Data!E297)","v":""},{"$f":"IF(Data!F297=\"\",\"\",Data!F297)","v":""},{"$f":"IF(Data!G297=\"\",\"\",Data!G297)","v":""},{"$f":"IF(Data!H297=\"\",\"\",Data!H297)","v":""},{"$f":"IF(Data!I297=\"\",\"\",Data!I297)","v":""},{"$f":"IF(Data!J297=\"\",\"\",Data!J297)","v":""},{"$f":"IF(Data!K297=\"\",\"\",Data!K297)","v":""},{"$f":"IF(Data!L297=\"\",\"\",Data!L297)","v":""},{"$f":"IF(Data!M297=\"\",\"\",Data!M297)","v":""},{"$f":"IF(Data!N297=\"\",\"\",Data!N297)","v":""},{"$f":"IF(Data!O297=\"\",\"\",Data!O297)","v":""},{"$f":"IF(Data!P297=\"\",\"\",Data!P297)","v":""},{"$f":"IF(Data!Q297=\"\",\"\",Data!Q297)","v":""},{"$f":"IF(Data!R297=\"\",\"\",Data!R297)","v":""},{"$f":"IF(Data!S297=\"\",\"\",Data!S297)","v":""},null,null,null,null,297]
[{"$f":"IF(Data!A298=\"\",\"\",Data!A298)","v":""},"",{"$f":"IF(Data!B298=\"\",\"\",Data!B298)","v":""},{"$f":"IF(Data!C298=\"\",\"\",Data!C298)","v":""},{"$f":"IF(Data!D298=\"\",\"\",Data!D298)","v":""},{"$f":"IF(Data!E298=\"\",\"\",Data!E298)","v":""},{"$f":"IF(Data!F298=\"\",\"\",Data!F298)","v":""},{"$f":"IF(Data!G298=\"\",\"\",Data!G298)","v":""},{"$f":"IF(Data!H298=\"\",\"\",Data!H298)","v":""},{"$f":"IF(Data!I298=\"\",\"\",Data!I298)","v":""},{"$f":"IF(Data!J298=\"\",\"\",Data!J298)","v":""},{"$f":"IF(Data!K298=\"\",\"\",Data!K298)","v":""},{"$f":"IF(Data!L298=\"\",\"\",Data!L298)","v":""},{"$f":"IF(Data!M298=\"\",\"\",Data!M298)","v":""},{"$f":"IF(Data!N298=\"\",\"\",Data!N298)","v":""},{"$f":"IF(Data!O298=\"\",\"\",Data!O298)","v":""},{"$f":"IF(Data!P298=\"\",\"\",Data!P298)","v":""},{"$f":"IF(Data!Q298=\"\",\"\",Data!Q298)","v":""},{"$f":"IF(Data!R298=\"\",\"\",Data!R298)","v":""},{"$f":"IF(Data!S298=\"\",\"\",Data!S298)","v":""},null,null,null,null,298]
[{"$f":"IF(Data!A299=\"\",\"\",Data!A299)","v":""},"",{"$f":"IF(Data!B299=\"\",\"\",Data!B299)","v":""},{"$f":"IF(Data!C299=\"\",\"\",Data!C299)","v":""},{"$f":"IF(Data!D299=\"\",\"\",Data!D299)","v":""},{"$f":"IF(Data!E299=\"\",\"\",Data!E299)","v":""},{"$f":"IF(Data!F299=\"\",\"\",Data!F299)","v":""},{"$f":"IF(Data!G299=\"\",\"\",Data!G299)","v":""},{"$f":"IF(Data!H299=\"\",\"\",Data!H299)","v":""},{"$f":"IF(Data!I299=\"\",\"\",Data!I299)","v":""},{"$f":"IF(Data!J299=\"\",\"\",Data!J299)","v":""},{"$f":"IF(Data!K299=\"\",\"\",Data!K299)","v":""},{"$f":"IF(Data!L299=\"\",\"\",Data!L299)","v":""},{"$f":"IF(Data!M299=\"\",\"\",Data!M299)","v":""},{"$f":"IF(Data!N299=\"\",\"\",Data!N299)","v":""},{"$f":"IF(Data!O299=\"\",\"\",Data!O299)","v":""},{"$f":"IF(Data!P299=\"\",\"\",Data!P299)","v":""},{"$f":"IF(Data!Q299=\"\",\"\",Data!Q299)","v":""},{"$f":"IF(Data!R299=\"\",\"\",Data!R299)","v":""},{"$f":"IF(Data!S299=\"\",\"\",Data!S299)","v":""},null,null,null,null,299]
[{"$f":"IF(Data!A300=\"\",\"\",Data!A300)","v":""},"",{"$f":"IF(Data!B300=\"\",\"\",Data!B300)","v":""},{"$f":"IF(Data!C300=\"\",\"\",Data!C300)","v":""},{"$f":"IF(Data!D300=\"\",\"\",Data!D300)","v":""},{"$f":"IF(Data!E300=\"\",\"\",Data!E300)","v":""},{"$f":"IF(Data!F300=\"\",\"\",Data!F300)","v":""},{"$f":"IF(Data!G300=\"\",\"\",Data!G300)","v":""},{"$f":"IF(Data!H300=\"\",\"\",Data!H300)","v":""},{"$f":"IF(Data!I300=\"\",\"\",Data!I300)","v":""},{"$f":"IF(Data!J300=\"\",\"\",Data!J300)","v":""},{"$f":"IF(Data!K300=\"\",\"\",Data!K300)","v":""},{"$f":"IF(Data!L300=\"\",\"\",Data!L300)","v":""},{"$f":"IF(Data!M300=\"\",\"\",Data!M300)","v":""},{"$f":"IF(Data!N300=\"\",\"\",Data!N300)","v":""},{"$f":"IF(Data!O300=\"\",\"\",Data!O300)","v":""},{"$f":"IF(Data!P300=\"\",\"\",Data!P300)","v":""},{"$f":"IF(Data!Q300=\"\",\"\",Data!Q300)","v":""},{"$f":"IF(Data!R300=\"\",\"\",Data!R300)","v":""},{"$f":"IF(Data!S300=\"\",\"\",Data!S300)","v":""},null,null,null,null,300]
[{"$f":"IF(Data!A301=\"\",\"\",Data!A301)","v":""},"",{"$f":"IF(Data!B301=\"\",\"\",Data!B301)","v":""},{"$f":"IF(Data!C301=\"\",\"\",Data!C301)","v":""},{"$f":"IF(Data!D301=\"\",\"\",Data!D301)","v":""},{"$f":"IF(Data!E301=\"\",\"\",Data!E301)","v":""},{"$f":"IF(Data!F301=\"\",\"\",Data!F301)","v":""},{"$f":"IF(Data!G301=\"\",\"\",Data!G301)","v":""},{"$f":"IF(Data!H301=\"\",\"\",Data!H301)","v":""},{"$f":"IF(Data!I301=\"\",\"\",Data!I301)","v":""},{"$f":"IF(Data!J301=\"\",\"\",Data!J301)","v":""},{"$f":"IF(Data!K301=\"\",\"\",Data!K301)","v":""},{"$f":"IF(Data!L301=\"\",\"\",Data!L301)","v":""},{"$f":"IF(Data!M301=\"\",\"\",Data!M301)","v":""},{"$f":"IF(Data!N301=\"\",\"\",Data!N301)","v":""},{"$f":"IF(Data!O301=\"\",\"\",Data!O301)","v":""},{"$f":"IF(Data!P301=\"\",\"\",Data!P301)","v":""},{"$f":"IF(Data!Q301=\"\",\"\",Data!Q301)","v":""},{"$f":"IF(Data!R301=\"\",\"\",Data!R301)","v":""},{"$f":"IF(Data!S301=\"\",\"\",Data!S301)","v":""},null,null,null,null,301]
[{"$f":"IF(Data!A302=\"\",\"\",Data!A302)","v":""},"",{"$f":"IF(Data!B302=\"\",\"\",Data!B302)","v":""},{"$f":"IF(Data!C302=\"\",\"\",Data!C302)","v":""},{"$f":"IF(Data!D302=\"\",\"\",Data!D302)","v":""},{"$f":"IF(Data!E302=\"\",\"\",Data!E302)","v":""},{"$f":"IF(Data!F302=\"\",\"\",Data!F302)","v":""},{"$f":"IF(Data!G302=\"\",\"\",Data!G302)","v":""},{"$f":"IF(Data!H302=\"\",\"\",Data!H302)","v":""},{"$f":"IF(Data!I302=\"\",\"\",Data!I302)","v":""},{"$f":"IF(Data!J302=\"\",\"\",Data!J302)","v":""},{"$f":"IF(Data!K302=\"\",\"\",Data!K302)","v":""},{"$f":"IF(Data!L302=\"\",\"\",Data!L302)","v":""},{"$f":"IF(Data!M302=\"\",\"\",Data!M302)","v":""},{"$f":"IF(Data!N302=\"\",\"\",Data!N302)","v":""},{"$f":"IF(Data!O302=\"\",\"\",Data!O302)","v":""},{"$f":"IF(Data!P302=\"\",\"\",Data!P302)","v":""},{"$f":"IF(Data!Q302=\"\",\"\",Data!Q302)","v":""},{"$f":"IF(Data!R302=\"\",\"\",Data!R302)","v":""},{"$f":"IF(Data!S302=\"\",\"\",Data!S302)","v":""},null,null,null,null,302]
[{"$f":"IF(Data!A303=\"\",\"\",Data!A303)","v":""},"",{"$f":"IF(Data!B303=\"\",\"\",Data!B303)","v":""},{"$f":"IF(Data!C303=\"\",\"\",Data!C303)","v":""},{"$f":"IF(Data!D303=\"\",\"\",Data!D303)","v":""},{"$f":"IF(Data!E303=\"\",\"\",Data!E303)","v":""},{"$f":"IF(Data!F303=\"\",\"\",Data!F303)","v":""},{"$f":"IF(Data!G303=\"\",\"\",Data!G303)","v":""},{"$f":"IF(Data!H303=\"\",\"\",Data!H303)","v":""},{"$f":"IF(Data!I303=\"\",\"\",Data!I303)","v":""},{"$f":"IF(Data!J303=\"\",\"\",Data!J303)","v":""},{"$f":"IF(Data!K303=\"\",\"\",Data!K303)","v":""},{"$f":"IF(Data!L303=\"\",\"\",Data!L303)","v":""},{"$f":"IF(Data!M303=\"\",\"\",Data!M303)","v":""},{"$f":"IF(Data!N303=\"\",\"\",Data!N303)","v":""},{"$f":"IF(Data!O303=\"\",\"\",Data!O303)","v":""},{"$f":"IF(Data!P303=\"\",\"\",Data!P303)","v":""},{"$f":"IF(Data!Q303=\"\",\"\",Data!Q303)","v":""},{"$f":"IF(Data!R303=\"\",\"\",Data!R303)","v":""},{"$f":"IF(Data!S303=\"\",\"\",Data!S303)","v":""},null,null,null,null,303]
[{"$f":"IF(Data!A304=\"\",\"\",Data!A304)","v":""},"",{"$f":"IF(Data!B304=\"\",\"\",Data!B304)","v":""},{"$f":"IF(Data!C304=\"\",\"\",Data!C304)","v":""},{"$f":"IF(Data!D304=\"\",\"\",Data!D304)","v":""},{"$f":"IF(Data!E304=\"\",\"\",Data!E304)","v":""},{"$f":"IF(Data!F304=\"\",\"\",Data!F304)","v":""},{"$f":"IF(Data!G304=\"\",\"\",Data!G304)","v":""},{"$f":"IF(Data!H304=\"\",\"\",Data!H304)","v":""},{"$f":"IF(Data!I304=\"\",\"\",Data!I304)","v":""},{"$f":"IF(Data!J304=\"\",\"\",Data!J304)","v":""},{"$f":"IF(Data!K304=\"\",\"\",Data!K304)","v":""},{"$f":"IF(Data!L304=\"\",\"\",Data!L304)","v":""},{"$f":"IF(Data!M304=\"\",\"\",Data!M304)","v":""},{"$f":"IF(Data!N304=\"\",\"\",Data!N304)","v":""},{"$f":"IF(Data!O304=\"\",\"\",Data!O304)","v":""},{"$f":"IF(Data!P304=\"\",\"\",Data!P304)","v":""},{"$f":"IF(Data!Q304=\"\",\"\",Data!Q304)","v":""},{"$f":"IF(Data!R304=\"\",\"\",Data!R304)","v":""},{"$f":"IF(Data!S304=\"\",\"\",Data!S304)","v":""},null,null,null,null,304]
[{"$f":"IF(Data!A305=\"\",\"\",Data!A305)","v":""},"",{"$f":"IF(Data!B305=\"\",\"\",Data!B305)","v":""},{"$f":"IF(Data!C305=\"\",\"\",Data!C305)","v":""},{"$f":"IF(Data!D305=\"\",\"\",Data!D305)","v":""},{"$f":"IF(Data!E305=\"\",\"\",Data!E305)","v":""},{"$f":"IF(Data!F305=\"\",\"\",Data!F305)","v":""},{"$f":"IF(Data!G305=\"\",\"\",Data!G305)","v":""},{"$f":"IF(Data!H305=\"\",\"\",Data!H305)","v":""},{"$f":"IF(Data!I305=\"\",\"\",Data!I305)","v":""},{"$f":"IF(Data!J305=\"\",\"\",Data!J305)","v":""},{"$f":"IF(Data!K305=\"\",\"\",Data!K305)","v":""},{"$f":"IF(Data!L305=\"\",\"\",Data!L305)","v":""},{"$f":"IF(Data!M305=\"\",\"\",Data!M305)","v":""},{"$f":"IF(Data!N305=\"\",\"\",Data!N305)","v":""},{"$f":"IF(Data!O305=\"\",\"\",Data!O305)","v":""},{"$f":"IF(Data!P305=\"\",\"\",Data!P305)","v":""},{"$f":"IF(Data!Q305=\"\",\"\",Data!Q305)","v":""},{"$f":"IF(Data!R305=\"\",\"\",Data!R305)","v":""},{"$f":"IF(Data!S305=\"\",\"\",Data!S305)","v":""},null,null,null,null,305]
[{"$f":"IF(Data!A306=\"\",\"\",Data!A306)","v":""},"",{"$f":"IF(Data!B306=\"\",\"\",Data!B306)","v":""},{"$f":"IF(Data!C306=\"\",\"\",Data!C306)","v":""},{"$f":"IF(Data!D306=\"\",\"\",Data!D306)","v":""},{"$f":"IF(Data!E306=\"\",\"\",Data!E306)","v":""},{"$f":"IF(Data!F306=\"\",\"\",Data!F306)","v":""},{"$f":"IF(Data!G306=\"\",\"\",Data!G306)","v":""},{"$f":"IF(Data!H306=\"\",\"\",Data!H306)","v":""},{"$f":"IF(Data!I306=\"\",\"\",Data!I306)","v":""},{"$f":"IF(Data!J306=\"\",\"\",Data!J306)","v":""},{"$f":"IF(Data!K306=\"\",\"\",Data!K306)","v":""},{"$f":"IF(Data!L306=\"\",\"\",Data!L306)","v":""},{"$f":"IF(Data!M306=\"\",\"\",Data!M306)","v":""},{"$f":"IF(Data!N306=\"\",\"\",Data!N306)","v":""},{"$f":"IF(Data!O306=\"\",\"\",Data!O306)","v":""},{"$f":"IF(Data!P306=\"\",\"\",Data!P306)","v":""},{"$f":"IF(Data!Q306=\"\",\"\",Data!Q306)","v":""},{"$f":"IF(Data!R306=\"\",\"\",Data!R306)","v":""},{"$f":"IF(Data!S306=\"\",\"\",Data!S306)","v":""},null,null,null,null,306]
[{"$f":"IF(Data!A307=\"\",\"\",Data!A307)","v":""},"",{"$f":"IF(Data!B307=\"\",\"\",Data!B307)","v":""},{"$f":"IF(Data!C307=\"\",\"\",Data!C307)","v":""},{"$f":"IF(Data!D307=\"\",\"\",Data!D307)","v":""},{"$f":"IF(Data!E307=\"\",\"\",Data!E307)","v":""},{"$f":"IF(Data!F307=\"\",\"\",Data!F307)","v":""},{"$f":"IF(Data!G307=\"\",\"\",Data!G307)","v":""},{"$f":"IF(Data!H307=\"\",\"\",Data!H307)","v":""},{"$f":"IF(Data!I307=\"\",\"\",Data!I307)","v":""},{"$f":"IF(Data!J307=\"\",\"\",Data!J307)","v":""},{"$f":"IF(Data!K307=\"\",\"\",Data!K307)","v":""},{"$f":"IF(Data!L307=\"\",\"\",Data!L307)","v":""},{"$f":"IF(Data!M307=\"\",\"\",Data!M307)","v":""},{"$f":"IF(Data!N307=\"\",\"\",Data!N307)","v":""},{"$f":"IF(Data!O307=\"\",\"\",Data!O307)","v":""},{"$f":"IF(Data!P307=\"\",\"\",Data!P307)","v":""},{"$f":"IF(Data!Q307=\"\",\"\",Data!Q307)","v":""},{"$f":"IF(Data!R307=\"\",\"\",Data!R307)","v":""},{"$f":"IF(Data!S307=\"\",\"\",Data!S307)","v":""},null,null,null,null,307]
[{"$f":"IF(Data!A308=\"\",\"\",Data!A308)","v":""},"",{"$f":"IF(Data!B308=\"\",\"\",Data!B308)","v":""},{"$f":"IF(Data!C308=\"\",\"\",Data!C308)","v":""},{"$f":"IF(Data!D308=\"\",\"\",Data!D308)","v":""},{"$f":"IF(Data!E308=\"\",\"\",Data!E308)","v":""},{"$f":"IF(Data!F308=\"\",\"\",Data!F308)","v":""},{"$f":"IF(Data!G308=\"\",\"\",Data!G308)","v":""},{"$f":"IF(Data!H308=\"\",\"\",Data!H308)","v":""},{"$f":"IF(Data!I308=\"\",\"\",Data!I308)","v":""},{"$f":"IF(Data!J308=\"\",\"\",Data!J308)","v":""},{"$f":"IF(Data!K308=\"\",\"\",Data!K308)","v":""},{"$f":"IF(Data!L308=\"\",\"\",Data!L308)","v":""},{"$f":"IF(Data!M308=\"\",\"\",Data!M308)","v":""},{"$f":"IF(Data!N308=\"\",\"\",Data!N308)","v":""},{"$f":"IF(Data!O308=\"\",\"\",Data!O308)","v":""},{"$f":"IF(Data!P308=\"\",\"\",Data!P308)","v":""},{"$f":"IF(Data!Q308=\"\",\"\",Data!Q308)","v":""},{"$f":"IF(Data!R308=\"\",\"\",Data!R308)","v":""},{"$f":"IF(Data!S308=\"\",\"\",Data!S308)","v":""},null,null,null,null,308]
[{"$f":"IF(Data!A309=\"\",\"\",Data!A309)","v":""},"",{"$f":"IF(Data!B309=\"\",\"\",Data!B309)","v":""},{"$f":"IF(Data!C309=\"\",\"\",Data!C309)","v":""},{"$f":"IF(Data!D309=\"\",\"\",Data!D309)","v":""},{"$f":"IF(Data!E309=\"\",\"\",Data!E309)","v":""},{"$f":"IF(Data!F309=\"\",\"\",Data!F309)","v":""},{"$f":"IF(Data!G309=\"\",\"\",Data!G309)","v":""},{"$f":"IF(Data!H309=\"\",\"\",Data!H309)","v":""},{"$f":"IF(Data!I309=\"\",\"\",Data!I309)","v":""},{"$f":"IF(Data!J309=\"\",\"\",Data!J309)","v":""},{"$f":"IF(Data!K309=\"\",\"\",Data!K309)","v":""},{"$f":"IF(Data!L309=\"\",\"\",Data!L309)","v":""},{"$f":"IF(Data!M309=\"\",\"\",Data!M309)","v":""},{"$f":"IF(Data!N309=\"\",\"\",Data!N309)","v":""},{"$f":"IF(Data!O309=\"\",\"\",Data!O309)","v":""},{"$f":"IF(Data!P309=\"\",\"\",Data!P309)","v":""},{"$f":"IF(Data!Q309=\"\",\"\",Data!Q309)","v":""},{"$f":"IF(Data!R309=\"\",\"\",Data!R309)","v":""},{"$f":"IF(Data!S309=\"\",\"\",Data!S309)","v":""},null,null,null,null,309]
[{"$f":"IF(Data!A310=\"\",\"\",Data!A310)","v":""},"",{"$f":"IF(Data!B310=\"\",\"\",Data!B310)","v":""},{"$f":"IF(Data!C310=\"\",\"\",Data!C310)","v":""},{"$f":"IF(Data!D310=\"\",\"\",Data!D310)","v":""},{"$f":"IF(Data!E310=\"\",\"\",Data!E310)","v":""},{"$f":"IF(Data!F310=\"\",\"\",Data!F310)","v":""},{"$f":"IF(Data!G310=\"\",\"\",Data!G310)","v":""},{"$f":"IF(Data!H310=\"\",\"\",Data!H310)","v":""},{"$f":"IF(Data!I310=\"\",\"\",Data!I310)","v":""},{"$f":"IF(Data!J310=\"\",\"\",Data!J310)","v":""},{"$f":"IF(Data!K310=\"\",\"\",Data!K310)","v":""},{"$f":"IF(Data!L310=\"\",\"\",Data!L310)","v":""},{"$f":"IF(Data!M310=\"\",\"\",Data!M310)","v":""},{"$f":"IF(Data!N310=\"\",\"\",Data!N310)","v":""},{"$f":"IF(Data!O310=\"\",\"\",Data!O310)","v":""},{"$f":"IF(Data!P310=\"\",\"\",Data!P310)","v":""},{"$f":"IF(Data!Q310=\"\",\"\",Data!Q310)","v":""},{"$f":"IF(Data!R310=\"\",\"\",Data!R310)","v":""},{"$f":"IF(Data!S310=\"\",\"\",Data!S310)","v":""},null,null,null,null,310]
[{"$f":"IF(Data!A311=\"\",\"\",Data!A311)","v":""},"",{"$f":"IF(Data!B311=\"\",\"\",Data!B311)","v":""},{"$f":"IF(Data!C311=\"\",\"\",Data!C311)","v":""},{"$f":"IF(Data!D311=\"\",\"\",Data!D311)","v":""},{"$f":"IF(Data!E311=\"\",\"\",Data!E311)","v":""},{"$f":"IF(Data!F311=\"\",\"\",Data!F311)","v":""},{"$f":"IF(Data!G311=\"\",\"\",Data!G311)","v":""},{"$f":"IF(Data!H311=\"\",\"\",Data!H311)","v":""},{"$f":"IF(Data!I311=\"\",\"\",Data!I311)","v":""},{"$f":"IF(Data!J311=\"\",\"\",Data!J311)","v":""},{"$f":"IF(Data!K311=\"\",\"\",Data!K311)","v":""},{"$f":"IF(Data!L311=\"\",\"\",Data!L311)","v":""},{"$f":"IF(Data!M311=\"\",\"\",Data!M311)","v":""},{"$f":"IF(Data!N311=\"\",\"\",Data!N311)","v":""},{"$f":"IF(Data!O311=\"\",\"\",Data!O311)","v":""},{"$f":"IF(Data!P311=\"\",\"\",Data!P311)","v":""},{"$f":"IF(Data!Q311=\"\",\"\",Data!Q311)","v":""},{"$f":"IF(Data!R311=\"\",\"\",Data!R311)","v":""},{"$f":"IF(Data!S311=\"\",\"\",Data!S311)","v":""},null,null,null,null,311]
[{"$f":"IF(Data!A312=\"\",\"\",Data!A312)","v":""},"",{"$f":"IF(Data!B312=\"\",\"\",Data!B312)","v":""},{"$f":"IF(Data!C312=\"\",\"\",Data!C312)","v":""},{"$f":"IF(Data!D312=\"\",\"\",Data!D312)","v":""},{"$f":"IF(Data!E312=\"\",\"\",Data!E312)","v":""},{"$f":"IF(Data!F312=\"\",\"\",Data!F312)","v":""},{"$f":"IF(Data!G312=\"\",\"\",Data!G312)","v":""},{"$f":"IF(Data!H312=\"\",\"\",Data!H312)","v":""},{"$f":"IF(Data!I312=\"\",\"\",Data!I312)","v":""},{"$f":"IF(Data!J312=\"\",\"\",Data!J312)","v":""},{"$f":"IF(Data!K312=\"\",\"\",Data!K312)","v":""},{"$f":"IF(Data!L312=\"\",\"\",Data!L312)","v":""},{"$f":"IF(Data!M312=\"\",\"\",Data!M312)","v":""},{"$f":"IF(Data!N312=\"\",\"\",Data!N312)","v":""},{"$f":"IF(Data!O312=\"\",\"\",Data!O312)","v":""},{"$f":"IF(Data!P312=\"\",\"\",Data!P312)","v":""},{"$f":"IF(Data!Q312=\"\",\"\",Data!Q312)","v":""},{"$f":"IF(Data!R312=\"\",\"\",Data!R312)","v":""},{"$f":"IF(Data!S312=\"\",\"\",Data!S312)","v":""},null,null,null,null,312]
[{"$f":"IF(Data!A313=\"\",\"\",Data!A313)","v":""},"",{"$f":"IF(Data!B313=\"\",\"\",Data!B313)","v":""},{"$f":"IF(Data!C313=\"\",\"\",Data!C313)","v":""},{"$f":"IF(Data!D313=\"\",\"\",Data!D313)","v":""},{"$f":"IF(Data!E313=\"\",\"\",Data!E313)","v":""},{"$f":"IF(Data!F313=\"\",\"\",Data!F313)","v":""},{"$f":"IF(Data!G313=\"\",\"\",Data!G313)","v":""},{"$f":"IF(Data!H313=\"\",\"\",Data!H313)","v":""},{"$f":"IF(Data!I313=\"\",\"\",Data!I313)","v":""},{"$f":"IF(Data!J313=\"\",\"\",Data!J313)","v":""},{"$f":"IF(Data!K313=\"\",\"\",Data!K313)","v":""},{"$f":"IF(Data!L313=\"\",\"\",Data!L313)","v":""},{"$f":"IF(Data!M313=\"\",\"\",Data!M313)","v":""},{"$f":"IF(Data!N313=\"\",\"\",Data!N313)","v":""},{"$f":"IF(Data!O313=\"\",\"\",Data!O313)","v":""},{"$f":"IF(Data!P313=\"\",\"\",Data!P313)","v":""},{"$f":"IF(Data!Q313=\"\",\"\",Data!Q313)","v":""},{"$f":"IF(Data!R313=\"\",\"\",Data!R313)","v":""},{"$f":"IF(Data!S313=\"\",\"\",Data!S313)","v":""},null,null,null,null,313]
[{"$f":"IF(Data!A314=\"\",\"\",Data!A314)","v":""},"",{"$f":"IF(Data!B314=\"\",\"\",Data!B314)","v":""},{"$f":"IF(Data!C314=\"\",\"\",Data!C314)","v":""},{"$f":"IF(Data!D314=\"\",\"\",Data!D314)","v":""},{"$f":"IF(Data!E314=\"\",\"\",Data!E314)","v":""},{"$f":"IF(Data!F314=\"\",\"\",Data!F314)","v":""},{"$f":"IF(Data!G314=\"\",\"\",Data!G314)","v":""},{"$f":"IF(Data!H314=\"\",\"\",Data!H314)","v":""},{"$f":"IF(Data!I314=\"\",\"\",Data!I314)","v":""},{"$f":"IF(Data!J314=\"\",\"\",Data!J314)","v":""},{"$f":"IF(Data!K314=\"\",\"\",Data!K314)","v":""},{"$f":"IF(Data!L314=\"\",\"\",Data!L314)","v":""},{"$f":"IF(Data!M314=\"\",\"\",Data!M314)","v":""},{"$f":"IF(Data!N314=\"\",\"\",Data!N314)","v":""},{"$f":"IF(Data!O314=\"\",\"\",Data!O314)","v":""},{"$f":"IF(Data!P314=\"\",\"\",Data!P314)","v":""},{"$f":"IF(Data!Q314=\"\",\"\",Data!Q314)","v":""},{"$f":"IF(Data!R314=\"\",\"\",Data!R314)","v":""},{"$f":"IF(Data!S314=\"\",\"\",Data!S314)","v":""},null,null,null,null,314]
[{"$f":"IF(Data!A315=\"\",\"\",Data!A315)","v":""},"",{"$f":"IF(Data!B315=\"\",\"\",Data!B315)","v":""},{"$f":"IF(Data!C315=\"\",\"\",Data!C315)","v":""},{"$f":"IF(Data!D315=\"\",\"\",Data!D315)","v":""},{"$f":"IF(Data!E315=\"\",\"\",Data!E315)","v":""},{"$f":"IF(Data!F315=\"\",\"\",Data!F315)","v":""},{"$f":"IF(Data!G315=\"\",\"\",Data!G315)","v":""},{"$f":"IF(Data!H315=\"\",\"\",Data!H315)","v":""},{"$f":"IF(Data!I315=\"\",\"\",Data!I315)","v":""},{"$f":"IF(Data!J315=\"\",\"\",Data!J315)","v":""},{"$f":"IF(Data!K315=\"\",\"\",Data!K315)","v":""},{"$f":"IF(Data!L315=\"\",\"\",Data!L315)","v":""},{"$f":"IF(Data!M315=\"\",\"\",Data!M315)","v":""},{"$f":"IF(Data!N315=\"\",\"\",Data!N315)","v":""},{"$f":"IF(Data!O315=\"\",\"\",Data!O315)","v":""},{"$f":"IF(Data!P315=\"\",\"\",Data!P315)","v":""},{"$f":"IF(Data!Q315=\"\",\"\",Data!Q315)","v":""},{"$f":"IF(Data!R315=\"\",\"\",Data!R315)","v":""},{"$f":"IF(Data!S315=\"\",\"\",Data!S315)","v":""},null,null,null,null,315]
[{"$f":"IF(Data!A316=\"\",\"\",Data!A316)","v":""},"",{"$f":"IF(Data!B316=\"\",\"\",Data!B316)","v":""},{"$f":"IF(Data!C316=\"\",\"\",Data!C316)","v":""},{"$f":"IF(Data!D316=\"\",\"\",Data!D316)","v":""},{"$f":"IF(Data!E316=\"\",\"\",Data!E316)","v":""},{"$f":"IF(Data!F316=\"\",\"\",Data!F316)","v":""},{"$f":"IF(Data!G316=\"\",\"\",Data!G316)","v":""},{"$f":"IF(Data!H316=\"\",\"\",Data!H316)","v":""},{"$f":"IF(Data!I316=\"\",\"\",Data!I316)","v":""},{"$f":"IF(Data!J316=\"\",\"\",Data!J316)","v":""},{"$f":"IF(Data!K316=\"\",\"\",Data!K316)","v":""},{"$f":"IF(Data!L316=\"\",\"\",Data!L316)","v":""},{"$f":"IF(Data!M316=\"\",\"\",Data!M316)","v":""},{"$f":"IF(Data!N316=\"\",\"\",Data!N316)","v":""},{"$f":"IF(Data!O316=\"\",\"\",Data!O316)","v":""},{"$f":"IF(Data!P316=\"\",\"\",Data!P316)","v":""},{"$f":"IF(Data!Q316=\"\",\"\",Data!Q316)","v":""},{"$f":"IF(Data!R316=\"\",\"\",Data!R316)","v":""},{"$f":"IF(Data!S316=\"\",\"\",Data!S316)","v":""},null,null,null,null,316]
[{"$f":"IF(Data!A317=\"\",\"\",Data!A317)","v":""},"",{"$f":"IF(Data!B317=\"\",\"\",Data!B317)","v":""},{"$f":"IF(Data!C317=\"\",\"\",Data!C317)","v":""},{"$f":"IF(Data!D317=\"\",\"\",Data!D317)","v":""},{"$f":"IF(Data!E317=\"\",\"\",Data!E317)","v":""},{"$f":"IF(Data!F317=\"\",\"\",Data!F317)","v":""},{"$f":"IF(Data!G317=\"\",\"\",Data!G317)","v":""},{"$f":"IF(Data!H317=\"\",\"\",Data!H317)","v":""},{"$f":"IF(Data!I317=\"\",\"\",Data!I317)","v":""},{"$f":"IF(Data!J317=\"\",\"\",Data!J317)","v":""},{"$f":"IF(Data!K317=\"\",\"\",Data!K317)","v":""},{"$f":"IF(Data!L317=\"\",\"\",Data!L317)","v":""},{"$f":"IF(Data!M317=\"\",\"\",Data!M317)","v":""},{"$f":"IF(Data!N317=\"\",\"\",Data!N317)","v":""},{"$f":"IF(Data!O317=\"\",\"\",Data!O317)","v":""},{"$f":"IF(Data!P317=\"\",\"\",Data!P317)","v":""},{"$f":"IF(Data!Q317=\"\",\"\",Data!Q317)","v":""},{"$f":"IF(Data!R317=\"\",\"\",Data!R317)","v":""},{"$f":"IF(Data!S317=\"\",\"\",Data!S317)","v":""},null,null,null,null,317]
[{"$f":"IF(Data!A318=\"\",\"\",Data!A318)","v":""},"",{"$f":"IF(Data!B318=\"\",\"\",Data!B318)","v":""},{"$f":"IF(Data!C318=\"\",\"\",Data!C318)","v":""},{"$f":"IF(Data!D318=\"\",\"\",Data!D318)","v":""},{"$f":"IF(Data!E318=\"\",\"\",Data!E318)","v":""},{"$f":"IF(Data!F318=\"\",\"\",Data!F318)","v":""},{"$f":"IF(Data!G318=\"\",\"\",Data!G318)","v":""},{"$f":"IF(Data!H318=\"\",\"\",Data!H318)","v":""},{"$f":"IF(Data!I318=\"\",\"\",Data!I318)","v":""},{"$f":"IF(Data!J318=\"\",\"\",Data!J318)","v":""},{"$f":"IF(Data!K318=\"\",\"\",Data!K318)","v":""},{"$f":"IF(Data!L318=\"\",\"\",Data!L318)","v":""},{"$f":"IF(Data!M318=\"\",\"\",Data!M318)","v":""},{"$f":"IF(Data!N318=\"\",\"\",Data!N318)","v":""},{"$f":"IF(Data!O318=\"\",\"\",Data!O318)","v":""},{"$f":"IF(Data!P318=\"\",\"\",Data!P318)","v":""},{"$f":"IF(Data!Q318=\"\",\"\",Data!Q318)","v":""},{"$f":"IF(Data!R318=\"\",\"\",Data!R318)","v":""},{"$f":"IF(Data!S318=\"\",\"\",Data!S318)","v":""},null,null,null,null,318]
[{"$f":"IF(Data!A319=\"\",\"\",Data!A319)","v":""},"",{"$f":"IF(Data!B319=\"\",\"\",Data!B319)","v":""},{"$f":"IF(Data!C319=\"\",\"\",Data!C319)","v":""},{"$f":"IF(Data!D319=\"\",\"\",Data!D319)","v":""},{"$f":"IF(Data!E319=\"\",\"\",Data!E319)","v":""},{"$f":"IF(Data!F319=\"\",\"\",Data!F319)","v":""},{"$f":"IF(Data!G319=\"\",\"\",Data!G319)","v":""},{"$f":"IF(Data!H319=\"\",\"\",Data!H319)","v":""},{"$f":"IF(Data!I319=\"\",\"\",Data!I319)","v":""},{"$f":"IF(Data!J319=\"\",\"\",Data!J319)","v":""},{"$f":"IF(Data!K319=\"\",\"\",Data!K319)","v":""},{"$f":"IF(Data!L319=\"\",\"\",Data!L319)","v":""},{"$f":"IF(Data!M319=\"\",\"\",Data!M319)","v":""},{"$f":"IF(Data!N319=\"\",\"\",Data!N319)","v":""},{"$f":"IF(Data!O319=\"\",\"\",Data!O319)","v":""},{"$f":"IF(Data!P319=\"\",\"\",Data!P319)","v":""},{"$f":"IF(Data!Q319=\"\",\"\",Data!Q319)","v":""},{"$f":"IF(Data!R319=\"\",\"\",Data!R319)","v":""},{"$f":"IF(Data!S319=\"\",\"\",Data!S319)","v":""},null,null,null,null,319]
[{"$f":"IF(Data!A320=\"\",\"\",Data!A320)","v":""},"",{"$f":"IF(Data!B320=\"\",\"\",Data!B320)","v":""},{"$f":"IF(Data!C320=\"\",\"\",Data!C320)","v":""},{"$f":"IF(Data!D320=\"\",\"\",Data!D320)","v":""},{"$f":"IF(Data!E320=\"\",\"\",Data!E320)","v":""},{"$f":"IF(Data!F320=\"\",\"\",Data!F320)","v":""},{"$f":"IF(Data!G320=\"\",\"\",Data!G320)","v":""},{"$f":"IF(Data!H320=\"\",\"\",Data!H320)","v":""},{"$f":"IF(Data!I320=\"\",\"\",Data!I320)","v":""},{"$f":"IF(Data!J320=\"\",\"\",Data!J320)","v":""},{"$f":"IF(Data!K320=\"\",\"\",Data!K320)","v":""},{"$f":"IF(Data!L320=\"\",\"\",Data!L320)","v":""},{"$f":"IF(Data!M320=\"\",\"\",Data!M320)","v":""},{"$f":"IF(Data!N320=\"\",\"\",Data!N320)","v":""},{"$f":"IF(Data!O320=\"\",\"\",Data!O320)","v":""},{"$f":"IF(Data!P320=\"\",\"\",Data!P320)","v":""},{"$f":"IF(Data!Q320=\"\",\"\",Data!Q320)","v":""},{"$f":"IF(Data!R320=\"\",\"\",Data!R320)","v":""},{"$f":"IF(Data!S320=\"\",\"\",Data!S320)","v":""},null,null,null,null,320]
[{"$f":"IF(Data!A321=\"\",\"\",Data!A321)","v":""},{"$f":"IF(A322=\"\",\"\",Y322)","v":""},{"$f":"IF(Data!B321=\"\",\"\",Data!B321)","v":""},{"$f":"IF(Data!C321=\"\",\"\",Data!C321)","v":""},{"$f":"IF(Data!D321=\"\",\"\",Data!D321)","v":""},{"$f":"IF(Data!E321=\"\",\"\",Data!E321)","v":""},{"$f":"IF(Data!F321=\"\",\"\",Data!F321)","v":""},{"$f":"IF(Data!G321=\"\",\"\",Data!G321)","v":""},{"$f":"IF(Data!H321=\"\",\"\",Data!H321)","v":""},{"$f":"IF(Data!I321=\"\",\"\",Data!I321)","v":""},{"$f":"IF(Data!J321=\"\",\"\",Data!J321)","v":""},{"$f":"IF(Data!K321=\"\",\"\",Data!K321)","v":""},{"$f":"IF(Data!L321=\"\",\"\",Data!L321)","v":""},{"$f":"IF(Data!M321=\"\",\"\",Data!M321)","v":""},{"$f":"IF(Data!N321=\"\",\"\",Data!N321)","v":""},{"$f":"IF(Data!O321=\"\",\"\",Data!O321)","v":""},{"$f":"IF(Data!P321=\"\",\"\",Data!P321)","v":""},{"$f":"IF(Data!Q321=\"\",\"\",Data!Q321)","v":""},{"$f":"IF(Data!R321=\"\",\"\",Data!R321)","v":""},{"$f":"IF(Data!S321=\"\",\"\",Data!S321)","v":""},null,null,null,null,321]
[{"$f":"IF(Data!A322=\"\",\"\",Data!A322)","v":""},"",{"$f":"IF(Data!B322=\"\",\"\",Data!B322)","v":""},{"$f":"IF(Data!C322=\"\",\"\",Data!C322)","v":""},{"$f":"IF(Data!D322=\"\",\"\",Data!D322)","v":""},{"$f":"IF(Data!E322=\"\",\"\",Data!E322)","v":""},{"$f":"IF(Data!F322=\"\",\"\",Data!F322)","v":""},{"$f":"IF(Data!G322=\"\",\"\",Data!G322)","v":""},{"$f":"IF(Data!H322=\"\",\"\",Data!H322)","v":""},{"$f":"IF(Data!I322=\"\",\"\",Data!I322)","v":""},{"$f":"IF(Data!J322=\"\",\"\",Data!J322)","v":""},{"$f":"IF(Data!K322=\"\",\"\",Data!K322)","v":""},{"$f":"IF(Data!L322=\"\",\"\",Data!L322)","v":""},{"$f":"IF(Data!M322=\"\",\"\",Data!M322)","v":""},{"$f":"IF(Data!N322=\"\",\"\",Data!N322)","v":""},{"$f":"IF(Data!O322=\"\",\"\",Data!O322)","v":""},{"$f":"IF(Data!P322=\"\",\"\",Data!P322)","v":""},{"$f":"IF(Data!Q322=\"\",\"\",Data!Q322)","v":""},{"$f":"IF(Data!R322=\"\",\"\",Data!R322)","v":""},{"$f":"IF(Data!S322=\"\",\"\",Data!S322)","v":""},null,null,null,null,322]
[{"$f":"IF(Data!A323=\"\",\"\",Data!A323)","v":""},"",{"$f":"IF(Data!B323=\"\",\"\",Data!B323)","v":""},{"$f":"IF(Data!C323=\"\",\"\",Data!C323)","v":""},{"$f":"IF(Data!D323=\"\",\"\",Data!D323)","v":""},{"$f":"IF(Data!E323=\"\",\"\",Data!E323)","v":""},{"$f":"IF(Data!F323=\"\",\"\",Data!F323)","v":""},{"$f":"IF(Data!G323=\"\",\"\",Data!G323)","v":""},{"$f":"IF(Data!H323=\"\",\"\",Data!H323)","v":""},{"$f":"IF(Data!I323=\"\",\"\",Data!I323)","v":""},{"$f":"IF(Data!J323=\"\",\"\",Data!J323)","v":""},{"$f":"IF(Data!K323=\"\",\"\",Data!K323)","v":""},{"$f":"IF(Data!L323=\"\",\"\",Data!L323)","v":""},{"$f":"IF(Data!M323=\"\",\"\",Data!M323)","v":""},{"$f":"IF(Data!N323=\"\",\"\",Data!N323)","v":""},{"$f":"IF(Data!O323=\"\",\"\",Data!O323)","v":""},{"$f":"IF(Data!P323=\"\",\"\",Data!P323)","v":""},{"$f":"IF(Data!Q323=\"\",\"\",Data!Q323)","v":""},{"$f":"IF(Data!R323=\"\",\"\",Data!R323)","v":""},{"$f":"IF(Data!S323=\"\",\"\",Data!S323)","v":""},null,null,null,null,323]
[{"$f":"IF(Data!A324=\"\",\"\",Data!A324)","v":""},"",{"$f":"IF(Data!B324=\"\",\"\",Data!B324)","v":""},{"$f":"IF(Data!C324=\"\",\"\",Data!C324)","v":""},{"$f":"IF(Data!D324=\"\",\"\",Data!D324)","v":""},{"$f":"IF(Data!E324=\"\",\"\",Data!E324)","v":""},{"$f":"IF(Data!F324=\"\",\"\",Data!F324)","v":""},{"$f":"IF(Data!G324=\"\",\"\",Data!G324)","v":""},{"$f":"IF(Data!H324=\"\",\"\",Data!H324)","v":""},{"$f":"IF(Data!I324=\"\",\"\",Data!I324)","v":""},{"$f":"IF(Data!J324=\"\",\"\",Data!J324)","v":""},{"$f":"IF(Data!K324=\"\",\"\",Data!K324)","v":""},{"$f":"IF(Data!L324=\"\",\"\",Data!L324)","v":""},{"$f":"IF(Data!M324=\"\",\"\",Data!M324)","v":""},{"$f":"IF(Data!N324=\"\",\"\",Data!N324)","v":""},{"$f":"IF(Data!O324=\"\",\"\",Data!O324)","v":""},{"$f":"IF(Data!P324=\"\",\"\",Data!P324)","v":""},{"$f":"IF(Data!Q324=\"\",\"\",Data!Q324)","v":""},{"$f":"IF(Data!R324=\"\",\"\",Data!R324)","v":""},{"$f":"IF(Data!S324=\"\",\"\",Data!S324)","v":""},null,null,null,null,324]
[{"$f":"IF(Data!A325=\"\",\"\",Data!A325)","v":""},"",{"$f":"IF(Data!B325=\"\",\"\",Data!B325)","v":""},{"$f":"IF(Data!C325=\"\",\"\",Data!C325)","v":""},{"$f":"IF(Data!D325=\"\",\"\",Data!D325)","v":""},{"$f":"IF(Data!E325=\"\",\"\",Data!E325)","v":""},{"$f":"IF(Data!F325=\"\",\"\",Data!F325)","v":""},{"$f":"IF(Data!G325=\"\",\"\",Data!G325)","v":""},{"$f":"IF(Data!H325=\"\",\"\",Data!H325)","v":""},{"$f":"IF(Data!I325=\"\",\"\",Data!I325)","v":""},{"$f":"IF(Data!J325=\"\",\"\",Data!J325)","v":""},{"$f":"IF(Data!K325=\"\",\"\",Data!K325)","v":""},{"$f":"IF(Data!L325=\"\",\"\",Data!L325)","v":""},{"$f":"IF(Data!M325=\"\",\"\",Data!M325)","v":""},{"$f":"IF(Data!N325=\"\",\"\",Data!N325)","v":""},{"$f":"IF(Data!O325=\"\",\"\",Data!O325)","v":""},{"$f":"IF(Data!P325=\"\",\"\",Data!P325)","v":""},{"$f":"IF(Data!Q325=\"\",\"\",Data!Q325)","v":""},{"$f":"IF(Data!R325=\"\",\"\",Data!R325)","v":""},{"$f":"IF(Data!S325=\"\",\"\",Data!S325)","v":""},null,null,null,null,325]
[{"$f":"IF(Data!A326=\"\",\"\",Data!A326)","v":""},"",{"$f":"IF(Data!B326=\"\",\"\",Data!B326)","v":""},{"$f":"IF(Data!C326=\"\",\"\",Data!C326)","v":""},{"$f":"IF(Data!D326=\"\",\"\",Data!D326)","v":""},{"$f":"IF(Data!E326=\"\",\"\",Data!E326)","v":""},{"$f":"IF(Data!F326=\"\",\"\",Data!F326)","v":""},{"$f":"IF(Data!G326=\"\",\"\",Data!G326)","v":""},{"$f":"IF(Data!H326=\"\",\"\",Data!H326)","v":""},{"$f":"IF(Data!I326=\"\",\"\",Data!I326)","v":""},{"$f":"IF(Data!J326=\"\",\"\",Data!J326)","v":""},{"$f":"IF(Data!K326=\"\",\"\",Data!K326)","v":""},{"$f":"IF(Data!L326=\"\",\"\",Data!L326)","v":""},{"$f":"IF(Data!M326=\"\",\"\",Data!M326)","v":""},{"$f":"IF(Data!N326=\"\",\"\",Data!N326)","v":""},{"$f":"IF(Data!O326=\"\",\"\",Data!O326)","v":""},{"$f":"IF(Data!P326=\"\",\"\",Data!P326)","v":""},{"$f":"IF(Data!Q326=\"\",\"\",Data!Q326)","v":""},{"$f":"IF(Data!R326=\"\",\"\",Data!R326)","v":""},{"$f":"IF(Data!S326=\"\",\"\",Data!S326)","v":""},null,null,null,null,326]
[{"$f":"IF(Data!A327=\"\",\"\",Data!A327)","v":""},"",{"$f":"IF(Data!B327=\"\",\"\",Data!B327)","v":""},{"$f":"IF(Data!C327=\"\",\"\",Data!C327)","v":""},{"$f":"IF(Data!D327=\"\",\"\",Data!D327)","v":""},{"$f":"IF(Data!E327=\"\",\"\",Data!E327)","v":""},{"$f":"IF(Data!F327=\"\",\"\",Data!F327)","v":""},{"$f":"IF(Data!G327=\"\",\"\",Data!G327)","v":""},{"$f":"IF(Data!H327=\"\",\"\",Data!H327)","v":""},{"$f":"IF(Data!I327=\"\",\"\",Data!I327)","v":""},{"$f":"IF(Data!J327=\"\",\"\",Data!J327)","v":""},{"$f":"IF(Data!K327=\"\",\"\",Data!K327)","v":""},{"$f":"IF(Data!L327=\"\",\"\",Data!L327)","v":""},{"$f":"IF(Data!M327=\"\",\"\",Data!M327)","v":""},{"$f":"IF(Data!N327=\"\",\"\",Data!N327)","v":""},{"$f":"IF(Data!O327=\"\",\"\",Data!O327)","v":""},{"$f":"IF(Data!P327=\"\",\"\",Data!P327)","v":""},{"$f":"IF(Data!Q327=\"\",\"\",Data!Q327)","v":""},{"$f":"IF(Data!R327=\"\",\"\",Data!R327)","v":""},{"$f":"IF(Data!S327=\"\",\"\",Data!S327)","v":""},null,null,null,null,327]
[{"$f":"IF(Data!A328=\"\",\"\",Data!A328)","v":""},"",{"$f":"IF(Data!B328=\"\",\"\",Data!B328)","v":""},{"$f":"IF(Data!C328=\"\",\"\",Data!C328)","v":""},{"$f":"IF(Data!D328=\"\",\"\",Data!D328)","v":""},{"$f":"IF(Data!E328=\"\",\"\",Data!E328)","v":""},{"$f":"IF(Data!F328=\"\",\"\",Data!F328)","v":""},{"$f":"IF(Data!G328=\"\",\"\",Data!G328)","v":""},{"$f":"IF(Data!H328=\"\",\"\",Data!H328)","v":""},{"$f":"IF(Data!I328=\"\",\"\",Data!I328)","v":""},{"$f":"IF(Data!J328=\"\",\"\",Data!J328)","v":""},{"$f":"IF(Data!K328=\"\",\"\",Data!K328)","v":""},{"$f":"IF(Data!L328=\"\",\"\",Data!L328)","v":""},{"$f":"IF(Data!M328=\"\",\"\",Data!M328)","v":""},{"$f":"IF(Data!N328=\"\",\"\",Data!N328)","v":""},{"$f":"IF(Data!O328=\"\",\"\",Data!O328)","v":""},{"$f":"IF(Data!P328=\"\",\"\",Data!P328)","v":""},{"$f":"IF(Data!Q328=\"\",\"\",Data!Q328)","v":""},{"$f":"IF(Data!R328=\"\",\"\",Data!R328)","v":""},{"$f":"IF(Data!S328=\"\",\"\",Data!S328)","v":""},null,null,null,null,328]
[{"$f":"IF(Data!A329=\"\",\"\",Data!A329)","v":""},"",{"$f":"IF(Data!B329=\"\",\"\",Data!B329)","v":""},{"$f":"IF(Data!C329=\"\",\"\",Data!C329)","v":""},{"$f":"IF(Data!D329=\"\",\"\",Data!D329)","v":""},{"$f":"IF(Data!E329=\"\",\"\",Data!E329)","v":""},{"$f":"IF(Data!F329=\"\",\"\",Data!F329)","v":""},{"$f":"IF(Data!G329=\"\",\"\",Data!G329)","v":""},{"$f":"IF(Data!H329=\"\",\"\",Data!H329)","v":""},{"$f":"IF(Data!I329=\"\",\"\",Data!I329)","v":""},{"$f":"IF(Data!J329=\"\",\"\",Data!J329)","v":""},{"$f":"IF(Data!K329=\"\",\"\",Data!K329)","v":""},{"$f":"IF(Data!L329=\"\",\"\",Data!L329)","v":""},{"$f":"IF(Data!M329=\"\",\"\",Data!M329)","v":""},{"$f":"IF(Data!N329=\"\",\"\",Data!N329)","v":""},{"$f":"IF(Data!O329=\"\",\"\",Data!O329)","v":""},{"$f":"IF(Data!P329=\"\",\"\",Data!P329)","v":""},{"$f":"IF(Data!Q329=\"\",\"\",Data!Q329)","v":""},{"$f":"IF(Data!R329=\"\",\"\",Data!R329)","v":""},{"$f":"IF(Data!S329=\"\",\"\",Data!S329)","v":""},null,null,null,null,329]
[{"$f":"IF(Data!A330=\"\",\"\",Data!A330)","v":""},"",{"$f":"IF(Data!B330=\"\",\"\",Data!B330)","v":""},{"$f":"IF(Data!C330=\"\",\"\",Data!C330)","v":""},{"$f":"IF(Data!D330=\"\",\"\",Data!D330)","v":""},{"$f":"IF(Data!E330=\"\",\"\",Data!E330)","v":""},{"$f":"IF(Data!F330=\"\",\"\",Data!F330)","v":""},{"$f":"IF(Data!G330=\"\",\"\",Data!G330)","v":""},{"$f":"IF(Data!H330=\"\",\"\",Data!H330)","v":""},{"$f":"IF(Data!I330=\"\",\"\",Data!I330)","v":""},{"$f":"IF(Data!J330=\"\",\"\",Data!J330)","v":""},{"$f":"IF(Data!K330=\"\",\"\",Data!K330)","v":""},{"$f":"IF(Data!L330=\"\",\"\",Data!L330)","v":""},{"$f":"IF(Data!M330=\"\",\"\",Data!M330)","v":""},{"$f":"IF(Data!N330=\"\",\"\",Data!N330)","v":""},{"$f":"IF(Data!O330=\"\",\"\",Data!O330)","v":""},{"$f":"IF(Data!P330=\"\",\"\",Data!P330)","v":""},{"$f":"IF(Data!Q330=\"\",\"\",Data!Q330)","v":""},{"$f":"IF(Data!R330=\"\",\"\",Data!R330)","v":""},{"$f":"IF(Data!S330=\"\",\"\",Data!S330)","v":""},null,null,null,null,330]
[{"$f":"IF(Data!A331=\"\",\"\",Data!A331)","v":""},"",{"$f":"IF(Data!B331=\"\",\"\",Data!B331)","v":""},{"$f":"IF(Data!C331=\"\",\"\",Data!C331)","v":""},{"$f":"IF(Data!D331=\"\",\"\",Data!D331)","v":""},{"$f":"IF(Data!E331=\"\",\"\",Data!E331)","v":""},{"$f":"IF(Data!F331=\"\",\"\",Data!F331)","v":""},{"$f":"IF(Data!G331=\"\",\"\",Data!G331)","v":""},{"$f":"IF(Data!H331=\"\",\"\",Data!H331)","v":""},{"$f":"IF(Data!I331=\"\",\"\",Data!I331)","v":""},{"$f":"IF(Data!J331=\"\",\"\",Data!J331)","v":""},{"$f":"IF(Data!K331=\"\",\"\",Data!K331)","v":""},{"$f":"IF(Data!L331=\"\",\"\",Data!L331)","v":""},{"$f":"IF(Data!M331=\"\",\"\",Data!M331)","v":""},{"$f":"IF(Data!N331=\"\",\"\",Data!N331)","v":""},{"$f":"IF(Data!O331=\"\",\"\",Data!O331)","v":""},{"$f":"IF(Data!P331=\"\",\"\",Data!P331)","v":""},{"$f":"IF(Data!Q331=\"\",\"\",Data!Q331)","v":""},{"$f":"IF(Data!R331=\"\",\"\",Data!R331)","v":""},{"$f":"IF(Data!S331=\"\",\"\",Data!S331)","v":""},null,null,null,null,331]
[{"$f":"IF(Data!A332=\"\",\"\",Data!A332)","v":""},"",{"$f":"IF(Data!B332=\"\",\"\",Data!B332)","v":""},{"$f":"IF(Data!C332=\"\",\"\",Data!C332)","v":""},{"$f":"IF(Data!D332=\"\",\"\",Data!D332)","v":""},{"$f":"IF(Data!E332=\"\",\"\",Data!E332)","v":""},{"$f":"IF(Data!F332=\"\",\"\",Data!F332)","v":""},{"$f":"IF(Data!G332=\"\",\"\",Data!G332)","v":""},{"$f":"IF(Data!H332=\"\",\"\",Data!H332)","v":""},{"$f":"IF(Data!I332=\"\",\"\",Data!I332)","v":""},{"$f":"IF(Data!J332=\"\",\"\",Data!J332)","v":""},{"$f":"IF(Data!K332=\"\",\"\",Data!K332)","v":""},{"$f":"IF(Data!L332=\"\",\"\",Data!L332)","v":""},{"$f":"IF(Data!M332=\"\",\"\",Data!M332)","v":""},{"$f":"IF(Data!N332=\"\",\"\",Data!N332)","v":""},{"$f":"IF(Data!O332=\"\",\"\",Data!O332)","v":""},{"$f":"IF(Data!P332=\"\",\"\",Data!P332)","v":""},{"$f":"IF(Data!Q332=\"\",\"\",Data!Q332)","v":""},{"$f":"IF(Data!R332=\"\",\"\",Data!R332)","v":""},{"$f":"IF(Data!S332=\"\",\"\",Data!S332)","v":""},null,null,null,null,332]
[{"$f":"IF(Data!A333=\"\",\"\",Data!A333)","v":""},"",{"$f":"IF(Data!B333=\"\",\"\",Data!B333)","v":""},{"$f":"IF(Data!C333=\"\",\"\",Data!C333)","v":""},{"$f":"IF(Data!D333=\"\",\"\",Data!D333)","v":""},{"$f":"IF(Data!E333=\"\",\"\",Data!E333)","v":""},{"$f":"IF(Data!F333=\"\",\"\",Data!F333)","v":""},{"$f":"IF(Data!G333=\"\",\"\",Data!G333)","v":""},{"$f":"IF(Data!H333=\"\",\"\",Data!H333)","v":""},{"$f":"IF(Data!I333=\"\",\"\",Data!I333)","v":""},{"$f":"IF(Data!J333=\"\",\"\",Data!J333)","v":""},{"$f":"IF(Data!K333=\"\",\"\",Data!K333)","v":""},{"$f":"IF(Data!L333=\"\",\"\",Data!L333)","v":""},{"$f":"IF(Data!M333=\"\",\"\",Data!M333)","v":""},{"$f":"IF(Data!N333=\"\",\"\",Data!N333)","v":""},{"$f":"IF(Data!O333=\"\",\"\",Data!O333)","v":""},{"$f":"IF(Data!P333=\"\",\"\",Data!P333)","v":""},{"$f":"IF(Data!Q333=\"\",\"\",Data!Q333)","v":""},{"$f":"IF(Data!R333=\"\",\"\",Data!R333)","v":""},{"$f":"IF(Data!S333=\"\",\"\",Data!S333)","v":""},null,null,null,null,333]
[{"$f":"IF(Data!A334=\"\",\"\",Data!A334)","v":""},"",{"$f":"IF(Data!B334=\"\",\"\",Data!B334)","v":""},{"$f":"IF(Data!C334=\"\",\"\",Data!C334)","v":""},{"$f":"IF(Data!D334=\"\",\"\",Data!D334)","v":""},{"$f":"IF(Data!E334=\"\",\"\",Data!E334)","v":""},{"$f":"IF(Data!F334=\"\",\"\",Data!F334)","v":""},{"$f":"IF(Data!G334=\"\",\"\",Data!G334)","v":""},{"$f":"IF(Data!H334=\"\",\"\",Data!H334)","v":""},{"$f":"IF(Data!I334=\"\",\"\",Data!I334)","v":""},{"$f":"IF(Data!J334=\"\",\"\",Data!J334)","v":""},{"$f":"IF(Data!K334=\"\",\"\",Data!K334)","v":""},{"$f":"IF(Data!L334=\"\",\"\",Data!L334)","v":""},{"$f":"IF(Data!M334=\"\",\"\",Data!M334)","v":""},{"$f":"IF(Data!N334=\"\",\"\",Data!N334)","v":""},{"$f":"IF(Data!O334=\"\",\"\",Data!O334)","v":""},{"$f":"IF(Data!P334=\"\",\"\",Data!P334)","v":""},{"$f":"IF(Data!Q334=\"\",\"\",Data!Q334)","v":""},{"$f":"IF(Data!R334=\"\",\"\",Data!R334)","v":""},{"$f":"IF(Data!S334=\"\",\"\",Data!S334)","v":""},null,null,null,null,334]
[{"$f":"IF(Data!A335=\"\",\"\",Data!A335)","v":""},"",{"$f":"IF(Data!B335=\"\",\"\",Data!B335)","v":""},{"$f":"IF(Data!C335=\"\",\"\",Data!C335)","v":""},{"$f":"IF(Data!D335=\"\",\"\",Data!D335)","v":""},{"$f":"IF(Data!E335=\"\",\"\",Data!E335)","v":""},{"$f":"IF(Data!F335=\"\",\"\",Data!F335)","v":""},{"$f":"IF(Data!G335=\"\",\"\",Data!G335)","v":""},{"$f":"IF(Data!H335=\"\",\"\",Data!H335)","v":""},{"$f":"IF(Data!I335=\"\",\"\",Data!I335)","v":""},{"$f":"IF(Data!J335=\"\",\"\",Data!J335)","v":""},{"$f":"IF(Data!K335=\"\",\"\",Data!K335)","v":""},{"$f":"IF(Data!L335=\"\",\"\",Data!L335)","v":""},{"$f":"IF(Data!M335=\"\",\"\",Data!M335)","v":""},{"$f":"IF(Data!N335=\"\",\"\",Data!N335)","v":""},{"$f":"IF(Data!O335=\"\",\"\",Data!O335)","v":""},{"$f":"IF(Data!P335=\"\",\"\",Data!P335)","v":""},{"$f":"IF(Data!Q335=\"\",\"\",Data!Q335)","v":""},{"$f":"IF(Data!R335=\"\",\"\",Data!R335)","v":""},{"$f":"IF(Data!S335=\"\",\"\",Data!S335)","v":""},null,null,null,null,335]
[{"$f":"IF(Data!A336=\"\",\"\",Data!A336)","v":""},"",{"$f":"IF(Data!B336=\"\",\"\",Data!B336)","v":""},{"$f":"IF(Data!C336=\"\",\"\",Data!C336)","v":""},{"$f":"IF(Data!D336=\"\",\"\",Data!D336)","v":""},{"$f":"IF(Data!E336=\"\",\"\",Data!E336)","v":""},{"$f":"IF(Data!F336=\"\",\"\",Data!F336)","v":""},{"$f":"IF(Data!G336=\"\",\"\",Data!G336)","v":""},{"$f":"IF(Data!H336=\"\",\"\",Data!H336)","v":""},{"$f":"IF(Data!I336=\"\",\"\",Data!I336)","v":""},{"$f":"IF(Data!J336=\"\",\"\",Data!J336)","v":""},{"$f":"IF(Data!K336=\"\",\"\",Data!K336)","v":""},{"$f":"IF(Data!L336=\"\",\"\",Data!L336)","v":""},{"$f":"IF(Data!M336=\"\",\"\",Data!M336)","v":""},{"$f":"IF(Data!N336=\"\",\"\",Data!N336)","v":""},{"$f":"IF(Data!O336=\"\",\"\",Data!O336)","v":""},{"$f":"IF(Data!P336=\"\",\"\",Data!P336)","v":""},{"$f":"IF(Data!Q336=\"\",\"\",Data!Q336)","v":""},{"$f":"IF(Data!R336=\"\",\"\",Data!R336)","v":""},{"$f":"IF(Data!S336=\"\",\"\",Data!S336)","v":""},null,null,null,null,336]
[{"$f":"IF(Data!A337=\"\",\"\",Data!A337)","v":""},"",{"$f":"IF(Data!B337=\"\",\"\",Data!B337)","v":""},{"$f":"IF(Data!C337=\"\",\"\",Data!C337)","v":""},{"$f":"IF(Data!D337=\"\",\"\",Data!D337)","v":""},{"$f":"IF(Data!E337=\"\",\"\",Data!E337)","v":""},{"$f":"IF(Data!F337=\"\",\"\",Data!F337)","v":""},{"$f":"IF(Data!G337=\"\",\"\",Data!G337)","v":""},{"$f":"IF(Data!H337=\"\",\"\",Data!H337)","v":""},{"$f":"IF(Data!I337=\"\",\"\",Data!I337)","v":""},{"$f":"IF(Data!J337=\"\",\"\",Data!J337)","v":""},{"$f":"IF(Data!K337=\"\",\"\",Data!K337)","v":""},{"$f":"IF(Data!L337=\"\",\"\",Data!L337)","v":""},{"$f":"IF(Data!M337=\"\",\"\",Data!M337)","v":""},{"$f":"IF(Data!N337=\"\",\"\",Data!N337)","v":""},{"$f":"IF(Data!O337=\"\",\"\",Data!O337)","v":""},{"$f":"IF(Data!P337=\"\",\"\",Data!P337)","v":""},{"$f":"IF(Data!Q337=\"\",\"\",Data!Q337)","v":""},{"$f":"IF(Data!R337=\"\",\"\",Data!R337)","v":""},{"$f":"IF(Data!S337=\"\",\"\",Data!S337)","v":""},null,null,null,null,337]
[{"$f":"IF(Data!A338=\"\",\"\",Data!A338)","v":""},"",{"$f":"IF(Data!B338=\"\",\"\",Data!B338)","v":""},{"$f":"IF(Data!C338=\"\",\"\",Data!C338)","v":""},{"$f":"IF(Data!D338=\"\",\"\",Data!D338)","v":""},{"$f":"IF(Data!E338=\"\",\"\",Data!E338)","v":""},{"$f":"IF(Data!F338=\"\",\"\",Data!F338)","v":""},{"$f":"IF(Data!G338=\"\",\"\",Data!G338)","v":""},{"$f":"IF(Data!H338=\"\",\"\",Data!H338)","v":""},{"$f":"IF(Data!I338=\"\",\"\",Data!I338)","v":""},{"$f":"IF(Data!J338=\"\",\"\",Data!J338)","v":""},{"$f":"IF(Data!K338=\"\",\"\",Data!K338)","v":""},{"$f":"IF(Data!L338=\"\",\"\",Data!L338)","v":""},{"$f":"IF(Data!M338=\"\",\"\",Data!M338)","v":""},{"$f":"IF(Data!N338=\"\",\"\",Data!N338)","v":""},{"$f":"IF(Data!O338=\"\",\"\",Data!O338)","v":""},{"$f":"IF(Data!P338=\"\",\"\",Data!P338)","v":""},{"$f":"IF(Data!Q338=\"\",\"\",Data!Q338)","v":""},{"$f":"IF(Data!R338=\"\",\"\",Data!R338)","v":""},{"$f":"IF(Data!S338=\"\",\"\",Data!S338)","v":""},null,null,null,null,338]
[{"$f":"IF(Data!A339=\"\",\"\",Data!A339)","v":""},"",{"$f":"IF(Data!B339=\"\",\"\",Data!B339)","v":""},{"$f":"IF(Data!C339=\"\",\"\",Data!C339)","v":""},{"$f":"IF(Data!D339=\"\",\"\",Data!D339)","v":""},{"$f":"IF(Data!E339=\"\",\"\",Data!E339)","v":""},{"$f":"IF(Data!F339=\"\",\"\",Data!F339)","v":""},{"$f":"IF(Data!G339=\"\",\"\",Data!G339)","v":""},{"$f":"IF(Data!H339=\"\",\"\",Data!H339)","v":""},{"$f":"IF(Data!I339=\"\",\"\",Data!I339)","v":""},{"$f":"IF(Data!J339=\"\",\"\",Data!J339)","v":""},{"$f":"IF(Data!K339=\"\",\"\",Data!K339)","v":""},{"$f":"IF(Data!L339=\"\",\"\",Data!L339)","v":""},{"$f":"IF(Data!M339=\"\",\"\",Data!M339)","v":""},{"$f":"IF(Data!N339=\"\",\"\",Data!N339)","v":""},{"$f":"IF(Data!O339=\"\",\"\",Data!O339)","v":""},{"$f":"IF(Data!P339=\"\",\"\",Data!P339)","v":""},{"$f":"IF(Data!Q339=\"\",\"\",Data!Q339)","v":""},{"$f":"IF(Data!R339=\"\",\"\",Data!R339)","v":""},{"$f":"IF(Data!S339=\"\",\"\",Data!S339)","v":""},null,null,null,null,339]
[{"$f":"IF(Data!A340=\"\",\"\",Data!A340)","v":""},"",{"$f":"IF(Data!B340=\"\",\"\",Data!B340)","v":""},{"$f":"IF(Data!C340=\"\",\"\",Data!C340)","v":""},{"$f":"IF(Data!D340=\"\",\"\",Data!D340)","v":""},{"$f":"IF(Data!E340=\"\",\"\",Data!E340)","v":""},{"$f":"IF(Data!F340=\"\",\"\",Data!F340)","v":""},{"$f":"IF(Data!G340=\"\",\"\",Data!G340)","v":""},{"$f":"IF(Data!H340=\"\",\"\",Data!H340)","v":""},{"$f":"IF(Data!I340=\"\",\"\",Data!I340)","v":""},{"$f":"IF(Data!J340=\"\",\"\",Data!J340)","v":""},{"$f":"IF(Data!K340=\"\",\"\",Data!K340)","v":""},{"$f":"IF(Data!L340=\"\",\"\",Data!L340)","v":""},{"$f":"IF(Data!M340=\"\",\"\",Data!M340)","v":""},{"$f":"IF(Data!N340=\"\",\"\",Data!N340)","v":""},{"$f":"IF(Data!O340=\"\",\"\",Data!O340)","v":""},{"$f":"IF(Data!P340=\"\",\"\",Data!P340)","v":""},{"$f":"IF(Data!Q340=\"\",\"\",Data!Q340)","v":""},{"$f":"IF(Data!R340=\"\",\"\",Data!R340)","v":""},{"$f":"IF(Data!S340=\"\",\"\",Data!S340)","v":""},null,null,null,null,340]
[{"$f":"IF(Data!A341=\"\",\"\",Data!A341)","v":""},"",{"$f":"IF(Data!B341=\"\",\"\",Data!B341)","v":""},{"$f":"IF(Data!C341=\"\",\"\",Data!C341)","v":""},{"$f":"IF(Data!D341=\"\",\"\",Data!D341)","v":""},{"$f":"IF(Data!E341=\"\",\"\",Data!E341)","v":""},{"$f":"IF(Data!F341=\"\",\"\",Data!F341)","v":""},{"$f":"IF(Data!G341=\"\",\"\",Data!G341)","v":""},{"$f":"IF(Data!H341=\"\",\"\",Data!H341)","v":""},{"$f":"IF(Data!I341=\"\",\"\",Data!I341)","v":""},{"$f":"IF(Data!J341=\"\",\"\",Data!J341)","v":""},{"$f":"IF(Data!K341=\"\",\"\",Data!K341)","v":""},{"$f":"IF(Data!L341=\"\",\"\",Data!L341)","v":""},{"$f":"IF(Data!M341=\"\",\"\",Data!M341)","v":""},{"$f":"IF(Data!N341=\"\",\"\",Data!N341)","v":""},{"$f":"IF(Data!O341=\"\",\"\",Data!O341)","v":""},{"$f":"IF(Data!P341=\"\",\"\",Data!P341)","v":""},{"$f":"IF(Data!Q341=\"\",\"\",Data!Q341)","v":""},{"$f":"IF(Data!R341=\"\",\"\",Data!R341)","v":""},{"$f":"IF(Data!S341=\"\",\"\",Data!S341)","v":""},null,null,null,null,341]
[{"$f":"IF(Data!A342=\"\",\"\",Data!A342)","v":""},"",{"$f":"IF(Data!B342=\"\",\"\",Data!B342)","v":""},{"$f":"IF(Data!C342=\"\",\"\",Data!C342)","v":""},{"$f":"IF(Data!D342=\"\",\"\",Data!D342)","v":""},{"$f":"IF(Data!E342=\"\",\"\",Data!E342)","v":""},{"$f":"IF(Data!F342=\"\",\"\",Data!F342)","v":""},{"$f":"IF(Data!G342=\"\",\"\",Data!G342)","v":""},{"$f":"IF(Data!H342=\"\",\"\",Data!H342)","v":""},{"$f":"IF(Data!I342=\"\",\"\",Data!I342)","v":""},{"$f":"IF(Data!J342=\"\",\"\",Data!J342)","v":""},{"$f":"IF(Data!K342=\"\",\"\",Data!K342)","v":""},{"$f":"IF(Data!L342=\"\",\"\",Data!L342)","v":""},{"$f":"IF(Data!M342=\"\",\"\",Data!M342)","v":""},{"$f":"IF(Data!N342=\"\",\"\",Data!N342)","v":""},{"$f":"IF(Data!O342=\"\",\"\",Data!O342)","v":""},{"$f":"IF(Data!P342=\"\",\"\",Data!P342)","v":""},{"$f":"IF(Data!Q342=\"\",\"\",Data!Q342)","v":""},{"$f":"IF(Data!R342=\"\",\"\",Data!R342)","v":""},{"$f":"IF(Data!S342=\"\",\"\",Data!S342)","v":""},null,null,null,null,342]
[{"$f":"IF(Data!A343=\"\",\"\",Data!A343)","v":""},"",{"$f":"IF(Data!B343=\"\",\"\",Data!B343)","v":""},{"$f":"IF(Data!C343=\"\",\"\",Data!C343)","v":""},{"$f":"IF(Data!D343=\"\",\"\",Data!D343)","v":""},{"$f":"IF(Data!E343=\"\",\"\",Data!E343)","v":""},{"$f":"IF(Data!F343=\"\",\"\",Data!F343)","v":""},{"$f":"IF(Data!G343=\"\",\"\",Data!G343)","v":""},{"$f":"IF(Data!H343=\"\",\"\",Data!H343)","v":""},{"$f":"IF(Data!I343=\"\",\"\",Data!I343)","v":""},{"$f":"IF(Data!J343=\"\",\"\",Data!J343)","v":""},{"$f":"IF(Data!K343=\"\",\"\",Data!K343)","v":""},{"$f":"IF(Data!L343=\"\",\"\",Data!L343)","v":""},{"$f":"IF(Data!M343=\"\",\"\",Data!M343)","v":""},{"$f":"IF(Data!N343=\"\",\"\",Data!N343)","v":""},{"$f":"IF(Data!O343=\"\",\"\",Data!O343)","v":""},{"$f":"IF(Data!P343=\"\",\"\",Data!P343)","v":""},{"$f":"IF(Data!Q343=\"\",\"\",Data!Q343)","v":""},{"$f":"IF(Data!R343=\"\",\"\",Data!R343)","v":""},{"$f":"IF(Data!S343=\"\",\"\",Data!S343)","v":""},null,null,null,null,343]
[{"$f":"IF(Data!A344=\"\",\"\",Data!A344)","v":""},"",{"$f":"IF(Data!B344=\"\",\"\",Data!B344)","v":""},{"$f":"IF(Data!C344=\"\",\"\",Data!C344)","v":""},{"$f":"IF(Data!D344=\"\",\"\",Data!D344)","v":""},{"$f":"IF(Data!E344=\"\",\"\",Data!E344)","v":""},{"$f":"IF(Data!F344=\"\",\"\",Data!F344)","v":""},{"$f":"IF(Data!G344=\"\",\"\",Data!G344)","v":""},{"$f":"IF(Data!H344=\"\",\"\",Data!H344)","v":""},{"$f":"IF(Data!I344=\"\",\"\",Data!I344)","v":""},{"$f":"IF(Data!J344=\"\",\"\",Data!J344)","v":""},{"$f":"IF(Data!K344=\"\",\"\",Data!K344)","v":""},{"$f":"IF(Data!L344=\"\",\"\",Data!L344)","v":""},{"$f":"IF(Data!M344=\"\",\"\",Data!M344)","v":""},{"$f":"IF(Data!N344=\"\",\"\",Data!N344)","v":""},{"$f":"IF(Data!O344=\"\",\"\",Data!O344)","v":""},{"$f":"IF(Data!P344=\"\",\"\",Data!P344)","v":""},{"$f":"IF(Data!Q344=\"\",\"\",Data!Q344)","v":""},{"$f":"IF(Data!R344=\"\",\"\",Data!R344)","v":""},{"$f":"IF(Data!S344=\"\",\"\",Data!S344)","v":""},null,null,null,null,344]
[{"$f":"IF(Data!A345=\"\",\"\",Data!A345)","v":""},"",{"$f":"IF(Data!B345=\"\",\"\",Data!B345)","v":""},{"$f":"IF(Data!C345=\"\",\"\",Data!C345)","v":""},{"$f":"IF(Data!D345=\"\",\"\",Data!D345)","v":""},{"$f":"IF(Data!E345=\"\",\"\",Data!E345)","v":""},{"$f":"IF(Data!F345=\"\",\"\",Data!F345)","v":""},{"$f":"IF(Data!G345=\"\",\"\",Data!G345)","v":""},{"$f":"IF(Data!H345=\"\",\"\",Data!H345)","v":""},{"$f":"IF(Data!I345=\"\",\"\",Data!I345)","v":""},{"$f":"IF(Data!J345=\"\",\"\",Data!J345)","v":""},{"$f":"IF(Data!K345=\"\",\"\",Data!K345)","v":""},{"$f":"IF(Data!L345=\"\",\"\",Data!L345)","v":""},{"$f":"IF(Data!M345=\"\",\"\",Data!M345)","v":""},{"$f":"IF(Data!N345=\"\",\"\",Data!N345)","v":""},{"$f":"IF(Data!O345=\"\",\"\",Data!O345)","v":""},{"$f":"IF(Data!P345=\"\",\"\",Data!P345)","v":""},{"$f":"IF(Data!Q345=\"\",\"\",Data!Q345)","v":""},{"$f":"IF(Data!R345=\"\",\"\",Data!R345)","v":""},{"$f":"IF(Data!S345=\"\",\"\",Data!S345)","v":""},null,null,null,null,345]
[{"$f":"IF(Data!A346=\"\",\"\",Data!A346)","v":""},"",{"$f":"IF(Data!B346=\"\",\"\",Data!B346)","v":""},{"$f":"IF(Data!C346=\"\",\"\",Data!C346)","v":""},{"$f":"IF(Data!D346=\"\",\"\",Data!D346)","v":""},{"$f":"IF(Data!E346=\"\",\"\",Data!E346)","v":""},{"$f":"IF(Data!F346=\"\",\"\",Data!F346)","v":""},{"$f":"IF(Data!G346=\"\",\"\",Data!G346)","v":""},{"$f":"IF(Data!H346=\"\",\"\",Data!H346)","v":""},{"$f":"IF(Data!I346=\"\",\"\",Data!I346)","v":""},{"$f":"IF(Data!J346=\"\",\"\",Data!J346)","v":""},{"$f":"IF(Data!K346=\"\",\"\",Data!K346)","v":""},{"$f":"IF(Data!L346=\"\",\"\",Data!L346)","v":""},{"$f":"IF(Data!M346=\"\",\"\",Data!M346)","v":""},{"$f":"IF(Data!N346=\"\",\"\",Data!N346)","v":""},{"$f":"IF(Data!O346=\"\",\"\",Data!O346)","v":""},{"$f":"IF(Data!P346=\"\",\"\",Data!P346)","v":""},{"$f":"IF(Data!Q346=\"\",\"\",Data!Q346)","v":""},{"$f":"IF(Data!R346=\"\",\"\",Data!R346)","v":""},{"$f":"IF(Data!S346=\"\",\"\",Data!S346)","v":""},null,null,null,null,346]
[{"$f":"IF(Data!A347=\"\",\"\",Data!A347)","v":""},"",{"$f":"IF(Data!B347=\"\",\"\",Data!B347)","v":""},{"$f":"IF(Data!C347=\"\",\"\",Data!C347)","v":""},{"$f":"IF(Data!D347=\"\",\"\",Data!D347)","v":""},{"$f":"IF(Data!E347=\"\",\"\",Data!E347)","v":""},{"$f":"IF(Data!F347=\"\",\"\",Data!F347)","v":""},{"$f":"IF(Data!G347=\"\",\"\",Data!G347)","v":""},{"$f":"IF(Data!H347=\"\",\"\",Data!H347)","v":""},{"$f":"IF(Data!I347=\"\",\"\",Data!I347)","v":""},{"$f":"IF(Data!J347=\"\",\"\",Data!J347)","v":""},{"$f":"IF(Data!K347=\"\",\"\",Data!K347)","v":""},{"$f":"IF(Data!L347=\"\",\"\",Data!L347)","v":""},{"$f":"IF(Data!M347=\"\",\"\",Data!M347)","v":""},{"$f":"IF(Data!N347=\"\",\"\",Data!N347)","v":""},{"$f":"IF(Data!O347=\"\",\"\",Data!O347)","v":""},{"$f":"IF(Data!P347=\"\",\"\",Data!P347)","v":""},{"$f":"IF(Data!Q347=\"\",\"\",Data!Q347)","v":""},{"$f":"IF(Data!R347=\"\",\"\",Data!R347)","v":""},{"$f":"IF(Data!S347=\"\",\"\",Data!S347)","v":""},null,null,null,null,347]
[{"$f":"IF(Data!A348=\"\",\"\",Data!A348)","v":""},"",{"$f":"IF(Data!B348=\"\",\"\",Data!B348)","v":""},{"$f":"IF(Data!C348=\"\",\"\",Data!C348)","v":""},{"$f":"IF(Data!D348=\"\",\"\",Data!D348)","v":""},{"$f":"IF(Data!E348=\"\",\"\",Data!E348)","v":""},{"$f":"IF(Data!F348=\"\",\"\",Data!F348)","v":""},{"$f":"IF(Data!G348=\"\",\"\",Data!G348)","v":""},{"$f":"IF(Data!H348=\"\",\"\",Data!H348)","v":""},{"$f":"IF(Data!I348=\"\",\"\",Data!I348)","v":""},{"$f":"IF(Data!J348=\"\",\"\",Data!J348)","v":""},{"$f":"IF(Data!K348=\"\",\"\",Data!K348)","v":""},{"$f":"IF(Data!L348=\"\",\"\",Data!L348)","v":""},{"$f":"IF(Data!M348=\"\",\"\",Data!M348)","v":""},{"$f":"IF(Data!N348=\"\",\"\",Data!N348)","v":""},{"$f":"IF(Data!O348=\"\",\"\",Data!O348)","v":""},{"$f":"IF(Data!P348=\"\",\"\",Data!P348)","v":""},{"$f":"IF(Data!Q348=\"\",\"\",Data!Q348)","v":""},{"$f":"IF(Data!R348=\"\",\"\",Data!R348)","v":""},{"$f":"IF(Data!S348=\"\",\"\",Data!S348)","v":""},null,null,null,null,348]
[{"$f":"IF(Data!A349=\"\",\"\",Data!A349)","v":""},"",{"$f":"IF(Data!B349=\"\",\"\",Data!B349)","v":""},{"$f":"IF(Data!C349=\"\",\"\",Data!C349)","v":""},{"$f":"IF(Data!D349=\"\",\"\",Data!D349)","v":""},{"$f":"IF(Data!E349=\"\",\"\",Data!E349)","v":""},{"$f":"IF(Data!F349=\"\",\"\",Data!F349)","v":""},{"$f":"IF(Data!G349=\"\",\"\",Data!G349)","v":""},{"$f":"IF(Data!H349=\"\",\"\",Data!H349)","v":""},{"$f":"IF(Data!I349=\"\",\"\",Data!I349)","v":""},{"$f":"IF(Data!J349=\"\",\"\",Data!J349)","v":""},{"$f":"IF(Data!K349=\"\",\"\",Data!K349)","v":""},{"$f":"IF(Data!L349=\"\",\"\",Data!L349)","v":""},{"$f":"IF(Data!M349=\"\",\"\",Data!M349)","v":""},{"$f":"IF(Data!N349=\"\",\"\",Data!N349)","v":""},{"$f":"IF(Data!O349=\"\",\"\",Data!O349)","v":""},{"$f":"IF(Data!P349=\"\",\"\",Data!P349)","v":""},{"$f":"IF(Data!Q349=\"\",\"\",Data!Q349)","v":""},{"$f":"IF(Data!R349=\"\",\"\",Data!R349)","v":""},{"$f":"IF(Data!S349=\"\",\"\",Data!S349)","v":""},null,null,null,null,349]
[{"$f":"IF(Data!A350=\"\",\"\",Data!A350)","v":""},"",{"$f":"IF(Data!B350=\"\",\"\",Data!B350)","v":""},{"$f":"IF(Data!C350=\"\",\"\",Data!C350)","v":""},{"$f":"IF(Data!D350=\"\",\"\",Data!D350)","v":""},{"$f":"IF(Data!E350=\"\",\"\",Data!E350)","v":""},{"$f":"IF(Data!F350=\"\",\"\",Data!F350)","v":""},{"$f":"IF(Data!G350=\"\",\"\",Data!G350)","v":""},{"$f":"IF(Data!H350=\"\",\"\",Data!H350)","v":""},{"$f":"IF(Data!I350=\"\",\"\",Data!I350)","v":""},{"$f":"IF(Data!J350=\"\",\"\",Data!J350)","v":""},{"$f":"IF(Data!K350=\"\",\"\",Data!K350)","v":""},{"$f":"IF(Data!L350=\"\",\"\",Data!L350)","v":""},{"$f":"IF(Data!M350=\"\",\"\",Data!M350)","v":""},{"$f":"IF(Data!N350=\"\",\"\",Data!N350)","v":""},{"$f":"IF(Data!O350=\"\",\"\",Data!O350)","v":""},{"$f":"IF(Data!P350=\"\",\"\",Data!P350)","v":""},{"$f":"IF(Data!Q350=\"\",\"\",Data!Q350)","v":""},{"$f":"IF(Data!R350=\"\",\"\",Data!R350)","v":""},{"$f":"IF(Data!S350=\"\",\"\",Data!S350)","v":""},null,null,null,null,350]
[{"$f":"IF(Data!A351=\"\",\"\",Data!A351)","v":""},"",{"$f":"IF(Data!B351=\"\",\"\",Data!B351)","v":""},{"$f":"IF(Data!C351=\"\",\"\",Data!C351)","v":""},{"$f":"IF(Data!D351=\"\",\"\",Data!D351)","v":""},{"$f":"IF(Data!E351=\"\",\"\",Data!E351)","v":""},{"$f":"IF(Data!F351=\"\",\"\",Data!F351)","v":""},{"$f":"IF(Data!G351=\"\",\"\",Data!G351)","v":""},{"$f":"IF(Data!H351=\"\",\"\",Data!H351)","v":""},{"$f":"IF(Data!I351=\"\",\"\",Data!I351)","v":""},{"$f":"IF(Data!J351=\"\",\"\",Data!J351)","v":""},{"$f":"IF(Data!K351=\"\",\"\",Data!K351)","v":""},{"$f":"IF(Data!L351=\"\",\"\",Data!L351)","v":""},{"$f":"IF(Data!M351=\"\",\"\",Data!M351)","v":""},{"$f":"IF(Data!N351=\"\",\"\",Data!N351)","v":""},{"$f":"IF(Data!O351=\"\",\"\",Data!O351)","v":""},{"$f":"IF(Data!P351=\"\",\"\",Data!P351)","v":""},{"$f":"IF(Data!Q351=\"\",\"\",Data!Q351)","v":""},{"$f":"IF(Data!R351=\"\",\"\",Data!R351)","v":""},{"$f":"IF(Data!S351=\"\",\"\",Data!S351)","v":""},null,null,null,null,351]
[{"$f":"IF(Data!A352=\"\",\"\",Data!A352)","v":""},"",{"$f":"IF(Data!B352=\"\",\"\",Data!B352)","v":""},{"$f":"IF(Data!C352=\"\",\"\",Data!C352)","v":""},{"$f":"IF(Data!D352=\"\",\"\",Data!D352)","v":""},{"$f":"IF(Data!E352=\"\",\"\",Data!E352)","v":""},{"$f":"IF(Data!F352=\"\",\"\",Data!F352)","v":""},{"$f":"IF(Data!G352=\"\",\"\",Data!G352)","v":""},{"$f":"IF(Data!H352=\"\",\"\",Data!H352)","v":""},{"$f":"IF(Data!I352=\"\",\"\",Data!I352)","v":""},{"$f":"IF(Data!J352=\"\",\"\",Data!J352)","v":""},{"$f":"IF(Data!K352=\"\",\"\",Data!K352)","v":""},{"$f":"IF(Data!L352=\"\",\"\",Data!L352)","v":""},{"$f":"IF(Data!M352=\"\",\"\",Data!M352)","v":""},{"$f":"IF(Data!N352=\"\",\"\",Data!N352)","v":""},{"$f":"IF(Data!O352=\"\",\"\",Data!O352)","v":""},{"$f":"IF(Data!P352=\"\",\"\",Data!P352)","v":""},{"$f":"IF(Data!Q352=\"\",\"\",Data!Q352)","v":""},{"$f":"IF(Data!R352=\"\",\"\",Data!R352)","v":""},{"$f":"IF(Data!S352=\"\",\"\",Data!S352)","v":""},null,null,null,null,352]
[{"$f":"IF(Data!A353=\"\",\"\",Data!A353)","v":""},"",{"$f":"IF(Data!B353=\"\",\"\",Data!B353)","v":""},{"$f":"IF(Data!C353=\"\",\"\",Data!C353)","v":""},{"$f":"IF(Data!D353=\"\",\"\",Data!D353)","v":""},{"$f":"IF(Data!E353=\"\",\"\",Data!E353)","v":""},{"$f":"IF(Data!F353=\"\",\"\",Data!F353)","v":""},{"$f":"IF(Data!G353=\"\",\"\",Data!G353)","v":""},{"$f":"IF(Data!H353=\"\",\"\",Data!H353)","v":""},{"$f":"IF(Data!I353=\"\",\"\",Data!I353)","v":""},{"$f":"IF(Data!J353=\"\",\"\",Data!J353)","v":""},{"$f":"IF(Data!K353=\"\",\"\",Data!K353)","v":""},{"$f":"IF(Data!L353=\"\",\"\",Data!L353)","v":""},{"$f":"IF(Data!M353=\"\",\"\",Data!M353)","v":""},{"$f":"IF(Data!N353=\"\",\"\",Data!N353)","v":""},{"$f":"IF(Data!O353=\"\",\"\",Data!O353)","v":""},{"$f":"IF(Data!P353=\"\",\"\",Data!P353)","v":""},{"$f":"IF(Data!Q353=\"\",\"\",Data!Q353)","v":""},{"$f":"IF(Data!R353=\"\",\"\",Data!R353)","v":""},{"$f":"IF(Data!S353=\"\",\"\",Data!S353)","v":""},null,null,null,null,353]
[{"$f":"IF(Data!A354=\"\",\"\",Data!A354)","v":""},"",{"$f":"IF(Data!B354=\"\",\"\",Data!B354)","v":""},{"$f":"IF(Data!C354=\"\",\"\",Data!C354)","v":""},{"$f":"IF(Data!D354=\"\",\"\",Data!D354)","v":""},{"$f":"IF(Data!E354=\"\",\"\",Data!E354)","v":""},{"$f":"IF(Data!F354=\"\",\"\",Data!F354)","v":""},{"$f":"IF(Data!G354=\"\",\"\",Data!G354)","v":""},{"$f":"IF(Data!H354=\"\",\"\",Data!H354)","v":""},{"$f":"IF(Data!I354=\"\",\"\",Data!I354)","v":""},{"$f":"IF(Data!J354=\"\",\"\",Data!J354)","v":""},{"$f":"IF(Data!K354=\"\",\"\",Data!K354)","v":""},{"$f":"IF(Data!L354=\"\",\"\",Data!L354)","v":""},{"$f":"IF(Data!M354=\"\",\"\",Data!M354)","v":""},{"$f":"IF(Data!N354=\"\",\"\",Data!N354)","v":""},{"$f":"IF(Data!O354=\"\",\"\",Data!O354)","v":""},{"$f":"IF(Data!P354=\"\",\"\",Data!P354)","v":""},{"$f":"IF(Data!Q354=\"\",\"\",Data!Q354)","v":""},{"$f":"IF(Data!R354=\"\",\"\",Data!R354)","v":""},{"$f":"IF(Data!S354=\"\",\"\",Data!S354)","v":""},null,null,null,null,354]
[{"$f":"IF(Data!A355=\"\",\"\",Data!A355)","v":""},"",{"$f":"IF(Data!B355=\"\",\"\",Data!B355)","v":""},{"$f":"IF(Data!C355=\"\",\"\",Data!C355)","v":""},{"$f":"IF(Data!D355=\"\",\"\",Data!D355)","v":""},{"$f":"IF(Data!E355=\"\",\"\",Data!E355)","v":""},{"$f":"IF(Data!F355=\"\",\"\",Data!F355)","v":""},{"$f":"IF(Data!G355=\"\",\"\",Data!G355)","v":""},{"$f":"IF(Data!H355=\"\",\"\",Data!H355)","v":""},{"$f":"IF(Data!I355=\"\",\"\",Data!I355)","v":""},{"$f":"IF(Data!J355=\"\",\"\",Data!J355)","v":""},{"$f":"IF(Data!K355=\"\",\"\",Data!K355)","v":""},{"$f":"IF(Data!L355=\"\",\"\",Data!L355)","v":""},{"$f":"IF(Data!M355=\"\",\"\",Data!M355)","v":""},{"$f":"IF(Data!N355=\"\",\"\",Data!N355)","v":""},{"$f":"IF(Data!O355=\"\",\"\",Data!O355)","v":""},{"$f":"IF(Data!P355=\"\",\"\",Data!P355)","v":""},{"$f":"IF(Data!Q355=\"\",\"\",Data!Q355)","v":""},{"$f":"IF(Data!R355=\"\",\"\",Data!R355)","v":""},{"$f":"IF(Data!S355=\"\",\"\",Data!S355)","v":""},null,null,null,null,355]
[{"$f":"IF(Data!A356=\"\",\"\",Data!A356)","v":""},"",{"$f":"IF(Data!B356=\"\",\"\",Data!B356)","v":""},{"$f":"IF(Data!C356=\"\",\"\",Data!C356)","v":""},{"$f":"IF(Data!D356=\"\",\"\",Data!D356)","v":""},{"$f":"IF(Data!E356=\"\",\"\",Data!E356)","v":""},{"$f":"IF(Data!F356=\"\",\"\",Data!F356)","v":""},{"$f":"IF(Data!G356=\"\",\"\",Data!G356)","v":""},{"$f":"IF(Data!H356=\"\",\"\",Data!H356)","v":""},{"$f":"IF(Data!I356=\"\",\"\",Data!I356)","v":""},{"$f":"IF(Data!J356=\"\",\"\",Data!J356)","v":""},{"$f":"IF(Data!K356=\"\",\"\",Data!K356)","v":""},{"$f":"IF(Data!L356=\"\",\"\",Data!L356)","v":""},{"$f":"IF(Data!M356=\"\",\"\",Data!M356)","v":""},{"$f":"IF(Data!N356=\"\",\"\",Data!N356)","v":""},{"$f":"IF(Data!O356=\"\",\"\",Data!O356)","v":""},{"$f":"IF(Data!P356=\"\",\"\",Data!P356)","v":""},{"$f":"IF(Data!Q356=\"\",\"\",Data!Q356)","v":""},{"$f":"IF(Data!R356=\"\",\"\",Data!R356)","v":""},{"$f":"IF(Data!S356=\"\",\"\",Data!S356)","v":""},null,null,null,null,356]
[{"$f":"IF(Data!A357=\"\",\"\",Data!A357)","v":""},"",{"$f":"IF(Data!B357=\"\",\"\",Data!B357)","v":""},{"$f":"IF(Data!C357=\"\",\"\",Data!C357)","v":""},{"$f":"IF(Data!D357=\"\",\"\",Data!D357)","v":""},{"$f":"IF(Data!E357=\"\",\"\",Data!E357)","v":""},{"$f":"IF(Data!F357=\"\",\"\",Data!F357)","v":""},{"$f":"IF(Data!G357=\"\",\"\",Data!G357)","v":""},{"$f":"IF(Data!H357=\"\",\"\",Data!H357)","v":""},{"$f":"IF(Data!I357=\"\",\"\",Data!I357)","v":""},{"$f":"IF(Data!J357=\"\",\"\",Data!J357)","v":""},{"$f":"IF(Data!K357=\"\",\"\",Data!K357)","v":""},{"$f":"IF(Data!L357=\"\",\"\",Data!L357)","v":""},{"$f":"IF(Data!M357=\"\",\"\",Data!M357)","v":""},{"$f":"IF(Data!N357=\"\",\"\",Data!N357)","v":""},{"$f":"IF(Data!O357=\"\",\"\",Data!O357)","v":""},{"$f":"IF(Data!P357=\"\",\"\",Data!P357)","v":""},{"$f":"IF(Data!Q357=\"\",\"\",Data!Q357)","v":""},{"$f":"IF(Data!R357=\"\",\"\",Data!R357)","v":""},{"$f":"IF(Data!S357=\"\",\"\",Data!S357)","v":""},null,null,null,null,357]
[{"$f":"IF(Data!A358=\"\",\"\",Data!A358)","v":""},"",{"$f":"IF(Data!B358=\"\",\"\",Data!B358)","v":""},{"$f":"IF(Data!C358=\"\",\"\",Data!C358)","v":""},{"$f":"IF(Data!D358=\"\",\"\",Data!D358)","v":""},{"$f":"IF(Data!E358=\"\",\"\",Data!E358)","v":""},{"$f":"IF(Data!F358=\"\",\"\",Data!F358)","v":""},{"$f":"IF(Data!G358=\"\",\"\",Data!G358)","v":""},{"$f":"IF(Data!H358=\"\",\"\",Data!H358)","v":""},{"$f":"IF(Data!I358=\"\",\"\",Data!I358)","v":""},{"$f":"IF(Data!J358=\"\",\"\",Data!J358)","v":""},{"$f":"IF(Data!K358=\"\",\"\",Data!K358)","v":""},{"$f":"IF(Data!L358=\"\",\"\",Data!L358)","v":""},{"$f":"IF(Data!M358=\"\",\"\",Data!M358)","v":""},{"$f":"IF(Data!N358=\"\",\"\",Data!N358)","v":""},{"$f":"IF(Data!O358=\"\",\"\",Data!O358)","v":""},{"$f":"IF(Data!P358=\"\",\"\",Data!P358)","v":""},{"$f":"IF(Data!Q358=\"\",\"\",Data!Q358)","v":""},{"$f":"IF(Data!R358=\"\",\"\",Data!R358)","v":""},{"$f":"IF(Data!S358=\"\",\"\",Data!S358)","v":""},null,null,null,null,358]
[{"$f":"IF(Data!A359=\"\",\"\",Data!A359)","v":""},"",{"$f":"IF(Data!B359=\"\",\"\",Data!B359)","v":""},{"$f":"IF(Data!C359=\"\",\"\",Data!C359)","v":""},{"$f":"IF(Data!D359=\"\",\"\",Data!D359)","v":""},{"$f":"IF(Data!E359=\"\",\"\",Data!E359)","v":""},{"$f":"IF(Data!F359=\"\",\"\",Data!F359)","v":""},{"$f":"IF(Data!G359=\"\",\"\",Data!G359)","v":""},{"$f":"IF(Data!H359=\"\",\"\",Data!H359)","v":""},{"$f":"IF(Data!I359=\"\",\"\",Data!I359)","v":""},{"$f":"IF(Data!J359=\"\",\"\",Data!J359)","v":""},{"$f":"IF(Data!K359=\"\",\"\",Data!K359)","v":""},{"$f":"IF(Data!L359=\"\",\"\",Data!L359)","v":""},{"$f":"IF(Data!M359=\"\",\"\",Data!M359)","v":""},{"$f":"IF(Data!N359=\"\",\"\",Data!N359)","v":""},{"$f":"IF(Data!O359=\"\",\"\",Data!O359)","v":""},{"$f":"IF(Data!P359=\"\",\"\",Data!P359)","v":""},{"$f":"IF(Data!Q359=\"\",\"\",Data!Q359)","v":""},{"$f":"IF(Data!R359=\"\",\"\",Data!R359)","v":""},{"$f":"IF(Data!S359=\"\",\"\",Data!S359)","v":""},null,null,null,null,359]
[{"$f":"IF(Data!A360=\"\",\"\",Data!A360)","v":""},"",{"$f":"IF(Data!B360=\"\",\"\",Data!B360)","v":""},{"$f":"IF(Data!C360=\"\",\"\",Data!C360)","v":""},{"$f":"IF(Data!D360=\"\",\"\",Data!D360)","v":""},{"$f":"IF(Data!E360=\"\",\"\",Data!E360)","v":""},{"$f":"IF(Data!F360=\"\",\"\",Data!F360)","v":""},{"$f":"IF(Data!G360=\"\",\"\",Data!G360)","v":""},{"$f":"IF(Data!H360=\"\",\"\",Data!H360)","v":""},{"$f":"IF(Data!I360=\"\",\"\",Data!I360)","v":""},{"$f":"IF(Data!J360=\"\",\"\",Data!J360)","v":""},{"$f":"IF(Data!K360=\"\",\"\",Data!K360)","v":""},{"$f":"IF(Data!L360=\"\",\"\",Data!L360)","v":""},{"$f":"IF(Data!M360=\"\",\"\",Data!M360)","v":""},{"$f":"IF(Data!N360=\"\",\"\",Data!N360)","v":""},{"$f":"IF(Data!O360=\"\",\"\",Data!O360)","v":""},{"$f":"IF(Data!P360=\"\",\"\",Data!P360)","v":""},{"$f":"IF(Data!Q360=\"\",\"\",Data!Q360)","v":""},{"$f":"IF(Data!R360=\"\",\"\",Data!R360)","v":""},{"$f":"IF(Data!S360=\"\",\"\",Data!S360)","v":""},null,null,null,null,360]
[{"$f":"IF(Data!A361=\"\",\"\",Data!A361)","v":""},"",{"$f":"IF(Data!B361=\"\",\"\",Data!B361)","v":""},{"$f":"IF(Data!C361=\"\",\"\",Data!C361)","v":""},{"$f":"IF(Data!D361=\"\",\"\",Data!D361)","v":""},{"$f":"IF(Data!E361=\"\",\"\",Data!E361)","v":""},{"$f":"IF(Data!F361=\"\",\"\",Data!F361)","v":""},{"$f":"IF(Data!G361=\"\",\"\",Data!G361)","v":""},{"$f":"IF(Data!H361=\"\",\"\",Data!H361)","v":""},{"$f":"IF(Data!I361=\"\",\"\",Data!I361)","v":""},{"$f":"IF(Data!J361=\"\",\"\",Data!J361)","v":""},{"$f":"IF(Data!K361=\"\",\"\",Data!K361)","v":""},{"$f":"IF(Data!L361=\"\",\"\",Data!L361)","v":""},{"$f":"IF(Data!M361=\"\",\"\",Data!M361)","v":""},{"$f":"IF(Data!N361=\"\",\"\",Data!N361)","v":""},{"$f":"IF(Data!O361=\"\",\"\",Data!O361)","v":""},{"$f":"IF(Data!P361=\"\",\"\",Data!P361)","v":""},{"$f":"IF(Data!Q361=\"\",\"\",Data!Q361)","v":""},{"$f":"IF(Data!R361=\"\",\"\",Data!R361)","v":""},{"$f":"IF(Data!S361=\"\",\"\",Data!S361)","v":""},null,null,null,null,361]
[{"$f":"IF(Data!A362=\"\",\"\",Data!A362)","v":""},"",{"$f":"IF(Data!B362=\"\",\"\",Data!B362)","v":""},{"$f":"IF(Data!C362=\"\",\"\",Data!C362)","v":""},{"$f":"IF(Data!D362=\"\",\"\",Data!D362)","v":""},{"$f":"IF(Data!E362=\"\",\"\",Data!E362)","v":""},{"$f":"IF(Data!F362=\"\",\"\",Data!F362)","v":""},{"$f":"IF(Data!G362=\"\",\"\",Data!G362)","v":""},{"$f":"IF(Data!H362=\"\",\"\",Data!H362)","v":""},{"$f":"IF(Data!I362=\"\",\"\",Data!I362)","v":""},{"$f":"IF(Data!J362=\"\",\"\",Data!J362)","v":""},{"$f":"IF(Data!K362=\"\",\"\",Data!K362)","v":""},{"$f":"IF(Data!L362=\"\",\"\",Data!L362)","v":""},{"$f":"IF(Data!M362=\"\",\"\",Data!M362)","v":""},{"$f":"IF(Data!N362=\"\",\"\",Data!N362)","v":""},{"$f":"IF(Data!O362=\"\",\"\",Data!O362)","v":""},{"$f":"IF(Data!P362=\"\",\"\",Data!P362)","v":""},{"$f":"IF(Data!Q362=\"\",\"\",Data!Q362)","v":""},{"$f":"IF(Data!R362=\"\",\"\",Data!R362)","v":""},{"$f":"IF(Data!S362=\"\",\"\",Data!S362)","v":""},null,null,null,null,362]
[{"$f":"IF(Data!A363=\"\",\"\",Data!A363)","v":""},"",{"$f":"IF(Data!B363=\"\",\"\",Data!B363)","v":""},{"$f":"IF(Data!C363=\"\",\"\",Data!C363)","v":""},{"$f":"IF(Data!D363=\"\",\"\",Data!D363)","v":""},{"$f":"IF(Data!E363=\"\",\"\",Data!E363)","v":""},{"$f":"IF(Data!F363=\"\",\"\",Data!F363)","v":""},{"$f":"IF(Data!G363=\"\",\"\",Data!G363)","v":""},{"$f":"IF(Data!H363=\"\",\"\",Data!H363)","v":""},{"$f":"IF(Data!I363=\"\",\"\",Data!I363)","v":""},{"$f":"IF(Data!J363=\"\",\"\",Data!J363)","v":""},{"$f":"IF(Data!K363=\"\",\"\",Data!K363)","v":""},{"$f":"IF(Data!L363=\"\",\"\",Data!L363)","v":""},{"$f":"IF(Data!M363=\"\",\"\",Data!M363)","v":""},{"$f":"IF(Data!N363=\"\",\"\",Data!N363)","v":""},{"$f":"IF(Data!O363=\"\",\"\",Data!O363)","v":""},{"$f":"IF(Data!P363=\"\",\"\",Data!P363)","v":""},{"$f":"IF(Data!Q363=\"\",\"\",Data!Q363)","v":""},{"$f":"IF(Data!R363=\"\",\"\",Data!R363)","v":""},{"$f":"IF(Data!S363=\"\",\"\",Data!S363)","v":""},null,null,null,null,363]
[{"$f":"IF(Data!A364=\"\",\"\",Data!A364)","v":""},"",{"$f":"IF(Data!B364=\"\",\"\",Data!B364)","v":""},{"$f":"IF(Data!C364=\"\",\"\",Data!C364)","v":""},{"$f":"IF(Data!D364=\"\",\"\",Data!D364)","v":""},{"$f":"IF(Data!E364=\"\",\"\",Data!E364)","v":""},{"$f":"IF(Data!F364=\"\",\"\",Data!F364)","v":""},{"$f":"IF(Data!G364=\"\",\"\",Data!G364)","v":""},{"$f":"IF(Data!H364=\"\",\"\",Data!H364)","v":""},{"$f":"IF(Data!I364=\"\",\"\",Data!I364)","v":""},{"$f":"IF(Data!J364=\"\",\"\",Data!J364)","v":""},{"$f":"IF(Data!K364=\"\",\"\",Data!K364)","v":""},{"$f":"IF(Data!L364=\"\",\"\",Data!L364)","v":""},{"$f":"IF(Data!M364=\"\",\"\",Data!M364)","v":""},{"$f":"IF(Data!N364=\"\",\"\",Data!N364)","v":""},{"$f":"IF(Data!O364=\"\",\"\",Data!O364)","v":""},{"$f":"IF(Data!P364=\"\",\"\",Data!P364)","v":""},{"$f":"IF(Data!Q364=\"\",\"\",Data!Q364)","v":""},{"$f":"IF(Data!R364=\"\",\"\",Data!R364)","v":""},{"$f":"IF(Data!S364=\"\",\"\",Data!S364)","v":""},null,null,null,null,364]
[{"$f":"IF(Data!A365=\"\",\"\",Data!A365)","v":""},"",{"$f":"IF(Data!B365=\"\",\"\",Data!B365)","v":""},{"$f":"IF(Data!C365=\"\",\"\",Data!C365)","v":""},{"$f":"IF(Data!D365=\"\",\"\",Data!D365)","v":""},{"$f":"IF(Data!E365=\"\",\"\",Data!E365)","v":""},{"$f":"IF(Data!F365=\"\",\"\",Data!F365)","v":""},{"$f":"IF(Data!G365=\"\",\"\",Data!G365)","v":""},{"$f":"IF(Data!H365=\"\",\"\",Data!H365)","v":""},{"$f":"IF(Data!I365=\"\",\"\",Data!I365)","v":""},{"$f":"IF(Data!J365=\"\",\"\",Data!J365)","v":""},{"$f":"IF(Data!K365=\"\",\"\",Data!K365)","v":""},{"$f":"IF(Data!L365=\"\",\"\",Data!L365)","v":""},{"$f":"IF(Data!M365=\"\",\"\",Data!M365)","v":""},{"$f":"IF(Data!N365=\"\",\"\",Data!N365)","v":""},{"$f":"IF(Data!O365=\"\",\"\",Data!O365)","v":""},{"$f":"IF(Data!P365=\"\",\"\",Data!P365)","v":""},{"$f":"IF(Data!Q365=\"\",\"\",Data!Q365)","v":""},{"$f":"IF(Data!R365=\"\",\"\",Data!R365)","v":""},{"$f":"IF(Data!S365=\"\",\"\",Data!S365)","v":""},null,null,null,null,365]
[{"$f":"IF(Data!A366=\"\",\"\",Data!A366)","v":""},"",{"$f":"IF(Data!B366=\"\",\"\",Data!B366)","v":""},{"$f":"IF(Data!C366=\"\",\"\",Data!C366)","v":""},{"$f":"IF(Data!D366=\"\",\"\",Data!D366)","v":""},{"$f":"IF(Data!E366=\"\",\"\",Data!E366)","v":""},{"$f":"IF(Data!F366=\"\",\"\",Data!F366)","v":""},{"$f":"IF(Data!G366=\"\",\"\",Data!G366)","v":""},{"$f":"IF(Data!H366=\"\",\"\",Data!H366)","v":""},{"$f":"IF(Data!I366=\"\",\"\",Data!I366)","v":""},{"$f":"IF(Data!J366=\"\",\"\",Data!J366)","v":""},{"$f":"IF(Data!K366=\"\",\"\",Data!K366)","v":""},{"$f":"IF(Data!L366=\"\",\"\",Data!L366)","v":""},{"$f":"IF(Data!M366=\"\",\"\",Data!M366)","v":""},{"$f":"IF(Data!N366=\"\",\"\",Data!N366)","v":""},{"$f":"IF(Data!O366=\"\",\"\",Data!O366)","v":""},{"$f":"IF(Data!P366=\"\",\"\",Data!P366)","v":""},{"$f":"IF(Data!Q366=\"\",\"\",Data!Q366)","v":""},{"$f":"IF(Data!R366=\"\",\"\",Data!R366)","v":""},{"$f":"IF(Data!S366=\"\",\"\",Data!S366)","v":""},null,null,null,null,366]
[{"$f":"IF(Data!A367=\"\",\"\",Data!A367)","v":""},"",{"$f":"IF(Data!B367=\"\",\"\",Data!B367)","v":""},{"$f":"IF(Data!C367=\"\",\"\",Data!C367)","v":""},{"$f":"IF(Data!D367=\"\",\"\",Data!D367)","v":""},{"$f":"IF(Data!E367=\"\",\"\",Data!E367)","v":""},{"$f":"IF(Data!F367=\"\",\"\",Data!F367)","v":""},{"$f":"IF(Data!G367=\"\",\"\",Data!G367)","v":""},{"$f":"IF(Data!H367=\"\",\"\",Data!H367)","v":""},{"$f":"IF(Data!I367=\"\",\"\",Data!I367)","v":""},{"$f":"IF(Data!J367=\"\",\"\",Data!J367)","v":""},{"$f":"IF(Data!K367=\"\",\"\",Data!K367)","v":""},{"$f":"IF(Data!L367=\"\",\"\",Data!L367)","v":""},{"$f":"IF(Data!M367=\"\",\"\",Data!M367)","v":""},{"$f":"IF(Data!N367=\"\",\"\",Data!N367)","v":""},{"$f":"IF(Data!O367=\"\",\"\",Data!O367)","v":""},{"$f":"IF(Data!P367=\"\",\"\",Data!P367)","v":""},{"$f":"IF(Data!Q367=\"\",\"\",Data!Q367)","v":""},{"$f":"IF(Data!R367=\"\",\"\",Data!R367)","v":""},{"$f":"IF(Data!S367=\"\",\"\",Data!S367)","v":""},null,null,null,null,367]
[{"$f":"IF(Data!A368=\"\",\"\",Data!A368)","v":""},"",{"$f":"IF(Data!B368=\"\",\"\",Data!B368)","v":""},{"$f":"IF(Data!C368=\"\",\"\",Data!C368)","v":""},{"$f":"IF(Data!D368=\"\",\"\",Data!D368)","v":""},{"$f":"IF(Data!E368=\"\",\"\",Data!E368)","v":""},{"$f":"IF(Data!F368=\"\",\"\",Data!F368)","v":""},{"$f":"IF(Data!G368=\"\",\"\",Data!G368)","v":""},{"$f":"IF(Data!H368=\"\",\"\",Data!H368)","v":""},{"$f":"IF(Data!I368=\"\",\"\",Data!I368)","v":""},{"$f":"IF(Data!J368=\"\",\"\",Data!J368)","v":""},{"$f":"IF(Data!K368=\"\",\"\",Data!K368)","v":""},{"$f":"IF(Data!L368=\"\",\"\",Data!L368)","v":""},{"$f":"IF(Data!M368=\"\",\"\",Data!M368)","v":""},{"$f":"IF(Data!N368=\"\",\"\",Data!N368)","v":""},{"$f":"IF(Data!O368=\"\",\"\",Data!O368)","v":""},{"$f":"IF(Data!P368=\"\",\"\",Data!P368)","v":""},{"$f":"IF(Data!Q368=\"\",\"\",Data!Q368)","v":""},{"$f":"IF(Data!R368=\"\",\"\",Data!R368)","v":""},{"$f":"IF(Data!S368=\"\",\"\",Data!S368)","v":""},null,null,null,null,368]
[{"$f":"IF(Data!A369=\"\",\"\",Data!A369)","v":""},"",{"$f":"IF(Data!B369=\"\",\"\",Data!B369)","v":""},{"$f":"IF(Data!C369=\"\",\"\",Data!C369)","v":""},{"$f":"IF(Data!D369=\"\",\"\",Data!D369)","v":""},{"$f":"IF(Data!E369=\"\",\"\",Data!E369)","v":""},{"$f":"IF(Data!F369=\"\",\"\",Data!F369)","v":""},{"$f":"IF(Data!G369=\"\",\"\",Data!G369)","v":""},{"$f":"IF(Data!H369=\"\",\"\",Data!H369)","v":""},{"$f":"IF(Data!I369=\"\",\"\",Data!I369)","v":""},{"$f":"IF(Data!J369=\"\",\"\",Data!J369)","v":""},{"$f":"IF(Data!K369=\"\",\"\",Data!K369)","v":""},{"$f":"IF(Data!L369=\"\",\"\",Data!L369)","v":""},{"$f":"IF(Data!M369=\"\",\"\",Data!M369)","v":""},{"$f":"IF(Data!N369=\"\",\"\",Data!N369)","v":""},{"$f":"IF(Data!O369=\"\",\"\",Data!O369)","v":""},{"$f":"IF(Data!P369=\"\",\"\",Data!P369)","v":""},{"$f":"IF(Data!Q369=\"\",\"\",Data!Q369)","v":""},{"$f":"IF(Data!R369=\"\",\"\",Data!R369)","v":""},{"$f":"IF(Data!S369=\"\",\"\",Data!S369)","v":""},null,null,null,null,369]
[{"$f":"IF(Data!A370=\"\",\"\",Data!A370)","v":""},"",{"$f":"IF(Data!B370=\"\",\"\",Data!B370)","v":""},{"$f":"IF(Data!C370=\"\",\"\",Data!C370)","v":""},{"$f":"IF(Data!D370=\"\",\"\",Data!D370)","v":""},{"$f":"IF(Data!E370=\"\",\"\",Data!E370)","v":""},{"$f":"IF(Data!F370=\"\",\"\",Data!F370)","v":""},{"$f":"IF(Data!G370=\"\",\"\",Data!G370)","v":""},{"$f":"IF(Data!H370=\"\",\"\",Data!H370)","v":""},{"$f":"IF(Data!I370=\"\",\"\",Data!I370)","v":""},{"$f":"IF(Data!J370=\"\",\"\",Data!J370)","v":""},{"$f":"IF(Data!K370=\"\",\"\",Data!K370)","v":""},{"$f":"IF(Data!L370=\"\",\"\",Data!L370)","v":""},{"$f":"IF(Data!M370=\"\",\"\",Data!M370)","v":""},{"$f":"IF(Data!N370=\"\",\"\",Data!N370)","v":""},{"$f":"IF(Data!O370=\"\",\"\",Data!O370)","v":""},{"$f":"IF(Data!P370=\"\",\"\",Data!P370)","v":""},{"$f":"IF(Data!Q370=\"\",\"\",Data!Q370)","v":""},{"$f":"IF(Data!R370=\"\",\"\",Data!R370)","v":""},{"$f":"IF(Data!S370=\"\",\"\",Data!S370)","v":""},null,null,null,null,370]
[{"$f":"IF(Data!A371=\"\",\"\",Data!A371)","v":""},"",{"$f":"IF(Data!B371=\"\",\"\",Data!B371)","v":""},{"$f":"IF(Data!C371=\"\",\"\",Data!C371)","v":""},{"$f":"IF(Data!D371=\"\",\"\",Data!D371)","v":""},{"$f":"IF(Data!E371=\"\",\"\",Data!E371)","v":""},{"$f":"IF(Data!F371=\"\",\"\",Data!F371)","v":""},{"$f":"IF(Data!G371=\"\",\"\",Data!G371)","v":""},{"$f":"IF(Data!H371=\"\",\"\",Data!H371)","v":""},{"$f":"IF(Data!I371=\"\",\"\",Data!I371)","v":""},{"$f":"IF(Data!J371=\"\",\"\",Data!J371)","v":""},{"$f":"IF(Data!K371=\"\",\"\",Data!K371)","v":""},{"$f":"IF(Data!L371=\"\",\"\",Data!L371)","v":""},{"$f":"IF(Data!M371=\"\",\"\",Data!M371)","v":""},{"$f":"IF(Data!N371=\"\",\"\",Data!N371)","v":""},{"$f":"IF(Data!O371=\"\",\"\",Data!O371)","v":""},{"$f":"IF(Data!P371=\"\",\"\",Data!P371)","v":""},{"$f":"IF(Data!Q371=\"\",\"\",Data!Q371)","v":""},{"$f":"IF(Data!R371=\"\",\"\",Data!R371)","v":""},{"$f":"IF(Data!S371=\"\",\"\",Data!S371)","v":""},null,null,null,null,371]
[{"$f":"IF(Data!A372=\"\",\"\",Data!A372)","v":""},"",{"$f":"IF(Data!B372=\"\",\"\",Data!B372)","v":""},{"$f":"IF(Data!C372=\"\",\"\",Data!C372)","v":""},{"$f":"IF(Data!D372=\"\",\"\",Data!D372)","v":""},{"$f":"IF(Data!E372=\"\",\"\",Data!E372)","v":""},{"$f":"IF(Data!F372=\"\",\"\",Data!F372)","v":""},{"$f":"IF(Data!G372=\"\",\"\",Data!G372)","v":""},{"$f":"IF(Data!H372=\"\",\"\",Data!H372)","v":""},{"$f":"IF(Data!I372=\"\",\"\",Data!I372)","v":""},{"$f":"IF(Data!J372=\"\",\"\",Data!J372)","v":""},{"$f":"IF(Data!K372=\"\",\"\",Data!K372)","v":""},{"$f":"IF(Data!L372=\"\",\"\",Data!L372)","v":""},{"$f":"IF(Data!M372=\"\",\"\",Data!M372)","v":""},{"$f":"IF(Data!N372=\"\",\"\",Data!N372)","v":""},{"$f":"IF(Data!O372=\"\",\"\",Data!O372)","v":""},{"$f":"IF(Data!P372=\"\",\"\",Data!P372)","v":""},{"$f":"IF(Data!Q372=\"\",\"\",Data!Q372)","v":""},{"$f":"IF(Data!R372=\"\",\"\",Data!R372)","v":""},{"$f":"IF(Data!S372=\"\",\"\",Data!S372)","v":""},null,null,null,null,372]
[{"$f":"IF(Data!A373=\"\",\"\",Data!A373)","v":""},"",{"$f":"IF(Data!B373=\"\",\"\",Data!B373)","v":""},{"$f":"IF(Data!C373=\"\",\"\",Data!C373)","v":""},{"$f":"IF(Data!D373=\"\",\"\",Data!D373)","v":""},{"$f":"IF(Data!E373=\"\",\"\",Data!E373)","v":""},{"$f":"IF(Data!F373=\"\",\"\",Data!F373)","v":""},{"$f":"IF(Data!G373=\"\",\"\",Data!G373)","v":""},{"$f":"IF(Data!H373=\"\",\"\",Data!H373)","v":""},{"$f":"IF(Data!I373=\"\",\"\",Data!I373)","v":""},{"$f":"IF(Data!J373=\"\",\"\",Data!J373)","v":""},{"$f":"IF(Data!K373=\"\",\"\",Data!K373)","v":""},{"$f":"IF(Data!L373=\"\",\"\",Data!L373)","v":""},{"$f":"IF(Data!M373=\"\",\"\",Data!M373)","v":""},{"$f":"IF(Data!N373=\"\",\"\",Data!N373)","v":""},{"$f":"IF(Data!O373=\"\",\"\",Data!O373)","v":""},{"$f":"IF(Data!P373=\"\",\"\",Data!P373)","v":""},{"$f":"IF(Data!Q373=\"\",\"\",Data!Q373)","v":""},{"$f":"IF(Data!R373=\"\",\"\",Data!R373)","v":""},{"$f":"IF(Data!S373=\"\",\"\",Data!S373)","v":""},null,null,null,null,373]
[{"$f":"IF(Data!A374=\"\",\"\",Data!A374)","v":""},"",{"$f":"IF(Data!B374=\"\",\"\",Data!B374)","v":""},{"$f":"IF(Data!C374=\"\",\"\",Data!C374)","v":""},{"$f":"IF(Data!D374=\"\",\"\",Data!D374)","v":""},{"$f":"IF(Data!E374=\"\",\"\",Data!E374)","v":""},{"$f":"IF(Data!F374=\"\",\"\",Data!F374)","v":""},{"$f":"IF(Data!G374=\"\",\"\",Data!G374)","v":""},{"$f":"IF(Data!H374=\"\",\"\",Data!H374)","v":""},{"$f":"IF(Data!I374=\"\",\"\",Data!I374)","v":""},{"$f":"IF(Data!J374=\"\",\"\",Data!J374)","v":""},{"$f":"IF(Data!K374=\"\",\"\",Data!K374)","v":""},{"$f":"IF(Data!L374=\"\",\"\",Data!L374)","v":""},{"$f":"IF(Data!M374=\"\",\"\",Data!M374)","v":""},{"$f":"IF(Data!N374=\"\",\"\",Data!N374)","v":""},{"$f":"IF(Data!O374=\"\",\"\",Data!O374)","v":""},{"$f":"IF(Data!P374=\"\",\"\",Data!P374)","v":""},{"$f":"IF(Data!Q374=\"\",\"\",Data!Q374)","v":""},{"$f":"IF(Data!R374=\"\",\"\",Data!R374)","v":""},{"$f":"IF(Data!S374=\"\",\"\",Data!S374)","v":""},null,null,null,null,374]
[{"$f":"IF(Data!A375=\"\",\"\",Data!A375)","v":""},"",{"$f":"IF(Data!B375=\"\",\"\",Data!B375)","v":""},{"$f":"IF(Data!C375=\"\",\"\",Data!C375)","v":""},{"$f":"IF(Data!D375=\"\",\"\",Data!D375)","v":""},{"$f":"IF(Data!E375=\"\",\"\",Data!E375)","v":""},{"$f":"IF(Data!F375=\"\",\"\",Data!F375)","v":""},{"$f":"IF(Data!G375=\"\",\"\",Data!G375)","v":""},{"$f":"IF(Data!H375=\"\",\"\",Data!H375)","v":""},{"$f":"IF(Data!I375=\"\",\"\",Data!I375)","v":""},{"$f":"IF(Data!J375=\"\",\"\",Data!J375)","v":""},{"$f":"IF(Data!K375=\"\",\"\",Data!K375)","v":""},{"$f":"IF(Data!L375=\"\",\"\",Data!L375)","v":""},{"$f":"IF(Data!M375=\"\",\"\",Data!M375)","v":""},{"$f":"IF(Data!N375=\"\",\"\",Data!N375)","v":""},{"$f":"IF(Data!O375=\"\",\"\",Data!O375)","v":""},{"$f":"IF(Data!P375=\"\",\"\",Data!P375)","v":""},{"$f":"IF(Data!Q375=\"\",\"\",Data!Q375)","v":""},{"$f":"IF(Data!R375=\"\",\"\",Data!R375)","v":""},{"$f":"IF(Data!S375=\"\",\"\",Data!S375)","v":""},null,null,null,null,375]
[{"$f":"IF(Data!A376=\"\",\"\",Data!A376)","v":""},"",{"$f":"IF(Data!B376=\"\",\"\",Data!B376)","v":""},{"$f":"IF(Data!C376=\"\",\"\",Data!C376)","v":""},{"$f":"IF(Data!D376=\"\",\"\",Data!D376)","v":""},{"$f":"IF(Data!E376=\"\",\"\",Data!E376)","v":""},{"$f":"IF(Data!F376=\"\",\"\",Data!F376)","v":""},{"$f":"IF(Data!G376=\"\",\"\",Data!G376)","v":""},{"$f":"IF(Data!H376=\"\",\"\",Data!H376)","v":""},{"$f":"IF(Data!I376=\"\",\"\",Data!I376)","v":""},{"$f":"IF(Data!J376=\"\",\"\",Data!J376)","v":""},{"$f":"IF(Data!K376=\"\",\"\",Data!K376)","v":""},{"$f":"IF(Data!L376=\"\",\"\",Data!L376)","v":""},{"$f":"IF(Data!M376=\"\",\"\",Data!M376)","v":""},{"$f":"IF(Data!N376=\"\",\"\",Data!N376)","v":""},{"$f":"IF(Data!O376=\"\",\"\",Data!O376)","v":""},{"$f":"IF(Data!P376=\"\",\"\",Data!P376)","v":""},{"$f":"IF(Data!Q376=\"\",\"\",Data!Q376)","v":""},{"$f":"IF(Data!R376=\"\",\"\",Data!R376)","v":""},{"$f":"IF(Data!S376=\"\",\"\",Data!S376)","v":""},null,null,null,null,376]
[{"$f":"IF(Data!A377=\"\",\"\",Data!A377)","v":""},"",{"$f":"IF(Data!B377=\"\",\"\",Data!B377)","v":""},{"$f":"IF(Data!C377=\"\",\"\",Data!C377)","v":""},{"$f":"IF(Data!D377=\"\",\"\",Data!D377)","v":""},{"$f":"IF(Data!E377=\"\",\"\",Data!E377)","v":""},{"$f":"IF(Data!F377=\"\",\"\",Data!F377)","v":""},{"$f":"IF(Data!G377=\"\",\"\",Data!G377)","v":""},{"$f":"IF(Data!H377=\"\",\"\",Data!H377)","v":""},{"$f":"IF(Data!I377=\"\",\"\",Data!I377)","v":""},{"$f":"IF(Data!J377=\"\",\"\",Data!J377)","v":""},{"$f":"IF(Data!K377=\"\",\"\",Data!K377)","v":""},{"$f":"IF(Data!L377=\"\",\"\",Data!L377)","v":""},{"$f":"IF(Data!M377=\"\",\"\",Data!M377)","v":""},{"$f":"IF(Data!N377=\"\",\"\",Data!N377)","v":""},{"$f":"IF(Data!O377=\"\",\"\",Data!O377)","v":""},{"$f":"IF(Data!P377=\"\",\"\",Data!P377)","v":""},{"$f":"IF(Data!Q377=\"\",\"\",Data!Q377)","v":""},{"$f":"IF(Data!R377=\"\",\"\",Data!R377)","v":""},{"$f":"IF(Data!S377=\"\",\"\",Data!S377)","v":""},null,null,null,null,377]
[{"$f":"IF(Data!A378=\"\",\"\",Data!A378)","v":""},"",{"$f":"IF(Data!B378=\"\",\"\",Data!B378)","v":""},{"$f":"IF(Data!C378=\"\",\"\",Data!C378)","v":""},{"$f":"IF(Data!D378=\"\",\"\",Data!D378)","v":""},{"$f":"IF(Data!E378=\"\",\"\",Data!E378)","v":""},{"$f":"IF(Data!F378=\"\",\"\",Data!F378)","v":""},{"$f":"IF(Data!G378=\"\",\"\",Data!G378)","v":""},{"$f":"IF(Data!H378=\"\",\"\",Data!H378)","v":""},{"$f":"IF(Data!I378=\"\",\"\",Data!I378)","v":""},{"$f":"IF(Data!J378=\"\",\"\",Data!J378)","v":""},{"$f":"IF(Data!K378=\"\",\"\",Data!K378)","v":""},{"$f":"IF(Data!L378=\"\",\"\",Data!L378)","v":""},{"$f":"IF(Data!M378=\"\",\"\",Data!M378)","v":""},{"$f":"IF(Data!N378=\"\",\"\",Data!N378)","v":""},{"$f":"IF(Data!O378=\"\",\"\",Data!O378)","v":""},{"$f":"IF(Data!P378=\"\",\"\",Data!P378)","v":""},{"$f":"IF(Data!Q378=\"\",\"\",Data!Q378)","v":""},{"$f":"IF(Data!R378=\"\",\"\",Data!R378)","v":""},{"$f":"IF(Data!S378=\"\",\"\",Data!S378)","v":""},null,null,null,null,378]
[{"$f":"IF(Data!A379=\"\",\"\",Data!A379)","v":""},"",{"$f":"IF(Data!B379=\"\",\"\",Data!B379)","v":""},{"$f":"IF(Data!C379=\"\",\"\",Data!C379)","v":""},{"$f":"IF(Data!D379=\"\",\"\",Data!D379)","v":""},{"$f":"IF(Data!E379=\"\",\"\",Data!E379)","v":""},{"$f":"IF(Data!F379=\"\",\"\",Data!F379)","v":""},{"$f":"IF(Data!G379=\"\",\"\",Data!G379)","v":""},{"$f":"IF(Data!H379=\"\",\"\",Data!H379)","v":""},{"$f":"IF(Data!I379=\"\",\"\",Data!I379)","v":""},{"$f":"IF(Data!J379=\"\",\"\",Data!J379)","v":""},{"$f":"IF(Data!K379=\"\",\"\",Data!K379)","v":""},{"$f":"IF(Data!L379=\"\",\"\",Data!L379)","v":""},{"$f":"IF(Data!M379=\"\",\"\",Data!M379)","v":""},{"$f":"IF(Data!N379=\"\",\"\",Data!N379)","v":""},{"$f":"IF(Data!O379=\"\",\"\",Data!O379)","v":""},{"$f":"IF(Data!P379=\"\",\"\",Data!P379)","v":""},{"$f":"IF(Data!Q379=\"\",\"\",Data!Q379)","v":""},{"$f":"IF(Data!R379=\"\",\"\",Data!R379)","v":""},{"$f":"IF(Data!S379=\"\",\"\",Data!S379)","v":""},null,null,null,null,379]
[{"$f":"IF(Data!A380=\"\",\"\",Data!A380)","v":""},"",{"$f":"IF(Data!B380=\"\",\"\",Data!B380)","v":""},{"$f":"IF(Data!C380=\"\",\"\",Data!C380)","v":""},{"$f":"IF(Data!D380=\"\",\"\",Data!D380)","v":""},{"$f":"IF(Data!E380=\"\",\"\",Data!E380)","v":""},{"$f":"IF(Data!F380=\"\",\"\",Data!F380)","v":""},{"$f":"IF(Data!G380=\"\",\"\",Data!G380)","v":""},{"$f":"IF(Data!H380=\"\",\"\",Data!H380)","v":""},{"$f":"IF(Data!I380=\"\",\"\",Data!I380)","v":""},{"$f":"IF(Data!J380=\"\",\"\",Data!J380)","v":""},{"$f":"IF(Data!K380=\"\",\"\",Data!K380)","v":""},{"$f":"IF(Data!L380=\"\",\"\",Data!L380)","v":""},{"$f":"IF(Data!M380=\"\",\"\",Data!M380)","v":""},{"$f":"IF(Data!N380=\"\",\"\",Data!N380)","v":""},{"$f":"IF(Data!O380=\"\",\"\",Data!O380)","v":""},{"$f":"IF(Data!P380=\"\",\"\",Data!P380)","v":""},{"$f":"IF(Data!Q380=\"\",\"\",Data!Q380)","v":""},{"$f":"IF(Data!R380=\"\",\"\",Data!R380)","v":""},{"$f":"IF(Data!S380=\"\",\"\",Data!S380)","v":""},null,null,null,null,380]
[{"$f":"IF(Data!A381=\"\",\"\",Data!A381)","v":""},"",{"$f":"IF(Data!B381=\"\",\"\",Data!B381)","v":""},{"$f":"IF(Data!C381=\"\",\"\",Data!C381)","v":""},{"$f":"IF(Data!D381=\"\",\"\",Data!D381)","v":""},{"$f":"IF(Data!E381=\"\",\"\",Data!E381)","v":""},{"$f":"IF(Data!F381=\"\",\"\",Data!F381)","v":""},{"$f":"IF(Data!G381=\"\",\"\",Data!G381)","v":""},{"$f":"IF(Data!H381=\"\",\"\",Data!H381)","v":""},{"$f":"IF(Data!I381=\"\",\"\",Data!I381)","v":""},{"$f":"IF(Data!J381=\"\",\"\",Data!J381)","v":""},{"$f":"IF(Data!K381=\"\",\"\",Data!K381)","v":""},{"$f":"IF(Data!L381=\"\",\"\",Data!L381)","v":""},{"$f":"IF(Data!M381=\"\",\"\",Data!M381)","v":""},{"$f":"IF(Data!N381=\"\",\"\",Data!N381)","v":""},{"$f":"IF(Data!O381=\"\",\"\",Data!O381)","v":""},{"$f":"IF(Data!P381=\"\",\"\",Data!P381)","v":""},{"$f":"IF(Data!Q381=\"\",\"\",Data!Q381)","v":""},{"$f":"IF(Data!R381=\"\",\"\",Data!R381)","v":""},{"$f":"IF(Data!S381=\"\",\"\",Data!S381)","v":""},null,null,null,null,381]
[{"$f":"IF(Data!A382=\"\",\"\",Data!A382)","v":""},"",{"$f":"IF(Data!B382=\"\",\"\",Data!B382)","v":""},{"$f":"IF(Data!C382=\"\",\"\",Data!C382)","v":""},{"$f":"IF(Data!D382=\"\",\"\",Data!D382)","v":""},{"$f":"IF(Data!E382=\"\",\"\",Data!E382)","v":""},{"$f":"IF(Data!F382=\"\",\"\",Data!F382)","v":""},{"$f":"IF(Data!G382=\"\",\"\",Data!G382)","v":""},{"$f":"IF(Data!H382=\"\",\"\",Data!H382)","v":""},{"$f":"IF(Data!I382=\"\",\"\",Data!I382)","v":""},{"$f":"IF(Data!J382=\"\",\"\",Data!J382)","v":""},{"$f":"IF(Data!K382=\"\",\"\",Data!K382)","v":""},{"$f":"IF(Data!L382=\"\",\"\",Data!L382)","v":""},{"$f":"IF(Data!M382=\"\",\"\",Data!M382)","v":""},{"$f":"IF(Data!N382=\"\",\"\",Data!N382)","v":""},{"$f":"IF(Data!O382=\"\",\"\",Data!O382)","v":""},{"$f":"IF(Data!P382=\"\",\"\",Data!P382)","v":""},{"$f":"IF(Data!Q382=\"\",\"\",Data!Q382)","v":""},{"$f":"IF(Data!R382=\"\",\"\",Data!R382)","v":""},{"$f":"IF(Data!S382=\"\",\"\",Data!S382)","v":""},null,null,null,null,382]
[{"$f":"IF(Data!A383=\"\",\"\",Data!A383)","v":""},"",{"$f":"IF(Data!B383=\"\",\"\",Data!B383)","v":""},{"$f":"IF(Data!C383=\"\",\"\",Data!C383)","v":""},{"$f":"IF(Data!D383=\"\",\"\",Data!D383)","v":""},{"$f":"IF(Data!E383=\"\",\"\",Data!E383)","v":""},{"$f":"IF(Data!F383=\"\",\"\",Data!F383)","v":""},{"$f":"IF(Data!G383=\"\",\"\",Data!G383)","v":""},{"$f":"IF(Data!H383=\"\",\"\",Data!H383)","v":""},{"$f":"IF(Data!I383=\"\",\"\",Data!I383)","v":""},{"$f":"IF(Data!J383=\"\",\"\",Data!J383)","v":""},{"$f":"IF(Data!K383=\"\",\"\",Data!K383)","v":""},{"$f":"IF(Data!L383=\"\",\"\",Data!L383)","v":""},{"$f":"IF(Data!M383=\"\",\"\",Data!M383)","v":""},{"$f":"IF(Data!N383=\"\",\"\",Data!N383)","v":""},{"$f":"IF(Data!O383=\"\",\"\",Data!O383)","v":""},{"$f":"IF(Data!P383=\"\",\"\",Data!P383)","v":""},{"$f":"IF(Data!Q383=\"\",\"\",Data!Q383)","v":""},{"$f":"IF(Data!R383=\"\",\"\",Data!R383)","v":""},{"$f":"IF(Data!S383=\"\",\"\",Data!S383)","v":""},null,null,null,null,383]
[{"$f":"IF(Data!A384=\"\",\"\",Data!A384)","v":""},"",{"$f":"IF(Data!B384=\"\",\"\",Data!B384)","v":""},{"$f":"IF(Data!C384=\"\",\"\",Data!C384)","v":""},{"$f":"IF(Data!D384=\"\",\"\",Data!D384)","v":""},{"$f":"IF(Data!E384=\"\",\"\",Data!E384)","v":""},{"$f":"IF(Data!F384=\"\",\"\",Data!F384)","v":""},{"$f":"IF(Data!G384=\"\",\"\",Data!G384)","v":""},{"$f":"IF(Data!H384=\"\",\"\",Data!H384)","v":""},{"$f":"IF(Data!I384=\"\",\"\",Data!I384)","v":""},{"$f":"IF(Data!J384=\"\",\"\",Data!J384)","v":""},{"$f":"IF(Data!K384=\"\",\"\",Data!K384)","v":""},{"$f":"IF(Data!L384=\"\",\"\",Data!L384)","v":""},{"$f":"IF(Data!M384=\"\",\"\",Data!M384)","v":""},{"$f":"IF(Data!N384=\"\",\"\",Data!N384)","v":""},{"$f":"IF(Data!O384=\"\",\"\",Data!O384)","v":""},{"$f":"IF(Data!P384=\"\",\"\",Data!P384)","v":""},{"$f":"IF(Data!Q384=\"\",\"\",Data!Q384)","v":""},{"$f":"IF(Data!R384=\"\",\"\",Data!R384)","v":""},{"$f":"IF(Data!S384=\"\",\"\",Data!S384)","v":""},null,null,null,null,384]
[{"$f":"IF(Data!A385=\"\",\"\",Data!A385)","v":""},{"$f":"IF(A386=\"\",\"\",Y386)","v":""},{"$f":"IF(Data!B385=\"\",\"\",Data!B385)","v":""},{"$f":"IF(Data!C385=\"\",\"\",Data!C385)","v":""},{"$f":"IF(Data!D385=\"\",\"\",Data!D385)","v":""},{"$f":"IF(Data!E385=\"\",\"\",Data!E385)","v":""},{"$f":"IF(Data!F385=\"\",\"\",Data!F385)","v":""},{"$f":"IF(Data!G385=\"\",\"\",Data!G385)","v":""},{"$f":"IF(Data!H385=\"\",\"\",Data!H385)","v":""},{"$f":"IF(Data!I385=\"\",\"\",Data!I385)","v":""},{"$f":"IF(Data!J385=\"\",\"\",Data!J385)","v":""},{"$f":"IF(Data!K385=\"\",\"\",Data!K385)","v":""},{"$f":"IF(Data!L385=\"\",\"\",Data!L385)","v":""},{"$f":"IF(Data!M385=\"\",\"\",Data!M385)","v":""},{"$f":"IF(Data!N385=\"\",\"\",Data!N385)","v":""},{"$f":"IF(Data!O385=\"\",\"\",Data!O385)","v":""},{"$f":"IF(Data!P385=\"\",\"\",Data!P385)","v":""},{"$f":"IF(Data!Q385=\"\",\"\",Data!Q385)","v":""},{"$f":"IF(Data!R385=\"\",\"\",Data!R385)","v":""},{"$f":"IF(Data!S385=\"\",\"\",Data!S385)","v":""},null,null,null,null,385]
[{"$f":"IF(Data!A386=\"\",\"\",Data!A386)","v":""},"",{"$f":"IF(Data!B386=\"\",\"\",Data!B386)","v":""},{"$f":"IF(Data!C386=\"\",\"\",Data!C386)","v":""},{"$f":"IF(Data!D386=\"\",\"\",Data!D386)","v":""},{"$f":"IF(Data!E386=\"\",\"\",Data!E386)","v":""},{"$f":"IF(Data!F386=\"\",\"\",Data!F386)","v":""},{"$f":"IF(Data!G386=\"\",\"\",Data!G386)","v":""},{"$f":"IF(Data!H386=\"\",\"\",Data!H386)","v":""},{"$f":"IF(Data!I386=\"\",\"\",Data!I386)","v":""},{"$f":"IF(Data!J386=\"\",\"\",Data!J386)","v":""},{"$f":"IF(Data!K386=\"\",\"\",Data!K386)","v":""},{"$f":"IF(Data!L386=\"\",\"\",Data!L386)","v":""},{"$f":"IF(Data!M386=\"\",\"\",Data!M386)","v":""},{"$f":"IF(Data!N386=\"\",\"\",Data!N386)","v":""},{"$f":"IF(Data!O386=\"\",\"\",Data!O386)","v":""},{"$f":"IF(Data!P386=\"\",\"\",Data!P386)","v":""},{"$f":"IF(Data!Q386=\"\",\"\",Data!Q386)","v":""},{"$f":"IF(Data!R386=\"\",\"\",Data!R386)","v":""},{"$f":"IF(Data!S386=\"\",\"\",Data!S386)","v":""},null,null,null,null,386]
[{"$f":"IF(Data!A387=\"\",\"\",Data!A387)","v":""},"",{"$f":"IF(Data!B387=\"\",\"\",Data!B387)","v":""},{"$f":"IF(Data!C387=\"\",\"\",Data!C387)","v":""},{"$f":"IF(Data!D387=\"\",\"\",Data!D387)","v":""},{"$f":"IF(Data!E387=\"\",\"\",Data!E387)","v":""},{"$f":"IF(Data!F387=\"\",\"\",Data!F387)","v":""},{"$f":"IF(Data!G387=\"\",\"\",Data!G387)","v":""},{"$f":"IF(Data!H387=\"\",\"\",Data!H387)","v":""},{"$f":"IF(Data!I387=\"\",\"\",Data!I387)","v":""},{"$f":"IF(Data!J387=\"\",\"\",Data!J387)","v":""},{"$f":"IF(Data!K387=\"\",\"\",Data!K387)","v":""},{"$f":"IF(Data!L387=\"\",\"\",Data!L387)","v":""},{"$f":"IF(Data!M387=\"\",\"\",Data!M387)","v":""},{"$f":"IF(Data!N387=\"\",\"\",Data!N387)","v":""},{"$f":"IF(Data!O387=\"\",\"\",Data!O387)","v":""},{"$f":"IF(Data!P387=\"\",\"\",Data!P387)","v":""},{"$f":"IF(Data!Q387=\"\",\"\",Data!Q387)","v":""},{"$f":"IF(Data!R387=\"\",\"\",Data!R387)","v":""},{"$f":"IF(Data!S387=\"\",\"\",Data!S387)","v":""},null,null,null,null,387]
[{"$f":"IF(Data!A388=\"\",\"\",Data!A388)","v":""},"",{"$f":"IF(Data!B388=\"\",\"\",Data!B388)","v":""},{"$f":"IF(Data!C388=\"\",\"\",Data!C388)","v":""},{"$f":"IF(Data!D388=\"\",\"\",Data!D388)","v":""},{"$f":"IF(Data!E388=\"\",\"\",Data!E388)","v":""},{"$f":"IF(Data!F388=\"\",\"\",Data!F388)","v":""},{"$f":"IF(Data!G388=\"\",\"\",Data!G388)","v":""},{"$f":"IF(Data!H388=\"\",\"\",Data!H388)","v":""},{"$f":"IF(Data!I388=\"\",\"\",Data!I388)","v":""},{"$f":"IF(Data!J388=\"\",\"\",Data!J388)","v":""},{"$f":"IF(Data!K388=\"\",\"\",Data!K388)","v":""},{"$f":"IF(Data!L388=\"\",\"\",Data!L388)","v":""},{"$f":"IF(Data!M388=\"\",\"\",Data!M388)","v":""},{"$f":"IF(Data!N388=\"\",\"\",Data!N388)","v":""},{"$f":"IF(Data!O388=\"\",\"\",Data!O388)","v":""},{"$f":"IF(Data!P388=\"\",\"\",Data!P388)","v":""},{"$f":"IF(Data!Q388=\"\",\"\",Data!Q388)","v":""},{"$f":"IF(Data!R388=\"\",\"\",Data!R388)","v":""},{"$f":"IF(Data!S388=\"\",\"\",Data!S388)","v":""},null,null,null,null,388]
[{"$f":"IF(Data!A389=\"\",\"\",Data!A389)","v":""},"",{"$f":"IF(Data!B389=\"\",\"\",Data!B389)","v":""},{"$f":"IF(Data!C389=\"\",\"\",Data!C389)","v":""},{"$f":"IF(Data!D389=\"\",\"\",Data!D389)","v":""},{"$f":"IF(Data!E389=\"\",\"\",Data!E389)","v":""},{"$f":"IF(Data!F389=\"\",\"\",Data!F389)","v":""},{"$f":"IF(Data!G389=\"\",\"\",Data!G389)","v":""},{"$f":"IF(Data!H389=\"\",\"\",Data!H389)","v":""},{"$f":"IF(Data!I389=\"\",\"\",Data!I389)","v":""},{"$f":"IF(Data!J389=\"\",\"\",Data!J389)","v":""},{"$f":"IF(Data!K389=\"\",\"\",Data!K389)","v":""},{"$f":"IF(Data!L389=\"\",\"\",Data!L389)","v":""},{"$f":"IF(Data!M389=\"\",\"\",Data!M389)","v":""},{"$f":"IF(Data!N389=\"\",\"\",Data!N389)","v":""},{"$f":"IF(Data!O389=\"\",\"\",Data!O389)","v":""},{"$f":"IF(Data!P389=\"\",\"\",Data!P389)","v":""},{"$f":"IF(Data!Q389=\"\",\"\",Data!Q389)","v":""},{"$f":"IF(Data!R389=\"\",\"\",Data!R389)","v":""},{"$f":"IF(Data!S389=\"\",\"\",Data!S389)","v":""},null,null,null,null,389]
[{"$f":"IF(Data!A390=\"\",\"\",Data!A390)","v":""},"",{"$f":"IF(Data!B390=\"\",\"\",Data!B390)","v":""},{"$f":"IF(Data!C390=\"\",\"\",Data!C390)","v":""},{"$f":"IF(Data!D390=\"\",\"\",Data!D390)","v":""},{"$f":"IF(Data!E390=\"\",\"\",Data!E390)","v":""},{"$f":"IF(Data!F390=\"\",\"\",Data!F390)","v":""},{"$f":"IF(Data!G390=\"\",\"\",Data!G390)","v":""},{"$f":"IF(Data!H390=\"\",\"\",Data!H390)","v":""},{"$f":"IF(Data!I390=\"\",\"\",Data!I390)","v":""},{"$f":"IF(Data!J390=\"\",\"\",Data!J390)","v":""},{"$f":"IF(Data!K390=\"\",\"\",Data!K390)","v":""},{"$f":"IF(Data!L390=\"\",\"\",Data!L390)","v":""},{"$f":"IF(Data!M390=\"\",\"\",Data!M390)","v":""},{"$f":"IF(Data!N390=\"\",\"\",Data!N390)","v":""},{"$f":"IF(Data!O390=\"\",\"\",Data!O390)","v":""},{"$f":"IF(Data!P390=\"\",\"\",Data!P390)","v":""},{"$f":"IF(Data!Q390=\"\",\"\",Data!Q390)","v":""},{"$f":"IF(Data!R390=\"\",\"\",Data!R390)","v":""},{"$f":"IF(Data!S390=\"\",\"\",Data!S390)","v":""},null,null,null,null,390]
[{"$f":"IF(Data!A391=\"\",\"\",Data!A391)","v":""},"",{"$f":"IF(Data!B391=\"\",\"\",Data!B391)","v":""},{"$f":"IF(Data!C391=\"\",\"\",Data!C391)","v":""},{"$f":"IF(Data!D391=\"\",\"\",Data!D391)","v":""},{"$f":"IF(Data!E391=\"\",\"\",Data!E391)","v":""},{"$f":"IF(Data!F391=\"\",\"\",Data!F391)","v":""},{"$f":"IF(Data!G391=\"\",\"\",Data!G391)","v":""},{"$f":"IF(Data!H391=\"\",\"\",Data!H391)","v":""},{"$f":"IF(Data!I391=\"\",\"\",Data!I391)","v":""},{"$f":"IF(Data!J391=\"\",\"\",Data!J391)","v":""},{"$f":"IF(Data!K391=\"\",\"\",Data!K391)","v":""},{"$f":"IF(Data!L391=\"\",\"\",Data!L391)","v":""},{"$f":"IF(Data!M391=\"\",\"\",Data!M391)","v":""},{"$f":"IF(Data!N391=\"\",\"\",Data!N391)","v":""},{"$f":"IF(Data!O391=\"\",\"\",Data!O391)","v":""},{"$f":"IF(Data!P391=\"\",\"\",Data!P391)","v":""},{"$f":"IF(Data!Q391=\"\",\"\",Data!Q391)","v":""},{"$f":"IF(Data!R391=\"\",\"\",Data!R391)","v":""},{"$f":"IF(Data!S391=\"\",\"\",Data!S391)","v":""},null,null,null,null,391]
[{"$f":"IF(Data!A392=\"\",\"\",Data!A392)","v":""},"",{"$f":"IF(Data!B392=\"\",\"\",Data!B392)","v":""},{"$f":"IF(Data!C392=\"\",\"\",Data!C392)","v":""},{"$f":"IF(Data!D392=\"\",\"\",Data!D392)","v":""},{"$f":"IF(Data!E392=\"\",\"\",Data!E392)","v":""},{"$f":"IF(Data!F392=\"\",\"\",Data!F392)","v":""},{"$f":"IF(Data!G392=\"\",\"\",Data!G392)","v":""},{"$f":"IF(Data!H392=\"\",\"\",Data!H392)","v":""},{"$f":"IF(Data!I392=\"\",\"\",Data!I392)","v":""},{"$f":"IF(Data!J392=\"\",\"\",Data!J392)","v":""},{"$f":"IF(Data!K392=\"\",\"\",Data!K392)","v":""},{"$f":"IF(Data!L392=\"\",\"\",Data!L392)","v":""},{"$f":"IF(Data!M392=\"\",\"\",Data!M392)","v":""},{"$f":"IF(Data!N392=\"\",\"\",Data!N392)","v":""},{"$f":"IF(Data!O392=\"\",\"\",Data!O392)","v":""},{"$f":"IF(Data!P392=\"\",\"\",Data!P392)","v":""},{"$f":"IF(Data!Q392=\"\",\"\",Data!Q392)","v":""},{"$f":"IF(Data!R392=\"\",\"\",Data!R392)","v":""},{"$f":"IF(Data!S392=\"\",\"\",Data!S392)","v":""},null,null,null,null,392]
[{"$f":"IF(Data!A393=\"\",\"\",Data!A393)","v":""},"",{"$f":"IF(Data!B393=\"\",\"\",Data!B393)","v":""},{"$f":"IF(Data!C393=\"\",\"\",Data!C393)","v":""},{"$f":"IF(Data!D393=\"\",\"\",Data!D393)","v":""},{"$f":"IF(Data!E393=\"\",\"\",Data!E393)","v":""},{"$f":"IF(Data!F393=\"\",\"\",Data!F393)","v":""},{"$f":"IF(Data!G393=\"\",\"\",Data!G393)","v":""},{"$f":"IF(Data!H393=\"\",\"\",Data!H393)","v":""},{"$f":"IF(Data!I393=\"\",\"\",Data!I393)","v":""},{"$f":"IF(Data!J393=\"\",\"\",Data!J393)","v":""},{"$f":"IF(Data!K393=\"\",\"\",Data!K393)","v":""},{"$f":"IF(Data!L393=\"\",\"\",Data!L393)","v":""},{"$f":"IF(Data!M393=\"\",\"\",Data!M393)","v":""},{"$f":"IF(Data!N393=\"\",\"\",Data!N393)","v":""},{"$f":"IF(Data!O393=\"\",\"\",Data!O393)","v":""},{"$f":"IF(Data!P393=\"\",\"\",Data!P393)","v":""},{"$f":"IF(Data!Q393=\"\",\"\",Data!Q393)","v":""},{"$f":"IF(Data!R393=\"\",\"\",Data!R393)","v":""},{"$f":"IF(Data!S393=\"\",\"\",Data!S393)","v":""},null,null,null,null,393]
[{"$f":"IF(Data!A394=\"\",\"\",Data!A394)","v":""},"",{"$f":"IF(Data!B394=\"\",\"\",Data!B394)","v":""},{"$f":"IF(Data!C394=\"\",\"\",Data!C394)","v":""},{"$f":"IF(Data!D394=\"\",\"\",Data!D394)","v":""},{"$f":"IF(Data!E394=\"\",\"\",Data!E394)","v":""},{"$f":"IF(Data!F394=\"\",\"\",Data!F394)","v":""},{"$f":"IF(Data!G394=\"\",\"\",Data!G394)","v":""},{"$f":"IF(Data!H394=\"\",\"\",Data!H394)","v":""},{"$f":"IF(Data!I394=\"\",\"\",Data!I394)","v":""},{"$f":"IF(Data!J394=\"\",\"\",Data!J394)","v":""},{"$f":"IF(Data!K394=\"\",\"\",Data!K394)","v":""},{"$f":"IF(Data!L394=\"\",\"\",Data!L394)","v":""},{"$f":"IF(Data!M394=\"\",\"\",Data!M394)","v":""},{"$f":"IF(Data!N394=\"\",\"\",Data!N394)","v":""},{"$f":"IF(Data!O394=\"\",\"\",Data!O394)","v":""},{"$f":"IF(Data!P394=\"\",\"\",Data!P394)","v":""},{"$f":"IF(Data!Q394=\"\",\"\",Data!Q394)","v":""},{"$f":"IF(Data!R394=\"\",\"\",Data!R394)","v":""},{"$f":"IF(Data!S394=\"\",\"\",Data!S394)","v":""},null,null,null,null,394]
[{"$f":"IF(Data!A395=\"\",\"\",Data!A395)","v":""},"",{"$f":"IF(Data!B395=\"\",\"\",Data!B395)","v":""},{"$f":"IF(Data!C395=\"\",\"\",Data!C395)","v":""},{"$f":"IF(Data!D395=\"\",\"\",Data!D395)","v":""},{"$f":"IF(Data!E395=\"\",\"\",Data!E395)","v":""},{"$f":"IF(Data!F395=\"\",\"\",Data!F395)","v":""},{"$f":"IF(Data!G395=\"\",\"\",Data!G395)","v":""},{"$f":"IF(Data!H395=\"\",\"\",Data!H395)","v":""},{"$f":"IF(Data!I395=\"\",\"\",Data!I395)","v":""},{"$f":"IF(Data!J395=\"\",\"\",Data!J395)","v":""},{"$f":"IF(Data!K395=\"\",\"\",Data!K395)","v":""},{"$f":"IF(Data!L395=\"\",\"\",Data!L395)","v":""},{"$f":"IF(Data!M395=\"\",\"\",Data!M395)","v":""},{"$f":"IF(Data!N395=\"\",\"\",Data!N395)","v":""},{"$f":"IF(Data!O395=\"\",\"\",Data!O395)","v":""},{"$f":"IF(Data!P395=\"\",\"\",Data!P395)","v":""},{"$f":"IF(Data!Q395=\"\",\"\",Data!Q395)","v":""},{"$f":"IF(Data!R395=\"\",\"\",Data!R395)","v":""},{"$f":"IF(Data!S395=\"\",\"\",Data!S395)","v":""},null,null,null,null,395]
[{"$f":"IF(Data!A396=\"\",\"\",Data!A396)","v":""},"",{"$f":"IF(Data!B396=\"\",\"\",Data!B396)","v":""},{"$f":"IF(Data!C396=\"\",\"\",Data!C396)","v":""},{"$f":"IF(Data!D396=\"\",\"\",Data!D396)","v":""},{"$f":"IF(Data!E396=\"\",\"\",Data!E396)","v":""},{"$f":"IF(Data!F396=\"\",\"\",Data!F396)","v":""},{"$f":"IF(Data!G396=\"\",\"\",Data!G396)","v":""},{"$f":"IF(Data!H396=\"\",\"\",Data!H396)","v":""},{"$f":"IF(Data!I396=\"\",\"\",Data!I396)","v":""},{"$f":"IF(Data!J396=\"\",\"\",Data!J396)","v":""},{"$f":"IF(Data!K396=\"\",\"\",Data!K396)","v":""},{"$f":"IF(Data!L396=\"\",\"\",Data!L396)","v":""},{"$f":"IF(Data!M396=\"\",\"\",Data!M396)","v":""},{"$f":"IF(Data!N396=\"\",\"\",Data!N396)","v":""},{"$f":"IF(Data!O396=\"\",\"\",Data!O396)","v":""},{"$f":"IF(Data!P396=\"\",\"\",Data!P396)","v":""},{"$f":"IF(Data!Q396=\"\",\"\",Data!Q396)","v":""},{"$f":"IF(Data!R396=\"\",\"\",Data!R396)","v":""},{"$f":"IF(Data!S396=\"\",\"\",Data!S396)","v":""},null,null,null,null,396]
[{"$f":"IF(Data!A397=\"\",\"\",Data!A397)","v":""},"",{"$f":"IF(Data!B397=\"\",\"\",Data!B397)","v":""},{"$f":"IF(Data!C397=\"\",\"\",Data!C397)","v":""},{"$f":"IF(Data!D397=\"\",\"\",Data!D397)","v":""},{"$f":"IF(Data!E397=\"\",\"\",Data!E397)","v":""},{"$f":"IF(Data!F397=\"\",\"\",Data!F397)","v":""},{"$f":"IF(Data!G397=\"\",\"\",Data!G397)","v":""},{"$f":"IF(Data!H397=\"\",\"\",Data!H397)","v":""},{"$f":"IF(Data!I397=\"\",\"\",Data!I397)","v":""},{"$f":"IF(Data!J397=\"\",\"\",Data!J397)","v":""},{"$f":"IF(Data!K397=\"\",\"\",Data!K397)","v":""},{"$f":"IF(Data!L397=\"\",\"\",Data!L397)","v":""},{"$f":"IF(Data!M397=\"\",\"\",Data!M397)","v":""},{"$f":"IF(Data!N397=\"\",\"\",Data!N397)","v":""},{"$f":"IF(Data!O397=\"\",\"\",Data!O397)","v":""},{"$f":"IF(Data!P397=\"\",\"\",Data!P397)","v":""},{"$f":"IF(Data!Q397=\"\",\"\",Data!Q397)","v":""},{"$f":"IF(Data!R397=\"\",\"\",Data!R397)","v":""},{"$f":"IF(Data!S397=\"\",\"\",Data!S397)","v":""},null,null,null,null,397]
[{"$f":"IF(Data!A398=\"\",\"\",Data!A398)","v":""},"",{"$f":"IF(Data!B398=\"\",\"\",Data!B398)","v":""},{"$f":"IF(Data!C398=\"\",\"\",Data!C398)","v":""},{"$f":"IF(Data!D398=\"\",\"\",Data!D398)","v":""},{"$f":"IF(Data!E398=\"\",\"\",Data!E398)","v":""},{"$f":"IF(Data!F398=\"\",\"\",Data!F398)","v":""},{"$f":"IF(Data!G398=\"\",\"\",Data!G398)","v":""},{"$f":"IF(Data!H398=\"\",\"\",Data!H398)","v":""},{"$f":"IF(Data!I398=\"\",\"\",Data!I398)","v":""},{"$f":"IF(Data!J398=\"\",\"\",Data!J398)","v":""},{"$f":"IF(Data!K398=\"\",\"\",Data!K398)","v":""},{"$f":"IF(Data!L398=\"\",\"\",Data!L398)","v":""},{"$f":"IF(Data!M398=\"\",\"\",Data!M398)","v":""},{"$f":"IF(Data!N398=\"\",\"\",Data!N398)","v":""},{"$f":"IF(Data!O398=\"\",\"\",Data!O398)","v":""},{"$f":"IF(Data!P398=\"\",\"\",Data!P398)","v":""},{"$f":"IF(Data!Q398=\"\",\"\",Data!Q398)","v":""},{"$f":"IF(Data!R398=\"\",\"\",Data!R398)","v":""},{"$f":"IF(Data!S398=\"\",\"\",Data!S398)","v":""},null,null,null,null,398]
[{"$f":"IF(Data!A399=\"\",\"\",Data!A399)","v":""},"",{"$f":"IF(Data!B399=\"\",\"\",Data!B399)","v":""},{"$f":"IF(Data!C399=\"\",\"\",Data!C399)","v":""},{"$f":"IF(Data!D399=\"\",\"\",Data!D399)","v":""},{"$f":"IF(Data!E399=\"\",\"\",Data!E399)","v":""},{"$f":"IF(Data!F399=\"\",\"\",Data!F399)","v":""},{"$f":"IF(Data!G399=\"\",\"\",Data!G399)","v":""},{"$f":"IF(Data!H399=\"\",\"\",Data!H399)","v":""},{"$f":"IF(Data!I399=\"\",\"\",Data!I399)","v":""},{"$f":"IF(Data!J399=\"\",\"\",Data!J399)","v":""},{"$f":"IF(Data!K399=\"\",\"\",Data!K399)","v":""},{"$f":"IF(Data!L399=\"\",\"\",Data!L399)","v":""},{"$f":"IF(Data!M399=\"\",\"\",Data!M399)","v":""},{"$f":"IF(Data!N399=\"\",\"\",Data!N399)","v":""},{"$f":"IF(Data!O399=\"\",\"\",Data!O399)","v":""},{"$f":"IF(Data!P399=\"\",\"\",Data!P399)","v":""},{"$f":"IF(Data!Q399=\"\",\"\",Data!Q399)","v":""},{"$f":"IF(Data!R399=\"\",\"\",Data!R399)","v":""},{"$f":"IF(Data!S399=\"\",\"\",Data!S399)","v":""},null,null,null,null,399]
[{"$f":"IF(Data!A400=\"\",\"\",Data!A400)","v":""},"",{"$f":"IF(Data!B400=\"\",\"\",Data!B400)","v":""},{"$f":"IF(Data!C400=\"\",\"\",Data!C400)","v":""},{"$f":"IF(Data!D400=\"\",\"\",Data!D400)","v":""},{"$f":"IF(Data!E400=\"\",\"\",Data!E400)","v":""},{"$f":"IF(Data!F400=\"\",\"\",Data!F400)","v":""},{"$f":"IF(Data!G400=\"\",\"\",Data!G400)","v":""},{"$f":"IF(Data!H400=\"\",\"\",Data!H400)","v":""},{"$f":"IF(Data!I400=\"\",\"\",Data!I400)","v":""},{"$f":"IF(Data!J400=\"\",\"\",Data!J400)","v":""},{"$f":"IF(Data!K400=\"\",\"\",Data!K400)","v":""},{"$f":"IF(Data!L400=\"\",\"\",Data!L400)","v":""},{"$f":"IF(Data!M400=\"\",\"\",Data!M400)","v":""},{"$f":"IF(Data!N400=\"\",\"\",Data!N400)","v":""},{"$f":"IF(Data!O400=\"\",\"\",Data!O400)","v":""},{"$f":"IF(Data!P400=\"\",\"\",Data!P400)","v":""},{"$f":"IF(Data!Q400=\"\",\"\",Data!Q400)","v":""},{"$f":"IF(Data!R400=\"\",\"\",Data!R400)","v":""},{"$f":"IF(Data!S400=\"\",\"\",Data!S400)","v":""},null,null,null,null,400]
[{"$f":"IF(Data!A401=\"\",\"\",Data!A401)","v":""},"",{"$f":"IF(Data!B401=\"\",\"\",Data!B401)","v":""},{"$f":"IF(Data!C401=\"\",\"\",Data!C401)","v":""},{"$f":"IF(Data!D401=\"\",\"\",Data!D401)","v":""},{"$f":"IF(Data!E401=\"\",\"\",Data!E401)","v":""},{"$f":"IF(Data!F401=\"\",\"\",Data!F401)","v":""},{"$f":"IF(Data!G401=\"\",\"\",Data!G401)","v":""},{"$f":"IF(Data!H401=\"\",\"\",Data!H401)","v":""},{"$f":"IF(Data!I401=\"\",\"\",Data!I401)","v":""},{"$f":"IF(Data!J401=\"\",\"\",Data!J401)","v":""},{"$f":"IF(Data!K401=\"\",\"\",Data!K401)","v":""},{"$f":"IF(Data!L401=\"\",\"\",Data!L401)","v":""},{"$f":"IF(Data!M401=\"\",\"\",Data!M401)","v":""},{"$f":"IF(Data!N401=\"\",\"\",Data!N401)","v":""},{"$f":"IF(Data!O401=\"\",\"\",Data!O401)","v":""},{"$f":"IF(Data!P401=\"\",\"\",Data!P401)","v":""},{"$f":"IF(Data!Q401=\"\",\"\",Data!Q401)","v":""},{"$f":"IF(Data!R401=\"\",\"\",Data!R401)","v":""},{"$f":"IF(Data!S401=\"\",\"\",Data!S401)","v":""},null,null,null,null,401]
[{"$f":"IF(Data!A402=\"\",\"\",Data!A402)","v":""},"",{"$f":"IF(Data!B402=\"\",\"\",Data!B402)","v":""},{"$f":"IF(Data!C402=\"\",\"\",Data!C402)","v":""},{"$f":"IF(Data!D402=\"\",\"\",Data!D402)","v":""},{"$f":"IF(Data!E402=\"\",\"\",Data!E402)","v":""},{"$f":"IF(Data!F402=\"\",\"\",Data!F402)","v":""},{"$f":"IF(Data!G402=\"\",\"\",Data!G402)","v":""},{"$f":"IF(Data!H402=\"\",\"\",Data!H402)","v":""},{"$f":"IF(Data!I402=\"\",\"\",Data!I402)","v":""},{"$f":"IF(Data!J402=\"\",\"\",Data!J402)","v":""},{"$f":"IF(Data!K402=\"\",\"\",Data!K402)","v":""},{"$f":"IF(Data!L402=\"\",\"\",Data!L402)","v":""},{"$f":"IF(Data!M402=\"\",\"\",Data!M402)","v":""},{"$f":"IF(Data!N402=\"\",\"\",Data!N402)","v":""},{"$f":"IF(Data!O402=\"\",\"\",Data!O402)","v":""},{"$f":"IF(Data!P402=\"\",\"\",Data!P402)","v":""},{"$f":"IF(Data!Q402=\"\",\"\",Data!Q402)","v":""},{"$f":"IF(Data!R402=\"\",\"\",Data!R402)","v":""},{"$f":"IF(Data!S402=\"\",\"\",Data!S402)","v":""},null,null,null,null,402]
[{"$f":"IF(Data!A403=\"\",\"\",Data!A403)","v":""},"",{"$f":"IF(Data!B403=\"\",\"\",Data!B403)","v":""},{"$f":"IF(Data!C403=\"\",\"\",Data!C403)","v":""},{"$f":"IF(Data!D403=\"\",\"\",Data!D403)","v":""},{"$f":"IF(Data!E403=\"\",\"\",Data!E403)","v":""},{"$f":"IF(Data!F403=\"\",\"\",Data!F403)","v":""},{"$f":"IF(Data!G403=\"\",\"\",Data!G403)","v":""},{"$f":"IF(Data!H403=\"\",\"\",Data!H403)","v":""},{"$f":"IF(Data!I403=\"\",\"\",Data!I403)","v":""},{"$f":"IF(Data!J403=\"\",\"\",Data!J403)","v":""},{"$f":"IF(Data!K403=\"\",\"\",Data!K403)","v":""},{"$f":"IF(Data!L403=\"\",\"\",Data!L403)","v":""},{"$f":"IF(Data!M403=\"\",\"\",Data!M403)","v":""},{"$f":"IF(Data!N403=\"\",\"\",Data!N403)","v":""},{"$f":"IF(Data!O403=\"\",\"\",Data!O403)","v":""},{"$f":"IF(Data!P403=\"\",\"\",Data!P403)","v":""},{"$f":"IF(Data!Q403=\"\",\"\",Data!Q403)","v":""},{"$f":"IF(Data!R403=\"\",\"\",Data!R403)","v":""},{"$f":"IF(Data!S403=\"\",\"\",Data!S403)","v":""},null,null,null,null,403]
[{"$f":"IF(Data!A404=\"\",\"\",Data!A404)","v":""},"",{"$f":"IF(Data!B404=\"\",\"\",Data!B404)","v":""},{"$f":"IF(Data!C404=\"\",\"\",Data!C404)","v":""},{"$f":"IF(Data!D404=\"\",\"\",Data!D404)","v":""},{"$f":"IF(Data!E404=\"\",\"\",Data!E404)","v":""},{"$f":"IF(Data!F404=\"\",\"\",Data!F404)","v":""},{"$f":"IF(Data!G404=\"\",\"\",Data!G404)","v":""},{"$f":"IF(Data!H404=\"\",\"\",Data!H404)","v":""},{"$f":"IF(Data!I404=\"\",\"\",Data!I404)","v":""},{"$f":"IF(Data!J404=\"\",\"\",Data!J404)","v":""},{"$f":"IF(Data!K404=\"\",\"\",Data!K404)","v":""},{"$f":"IF(Data!L404=\"\",\"\",Data!L404)","v":""},{"$f":"IF(Data!M404=\"\",\"\",Data!M404)","v":""},{"$f":"IF(Data!N404=\"\",\"\",Data!N404)","v":""},{"$f":"IF(Data!O404=\"\",\"\",Data!O404)","v":""},{"$f":"IF(Data!P404=\"\",\"\",Data!P404)","v":""},{"$f":"IF(Data!Q404=\"\",\"\",Data!Q404)","v":""},{"$f":"IF(Data!R404=\"\",\"\",Data!R404)","v":""},{"$f":"IF(Data!S404=\"\",\"\",Data!S404)","v":""},null,null,null,null,404]
[{"$f":"IF(Data!A405=\"\",\"\",Data!A405)","v":""},"",{"$f":"IF(Data!B405=\"\",\"\",Data!B405)","v":""},{"$f":"IF(Data!C405=\"\",\"\",Data!C405)","v":""},{"$f":"IF(Data!D405=\"\",\"\",Data!D405)","v":""},{"$f":"IF(Data!E405=\"\",\"\",Data!E405)","v":""},{"$f":"IF(Data!F405=\"\",\"\",Data!F405)","v":""},{"$f":"IF(Data!G405=\"\",\"\",Data!G405)","v":""},{"$f":"IF(Data!H405=\"\",\"\",Data!H405)","v":""},{"$f":"IF(Data!I405=\"\",\"\",Data!I405)","v":""},{"$f":"IF(Data!J405=\"\",\"\",Data!J405)","v":""},{"$f":"IF(Data!K405=\"\",\"\",Data!K405)","v":""},{"$f":"IF(Data!L405=\"\",\"\",Data!L405)","v":""},{"$f":"IF(Data!M405=\"\",\"\",Data!M405)","v":""},{"$f":"IF(Data!N405=\"\",\"\",Data!N405)","v":""},{"$f":"IF(Data!O405=\"\",\"\",Data!O405)","v":""},{"$f":"IF(Data!P405=\"\",\"\",Data!P405)","v":""},{"$f":"IF(Data!Q405=\"\",\"\",Data!Q405)","v":""},{"$f":"IF(Data!R405=\"\",\"\",Data!R405)","v":""},{"$f":"IF(Data!S405=\"\",\"\",Data!S405)","v":""},null,null,null,null,405]
[{"$f":"IF(Data!A406=\"\",\"\",Data!A406)","v":""},"",{"$f":"IF(Data!B406=\"\",\"\",Data!B406)","v":""},{"$f":"IF(Data!C406=\"\",\"\",Data!C406)","v":""},{"$f":"IF(Data!D406=\"\",\"\",Data!D406)","v":""},{"$f":"IF(Data!E406=\"\",\"\",Data!E406)","v":""},{"$f":"IF(Data!F406=\"\",\"\",Data!F406)","v":""},{"$f":"IF(Data!G406=\"\",\"\",Data!G406)","v":""},{"$f":"IF(Data!H406=\"\",\"\",Data!H406)","v":""},{"$f":"IF(Data!I406=\"\",\"\",Data!I406)","v":""},{"$f":"IF(Data!J406=\"\",\"\",Data!J406)","v":""},{"$f":"IF(Data!K406=\"\",\"\",Data!K406)","v":""},{"$f":"IF(Data!L406=\"\",\"\",Data!L406)","v":""},{"$f":"IF(Data!M406=\"\",\"\",Data!M406)","v":""},{"$f":"IF(Data!N406=\"\",\"\",Data!N406)","v":""},{"$f":"IF(Data!O406=\"\",\"\",Data!O406)","v":""},{"$f":"IF(Data!P406=\"\",\"\",Data!P406)","v":""},{"$f":"IF(Data!Q406=\"\",\"\",Data!Q406)","v":""},{"$f":"IF(Data!R406=\"\",\"\",Data!R406)","v":""},{"$f":"IF(Data!S406=\"\",\"\",Data!S406)","v":""},null,null,null,null,406]
[{"$f":"IF(Data!A407=\"\",\"\",Data!A407)","v":""},"",{"$f":"IF(Data!B407=\"\",\"\",Data!B407)","v":""},{"$f":"IF(Data!C407=\"\",\"\",Data!C407)","v":""},{"$f":"IF(Data!D407=\"\",\"\",Data!D407)","v":""},{"$f":"IF(Data!E407=\"\",\"\",Data!E407)","v":""},{"$f":"IF(Data!F407=\"\",\"\",Data!F407)","v":""},{"$f":"IF(Data!G407=\"\",\"\",Data!G407)","v":""},{"$f":"IF(Data!H407=\"\",\"\",Data!H407)","v":""},{"$f":"IF(Data!I407=\"\",\"\",Data!I407)","v":""},{"$f":"IF(Data!J407=\"\",\"\",Data!J407)","v":""},{"$f":"IF(Data!K407=\"\",\"\",Data!K407)","v":""},{"$f":"IF(Data!L407=\"\",\"\",Data!L407)","v":""},{"$f":"IF(Data!M407=\"\",\"\",Data!M407)","v":""},{"$f":"IF(Data!N407=\"\",\"\",Data!N407)","v":""},{"$f":"IF(Data!O407=\"\",\"\",Data!O407)","v":""},{"$f":"IF(Data!P407=\"\",\"\",Data!P407)","v":""},{"$f":"IF(Data!Q407=\"\",\"\",Data!Q407)","v":""},{"$f":"IF(Data!R407=\"\",\"\",Data!R407)","v":""},{"$f":"IF(Data!S407=\"\",\"\",Data!S407)","v":""},null,null,null,null,407]
[{"$f":"IF(Data!A408=\"\",\"\",Data!A408)","v":""},"",{"$f":"IF(Data!B408=\"\",\"\",Data!B408)","v":""},{"$f":"IF(Data!C408=\"\",\"\",Data!C408)","v":""},{"$f":"IF(Data!D408=\"\",\"\",Data!D408)","v":""},{"$f":"IF(Data!E408=\"\",\"\",Data!E408)","v":""},{"$f":"IF(Data!F408=\"\",\"\",Data!F408)","v":""},{"$f":"IF(Data!G408=\"\",\"\",Data!G408)","v":""},{"$f":"IF(Data!H408=\"\",\"\",Data!H408)","v":""},{"$f":"IF(Data!I408=\"\",\"\",Data!I408)","v":""},{"$f":"IF(Data!J408=\"\",\"\",Data!J408)","v":""},{"$f":"IF(Data!K408=\"\",\"\",Data!K408)","v":""},{"$f":"IF(Data!L408=\"\",\"\",Data!L408)","v":""},{"$f":"IF(Data!M408=\"\",\"\",Data!M408)","v":""},{"$f":"IF(Data!N408=\"\",\"\",Data!N408)","v":""},{"$f":"IF(Data!O408=\"\",\"\",Data!O408)","v":""},{"$f":"IF(Data!P408=\"\",\"\",Data!P408)","v":""},{"$f":"IF(Data!Q408=\"\",\"\",Data!Q408)","v":""},{"$f":"IF(Data!R408=\"\",\"\",Data!R408)","v":""},{"$f":"IF(Data!S408=\"\",\"\",Data!S408)","v":""},null,null,null,null,408]
[{"$f":"IF(Data!A409=\"\",\"\",Data!A409)","v":""},"",{"$f":"IF(Data!B409=\"\",\"\",Data!B409)","v":""},{"$f":"IF(Data!C409=\"\",\"\",Data!C409)","v":""},{"$f":"IF(Data!D409=\"\",\"\",Data!D409)","v":""},{"$f":"IF(Data!E409=\"\",\"\",Data!E409)","v":""},{"$f":"IF(Data!F409=\"\",\"\",Data!F409)","v":""},{"$f":"IF(Data!G409=\"\",\"\",Data!G409)","v":""},{"$f":"IF(Data!H409=\"\",\"\",Data!H409)","v":""},{"$f":"IF(Data!I409=\"\",\"\",Data!I409)","v":""},{"$f":"IF(Data!J409=\"\",\"\",Data!J409)","v":""},{"$f":"IF(Data!K409=\"\",\"\",Data!K409)","v":""},{"$f":"IF(Data!L409=\"\",\"\",Data!L409)","v":""},{"$f":"IF(Data!M409=\"\",\"\",Data!M409)","v":""},{"$f":"IF(Data!N409=\"\",\"\",Data!N409)","v":""},{"$f":"IF(Data!O409=\"\",\"\",Data!O409)","v":""},{"$f":"IF(Data!P409=\"\",\"\",Data!P409)","v":""},{"$f":"IF(Data!Q409=\"\",\"\",Data!Q409)","v":""},{"$f":"IF(Data!R409=\"\",\"\",Data!R409)","v":""},{"$f":"IF(Data!S409=\"\",\"\",Data!S409)","v":""},null,null,null,null,409]
[{"$f":"IF(Data!A410=\"\",\"\",Data!A410)","v":""},"",{"$f":"IF(Data!B410=\"\",\"\",Data!B410)","v":""},{"$f":"IF(Data!C410=\"\",\"\",Data!C410)","v":""},{"$f":"IF(Data!D410=\"\",\"\",Data!D410)","v":""},{"$f":"IF(Data!E410=\"\",\"\",Data!E410)","v":""},{"$f":"IF(Data!F410=\"\",\"\",Data!F410)","v":""},{"$f":"IF(Data!G410=\"\",\"\",Data!G410)","v":""},{"$f":"IF(Data!H410=\"\",\"\",Data!H410)","v":""},{"$f":"IF(Data!I410=\"\",\"\",Data!I410)","v":""},{"$f":"IF(Data!J410=\"\",\"\",Data!J410)","v":""},{"$f":"IF(Data!K410=\"\",\"\",Data!K410)","v":""},{"$f":"IF(Data!L410=\"\",\"\",Data!L410)","v":""},{"$f":"IF(Data!M410=\"\",\"\",Data!M410)","v":""},{"$f":"IF(Data!N410=\"\",\"\",Data!N410)","v":""},{"$f":"IF(Data!O410=\"\",\"\",Data!O410)","v":""},{"$f":"IF(Data!P410=\"\",\"\",Data!P410)","v":""},{"$f":"IF(Data!Q410=\"\",\"\",Data!Q410)","v":""},{"$f":"IF(Data!R410=\"\",\"\",Data!R410)","v":""},{"$f":"IF(Data!S410=\"\",\"\",Data!S410)","v":""},null,null,null,null,410]
[{"$f":"IF(Data!A411=\"\",\"\",Data!A411)","v":""},"",{"$f":"IF(Data!B411=\"\",\"\",Data!B411)","v":""},{"$f":"IF(Data!C411=\"\",\"\",Data!C411)","v":""},{"$f":"IF(Data!D411=\"\",\"\",Data!D411)","v":""},{"$f":"IF(Data!E411=\"\",\"\",Data!E411)","v":""},{"$f":"IF(Data!F411=\"\",\"\",Data!F411)","v":""},{"$f":"IF(Data!G411=\"\",\"\",Data!G411)","v":""},{"$f":"IF(Data!H411=\"\",\"\",Data!H411)","v":""},{"$f":"IF(Data!I411=\"\",\"\",Data!I411)","v":""},{"$f":"IF(Data!J411=\"\",\"\",Data!J411)","v":""},{"$f":"IF(Data!K411=\"\",\"\",Data!K411)","v":""},{"$f":"IF(Data!L411=\"\",\"\",Data!L411)","v":""},{"$f":"IF(Data!M411=\"\",\"\",Data!M411)","v":""},{"$f":"IF(Data!N411=\"\",\"\",Data!N411)","v":""},{"$f":"IF(Data!O411=\"\",\"\",Data!O411)","v":""},{"$f":"IF(Data!P411=\"\",\"\",Data!P411)","v":""},{"$f":"IF(Data!Q411=\"\",\"\",Data!Q411)","v":""},{"$f":"IF(Data!R411=\"\",\"\",Data!R411)","v":""},{"$f":"IF(Data!S411=\"\",\"\",Data!S411)","v":""},null,null,null,null,411]
[{"$f":"IF(Data!A412=\"\",\"\",Data!A412)","v":""},"",{"$f":"IF(Data!B412=\"\",\"\",Data!B412)","v":""},{"$f":"IF(Data!C412=\"\",\"\",Data!C412)","v":""},{"$f":"IF(Data!D412=\"\",\"\",Data!D412)","v":""},{"$f":"IF(Data!E412=\"\",\"\",Data!E412)","v":""},{"$f":"IF(Data!F412=\"\",\"\",Data!F412)","v":""},{"$f":"IF(Data!G412=\"\",\"\",Data!G412)","v":""},{"$f":"IF(Data!H412=\"\",\"\",Data!H412)","v":""},{"$f":"IF(Data!I412=\"\",\"\",Data!I412)","v":""},{"$f":"IF(Data!J412=\"\",\"\",Data!J412)","v":""},{"$f":"IF(Data!K412=\"\",\"\",Data!K412)","v":""},{"$f":"IF(Data!L412=\"\",\"\",Data!L412)","v":""},{"$f":"IF(Data!M412=\"\",\"\",Data!M412)","v":""},{"$f":"IF(Data!N412=\"\",\"\",Data!N412)","v":""},{"$f":"IF(Data!O412=\"\",\"\",Data!O412)","v":""},{"$f":"IF(Data!P412=\"\",\"\",Data!P412)","v":""},{"$f":"IF(Data!Q412=\"\",\"\",Data!Q412)","v":""},{"$f":"IF(Data!R412=\"\",\"\",Data!R412)","v":""},{"$f":"IF(Data!S412=\"\",\"\",Data!S412)","v":""},null,null,null,null,412]
[{"$f":"IF(Data!A413=\"\",\"\",Data!A413)","v":""},"",{"$f":"IF(Data!B413=\"\",\"\",Data!B413)","v":""},{"$f":"IF(Data!C413=\"\",\"\",Data!C413)","v":""},{"$f":"IF(Data!D413=\"\",\"\",Data!D413)","v":""},{"$f":"IF(Data!E413=\"\",\"\",Data!E413)","v":""},{"$f":"IF(Data!F413=\"\",\"\",Data!F413)","v":""},{"$f":"IF(Data!G413=\"\",\"\",Data!G413)","v":""},{"$f":"IF(Data!H413=\"\",\"\",Data!H413)","v":""},{"$f":"IF(Data!I413=\"\",\"\",Data!I413)","v":""},{"$f":"IF(Data!J413=\"\",\"\",Data!J413)","v":""},{"$f":"IF(Data!K413=\"\",\"\",Data!K413)","v":""},{"$f":"IF(Data!L413=\"\",\"\",Data!L413)","v":""},{"$f":"IF(Data!M413=\"\",\"\",Data!M413)","v":""},{"$f":"IF(Data!N413=\"\",\"\",Data!N413)","v":""},{"$f":"IF(Data!O413=\"\",\"\",Data!O413)","v":""},{"$f":"IF(Data!P413=\"\",\"\",Data!P413)","v":""},{"$f":"IF(Data!Q413=\"\",\"\",Data!Q413)","v":""},{"$f":"IF(Data!R413=\"\",\"\",Data!R413)","v":""},{"$f":"IF(Data!S413=\"\",\"\",Data!S413)","v":""},null,null,null,null,413]
[{"$f":"IF(Data!A414=\"\",\"\",Data!A414)","v":""},"",{"$f":"IF(Data!B414=\"\",\"\",Data!B414)","v":""},{"$f":"IF(Data!C414=\"\",\"\",Data!C414)","v":""},{"$f":"IF(Data!D414=\"\",\"\",Data!D414)","v":""},{"$f":"IF(Data!E414=\"\",\"\",Data!E414)","v":""},{"$f":"IF(Data!F414=\"\",\"\",Data!F414)","v":""},{"$f":"IF(Data!G414=\"\",\"\",Data!G414)","v":""},{"$f":"IF(Data!H414=\"\",\"\",Data!H414)","v":""},{"$f":"IF(Data!I414=\"\",\"\",Data!I414)","v":""},{"$f":"IF(Data!J414=\"\",\"\",Data!J414)","v":""},{"$f":"IF(Data!K414=\"\",\"\",Data!K414)","v":""},{"$f":"IF(Data!L414=\"\",\"\",Data!L414)","v":""},{"$f":"IF(Data!M414=\"\",\"\",Data!M414)","v":""},{"$f":"IF(Data!N414=\"\",\"\",Data!N414)","v":""},{"$f":"IF(Data!O414=\"\",\"\",Data!O414)","v":""},{"$f":"IF(Data!P414=\"\",\"\",Data!P414)","v":""},{"$f":"IF(Data!Q414=\"\",\"\",Data!Q414)","v":""},{"$f":"IF(Data!R414=\"\",\"\",Data!R414)","v":""},{"$f":"IF(Data!S414=\"\",\"\",Data!S414)","v":""},null,null,null,null,414]
[{"$f":"IF(Data!A415=\"\",\"\",Data!A415)","v":""},"",{"$f":"IF(Data!B415=\"\",\"\",Data!B415)","v":""},{"$f":"IF(Data!C415=\"\",\"\",Data!C415)","v":""},{"$f":"IF(Data!D415=\"\",\"\",Data!D415)","v":""},{"$f":"IF(Data!E415=\"\",\"\",Data!E415)","v":""},{"$f":"IF(Data!F415=\"\",\"\",Data!F415)","v":""},{"$f":"IF(Data!G415=\"\",\"\",Data!G415)","v":""},{"$f":"IF(Data!H415=\"\",\"\",Data!H415)","v":""},{"$f":"IF(Data!I415=\"\",\"\",Data!I415)","v":""},{"$f":"IF(Data!J415=\"\",\"\",Data!J415)","v":""},{"$f":"IF(Data!K415=\"\",\"\",Data!K415)","v":""},{"$f":"IF(Data!L415=\"\",\"\",Data!L415)","v":""},{"$f":"IF(Data!M415=\"\",\"\",Data!M415)","v":""},{"$f":"IF(Data!N415=\"\",\"\",Data!N415)","v":""},{"$f":"IF(Data!O415=\"\",\"\",Data!O415)","v":""},{"$f":"IF(Data!P415=\"\",\"\",Data!P415)","v":""},{"$f":"IF(Data!Q415=\"\",\"\",Data!Q415)","v":""},{"$f":"IF(Data!R415=\"\",\"\",Data!R415)","v":""},{"$f":"IF(Data!S415=\"\",\"\",Data!S415)","v":""},null,null,null,null,415]
[{"$f":"IF(Data!A416=\"\",\"\",Data!A416)","v":""},"",{"$f":"IF(Data!B416=\"\",\"\",Data!B416)","v":""},{"$f":"IF(Data!C416=\"\",\"\",Data!C416)","v":""},{"$f":"IF(Data!D416=\"\",\"\",Data!D416)","v":""},{"$f":"IF(Data!E416=\"\",\"\",Data!E416)","v":""},{"$f":"IF(Data!F416=\"\",\"\",Data!F416)","v":""},{"$f":"IF(Data!G416=\"\",\"\",Data!G416)","v":""},{"$f":"IF(Data!H416=\"\",\"\",Data!H416)","v":""},{"$f":"IF(Data!I416=\"\",\"\",Data!I416)","v":""},{"$f":"IF(Data!J416=\"\",\"\",Data!J416)","v":""},{"$f":"IF(Data!K416=\"\",\"\",Data!K416)","v":""},{"$f":"IF(Data!L416=\"\",\"\",Data!L416)","v":""},{"$f":"IF(Data!M416=\"\",\"\",Data!M416)","v":""},{"$f":"IF(Data!N416=\"\",\"\",Data!N416)","v":""},{"$f":"IF(Data!O416=\"\",\"\",Data!O416)","v":""},{"$f":"IF(Data!P416=\"\",\"\",Data!P416)","v":""},{"$f":"IF(Data!Q416=\"\",\"\",Data!Q416)","v":""},{"$f":"IF(Data!R416=\"\",\"\",Data!R416)","v":""},{"$f":"IF(Data!S416=\"\",\"\",Data!S416)","v":""},null,null,null,null,416]
[{"$f":"IF(Data!A417=\"\",\"\",Data!A417)","v":""},"",{"$f":"IF(Data!B417=\"\",\"\",Data!B417)","v":""},{"$f":"IF(Data!C417=\"\",\"\",Data!C417)","v":""},{"$f":"IF(Data!D417=\"\",\"\",Data!D417)","v":""},{"$f":"IF(Data!E417=\"\",\"\",Data!E417)","v":""},{"$f":"IF(Data!F417=\"\",\"\",Data!F417)","v":""},{"$f":"IF(Data!G417=\"\",\"\",Data!G417)","v":""},{"$f":"IF(Data!H417=\"\",\"\",Data!H417)","v":""},{"$f":"IF(Data!I417=\"\",\"\",Data!I417)","v":""},{"$f":"IF(Data!J417=\"\",\"\",Data!J417)","v":""},{"$f":"IF(Data!K417=\"\",\"\",Data!K417)","v":""},{"$f":"IF(Data!L417=\"\",\"\",Data!L417)","v":""},{"$f":"IF(Data!M417=\"\",\"\",Data!M417)","v":""},{"$f":"IF(Data!N417=\"\",\"\",Data!N417)","v":""},{"$f":"IF(Data!O417=\"\",\"\",Data!O417)","v":""},{"$f":"IF(Data!P417=\"\",\"\",Data!P417)","v":""},{"$f":"IF(Data!Q417=\"\",\"\",Data!Q417)","v":""},{"$f":"IF(Data!R417=\"\",\"\",Data!R417)","v":""},{"$f":"IF(Data!S417=\"\",\"\",Data!S417)","v":""},null,null,null,null,417]
[{"$f":"IF(Data!A418=\"\",\"\",Data!A418)","v":""},"",{"$f":"IF(Data!B418=\"\",\"\",Data!B418)","v":""},{"$f":"IF(Data!C418=\"\",\"\",Data!C418)","v":""},{"$f":"IF(Data!D418=\"\",\"\",Data!D418)","v":""},{"$f":"IF(Data!E418=\"\",\"\",Data!E418)","v":""},{"$f":"IF(Data!F418=\"\",\"\",Data!F418)","v":""},{"$f":"IF(Data!G418=\"\",\"\",Data!G418)","v":""},{"$f":"IF(Data!H418=\"\",\"\",Data!H418)","v":""},{"$f":"IF(Data!I418=\"\",\"\",Data!I418)","v":""},{"$f":"IF(Data!J418=\"\",\"\",Data!J418)","v":""},{"$f":"IF(Data!K418=\"\",\"\",Data!K418)","v":""},{"$f":"IF(Data!L418=\"\",\"\",Data!L418)","v":""},{"$f":"IF(Data!M418=\"\",\"\",Data!M418)","v":""},{"$f":"IF(Data!N418=\"\",\"\",Data!N418)","v":""},{"$f":"IF(Data!O418=\"\",\"\",Data!O418)","v":""},{"$f":"IF(Data!P418=\"\",\"\",Data!P418)","v":""},{"$f":"IF(Data!Q418=\"\",\"\",Data!Q418)","v":""},{"$f":"IF(Data!R418=\"\",\"\",Data!R418)","v":""},{"$f":"IF(Data!S418=\"\",\"\",Data!S418)","v":""},null,null,null,null,418]
[{"$f":"IF(Data!A419=\"\",\"\",Data!A419)","v":""},"",{"$f":"IF(Data!B419=\"\",\"\",Data!B419)","v":""},{"$f":"IF(Data!C419=\"\",\"\",Data!C419)","v":""},{"$f":"IF(Data!D419=\"\",\"\",Data!D419)","v":""},{"$f":"IF(Data!E419=\"\",\"\",Data!E419)","v":""},{"$f":"IF(Data!F419=\"\",\"\",Data!F419)","v":""},{"$f":"IF(Data!G419=\"\",\"\",Data!G419)","v":""},{"$f":"IF(Data!H419=\"\",\"\",Data!H419)","v":""},{"$f":"IF(Data!I419=\"\",\"\",Data!I419)","v":""},{"$f":"IF(Data!J419=\"\",\"\",Data!J419)","v":""},{"$f":"IF(Data!K419=\"\",\"\",Data!K419)","v":""},{"$f":"IF(Data!L419=\"\",\"\",Data!L419)","v":""},{"$f":"IF(Data!M419=\"\",\"\",Data!M419)","v":""},{"$f":"IF(Data!N419=\"\",\"\",Data!N419)","v":""},{"$f":"IF(Data!O419=\"\",\"\",Data!O419)","v":""},{"$f":"IF(Data!P419=\"\",\"\",Data!P419)","v":""},{"$f":"IF(Data!Q419=\"\",\"\",Data!Q419)","v":""},{"$f":"IF(Data!R419=\"\",\"\",Data!R419)","v":""},{"$f":"IF(Data!S419=\"\",\"\",Data!S419)","v":""},null,null,null,null,419]
[{"$f":"IF(Data!A420=\"\",\"\",Data!A420)","v":""},"",{"$f":"IF(Data!B420=\"\",\"\",Data!B420)","v":""},{"$f":"IF(Data!C420=\"\",\"\",Data!C420)","v":""},{"$f":"IF(Data!D420=\"\",\"\",Data!D420)","v":""},{"$f":"IF(Data!E420=\"\",\"\",Data!E420)","v":""},{"$f":"IF(Data!F420=\"\",\"\",Data!F420)","v":""},{"$f":"IF(Data!G420=\"\",\"\",Data!G420)","v":""},{"$f":"IF(Data!H420=\"\",\"\",Data!H420)","v":""},{"$f":"IF(Data!I420=\"\",\"\",Data!I420)","v":""},{"$f":"IF(Data!J420=\"\",\"\",Data!J420)","v":""},{"$f":"IF(Data!K420=\"\",\"\",Data!K420)","v":""},{"$f":"IF(Data!L420=\"\",\"\",Data!L420)","v":""},{"$f":"IF(Data!M420=\"\",\"\",Data!M420)","v":""},{"$f":"IF(Data!N420=\"\",\"\",Data!N420)","v":""},{"$f":"IF(Data!O420=\"\",\"\",Data!O420)","v":""},{"$f":"IF(Data!P420=\"\",\"\",Data!P420)","v":""},{"$f":"IF(Data!Q420=\"\",\"\",Data!Q420)","v":""},{"$f":"IF(Data!R420=\"\",\"\",Data!R420)","v":""},{"$f":"IF(Data!S420=\"\",\"\",Data!S420)","v":""},null,null,null,null,420]
[{"$f":"IF(Data!A421=\"\",\"\",Data!A421)","v":""},"",{"$f":"IF(Data!B421=\"\",\"\",Data!B421)","v":""},{"$f":"IF(Data!C421=\"\",\"\",Data!C421)","v":""},{"$f":"IF(Data!D421=\"\",\"\",Data!D421)","v":""},{"$f":"IF(Data!E421=\"\",\"\",Data!E421)","v":""},{"$f":"IF(Data!F421=\"\",\"\",Data!F421)","v":""},{"$f":"IF(Data!G421=\"\",\"\",Data!G421)","v":""},{"$f":"IF(Data!H421=\"\",\"\",Data!H421)","v":""},{"$f":"IF(Data!I421=\"\",\"\",Data!I421)","v":""},{"$f":"IF(Data!J421=\"\",\"\",Data!J421)","v":""},{"$f":"IF(Data!K421=\"\",\"\",Data!K421)","v":""},{"$f":"IF(Data!L421=\"\",\"\",Data!L421)","v":""},{"$f":"IF(Data!M421=\"\",\"\",Data!M421)","v":""},{"$f":"IF(Data!N421=\"\",\"\",Data!N421)","v":""},{"$f":"IF(Data!O421=\"\",\"\",Data!O421)","v":""},{"$f":"IF(Data!P421=\"\",\"\",Data!P421)","v":""},{"$f":"IF(Data!Q421=\"\",\"\",Data!Q421)","v":""},{"$f":"IF(Data!R421=\"\",\"\",Data!R421)","v":""},{"$f":"IF(Data!S421=\"\",\"\",Data!S421)","v":""},null,null,null,null,421]
[{"$f":"IF(Data!A422=\"\",\"\",Data!A422)","v":""},"",{"$f":"IF(Data!B422=\"\",\"\",Data!B422)","v":""},{"$f":"IF(Data!C422=\"\",\"\",Data!C422)","v":""},{"$f":"IF(Data!D422=\"\",\"\",Data!D422)","v":""},{"$f":"IF(Data!E422=\"\",\"\",Data!E422)","v":""},{"$f":"IF(Data!F422=\"\",\"\",Data!F422)","v":""},{"$f":"IF(Data!G422=\"\",\"\",Data!G422)","v":""},{"$f":"IF(Data!H422=\"\",\"\",Data!H422)","v":""},{"$f":"IF(Data!I422=\"\",\"\",Data!I422)","v":""},{"$f":"IF(Data!J422=\"\",\"\",Data!J422)","v":""},{"$f":"IF(Data!K422=\"\",\"\",Data!K422)","v":""},{"$f":"IF(Data!L422=\"\",\"\",Data!L422)","v":""},{"$f":"IF(Data!M422=\"\",\"\",Data!M422)","v":""},{"$f":"IF(Data!N422=\"\",\"\",Data!N422)","v":""},{"$f":"IF(Data!O422=\"\",\"\",Data!O422)","v":""},{"$f":"IF(Data!P422=\"\",\"\",Data!P422)","v":""},{"$f":"IF(Data!Q422=\"\",\"\",Data!Q422)","v":""},{"$f":"IF(Data!R422=\"\",\"\",Data!R422)","v":""},{"$f":"IF(Data!S422=\"\",\"\",Data!S422)","v":""},null,null,null,null,422]
[{"$f":"IF(Data!A423=\"\",\"\",Data!A423)","v":""},"",{"$f":"IF(Data!B423=\"\",\"\",Data!B423)","v":""},{"$f":"IF(Data!C423=\"\",\"\",Data!C423)","v":""},{"$f":"IF(Data!D423=\"\",\"\",Data!D423)","v":""},{"$f":"IF(Data!E423=\"\",\"\",Data!E423)","v":""},{"$f":"IF(Data!F423=\"\",\"\",Data!F423)","v":""},{"$f":"IF(Data!G423=\"\",\"\",Data!G423)","v":""},{"$f":"IF(Data!H423=\"\",\"\",Data!H423)","v":""},{"$f":"IF(Data!I423=\"\",\"\",Data!I423)","v":""},{"$f":"IF(Data!J423=\"\",\"\",Data!J423)","v":""},{"$f":"IF(Data!K423=\"\",\"\",Data!K423)","v":""},{"$f":"IF(Data!L423=\"\",\"\",Data!L423)","v":""},{"$f":"IF(Data!M423=\"\",\"\",Data!M423)","v":""},{"$f":"IF(Data!N423=\"\",\"\",Data!N423)","v":""},{"$f":"IF(Data!O423=\"\",\"\",Data!O423)","v":""},{"$f":"IF(Data!P423=\"\",\"\",Data!P423)","v":""},{"$f":"IF(Data!Q423=\"\",\"\",Data!Q423)","v":""},{"$f":"IF(Data!R423=\"\",\"\",Data!R423)","v":""},{"$f":"IF(Data!S423=\"\",\"\",Data!S423)","v":""},null,null,null,null,423]
[{"$f":"IF(Data!A424=\"\",\"\",Data!A424)","v":""},"",{"$f":"IF(Data!B424=\"\",\"\",Data!B424)","v":""},{"$f":"IF(Data!C424=\"\",\"\",Data!C424)","v":""},{"$f":"IF(Data!D424=\"\",\"\",Data!D424)","v":""},{"$f":"IF(Data!E424=\"\",\"\",Data!E424)","v":""},{"$f":"IF(Data!F424=\"\",\"\",Data!F424)","v":""},{"$f":"IF(Data!G424=\"\",\"\",Data!G424)","v":""},{"$f":"IF(Data!H424=\"\",\"\",Data!H424)","v":""},{"$f":"IF(Data!I424=\"\",\"\",Data!I424)","v":""},{"$f":"IF(Data!J424=\"\",\"\",Data!J424)","v":""},{"$f":"IF(Data!K424=\"\",\"\",Data!K424)","v":""},{"$f":"IF(Data!L424=\"\",\"\",Data!L424)","v":""},{"$f":"IF(Data!M424=\"\",\"\",Data!M424)","v":""},{"$f":"IF(Data!N424=\"\",\"\",Data!N424)","v":""},{"$f":"IF(Data!O424=\"\",\"\",Data!O424)","v":""},{"$f":"IF(Data!P424=\"\",\"\",Data!P424)","v":""},{"$f":"IF(Data!Q424=\"\",\"\",Data!Q424)","v":""},{"$f":"IF(Data!R424=\"\",\"\",Data!R424)","v":""},{"$f":"IF(Data!S424=\"\",\"\",Data!S424)","v":""},null,null,null,null,424]
[{"$f":"IF(Data!A425=\"\",\"\",Data!A425)","v":""},"",{"$f":"IF(Data!B425=\"\",\"\",Data!B425)","v":""},{"$f":"IF(Data!C425=\"\",\"\",Data!C425)","v":""},{"$f":"IF(Data!D425=\"\",\"\",Data!D425)","v":""},{"$f":"IF(Data!E425=\"\",\"\",Data!E425)","v":""},{"$f":"IF(Data!F425=\"\",\"\",Data!F425)","v":""},{"$f":"IF(Data!G425=\"\",\"\",Data!G425)","v":""},{"$f":"IF(Data!H425=\"\",\"\",Data!H425)","v":""},{"$f":"IF(Data!I425=\"\",\"\",Data!I425)","v":""},{"$f":"IF(Data!J425=\"\",\"\",Data!J425)","v":""},{"$f":"IF(Data!K425=\"\",\"\",Data!K425)","v":""},{"$f":"IF(Data!L425=\"\",\"\",Data!L425)","v":""},{"$f":"IF(Data!M425=\"\",\"\",Data!M425)","v":""},{"$f":"IF(Data!N425=\"\",\"\",Data!N425)","v":""},{"$f":"IF(Data!O425=\"\",\"\",Data!O425)","v":""},{"$f":"IF(Data!P425=\"\",\"\",Data!P425)","v":""},{"$f":"IF(Data!Q425=\"\",\"\",Data!Q425)","v":""},{"$f":"IF(Data!R425=\"\",\"\",Data!R425)","v":""},{"$f":"IF(Data!S425=\"\",\"\",Data!S425)","v":""},null,null,null,null,425]
[{"$f":"IF(Data!A426=\"\",\"\",Data!A426)","v":""},"",{"$f":"IF(Data!B426=\"\",\"\",Data!B426)","v":""},{"$f":"IF(Data!C426=\"\",\"\",Data!C426)","v":""},{"$f":"IF(Data!D426=\"\",\"\",Data!D426)","v":""},{"$f":"IF(Data!E426=\"\",\"\",Data!E426)","v":""},{"$f":"IF(Data!F426=\"\",\"\",Data!F426)","v":""},{"$f":"IF(Data!G426=\"\",\"\",Data!G426)","v":""},{"$f":"IF(Data!H426=\"\",\"\",Data!H426)","v":""},{"$f":"IF(Data!I426=\"\",\"\",Data!I426)","v":""},{"$f":"IF(Data!J426=\"\",\"\",Data!J426)","v":""},{"$f":"IF(Data!K426=\"\",\"\",Data!K426)","v":""},{"$f":"IF(Data!L426=\"\",\"\",Data!L426)","v":""},{"$f":"IF(Data!M426=\"\",\"\",Data!M426)","v":""},{"$f":"IF(Data!N426=\"\",\"\",Data!N426)","v":""},{"$f":"IF(Data!O426=\"\",\"\",Data!O426)","v":""},{"$f":"IF(Data!P426=\"\",\"\",Data!P426)","v":""},{"$f":"IF(Data!Q426=\"\",\"\",Data!Q426)","v":""},{"$f":"IF(Data!R426=\"\",\"\",Data!R426)","v":""},{"$f":"IF(Data!S426=\"\",\"\",Data!S426)","v":""},null,null,null,null,426]
[{"$f":"IF(Data!A427=\"\",\"\",Data!A427)","v":""},"",{"$f":"IF(Data!B427=\"\",\"\",Data!B427)","v":""},{"$f":"IF(Data!C427=\"\",\"\",Data!C427)","v":""},{"$f":"IF(Data!D427=\"\",\"\",Data!D427)","v":""},{"$f":"IF(Data!E427=\"\",\"\",Data!E427)","v":""},{"$f":"IF(Data!F427=\"\",\"\",Data!F427)","v":""},{"$f":"IF(Data!G427=\"\",\"\",Data!G427)","v":""},{"$f":"IF(Data!H427=\"\",\"\",Data!H427)","v":""},{"$f":"IF(Data!I427=\"\",\"\",Data!I427)","v":""},{"$f":"IF(Data!J427=\"\",\"\",Data!J427)","v":""},{"$f":"IF(Data!K427=\"\",\"\",Data!K427)","v":""},{"$f":"IF(Data!L427=\"\",\"\",Data!L427)","v":""},{"$f":"IF(Data!M427=\"\",\"\",Data!M427)","v":""},{"$f":"IF(Data!N427=\"\",\"\",Data!N427)","v":""},{"$f":"IF(Data!O427=\"\",\"\",Data!O427)","v":""},{"$f":"IF(Data!P427=\"\",\"\",Data!P427)","v":""},{"$f":"IF(Data!Q427=\"\",\"\",Data!Q427)","v":""},{"$f":"IF(Data!R427=\"\",\"\",Data!R427)","v":""},{"$f":"IF(Data!S427=\"\",\"\",Data!S427)","v":""},null,null,null,null,427]
[{"$f":"IF(Data!A428=\"\",\"\",Data!A428)","v":""},"",{"$f":"IF(Data!B428=\"\",\"\",Data!B428)","v":""},{"$f":"IF(Data!C428=\"\",\"\",Data!C428)","v":""},{"$f":"IF(Data!D428=\"\",\"\",Data!D428)","v":""},{"$f":"IF(Data!E428=\"\",\"\",Data!E428)","v":""},{"$f":"IF(Data!F428=\"\",\"\",Data!F428)","v":""},{"$f":"IF(Data!G428=\"\",\"\",Data!G428)","v":""},{"$f":"IF(Data!H428=\"\",\"\",Data!H428)","v":""},{"$f":"IF(Data!I428=\"\",\"\",Data!I428)","v":""},{"$f":"IF(Data!J428=\"\",\"\",Data!J428)","v":""},{"$f":"IF(Data!K428=\"\",\"\",Data!K428)","v":""},{"$f":"IF(Data!L428=\"\",\"\",Data!L428)","v":""},{"$f":"IF(Data!M428=\"\",\"\",Data!M428)","v":""},{"$f":"IF(Data!N428=\"\",\"\",Data!N428)","v":""},{"$f":"IF(Data!O428=\"\",\"\",Data!O428)","v":""},{"$f":"IF(Data!P428=\"\",\"\",Data!P428)","v":""},{"$f":"IF(Data!Q428=\"\",\"\",Data!Q428)","v":""},{"$f":"IF(Data!R428=\"\",\"\",Data!R428)","v":""},{"$f":"IF(Data!S428=\"\",\"\",Data!S428)","v":""},null,null,null,null,428]
[{"$f":"IF(Data!A429=\"\",\"\",Data!A429)","v":""},"",{"$f":"IF(Data!B429=\"\",\"\",Data!B429)","v":""},{"$f":"IF(Data!C429=\"\",\"\",Data!C429)","v":""},{"$f":"IF(Data!D429=\"\",\"\",Data!D429)","v":""},{"$f":"IF(Data!E429=\"\",\"\",Data!E429)","v":""},{"$f":"IF(Data!F429=\"\",\"\",Data!F429)","v":""},{"$f":"IF(Data!G429=\"\",\"\",Data!G429)","v":""},{"$f":"IF(Data!H429=\"\",\"\",Data!H429)","v":""},{"$f":"IF(Data!I429=\"\",\"\",Data!I429)","v":""},{"$f":"IF(Data!J429=\"\",\"\",Data!J429)","v":""},{"$f":"IF(Data!K429=\"\",\"\",Data!K429)","v":""},{"$f":"IF(Data!L429=\"\",\"\",Data!L429)","v":""},{"$f":"IF(Data!M429=\"\",\"\",Data!M429)","v":""},{"$f":"IF(Data!N429=\"\",\"\",Data!N429)","v":""},{"$f":"IF(Data!O429=\"\",\"\",Data!O429)","v":""},{"$f":"IF(Data!P429=\"\",\"\",Data!P429)","v":""},{"$f":"IF(Data!Q429=\"\",\"\",Data!Q429)","v":""},{"$f":"IF(Data!R429=\"\",\"\",Data!R429)","v":""},{"$f":"IF(Data!S429=\"\",\"\",Data!S429)","v":""},null,null,null,null,429]
[{"$f":"IF(Data!A430=\"\",\"\",Data!A430)","v":""},"",{"$f":"IF(Data!B430=\"\",\"\",Data!B430)","v":""},{"$f":"IF(Data!C430=\"\",\"\",Data!C430)","v":""},{"$f":"IF(Data!D430=\"\",\"\",Data!D430)","v":""},{"$f":"IF(Data!E430=\"\",\"\",Data!E430)","v":""},{"$f":"IF(Data!F430=\"\",\"\",Data!F430)","v":""},{"$f":"IF(Data!G430=\"\",\"\",Data!G430)","v":""},{"$f":"IF(Data!H430=\"\",\"\",Data!H430)","v":""},{"$f":"IF(Data!I430=\"\",\"\",Data!I430)","v":""},{"$f":"IF(Data!J430=\"\",\"\",Data!J430)","v":""},{"$f":"IF(Data!K430=\"\",\"\",Data!K430)","v":""},{"$f":"IF(Data!L430=\"\",\"\",Data!L430)","v":""},{"$f":"IF(Data!M430=\"\",\"\",Data!M430)","v":""},{"$f":"IF(Data!N430=\"\",\"\",Data!N430)","v":""},{"$f":"IF(Data!O430=\"\",\"\",Data!O430)","v":""},{"$f":"IF(Data!P430=\"\",\"\",Data!P430)","v":""},{"$f":"IF(Data!Q430=\"\",\"\",Data!Q430)","v":""},{"$f":"IF(Data!R430=\"\",\"\",Data!R430)","v":""},{"$f":"IF(Data!S430=\"\",\"\",Data!S430)","v":""},null,null,null,null,430]
[{"$f":"IF(Data!A431=\"\",\"\",Data!A431)","v":""},"",{"$f":"IF(Data!B431=\"\",\"\",Data!B431)","v":""},{"$f":"IF(Data!C431=\"\",\"\",Data!C431)","v":""},{"$f":"IF(Data!D431=\"\",\"\",Data!D431)","v":""},{"$f":"IF(Data!E431=\"\",\"\",Data!E431)","v":""},{"$f":"IF(Data!F431=\"\",\"\",Data!F431)","v":""},{"$f":"IF(Data!G431=\"\",\"\",Data!G431)","v":""},{"$f":"IF(Data!H431=\"\",\"\",Data!H431)","v":""},{"$f":"IF(Data!I431=\"\",\"\",Data!I431)","v":""},{"$f":"IF(Data!J431=\"\",\"\",Data!J431)","v":""},{"$f":"IF(Data!K431=\"\",\"\",Data!K431)","v":""},{"$f":"IF(Data!L431=\"\",\"\",Data!L431)","v":""},{"$f":"IF(Data!M431=\"\",\"\",Data!M431)","v":""},{"$f":"IF(Data!N431=\"\",\"\",Data!N431)","v":""},{"$f":"IF(Data!O431=\"\",\"\",Data!O431)","v":""},{"$f":"IF(Data!P431=\"\",\"\",Data!P431)","v":""},{"$f":"IF(Data!Q431=\"\",\"\",Data!Q431)","v":""},{"$f":"IF(Data!R431=\"\",\"\",Data!R431)","v":""},{"$f":"IF(Data!S431=\"\",\"\",Data!S431)","v":""},null,null,null,null,431]
[{"$f":"IF(Data!A432=\"\",\"\",Data!A432)","v":""},"",{"$f":"IF(Data!B432=\"\",\"\",Data!B432)","v":""},{"$f":"IF(Data!C432=\"\",\"\",Data!C432)","v":""},{"$f":"IF(Data!D432=\"\",\"\",Data!D432)","v":""},{"$f":"IF(Data!E432=\"\",\"\",Data!E432)","v":""},{"$f":"IF(Data!F432=\"\",\"\",Data!F432)","v":""},{"$f":"IF(Data!G432=\"\",\"\",Data!G432)","v":""},{"$f":"IF(Data!H432=\"\",\"\",Data!H432)","v":""},{"$f":"IF(Data!I432=\"\",\"\",Data!I432)","v":""},{"$f":"IF(Data!J432=\"\",\"\",Data!J432)","v":""},{"$f":"IF(Data!K432=\"\",\"\",Data!K432)","v":""},{"$f":"IF(Data!L432=\"\",\"\",Data!L432)","v":""},{"$f":"IF(Data!M432=\"\",\"\",Data!M432)","v":""},{"$f":"IF(Data!N432=\"\",\"\",Data!N432)","v":""},{"$f":"IF(Data!O432=\"\",\"\",Data!O432)","v":""},{"$f":"IF(Data!P432=\"\",\"\",Data!P432)","v":""},{"$f":"IF(Data!Q432=\"\",\"\",Data!Q432)","v":""},{"$f":"IF(Data!R432=\"\",\"\",Data!R432)","v":""},{"$f":"IF(Data!S432=\"\",\"\",Data!S432)","v":""},null,null,null,null,432]
[{"$f":"IF(Data!A433=\"\",\"\",Data!A433)","v":""},"",{"$f":"IF(Data!B433=\"\",\"\",Data!B433)","v":""},{"$f":"IF(Data!C433=\"\",\"\",Data!C433)","v":""},{"$f":"IF(Data!D433=\"\",\"\",Data!D433)","v":""},{"$f":"IF(Data!E433=\"\",\"\",Data!E433)","v":""},{"$f":"IF(Data!F433=\"\",\"\",Data!F433)","v":""},{"$f":"IF(Data!G433=\"\",\"\",Data!G433)","v":""},{"$f":"IF(Data!H433=\"\",\"\",Data!H433)","v":""},{"$f":"IF(Data!I433=\"\",\"\",Data!I433)","v":""},{"$f":"IF(Data!J433=\"\",\"\",Data!J433)","v":""},{"$f":"IF(Data!K433=\"\",\"\",Data!K433)","v":""},{"$f":"IF(Data!L433=\"\",\"\",Data!L433)","v":""},{"$f":"IF(Data!M433=\"\",\"\",Data!M433)","v":""},{"$f":"IF(Data!N433=\"\",\"\",Data!N433)","v":""},{"$f":"IF(Data!O433=\"\",\"\",Data!O433)","v":""},{"$f":"IF(Data!P433=\"\",\"\",Data!P433)","v":""},{"$f":"IF(Data!Q433=\"\",\"\",Data!Q433)","v":""},{"$f":"IF(Data!R433=\"\",\"\",Data!R433)","v":""},{"$f":"IF(Data!S433=\"\",\"\",Data!S433)","v":""},null,null,null,null,433]
[{"$f":"IF(Data!A434=\"\",\"\",Data!A434)","v":""},"",{"$f":"IF(Data!B434=\"\",\"\",Data!B434)","v":""},{"$f":"IF(Data!C434=\"\",\"\",Data!C434)","v":""},{"$f":"IF(Data!D434=\"\",\"\",Data!D434)","v":""},{"$f":"IF(Data!E434=\"\",\"\",Data!E434)","v":""},{"$f":"IF(Data!F434=\"\",\"\",Data!F434)","v":""},{"$f":"IF(Data!G434=\"\",\"\",Data!G434)","v":""},{"$f":"IF(Data!H434=\"\",\"\",Data!H434)","v":""},{"$f":"IF(Data!I434=\"\",\"\",Data!I434)","v":""},{"$f":"IF(Data!J434=\"\",\"\",Data!J434)","v":""},{"$f":"IF(Data!K434=\"\",\"\",Data!K434)","v":""},{"$f":"IF(Data!L434=\"\",\"\",Data!L434)","v":""},{"$f":"IF(Data!M434=\"\",\"\",Data!M434)","v":""},{"$f":"IF(Data!N434=\"\",\"\",Data!N434)","v":""},{"$f":"IF(Data!O434=\"\",\"\",Data!O434)","v":""},{"$f":"IF(Data!P434=\"\",\"\",Data!P434)","v":""},{"$f":"IF(Data!Q434=\"\",\"\",Data!Q434)","v":""},{"$f":"IF(Data!R434=\"\",\"\",Data!R434)","v":""},{"$f":"IF(Data!S434=\"\",\"\",Data!S434)","v":""},null,null,null,null,434]
[{"$f":"IF(Data!A435=\"\",\"\",Data!A435)","v":""},"",{"$f":"IF(Data!B435=\"\",\"\",Data!B435)","v":""},{"$f":"IF(Data!C435=\"\",\"\",Data!C435)","v":""},{"$f":"IF(Data!D435=\"\",\"\",Data!D435)","v":""},{"$f":"IF(Data!E435=\"\",\"\",Data!E435)","v":""},{"$f":"IF(Data!F435=\"\",\"\",Data!F435)","v":""},{"$f":"IF(Data!G435=\"\",\"\",Data!G435)","v":""},{"$f":"IF(Data!H435=\"\",\"\",Data!H435)","v":""},{"$f":"IF(Data!I435=\"\",\"\",Data!I435)","v":""},{"$f":"IF(Data!J435=\"\",\"\",Data!J435)","v":""},{"$f":"IF(Data!K435=\"\",\"\",Data!K435)","v":""},{"$f":"IF(Data!L435=\"\",\"\",Data!L435)","v":""},{"$f":"IF(Data!M435=\"\",\"\",Data!M435)","v":""},{"$f":"IF(Data!N435=\"\",\"\",Data!N435)","v":""},{"$f":"IF(Data!O435=\"\",\"\",Data!O435)","v":""},{"$f":"IF(Data!P435=\"\",\"\",Data!P435)","v":""},{"$f":"IF(Data!Q435=\"\",\"\",Data!Q435)","v":""},{"$f":"IF(Data!R435=\"\",\"\",Data!R435)","v":""},{"$f":"IF(Data!S435=\"\",\"\",Data!S435)","v":""},null,null,null,null,435]
[{"$f":"IF(Data!A436=\"\",\"\",Data!A436)","v":""},"",{"$f":"IF(Data!B436=\"\",\"\",Data!B436)","v":""},{"$f":"IF(Data!C436=\"\",\"\",Data!C436)","v":""},{"$f":"IF(Data!D436=\"\",\"\",Data!D436)","v":""},{"$f":"IF(Data!E436=\"\",\"\",Data!E436)","v":""},{"$f":"IF(Data!F436=\"\",\"\",Data!F436)","v":""},{"$f":"IF(Data!G436=\"\",\"\",Data!G436)","v":""},{"$f":"IF(Data!H436=\"\",\"\",Data!H436)","v":""},{"$f":"IF(Data!I436=\"\",\"\",Data!I436)","v":""},{"$f":"IF(Data!J436=\"\",\"\",Data!J436)","v":""},{"$f":"IF(Data!K436=\"\",\"\",Data!K436)","v":""},{"$f":"IF(Data!L436=\"\",\"\",Data!L436)","v":""},{"$f":"IF(Data!M436=\"\",\"\",Data!M436)","v":""},{"$f":"IF(Data!N436=\"\",\"\",Data!N436)","v":""},{"$f":"IF(Data!O436=\"\",\"\",Data!O436)","v":""},{"$f":"IF(Data!P436=\"\",\"\",Data!P436)","v":""},{"$f":"IF(Data!Q436=\"\",\"\",Data!Q436)","v":""},{"$f":"IF(Data!R436=\"\",\"\",Data!R436)","v":""},{"$f":"IF(Data!S436=\"\",\"\",Data!S436)","v":""},null,null,null,null,436]
[{"$f":"IF(Data!A437=\"\",\"\",Data!A437)","v":""},"",{"$f":"IF(Data!B437=\"\",\"\",Data!B437)","v":""},{"$f":"IF(Data!C437=\"\",\"\",Data!C437)","v":""},{"$f":"IF(Data!D437=\"\",\"\",Data!D437)","v":""},{"$f":"IF(Data!E437=\"\",\"\",Data!E437)","v":""},{"$f":"IF(Data!F437=\"\",\"\",Data!F437)","v":""},{"$f":"IF(Data!G437=\"\",\"\",Data!G437)","v":""},{"$f":"IF(Data!H437=\"\",\"\",Data!H437)","v":""},{"$f":"IF(Data!I437=\"\",\"\",Data!I437)","v":""},{"$f":"IF(Data!J437=\"\",\"\",Data!J437)","v":""},{"$f":"IF(Data!K437=\"\",\"\",Data!K437)","v":""},{"$f":"IF(Data!L437=\"\",\"\",Data!L437)","v":""},{"$f":"IF(Data!M437=\"\",\"\",Data!M437)","v":""},{"$f":"IF(Data!N437=\"\",\"\",Data!N437)","v":""},{"$f":"IF(Data!O437=\"\",\"\",Data!O437)","v":""},{"$f":"IF(Data!P437=\"\",\"\",Data!P437)","v":""},{"$f":"IF(Data!Q437=\"\",\"\",Data!Q437)","v":""},{"$f":"IF(Data!R437=\"\",\"\",Data!R437)","v":""},{"$f":"IF(Data!S437=\"\",\"\",Data!S437)","v":""},null,null,null,null,437]
[{"$f":"IF(Data!A438=\"\",\"\",Data!A438)","v":""},"",{"$f":"IF(Data!B438=\"\",\"\",Data!B438)","v":""},{"$f":"IF(Data!C438=\"\",\"\",Data!C438)","v":""},{"$f":"IF(Data!D438=\"\",\"\",Data!D438)","v":""},{"$f":"IF(Data!E438=\"\",\"\",Data!E438)","v":""},{"$f":"IF(Data!F438=\"\",\"\",Data!F438)","v":""},{"$f":"IF(Data!G438=\"\",\"\",Data!G438)","v":""},{"$f":"IF(Data!H438=\"\",\"\",Data!H438)","v":""},{"$f":"IF(Data!I438=\"\",\"\",Data!I438)","v":""},{"$f":"IF(Data!J438=\"\",\"\",Data!J438)","v":""},{"$f":"IF(Data!K438=\"\",\"\",Data!K438)","v":""},{"$f":"IF(Data!L438=\"\",\"\",Data!L438)","v":""},{"$f":"IF(Data!M438=\"\",\"\",Data!M438)","v":""},{"$f":"IF(Data!N438=\"\",\"\",Data!N438)","v":""},{"$f":"IF(Data!O438=\"\",\"\",Data!O438)","v":""},{"$f":"IF(Data!P438=\"\",\"\",Data!P438)","v":""},{"$f":"IF(Data!Q438=\"\",\"\",Data!Q438)","v":""},{"$f":"IF(Data!R438=\"\",\"\",Data!R438)","v":""},{"$f":"IF(Data!S438=\"\",\"\",Data!S438)","v":""},null,null,null,null,438]
[{"$f":"IF(Data!A439=\"\",\"\",Data!A439)","v":""},"",{"$f":"IF(Data!B439=\"\",\"\",Data!B439)","v":""},{"$f":"IF(Data!C439=\"\",\"\",Data!C439)","v":""},{"$f":"IF(Data!D439=\"\",\"\",Data!D439)","v":""},{"$f":"IF(Data!E439=\"\",\"\",Data!E439)","v":""},{"$f":"IF(Data!F439=\"\",\"\",Data!F439)","v":""},{"$f":"IF(Data!G439=\"\",\"\",Data!G439)","v":""},{"$f":"IF(Data!H439=\"\",\"\",Data!H439)","v":""},{"$f":"IF(Data!I439=\"\",\"\",Data!I439)","v":""},{"$f":"IF(Data!J439=\"\",\"\",Data!J439)","v":""},{"$f":"IF(Data!K439=\"\",\"\",Data!K439)","v":""},{"$f":"IF(Data!L439=\"\",\"\",Data!L439)","v":""},{"$f":"IF(Data!M439=\"\",\"\",Data!M439)","v":""},{"$f":"IF(Data!N439=\"\",\"\",Data!N439)","v":""},{"$f":"IF(Data!O439=\"\",\"\",Data!O439)","v":""},{"$f":"IF(Data!P439=\"\",\"\",Data!P439)","v":""},{"$f":"IF(Data!Q439=\"\",\"\",Data!Q439)","v":""},{"$f":"IF(Data!R439=\"\",\"\",Data!R439)","v":""},{"$f":"IF(Data!S439=\"\",\"\",Data!S439)","v":""},null,null,null,null,439]
[{"$f":"IF(Data!A440=\"\",\"\",Data!A440)","v":""},"",{"$f":"IF(Data!B440=\"\",\"\",Data!B440)","v":""},{"$f":"IF(Data!C440=\"\",\"\",Data!C440)","v":""},{"$f":"IF(Data!D440=\"\",\"\",Data!D440)","v":""},{"$f":"IF(Data!E440=\"\",\"\",Data!E440)","v":""},{"$f":"IF(Data!F440=\"\",\"\",Data!F440)","v":""},{"$f":"IF(Data!G440=\"\",\"\",Data!G440)","v":""},{"$f":"IF(Data!H440=\"\",\"\",Data!H440)","v":""},{"$f":"IF(Data!I440=\"\",\"\",Data!I440)","v":""},{"$f":"IF(Data!J440=\"\",\"\",Data!J440)","v":""},{"$f":"IF(Data!K440=\"\",\"\",Data!K440)","v":""},{"$f":"IF(Data!L440=\"\",\"\",Data!L440)","v":""},{"$f":"IF(Data!M440=\"\",\"\",Data!M440)","v":""},{"$f":"IF(Data!N440=\"\",\"\",Data!N440)","v":""},{"$f":"IF(Data!O440=\"\",\"\",Data!O440)","v":""},{"$f":"IF(Data!P440=\"\",\"\",Data!P440)","v":""},{"$f":"IF(Data!Q440=\"\",\"\",Data!Q440)","v":""},{"$f":"IF(Data!R440=\"\",\"\",Data!R440)","v":""},{"$f":"IF(Data!S440=\"\",\"\",Data!S440)","v":""},null,null,null,null,440]
[{"$f":"IF(Data!A441=\"\",\"\",Data!A441)","v":""},"",{"$f":"IF(Data!B441=\"\",\"\",Data!B441)","v":""},{"$f":"IF(Data!C441=\"\",\"\",Data!C441)","v":""},{"$f":"IF(Data!D441=\"\",\"\",Data!D441)","v":""},{"$f":"IF(Data!E441=\"\",\"\",Data!E441)","v":""},{"$f":"IF(Data!F441=\"\",\"\",Data!F441)","v":""},{"$f":"IF(Data!G441=\"\",\"\",Data!G441)","v":""},{"$f":"IF(Data!H441=\"\",\"\",Data!H441)","v":""},{"$f":"IF(Data!I441=\"\",\"\",Data!I441)","v":""},{"$f":"IF(Data!J441=\"\",\"\",Data!J441)","v":""},{"$f":"IF(Data!K441=\"\",\"\",Data!K441)","v":""},{"$f":"IF(Data!L441=\"\",\"\",Data!L441)","v":""},{"$f":"IF(Data!M441=\"\",\"\",Data!M441)","v":""},{"$f":"IF(Data!N441=\"\",\"\",Data!N441)","v":""},{"$f":"IF(Data!O441=\"\",\"\",Data!O441)","v":""},{"$f":"IF(Data!P441=\"\",\"\",Data!P441)","v":""},{"$f":"IF(Data!Q441=\"\",\"\",Data!Q441)","v":""},{"$f":"IF(Data!R441=\"\",\"\",Data!R441)","v":""},{"$f":"IF(Data!S441=\"\",\"\",Data!S441)","v":""},null,null,null,null,441]
[{"$f":"IF(Data!A442=\"\",\"\",Data!A442)","v":""},"",{"$f":"IF(Data!B442=\"\",\"\",Data!B442)","v":""},{"$f":"IF(Data!C442=\"\",\"\",Data!C442)","v":""},{"$f":"IF(Data!D442=\"\",\"\",Data!D442)","v":""},{"$f":"IF(Data!E442=\"\",\"\",Data!E442)","v":""},{"$f":"IF(Data!F442=\"\",\"\",Data!F442)","v":""},{"$f":"IF(Data!G442=\"\",\"\",Data!G442)","v":""},{"$f":"IF(Data!H442=\"\",\"\",Data!H442)","v":""},{"$f":"IF(Data!I442=\"\",\"\",Data!I442)","v":""},{"$f":"IF(Data!J442=\"\",\"\",Data!J442)","v":""},{"$f":"IF(Data!K442=\"\",\"\",Data!K442)","v":""},{"$f":"IF(Data!L442=\"\",\"\",Data!L442)","v":""},{"$f":"IF(Data!M442=\"\",\"\",Data!M442)","v":""},{"$f":"IF(Data!N442=\"\",\"\",Data!N442)","v":""},{"$f":"IF(Data!O442=\"\",\"\",Data!O442)","v":""},{"$f":"IF(Data!P442=\"\",\"\",Data!P442)","v":""},{"$f":"IF(Data!Q442=\"\",\"\",Data!Q442)","v":""},{"$f":"IF(Data!R442=\"\",\"\",Data!R442)","v":""},{"$f":"IF(Data!S442=\"\",\"\",Data!S442)","v":""},null,null,null,null,442]
[{"$f":"IF(Data!A443=\"\",\"\",Data!A443)","v":""},"",{"$f":"IF(Data!B443=\"\",\"\",Data!B443)","v":""},{"$f":"IF(Data!C443=\"\",\"\",Data!C443)","v":""},{"$f":"IF(Data!D443=\"\",\"\",Data!D443)","v":""},{"$f":"IF(Data!E443=\"\",\"\",Data!E443)","v":""},{"$f":"IF(Data!F443=\"\",\"\",Data!F443)","v":""},{"$f":"IF(Data!G443=\"\",\"\",Data!G443)","v":""},{"$f":"IF(Data!H443=\"\",\"\",Data!H443)","v":""},{"$f":"IF(Data!I443=\"\",\"\",Data!I443)","v":""},{"$f":"IF(Data!J443=\"\",\"\",Data!J443)","v":""},{"$f":"IF(Data!K443=\"\",\"\",Data!K443)","v":""},{"$f":"IF(Data!L443=\"\",\"\",Data!L443)","v":""},{"$f":"IF(Data!M443=\"\",\"\",Data!M443)","v":""},{"$f":"IF(Data!N443=\"\",\"\",Data!N443)","v":""},{"$f":"IF(Data!O443=\"\",\"\",Data!O443)","v":""},{"$f":"IF(Data!P443=\"\",\"\",Data!P443)","v":""},{"$f":"IF(Data!Q443=\"\",\"\",Data!Q443)","v":""},{"$f":"IF(Data!R443=\"\",\"\",Data!R443)","v":""},{"$f":"IF(Data!S443=\"\",\"\",Data!S443)","v":""},null,null,null,null,443]
[{"$f":"IF(Data!A444=\"\",\"\",Data!A444)","v":""},"",{"$f":"IF(Data!B444=\"\",\"\",Data!B444)","v":""},{"$f":"IF(Data!C444=\"\",\"\",Data!C444)","v":""},{"$f":"IF(Data!D444=\"\",\"\",Data!D444)","v":""},{"$f":"IF(Data!E444=\"\",\"\",Data!E444)","v":""},{"$f":"IF(Data!F444=\"\",\"\",Data!F444)","v":""},{"$f":"IF(Data!G444=\"\",\"\",Data!G444)","v":""},{"$f":"IF(Data!H444=\"\",\"\",Data!H444)","v":""},{"$f":"IF(Data!I444=\"\",\"\",Data!I444)","v":""},{"$f":"IF(Data!J444=\"\",\"\",Data!J444)","v":""},{"$f":"IF(Data!K444=\"\",\"\",Data!K444)","v":""},{"$f":"IF(Data!L444=\"\",\"\",Data!L444)","v":""},{"$f":"IF(Data!M444=\"\",\"\",Data!M444)","v":""},{"$f":"IF(Data!N444=\"\",\"\",Data!N444)","v":""},{"$f":"IF(Data!O444=\"\",\"\",Data!O444)","v":""},{"$f":"IF(Data!P444=\"\",\"\",Data!P444)","v":""},{"$f":"IF(Data!Q444=\"\",\"\",Data!Q444)","v":""},{"$f":"IF(Data!R444=\"\",\"\",Data!R444)","v":""},{"$f":"IF(Data!S444=\"\",\"\",Data!S444)","v":""},null,null,null,null,444]
[{"$f":"IF(Data!A445=\"\",\"\",Data!A445)","v":""},"",{"$f":"IF(Data!B445=\"\",\"\",Data!B445)","v":""},{"$f":"IF(Data!C445=\"\",\"\",Data!C445)","v":""},{"$f":"IF(Data!D445=\"\",\"\",Data!D445)","v":""},{"$f":"IF(Data!E445=\"\",\"\",Data!E445)","v":""},{"$f":"IF(Data!F445=\"\",\"\",Data!F445)","v":""},{"$f":"IF(Data!G445=\"\",\"\",Data!G445)","v":""},{"$f":"IF(Data!H445=\"\",\"\",Data!H445)","v":""},{"$f":"IF(Data!I445=\"\",\"\",Data!I445)","v":""},{"$f":"IF(Data!J445=\"\",\"\",Data!J445)","v":""},{"$f":"IF(Data!K445=\"\",\"\",Data!K445)","v":""},{"$f":"IF(Data!L445=\"\",\"\",Data!L445)","v":""},{"$f":"IF(Data!M445=\"\",\"\",Data!M445)","v":""},{"$f":"IF(Data!N445=\"\",\"\",Data!N445)","v":""},{"$f":"IF(Data!O445=\"\",\"\",Data!O445)","v":""},{"$f":"IF(Data!P445=\"\",\"\",Data!P445)","v":""},{"$f":"IF(Data!Q445=\"\",\"\",Data!Q445)","v":""},{"$f":"IF(Data!R445=\"\",\"\",Data!R445)","v":""},{"$f":"IF(Data!S445=\"\",\"\",Data!S445)","v":""},null,null,null,null,445]
[{"$f":"IF(Data!A446=\"\",\"\",Data!A446)","v":""},"",{"$f":"IF(Data!B446=\"\",\"\",Data!B446)","v":""},{"$f":"IF(Data!C446=\"\",\"\",Data!C446)","v":""},{"$f":"IF(Data!D446=\"\",\"\",Data!D446)","v":""},{"$f":"IF(Data!E446=\"\",\"\",Data!E446)","v":""},{"$f":"IF(Data!F446=\"\",\"\",Data!F446)","v":""},{"$f":"IF(Data!G446=\"\",\"\",Data!G446)","v":""},{"$f":"IF(Data!H446=\"\",\"\",Data!H446)","v":""},{"$f":"IF(Data!I446=\"\",\"\",Data!I446)","v":""},{"$f":"IF(Data!J446=\"\",\"\",Data!J446)","v":""},{"$f":"IF(Data!K446=\"\",\"\",Data!K446)","v":""},{"$f":"IF(Data!L446=\"\",\"\",Data!L446)","v":""},{"$f":"IF(Data!M446=\"\",\"\",Data!M446)","v":""},{"$f":"IF(Data!N446=\"\",\"\",Data!N446)","v":""},{"$f":"IF(Data!O446=\"\",\"\",Data!O446)","v":""},{"$f":"IF(Data!P446=\"\",\"\",Data!P446)","v":""},{"$f":"IF(Data!Q446=\"\",\"\",Data!Q446)","v":""},{"$f":"IF(Data!R446=\"\",\"\",Data!R446)","v":""},{"$f":"IF(Data!S446=\"\",\"\",Data!S446)","v":""},null,null,null,null,446]
[{"$f":"IF(Data!A447=\"\",\"\",Data!A447)","v":""},"",{"$f":"IF(Data!B447=\"\",\"\",Data!B447)","v":""},{"$f":"IF(Data!C447=\"\",\"\",Data!C447)","v":""},{"$f":"IF(Data!D447=\"\",\"\",Data!D447)","v":""},{"$f":"IF(Data!E447=\"\",\"\",Data!E447)","v":""},{"$f":"IF(Data!F447=\"\",\"\",Data!F447)","v":""},{"$f":"IF(Data!G447=\"\",\"\",Data!G447)","v":""},{"$f":"IF(Data!H447=\"\",\"\",Data!H447)","v":""},{"$f":"IF(Data!I447=\"\",\"\",Data!I447)","v":""},{"$f":"IF(Data!J447=\"\",\"\",Data!J447)","v":""},{"$f":"IF(Data!K447=\"\",\"\",Data!K447)","v":""},{"$f":"IF(Data!L447=\"\",\"\",Data!L447)","v":""},{"$f":"IF(Data!M447=\"\",\"\",Data!M447)","v":""},{"$f":"IF(Data!N447=\"\",\"\",Data!N447)","v":""},{"$f":"IF(Data!O447=\"\",\"\",Data!O447)","v":""},{"$f":"IF(Data!P447=\"\",\"\",Data!P447)","v":""},{"$f":"IF(Data!Q447=\"\",\"\",Data!Q447)","v":""},{"$f":"IF(Data!R447=\"\",\"\",Data!R447)","v":""},{"$f":"IF(Data!S447=\"\",\"\",Data!S447)","v":""},null,null,null,null,447]
[{"$f":"IF(Data!A448=\"\",\"\",Data!A448)","v":""},"",{"$f":"IF(Data!B448=\"\",\"\",Data!B448)","v":""},{"$f":"IF(Data!C448=\"\",\"\",Data!C448)","v":""},{"$f":"IF(Data!D448=\"\",\"\",Data!D448)","v":""},{"$f":"IF(Data!E448=\"\",\"\",Data!E448)","v":""},{"$f":"IF(Data!F448=\"\",\"\",Data!F448)","v":""},{"$f":"IF(Data!G448=\"\",\"\",Data!G448)","v":""},{"$f":"IF(Data!H448=\"\",\"\",Data!H448)","v":""},{"$f":"IF(Data!I448=\"\",\"\",Data!I448)","v":""},{"$f":"IF(Data!J448=\"\",\"\",Data!J448)","v":""},{"$f":"IF(Data!K448=\"\",\"\",Data!K448)","v":""},{"$f":"IF(Data!L448=\"\",\"\",Data!L448)","v":""},{"$f":"IF(Data!M448=\"\",\"\",Data!M448)","v":""},{"$f":"IF(Data!N448=\"\",\"\",Data!N448)","v":""},{"$f":"IF(Data!O448=\"\",\"\",Data!O448)","v":""},{"$f":"IF(Data!P448=\"\",\"\",Data!P448)","v":""},{"$f":"IF(Data!Q448=\"\",\"\",Data!Q448)","v":""},{"$f":"IF(Data!R448=\"\",\"\",Data!R448)","v":""},{"$f":"IF(Data!S448=\"\",\"\",Data!S448)","v":""},null,null,null,null,448]
[{"$f":"IF(Data!A449=\"\",\"\",Data!A449)","v":""},{"$f":"IF(A450=\"\",\"\",Y450)","v":""},{"$f":"IF(Data!B449=\"\",\"\",Data!B449)","v":""},{"$f":"IF(Data!C449=\"\",\"\",Data!C449)","v":""},{"$f":"IF(Data!D449=\"\",\"\",Data!D449)","v":""},{"$f":"IF(Data!E449=\"\",\"\",Data!E449)","v":""},{"$f":"IF(Data!F449=\"\",\"\",Data!F449)","v":""},{"$f":"IF(Data!G449=\"\",\"\",Data!G449)","v":""},{"$f":"IF(Data!H449=\"\",\"\",Data!H449)","v":""},{"$f":"IF(Data!I449=\"\",\"\",Data!I449)","v":""},{"$f":"IF(Data!J449=\"\",\"\",Data!J449)","v":""},{"$f":"IF(Data!K449=\"\",\"\",Data!K449)","v":""},{"$f":"IF(Data!L449=\"\",\"\",Data!L449)","v":""},{"$f":"IF(Data!M449=\"\",\"\",Data!M449)","v":""},{"$f":"IF(Data!N449=\"\",\"\",Data!N449)","v":""},{"$f":"IF(Data!O449=\"\",\"\",Data!O449)","v":""},{"$f":"IF(Data!P449=\"\",\"\",Data!P449)","v":""},{"$f":"IF(Data!Q449=\"\",\"\",Data!Q449)","v":""},{"$f":"IF(Data!R449=\"\",\"\",Data!R449)","v":""},{"$f":"IF(Data!S449=\"\",\"\",Data!S449)","v":""},null,null,null,null,449]
[{"$f":"IF(Data!A450=\"\",\"\",Data!A450)","v":""},"",{"$f":"IF(Data!B450=\"\",\"\",Data!B450)","v":""},{"$f":"IF(Data!C450=\"\",\"\",Data!C450)","v":""},{"$f":"IF(Data!D450=\"\",\"\",Data!D450)","v":""},{"$f":"IF(Data!E450=\"\",\"\",Data!E450)","v":""},{"$f":"IF(Data!F450=\"\",\"\",Data!F450)","v":""},{"$f":"IF(Data!G450=\"\",\"\",Data!G450)","v":""},{"$f":"IF(Data!H450=\"\",\"\",Data!H450)","v":""},{"$f":"IF(Data!I450=\"\",\"\",Data!I450)","v":""},{"$f":"IF(Data!J450=\"\",\"\",Data!J450)","v":""},{"$f":"IF(Data!K450=\"\",\"\",Data!K450)","v":""},{"$f":"IF(Data!L450=\"\",\"\",Data!L450)","v":""},{"$f":"IF(Data!M450=\"\",\"\",Data!M450)","v":""},{"$f":"IF(Data!N450=\"\",\"\",Data!N450)","v":""},{"$f":"IF(Data!O450=\"\",\"\",Data!O450)","v":""},{"$f":"IF(Data!P450=\"\",\"\",Data!P450)","v":""},{"$f":"IF(Data!Q450=\"\",\"\",Data!Q450)","v":""},{"$f":"IF(Data!R450=\"\",\"\",Data!R450)","v":""},{"$f":"IF(Data!S450=\"\",\"\",Data!S450)","v":""},null,null,null,null,450]
[{"$f":"IF(Data!A451=\"\",\"\",Data!A451)","v":""},"",{"$f":"IF(Data!B451=\"\",\"\",Data!B451)","v":""},{"$f":"IF(Data!C451=\"\",\"\",Data!C451)","v":""},{"$f":"IF(Data!D451=\"\",\"\",Data!D451)","v":""},{"$f":"IF(Data!E451=\"\",\"\",Data!E451)","v":""},{"$f":"IF(Data!F451=\"\",\"\",Data!F451)","v":""},{"$f":"IF(Data!G451=\"\",\"\",Data!G451)","v":""},{"$f":"IF(Data!H451=\"\",\"\",Data!H451)","v":""},{"$f":"IF(Data!I451=\"\",\"\",Data!I451)","v":""},{"$f":"IF(Data!J451=\"\",\"\",Data!J451)","v":""},{"$f":"IF(Data!K451=\"\",\"\",Data!K451)","v":""},{"$f":"IF(Data!L451=\"\",\"\",Data!L451)","v":""},{"$f":"IF(Data!M451=\"\",\"\",Data!M451)","v":""},{"$f":"IF(Data!N451=\"\",\"\",Data!N451)","v":""},{"$f":"IF(Data!O451=\"\",\"\",Data!O451)","v":""},{"$f":"IF(Data!P451=\"\",\"\",Data!P451)","v":""},{"$f":"IF(Data!Q451=\"\",\"\",Data!Q451)","v":""},{"$f":"IF(Data!R451=\"\",\"\",Data!R451)","v":""},{"$f":"IF(Data!S451=\"\",\"\",Data!S451)","v":""},null,null,null,null,451]
[{"$f":"IF(Data!A452=\"\",\"\",Data!A452)","v":""},"",{"$f":"IF(Data!B452=\"\",\"\",Data!B452)","v":""},{"$f":"IF(Data!C452=\"\",\"\",Data!C452)","v":""},{"$f":"IF(Data!D452=\"\",\"\",Data!D452)","v":""},{"$f":"IF(Data!E452=\"\",\"\",Data!E452)","v":""},{"$f":"IF(Data!F452=\"\",\"\",Data!F452)","v":""},{"$f":"IF(Data!G452=\"\",\"\",Data!G452)","v":""},{"$f":"IF(Data!H452=\"\",\"\",Data!H452)","v":""},{"$f":"IF(Data!I452=\"\",\"\",Data!I452)","v":""},{"$f":"IF(Data!J452=\"\",\"\",Data!J452)","v":""},{"$f":"IF(Data!K452=\"\",\"\",Data!K452)","v":""},{"$f":"IF(Data!L452=\"\",\"\",Data!L452)","v":""},{"$f":"IF(Data!M452=\"\",\"\",Data!M452)","v":""},{"$f":"IF(Data!N452=\"\",\"\",Data!N452)","v":""},{"$f":"IF(Data!O452=\"\",\"\",Data!O452)","v":""},{"$f":"IF(Data!P452=\"\",\"\",Data!P452)","v":""},{"$f":"IF(Data!Q452=\"\",\"\",Data!Q452)","v":""},{"$f":"IF(Data!R452=\"\",\"\",Data!R452)","v":""},{"$f":"IF(Data!S452=\"\",\"\",Data!S452)","v":""},null,null,null,null,452]
[{"$f":"IF(Data!A453=\"\",\"\",Data!A453)","v":""},"",{"$f":"IF(Data!B453=\"\",\"\",Data!B453)","v":""},{"$f":"IF(Data!C453=\"\",\"\",Data!C453)","v":""},{"$f":"IF(Data!D453=\"\",\"\",Data!D453)","v":""},{"$f":"IF(Data!E453=\"\",\"\",Data!E453)","v":""},{"$f":"IF(Data!F453=\"\",\"\",Data!F453)","v":""},{"$f":"IF(Data!G453=\"\",\"\",Data!G453)","v":""},{"$f":"IF(Data!H453=\"\",\"\",Data!H453)","v":""},{"$f":"IF(Data!I453=\"\",\"\",Data!I453)","v":""},{"$f":"IF(Data!J453=\"\",\"\",Data!J453)","v":""},{"$f":"IF(Data!K453=\"\",\"\",Data!K453)","v":""},{"$f":"IF(Data!L453=\"\",\"\",Data!L453)","v":""},{"$f":"IF(Data!M453=\"\",\"\",Data!M453)","v":""},{"$f":"IF(Data!N453=\"\",\"\",Data!N453)","v":""},{"$f":"IF(Data!O453=\"\",\"\",Data!O453)","v":""},{"$f":"IF(Data!P453=\"\",\"\",Data!P453)","v":""},{"$f":"IF(Data!Q453=\"\",\"\",Data!Q453)","v":""},{"$f":"IF(Data!R453=\"\",\"\",Data!R453)","v":""},{"$f":"IF(Data!S453=\"\",\"\",Data!S453)","v":""},null,null,null,null,453]
[{"$f":"IF(Data!A454=\"\",\"\",Data!A454)","v":""},"",{"$f":"IF(Data!B454=\"\",\"\",Data!B454)","v":""},{"$f":"IF(Data!C454=\"\",\"\",Data!C454)","v":""},{"$f":"IF(Data!D454=\"\",\"\",Data!D454)","v":""},{"$f":"IF(Data!E454=\"\",\"\",Data!E454)","v":""},{"$f":"IF(Data!F454=\"\",\"\",Data!F454)","v":""},{"$f":"IF(Data!G454=\"\",\"\",Data!G454)","v":""},{"$f":"IF(Data!H454=\"\",\"\",Data!H454)","v":""},{"$f":"IF(Data!I454=\"\",\"\",Data!I454)","v":""},{"$f":"IF(Data!J454=\"\",\"\",Data!J454)","v":""},{"$f":"IF(Data!K454=\"\",\"\",Data!K454)","v":""},{"$f":"IF(Data!L454=\"\",\"\",Data!L454)","v":""},{"$f":"IF(Data!M454=\"\",\"\",Data!M454)","v":""},{"$f":"IF(Data!N454=\"\",\"\",Data!N454)","v":""},{"$f":"IF(Data!O454=\"\",\"\",Data!O454)","v":""},{"$f":"IF(Data!P454=\"\",\"\",Data!P454)","v":""},{"$f":"IF(Data!Q454=\"\",\"\",Data!Q454)","v":""},{"$f":"IF(Data!R454=\"\",\"\",Data!R454)","v":""},{"$f":"IF(Data!S454=\"\",\"\",Data!S454)","v":""},null,null,null,null,454]
[{"$f":"IF(Data!A455=\"\",\"\",Data!A455)","v":""},"",{"$f":"IF(Data!B455=\"\",\"\",Data!B455)","v":""},{"$f":"IF(Data!C455=\"\",\"\",Data!C455)","v":""},{"$f":"IF(Data!D455=\"\",\"\",Data!D455)","v":""},{"$f":"IF(Data!E455=\"\",\"\",Data!E455)","v":""},{"$f":"IF(Data!F455=\"\",\"\",Data!F455)","v":""},{"$f":"IF(Data!G455=\"\",\"\",Data!G455)","v":""},{"$f":"IF(Data!H455=\"\",\"\",Data!H455)","v":""},{"$f":"IF(Data!I455=\"\",\"\",Data!I455)","v":""},{"$f":"IF(Data!J455=\"\",\"\",Data!J455)","v":""},{"$f":"IF(Data!K455=\"\",\"\",Data!K455)","v":""},{"$f":"IF(Data!L455=\"\",\"\",Data!L455)","v":""},{"$f":"IF(Data!M455=\"\",\"\",Data!M455)","v":""},{"$f":"IF(Data!N455=\"\",\"\",Data!N455)","v":""},{"$f":"IF(Data!O455=\"\",\"\",Data!O455)","v":""},{"$f":"IF(Data!P455=\"\",\"\",Data!P455)","v":""},{"$f":"IF(Data!Q455=\"\",\"\",Data!Q455)","v":""},{"$f":"IF(Data!R455=\"\",\"\",Data!R455)","v":""},{"$f":"IF(Data!S455=\"\",\"\",Data!S455)","v":""},null,null,null,null,455]
[{"$f":"IF(Data!A456=\"\",\"\",Data!A456)","v":""},"",{"$f":"IF(Data!B456=\"\",\"\",Data!B456)","v":""},{"$f":"IF(Data!C456=\"\",\"\",Data!C456)","v":""},{"$f":"IF(Data!D456=\"\",\"\",Data!D456)","v":""},{"$f":"IF(Data!E456=\"\",\"\",Data!E456)","v":""},{"$f":"IF(Data!F456=\"\",\"\",Data!F456)","v":""},{"$f":"IF(Data!G456=\"\",\"\",Data!G456)","v":""},{"$f":"IF(Data!H456=\"\",\"\",Data!H456)","v":""},{"$f":"IF(Data!I456=\"\",\"\",Data!I456)","v":""},{"$f":"IF(Data!J456=\"\",\"\",Data!J456)","v":""},{"$f":"IF(Data!K456=\"\",\"\",Data!K456)","v":""},{"$f":"IF(Data!L456=\"\",\"\",Data!L456)","v":""},{"$f":"IF(Data!M456=\"\",\"\",Data!M456)","v":""},{"$f":"IF(Data!N456=\"\",\"\",Data!N456)","v":""},{"$f":"IF(Data!O456=\"\",\"\",Data!O456)","v":""},{"$f":"IF(Data!P456=\"\",\"\",Data!P456)","v":""},{"$f":"IF(Data!Q456=\"\",\"\",Data!Q456)","v":""},{"$f":"IF(Data!R456=\"\",\"\",Data!R456)","v":""},{"$f":"IF(Data!S456=\"\",\"\",Data!S456)","v":""},null,null,null,null,456]
[{"$f":"IF(Data!A457=\"\",\"\",Data!A457)","v":""},"",{"$f":"IF(Data!B457=\"\",\"\",Data!B457)","v":""},{"$f":"IF(Data!C457=\"\",\"\",Data!C457)","v":""},{"$f":"IF(Data!D457=\"\",\"\",Data!D457)","v":""},{"$f":"IF(Data!E457=\"\",\"\",Data!E457)","v":""},{"$f":"IF(Data!F457=\"\",\"\",Data!F457)","v":""},{"$f":"IF(Data!G457=\"\",\"\",Data!G457)","v":""},{"$f":"IF(Data!H457=\"\",\"\",Data!H457)","v":""},{"$f":"IF(Data!I457=\"\",\"\",Data!I457)","v":""},{"$f":"IF(Data!J457=\"\",\"\",Data!J457)","v":""},{"$f":"IF(Data!K457=\"\",\"\",Data!K457)","v":""},{"$f":"IF(Data!L457=\"\",\"\",Data!L457)","v":""},{"$f":"IF(Data!M457=\"\",\"\",Data!M457)","v":""},{"$f":"IF(Data!N457=\"\",\"\",Data!N457)","v":""},{"$f":"IF(Data!O457=\"\",\"\",Data!O457)","v":""},{"$f":"IF(Data!P457=\"\",\"\",Data!P457)","v":""},{"$f":"IF(Data!Q457=\"\",\"\",Data!Q457)","v":""},{"$f":"IF(Data!R457=\"\",\"\",Data!R457)","v":""},{"$f":"IF(Data!S457=\"\",\"\",Data!S457)","v":""},null,null,null,null,457]
[{"$f":"IF(Data!A458=\"\",\"\",Data!A458)","v":""},"",{"$f":"IF(Data!B458=\"\",\"\",Data!B458)","v":""},{"$f":"IF(Data!C458=\"\",\"\",Data!C458)","v":""},{"$f":"IF(Data!D458=\"\",\"\",Data!D458)","v":""},{"$f":"IF(Data!E458=\"\",\"\",Data!E458)","v":""},{"$f":"IF(Data!F458=\"\",\"\",Data!F458)","v":""},{"$f":"IF(Data!G458=\"\",\"\",Data!G458)","v":""},{"$f":"IF(Data!H458=\"\",\"\",Data!H458)","v":""},{"$f":"IF(Data!I458=\"\",\"\",Data!I458)","v":""},{"$f":"IF(Data!J458=\"\",\"\",Data!J458)","v":""},{"$f":"IF(Data!K458=\"\",\"\",Data!K458)","v":""},{"$f":"IF(Data!L458=\"\",\"\",Data!L458)","v":""},{"$f":"IF(Data!M458=\"\",\"\",Data!M458)","v":""},{"$f":"IF(Data!N458=\"\",\"\",Data!N458)","v":""},{"$f":"IF(Data!O458=\"\",\"\",Data!O458)","v":""},{"$f":"IF(Data!P458=\"\",\"\",Data!P458)","v":""},{"$f":"IF(Data!Q458=\"\",\"\",Data!Q458)","v":""},{"$f":"IF(Data!R458=\"\",\"\",Data!R458)","v":""},{"$f":"IF(Data!S458=\"\",\"\",Data!S458)","v":""},null,null,null,null,458]
[{"$f":"IF(Data!A459=\"\",\"\",Data!A459)","v":""},"",{"$f":"IF(Data!B459=\"\",\"\",Data!B459)","v":""},{"$f":"IF(Data!C459=\"\",\"\",Data!C459)","v":""},{"$f":"IF(Data!D459=\"\",\"\",Data!D459)","v":""},{"$f":"IF(Data!E459=\"\",\"\",Data!E459)","v":""},{"$f":"IF(Data!F459=\"\",\"\",Data!F459)","v":""},{"$f":"IF(Data!G459=\"\",\"\",Data!G459)","v":""},{"$f":"IF(Data!H459=\"\",\"\",Data!H459)","v":""},{"$f":"IF(Data!I459=\"\",\"\",Data!I459)","v":""},{"$f":"IF(Data!J459=\"\",\"\",Data!J459)","v":""},{"$f":"IF(Data!K459=\"\",\"\",Data!K459)","v":""},{"$f":"IF(Data!L459=\"\",\"\",Data!L459)","v":""},{"$f":"IF(Data!M459=\"\",\"\",Data!M459)","v":""},{"$f":"IF(Data!N459=\"\",\"\",Data!N459)","v":""},{"$f":"IF(Data!O459=\"\",\"\",Data!O459)","v":""},{"$f":"IF(Data!P459=\"\",\"\",Data!P459)","v":""},{"$f":"IF(Data!Q459=\"\",\"\",Data!Q459)","v":""},{"$f":"IF(Data!R459=\"\",\"\",Data!R459)","v":""},{"$f":"IF(Data!S459=\"\",\"\",Data!S459)","v":""},null,null,null,null,459]
[{"$f":"IF(Data!A460=\"\",\"\",Data!A460)","v":""},"",{"$f":"IF(Data!B460=\"\",\"\",Data!B460)","v":""},{"$f":"IF(Data!C460=\"\",\"\",Data!C460)","v":""},{"$f":"IF(Data!D460=\"\",\"\",Data!D460)","v":""},{"$f":"IF(Data!E460=\"\",\"\",Data!E460)","v":""},{"$f":"IF(Data!F460=\"\",\"\",Data!F460)","v":""},{"$f":"IF(Data!G460=\"\",\"\",Data!G460)","v":""},{"$f":"IF(Data!H460=\"\",\"\",Data!H460)","v":""},{"$f":"IF(Data!I460=\"\",\"\",Data!I460)","v":""},{"$f":"IF(Data!J460=\"\",\"\",Data!J460)","v":""},{"$f":"IF(Data!K460=\"\",\"\",Data!K460)","v":""},{"$f":"IF(Data!L460=\"\",\"\",Data!L460)","v":""},{"$f":"IF(Data!M460=\"\",\"\",Data!M460)","v":""},{"$f":"IF(Data!N460=\"\",\"\",Data!N460)","v":""},{"$f":"IF(Data!O460=\"\",\"\",Data!O460)","v":""},{"$f":"IF(Data!P460=\"\",\"\",Data!P460)","v":""},{"$f":"IF(Data!Q460=\"\",\"\",Data!Q460)","v":""},{"$f":"IF(Data!R460=\"\",\"\",Data!R460)","v":""},{"$f":"IF(Data!S460=\"\",\"\",Data!S460)","v":""},null,null,null,null,460]
[{"$f":"IF(Data!A461=\"\",\"\",Data!A461)","v":""},"",{"$f":"IF(Data!B461=\"\",\"\",Data!B461)","v":""},{"$f":"IF(Data!C461=\"\",\"\",Data!C461)","v":""},{"$f":"IF(Data!D461=\"\",\"\",Data!D461)","v":""},{"$f":"IF(Data!E461=\"\",\"\",Data!E461)","v":""},{"$f":"IF(Data!F461=\"\",\"\",Data!F461)","v":""},{"$f":"IF(Data!G461=\"\",\"\",Data!G461)","v":""},{"$f":"IF(Data!H461=\"\",\"\",Data!H461)","v":""},{"$f":"IF(Data!I461=\"\",\"\",Data!I461)","v":""},{"$f":"IF(Data!J461=\"\",\"\",Data!J461)","v":""},{"$f":"IF(Data!K461=\"\",\"\",Data!K461)","v":""},{"$f":"IF(Data!L461=\"\",\"\",Data!L461)","v":""},{"$f":"IF(Data!M461=\"\",\"\",Data!M461)","v":""},{"$f":"IF(Data!N461=\"\",\"\",Data!N461)","v":""},{"$f":"IF(Data!O461=\"\",\"\",Data!O461)","v":""},{"$f":"IF(Data!P461=\"\",\"\",Data!P461)","v":""},{"$f":"IF(Data!Q461=\"\",\"\",Data!Q461)","v":""},{"$f":"IF(Data!R461=\"\",\"\",Data!R461)","v":""},{"$f":"IF(Data!S461=\"\",\"\",Data!S461)","v":""},null,null,null,null,461]
[{"$f":"IF(Data!A462=\"\",\"\",Data!A462)","v":""},"",{"$f":"IF(Data!B462=\"\",\"\",Data!B462)","v":""},{"$f":"IF(Data!C462=\"\",\"\",Data!C462)","v":""},{"$f":"IF(Data!D462=\"\",\"\",Data!D462)","v":""},{"$f":"IF(Data!E462=\"\",\"\",Data!E462)","v":""},{"$f":"IF(Data!F462=\"\",\"\",Data!F462)","v":""},{"$f":"IF(Data!G462=\"\",\"\",Data!G462)","v":""},{"$f":"IF(Data!H462=\"\",\"\",Data!H462)","v":""},{"$f":"IF(Data!I462=\"\",\"\",Data!I462)","v":""},{"$f":"IF(Data!J462=\"\",\"\",Data!J462)","v":""},{"$f":"IF(Data!K462=\"\",\"\",Data!K462)","v":""},{"$f":"IF(Data!L462=\"\",\"\",Data!L462)","v":""},{"$f":"IF(Data!M462=\"\",\"\",Data!M462)","v":""},{"$f":"IF(Data!N462=\"\",\"\",Data!N462)","v":""},{"$f":"IF(Data!O462=\"\",\"\",Data!O462)","v":""},{"$f":"IF(Data!P462=\"\",\"\",Data!P462)","v":""},{"$f":"IF(Data!Q462=\"\",\"\",Data!Q462)","v":""},{"$f":"IF(Data!R462=\"\",\"\",Data!R462)","v":""},{"$f":"IF(Data!S462=\"\",\"\",Data!S462)","v":""},null,null,null,null,462]
[{"$f":"IF(Data!A463=\"\",\"\",Data!A463)","v":""},"",{"$f":"IF(Data!B463=\"\",\"\",Data!B463)","v":""},{"$f":"IF(Data!C463=\"\",\"\",Data!C463)","v":""},{"$f":"IF(Data!D463=\"\",\"\",Data!D463)","v":""},{"$f":"IF(Data!E463=\"\",\"\",Data!E463)","v":""},{"$f":"IF(Data!F463=\"\",\"\",Data!F463)","v":""},{"$f":"IF(Data!G463=\"\",\"\",Data!G463)","v":""},{"$f":"IF(Data!H463=\"\",\"\",Data!H463)","v":""},{"$f":"IF(Data!I463=\"\",\"\",Data!I463)","v":""},{"$f":"IF(Data!J463=\"\",\"\",Data!J463)","v":""},{"$f":"IF(Data!K463=\"\",\"\",Data!K463)","v":""},{"$f":"IF(Data!L463=\"\",\"\",Data!L463)","v":""},{"$f":"IF(Data!M463=\"\",\"\",Data!M463)","v":""},{"$f":"IF(Data!N463=\"\",\"\",Data!N463)","v":""},{"$f":"IF(Data!O463=\"\",\"\",Data!O463)","v":""},{"$f":"IF(Data!P463=\"\",\"\",Data!P463)","v":""},{"$f":"IF(Data!Q463=\"\",\"\",Data!Q463)","v":""},{"$f":"IF(Data!R463=\"\",\"\",Data!R463)","v":""},{"$f":"IF(Data!S463=\"\",\"\",Data!S463)","v":""},null,null,null,null,463]
[{"$f":"IF(Data!A464=\"\",\"\",Data!A464)","v":""},"",{"$f":"IF(Data!B464=\"\",\"\",Data!B464)","v":""},{"$f":"IF(Data!C464=\"\",\"\",Data!C464)","v":""},{"$f":"IF(Data!D464=\"\",\"\",Data!D464)","v":""},{"$f":"IF(Data!E464=\"\",\"\",Data!E464)","v":""},{"$f":"IF(Data!F464=\"\",\"\",Data!F464)","v":""},{"$f":"IF(Data!G464=\"\",\"\",Data!G464)","v":""},{"$f":"IF(Data!H464=\"\",\"\",Data!H464)","v":""},{"$f":"IF(Data!I464=\"\",\"\",Data!I464)","v":""},{"$f":"IF(Data!J464=\"\",\"\",Data!J464)","v":""},{"$f":"IF(Data!K464=\"\",\"\",Data!K464)","v":""},{"$f":"IF(Data!L464=\"\",\"\",Data!L464)","v":""},{"$f":"IF(Data!M464=\"\",\"\",Data!M464)","v":""},{"$f":"IF(Data!N464=\"\",\"\",Data!N464)","v":""},{"$f":"IF(Data!O464=\"\",\"\",Data!O464)","v":""},{"$f":"IF(Data!P464=\"\",\"\",Data!P464)","v":""},{"$f":"IF(Data!Q464=\"\",\"\",Data!Q464)","v":""},{"$f":"IF(Data!R464=\"\",\"\",Data!R464)","v":""},{"$f":"IF(Data!S464=\"\",\"\",Data!S464)","v":""},null,null,null,null,464]
[{"$f":"IF(Data!A465=\"\",\"\",Data!A465)","v":""},"",{"$f":"IF(Data!B465=\"\",\"\",Data!B465)","v":""},{"$f":"IF(Data!C465=\"\",\"\",Data!C465)","v":""},{"$f":"IF(Data!D465=\"\",\"\",Data!D465)","v":""},{"$f":"IF(Data!E465=\"\",\"\",Data!E465)","v":""},{"$f":"IF(Data!F465=\"\",\"\",Data!F465)","v":""},{"$f":"IF(Data!G465=\"\",\"\",Data!G465)","v":""},{"$f":"IF(Data!H465=\"\",\"\",Data!H465)","v":""},{"$f":"IF(Data!I465=\"\",\"\",Data!I465)","v":""},{"$f":"IF(Data!J465=\"\",\"\",Data!J465)","v":""},{"$f":"IF(Data!K465=\"\",\"\",Data!K465)","v":""},{"$f":"IF(Data!L465=\"\",\"\",Data!L465)","v":""},{"$f":"IF(Data!M465=\"\",\"\",Data!M465)","v":""},{"$f":"IF(Data!N465=\"\",\"\",Data!N465)","v":""},{"$f":"IF(Data!O465=\"\",\"\",Data!O465)","v":""},{"$f":"IF(Data!P465=\"\",\"\",Data!P465)","v":""},{"$f":"IF(Data!Q465=\"\",\"\",Data!Q465)","v":""},{"$f":"IF(Data!R465=\"\",\"\",Data!R465)","v":""},{"$f":"IF(Data!S465=\"\",\"\",Data!S465)","v":""},null,null,null,null,465]
[{"$f":"IF(Data!A466=\"\",\"\",Data!A466)","v":""},"",{"$f":"IF(Data!B466=\"\",\"\",Data!B466)","v":""},{"$f":"IF(Data!C466=\"\",\"\",Data!C466)","v":""},{"$f":"IF(Data!D466=\"\",\"\",Data!D466)","v":""},{"$f":"IF(Data!E466=\"\",\"\",Data!E466)","v":""},{"$f":"IF(Data!F466=\"\",\"\",Data!F466)","v":""},{"$f":"IF(Data!G466=\"\",\"\",Data!G466)","v":""},{"$f":"IF(Data!H466=\"\",\"\",Data!H466)","v":""},{"$f":"IF(Data!I466=\"\",\"\",Data!I466)","v":""},{"$f":"IF(Data!J466=\"\",\"\",Data!J466)","v":""},{"$f":"IF(Data!K466=\"\",\"\",Data!K466)","v":""},{"$f":"IF(Data!L466=\"\",\"\",Data!L466)","v":""},{"$f":"IF(Data!M466=\"\",\"\",Data!M466)","v":""},{"$f":"IF(Data!N466=\"\",\"\",Data!N466)","v":""},{"$f":"IF(Data!O466=\"\",\"\",Data!O466)","v":""},{"$f":"IF(Data!P466=\"\",\"\",Data!P466)","v":""},{"$f":"IF(Data!Q466=\"\",\"\",Data!Q466)","v":""},{"$f":"IF(Data!R466=\"\",\"\",Data!R466)","v":""},{"$f":"IF(Data!S466=\"\",\"\",Data!S466)","v":""},null,null,null,null,466]
[{"$f":"IF(Data!A467=\"\",\"\",Data!A467)","v":""},"",{"$f":"IF(Data!B467=\"\",\"\",Data!B467)","v":""},{"$f":"IF(Data!C467=\"\",\"\",Data!C467)","v":""},{"$f":"IF(Data!D467=\"\",\"\",Data!D467)","v":""},{"$f":"IF(Data!E467=\"\",\"\",Data!E467)","v":""},{"$f":"IF(Data!F467=\"\",\"\",Data!F467)","v":""},{"$f":"IF(Data!G467=\"\",\"\",Data!G467)","v":""},{"$f":"IF(Data!H467=\"\",\"\",Data!H467)","v":""},{"$f":"IF(Data!I467=\"\",\"\",Data!I467)","v":""},{"$f":"IF(Data!J467=\"\",\"\",Data!J467)","v":""},{"$f":"IF(Data!K467=\"\",\"\",Data!K467)","v":""},{"$f":"IF(Data!L467=\"\",\"\",Data!L467)","v":""},{"$f":"IF(Data!M467=\"\",\"\",Data!M467)","v":""},{"$f":"IF(Data!N467=\"\",\"\",Data!N467)","v":""},{"$f":"IF(Data!O467=\"\",\"\",Data!O467)","v":""},{"$f":"IF(Data!P467=\"\",\"\",Data!P467)","v":""},{"$f":"IF(Data!Q467=\"\",\"\",Data!Q467)","v":""},{"$f":"IF(Data!R467=\"\",\"\",Data!R467)","v":""},{"$f":"IF(Data!S467=\"\",\"\",Data!S467)","v":""},null,null,null,null,467]
[{"$f":"IF(Data!A468=\"\",\"\",Data!A468)","v":""},"",{"$f":"IF(Data!B468=\"\",\"\",Data!B468)","v":""},{"$f":"IF(Data!C468=\"\",\"\",Data!C468)","v":""},{"$f":"IF(Data!D468=\"\",\"\",Data!D468)","v":""},{"$f":"IF(Data!E468=\"\",\"\",Data!E468)","v":""},{"$f":"IF(Data!F468=\"\",\"\",Data!F468)","v":""},{"$f":"IF(Data!G468=\"\",\"\",Data!G468)","v":""},{"$f":"IF(Data!H468=\"\",\"\",Data!H468)","v":""},{"$f":"IF(Data!I468=\"\",\"\",Data!I468)","v":""},{"$f":"IF(Data!J468=\"\",\"\",Data!J468)","v":""},{"$f":"IF(Data!K468=\"\",\"\",Data!K468)","v":""},{"$f":"IF(Data!L468=\"\",\"\",Data!L468)","v":""},{"$f":"IF(Data!M468=\"\",\"\",Data!M468)","v":""},{"$f":"IF(Data!N468=\"\",\"\",Data!N468)","v":""},{"$f":"IF(Data!O468=\"\",\"\",Data!O468)","v":""},{"$f":"IF(Data!P468=\"\",\"\",Data!P468)","v":""},{"$f":"IF(Data!Q468=\"\",\"\",Data!Q468)","v":""},{"$f":"IF(Data!R468=\"\",\"\",Data!R468)","v":""},{"$f":"IF(Data!S468=\"\",\"\",Data!S468)","v":""},null,null,null,null,468]
[{"$f":"IF(Data!A469=\"\",\"\",Data!A469)","v":""},"",{"$f":"IF(Data!B469=\"\",\"\",Data!B469)","v":""},{"$f":"IF(Data!C469=\"\",\"\",Data!C469)","v":""},{"$f":"IF(Data!D469=\"\",\"\",Data!D469)","v":""},{"$f":"IF(Data!E469=\"\",\"\",Data!E469)","v":""},{"$f":"IF(Data!F469=\"\",\"\",Data!F469)","v":""},{"$f":"IF(Data!G469=\"\",\"\",Data!G469)","v":""},{"$f":"IF(Data!H469=\"\",\"\",Data!H469)","v":""},{"$f":"IF(Data!I469=\"\",\"\",Data!I469)","v":""},{"$f":"IF(Data!J469=\"\",\"\",Data!J469)","v":""},{"$f":"IF(Data!K469=\"\",\"\",Data!K469)","v":""},{"$f":"IF(Data!L469=\"\",\"\",Data!L469)","v":""},{"$f":"IF(Data!M469=\"\",\"\",Data!M469)","v":""},{"$f":"IF(Data!N469=\"\",\"\",Data!N469)","v":""},{"$f":"IF(Data!O469=\"\",\"\",Data!O469)","v":""},{"$f":"IF(Data!P469=\"\",\"\",Data!P469)","v":""},{"$f":"IF(Data!Q469=\"\",\"\",Data!Q469)","v":""},{"$f":"IF(Data!R469=\"\",\"\",Data!R469)","v":""},{"$f":"IF(Data!S469=\"\",\"\",Data!S469)","v":""},null,null,null,null,469]
[{"$f":"IF(Data!A470=\"\",\"\",Data!A470)","v":""},"",{"$f":"IF(Data!B470=\"\",\"\",Data!B470)","v":""},{"$f":"IF(Data!C470=\"\",\"\",Data!C470)","v":""},{"$f":"IF(Data!D470=\"\",\"\",Data!D470)","v":""},{"$f":"IF(Data!E470=\"\",\"\",Data!E470)","v":""},{"$f":"IF(Data!F470=\"\",\"\",Data!F470)","v":""},{"$f":"IF(Data!G470=\"\",\"\",Data!G470)","v":""},{"$f":"IF(Data!H470=\"\",\"\",Data!H470)","v":""},{"$f":"IF(Data!I470=\"\",\"\",Data!I470)","v":""},{"$f":"IF(Data!J470=\"\",\"\",Data!J470)","v":""},{"$f":"IF(Data!K470=\"\",\"\",Data!K470)","v":""},{"$f":"IF(Data!L470=\"\",\"\",Data!L470)","v":""},{"$f":"IF(Data!M470=\"\",\"\",Data!M470)","v":""},{"$f":"IF(Data!N470=\"\",\"\",Data!N470)","v":""},{"$f":"IF(Data!O470=\"\",\"\",Data!O470)","v":""},{"$f":"IF(Data!P470=\"\",\"\",Data!P470)","v":""},{"$f":"IF(Data!Q470=\"\",\"\",Data!Q470)","v":""},{"$f":"IF(Data!R470=\"\",\"\",Data!R470)","v":""},{"$f":"IF(Data!S470=\"\",\"\",Data!S470)","v":""},null,null,null,null,470]
[{"$f":"IF(Data!A471=\"\",\"\",Data!A471)","v":""},"",{"$f":"IF(Data!B471=\"\",\"\",Data!B471)","v":""},{"$f":"IF(Data!C471=\"\",\"\",Data!C471)","v":""},{"$f":"IF(Data!D471=\"\",\"\",Data!D471)","v":""},{"$f":"IF(Data!E471=\"\",\"\",Data!E471)","v":""},{"$f":"IF(Data!F471=\"\",\"\",Data!F471)","v":""},{"$f":"IF(Data!G471=\"\",\"\",Data!G471)","v":""},{"$f":"IF(Data!H471=\"\",\"\",Data!H471)","v":""},{"$f":"IF(Data!I471=\"\",\"\",Data!I471)","v":""},{"$f":"IF(Data!J471=\"\",\"\",Data!J471)","v":""},{"$f":"IF(Data!K471=\"\",\"\",Data!K471)","v":""},{"$f":"IF(Data!L471=\"\",\"\",Data!L471)","v":""},{"$f":"IF(Data!M471=\"\",\"\",Data!M471)","v":""},{"$f":"IF(Data!N471=\"\",\"\",Data!N471)","v":""},{"$f":"IF(Data!O471=\"\",\"\",Data!O471)","v":""},{"$f":"IF(Data!P471=\"\",\"\",Data!P471)","v":""},{"$f":"IF(Data!Q471=\"\",\"\",Data!Q471)","v":""},{"$f":"IF(Data!R471=\"\",\"\",Data!R471)","v":""},{"$f":"IF(Data!S471=\"\",\"\",Data!S471)","v":""},null,null,null,null,471]
[{"$f":"IF(Data!A472=\"\",\"\",Data!A472)","v":""},"",{"$f":"IF(Data!B472=\"\",\"\",Data!B472)","v":""},{"$f":"IF(Data!C472=\"\",\"\",Data!C472)","v":""},{"$f":"IF(Data!D472=\"\",\"\",Data!D472)","v":""},{"$f":"IF(Data!E472=\"\",\"\",Data!E472)","v":""},{"$f":"IF(Data!F472=\"\",\"\",Data!F472)","v":""},{"$f":"IF(Data!G472=\"\",\"\",Data!G472)","v":""},{"$f":"IF(Data!H472=\"\",\"\",Data!H472)","v":""},{"$f":"IF(Data!I472=\"\",\"\",Data!I472)","v":""},{"$f":"IF(Data!J472=\"\",\"\",Data!J472)","v":""},{"$f":"IF(Data!K472=\"\",\"\",Data!K472)","v":""},{"$f":"IF(Data!L472=\"\",\"\",Data!L472)","v":""},{"$f":"IF(Data!M472=\"\",\"\",Data!M472)","v":""},{"$f":"IF(Data!N472=\"\",\"\",Data!N472)","v":""},{"$f":"IF(Data!O472=\"\",\"\",Data!O472)","v":""},{"$f":"IF(Data!P472=\"\",\"\",Data!P472)","v":""},{"$f":"IF(Data!Q472=\"\",\"\",Data!Q472)","v":""},{"$f":"IF(Data!R472=\"\",\"\",Data!R472)","v":""},{"$f":"IF(Data!S472=\"\",\"\",Data!S472)","v":""},null,null,null,null,472]
[{"$f":"IF(Data!A473=\"\",\"\",Data!A473)","v":""},"",{"$f":"IF(Data!B473=\"\",\"\",Data!B473)","v":""},{"$f":"IF(Data!C473=\"\",\"\",Data!C473)","v":""},{"$f":"IF(Data!D473=\"\",\"\",Data!D473)","v":""},{"$f":"IF(Data!E473=\"\",\"\",Data!E473)","v":""},{"$f":"IF(Data!F473=\"\",\"\",Data!F473)","v":""},{"$f":"IF(Data!G473=\"\",\"\",Data!G473)","v":""},{"$f":"IF(Data!H473=\"\",\"\",Data!H473)","v":""},{"$f":"IF(Data!I473=\"\",\"\",Data!I473)","v":""},{"$f":"IF(Data!J473=\"\",\"\",Data!J473)","v":""},{"$f":"IF(Data!K473=\"\",\"\",Data!K473)","v":""},{"$f":"IF(Data!L473=\"\",\"\",Data!L473)","v":""},{"$f":"IF(Data!M473=\"\",\"\",Data!M473)","v":""},{"$f":"IF(Data!N473=\"\",\"\",Data!N473)","v":""},{"$f":"IF(Data!O473=\"\",\"\",Data!O473)","v":""},{"$f":"IF(Data!P473=\"\",\"\",Data!P473)","v":""},{"$f":"IF(Data!Q473=\"\",\"\",Data!Q473)","v":""},{"$f":"IF(Data!R473=\"\",\"\",Data!R473)","v":""},{"$f":"IF(Data!S473=\"\",\"\",Data!S473)","v":""},null,null,null,null,473]
[{"$f":"IF(Data!A474=\"\",\"\",Data!A474)","v":""},"",{"$f":"IF(Data!B474=\"\",\"\",Data!B474)","v":""},{"$f":"IF(Data!C474=\"\",\"\",Data!C474)","v":""},{"$f":"IF(Data!D474=\"\",\"\",Data!D474)","v":""},{"$f":"IF(Data!E474=\"\",\"\",Data!E474)","v":""},{"$f":"IF(Data!F474=\"\",\"\",Data!F474)","v":""},{"$f":"IF(Data!G474=\"\",\"\",Data!G474)","v":""},{"$f":"IF(Data!H474=\"\",\"\",Data!H474)","v":""},{"$f":"IF(Data!I474=\"\",\"\",Data!I474)","v":""},{"$f":"IF(Data!J474=\"\",\"\",Data!J474)","v":""},{"$f":"IF(Data!K474=\"\",\"\",Data!K474)","v":""},{"$f":"IF(Data!L474=\"\",\"\",Data!L474)","v":""},{"$f":"IF(Data!M474=\"\",\"\",Data!M474)","v":""},{"$f":"IF(Data!N474=\"\",\"\",Data!N474)","v":""},{"$f":"IF(Data!O474=\"\",\"\",Data!O474)","v":""},{"$f":"IF(Data!P474=\"\",\"\",Data!P474)","v":""},{"$f":"IF(Data!Q474=\"\",\"\",Data!Q474)","v":""},{"$f":"IF(Data!R474=\"\",\"\",Data!R474)","v":""},{"$f":"IF(Data!S474=\"\",\"\",Data!S474)","v":""},null,null,null,null,474]
[{"$f":"IF(Data!A475=\"\",\"\",Data!A475)","v":""},"",{"$f":"IF(Data!B475=\"\",\"\",Data!B475)","v":""},{"$f":"IF(Data!C475=\"\",\"\",Data!C475)","v":""},{"$f":"IF(Data!D475=\"\",\"\",Data!D475)","v":""},{"$f":"IF(Data!E475=\"\",\"\",Data!E475)","v":""},{"$f":"IF(Data!F475=\"\",\"\",Data!F475)","v":""},{"$f":"IF(Data!G475=\"\",\"\",Data!G475)","v":""},{"$f":"IF(Data!H475=\"\",\"\",Data!H475)","v":""},{"$f":"IF(Data!I475=\"\",\"\",Data!I475)","v":""},{"$f":"IF(Data!J475=\"\",\"\",Data!J475)","v":""},{"$f":"IF(Data!K475=\"\",\"\",Data!K475)","v":""},{"$f":"IF(Data!L475=\"\",\"\",Data!L475)","v":""},{"$f":"IF(Data!M475=\"\",\"\",Data!M475)","v":""},{"$f":"IF(Data!N475=\"\",\"\",Data!N475)","v":""},{"$f":"IF(Data!O475=\"\",\"\",Data!O475)","v":""},{"$f":"IF(Data!P475=\"\",\"\",Data!P475)","v":""},{"$f":"IF(Data!Q475=\"\",\"\",Data!Q475)","v":""},{"$f":"IF(Data!R475=\"\",\"\",Data!R475)","v":""},{"$f":"IF(Data!S475=\"\",\"\",Data!S475)","v":""},null,null,null,null,475]
[{"$f":"IF(Data!A476=\"\",\"\",Data!A476)","v":""},"",{"$f":"IF(Data!B476=\"\",\"\",Data!B476)","v":""},{"$f":"IF(Data!C476=\"\",\"\",Data!C476)","v":""},{"$f":"IF(Data!D476=\"\",\"\",Data!D476)","v":""},{"$f":"IF(Data!E476=\"\",\"\",Data!E476)","v":""},{"$f":"IF(Data!F476=\"\",\"\",Data!F476)","v":""},{"$f":"IF(Data!G476=\"\",\"\",Data!G476)","v":""},{"$f":"IF(Data!H476=\"\",\"\",Data!H476)","v":""},{"$f":"IF(Data!I476=\"\",\"\",Data!I476)","v":""},{"$f":"IF(Data!J476=\"\",\"\",Data!J476)","v":""},{"$f":"IF(Data!K476=\"\",\"\",Data!K476)","v":""},{"$f":"IF(Data!L476=\"\",\"\",Data!L476)","v":""},{"$f":"IF(Data!M476=\"\",\"\",Data!M476)","v":""},{"$f":"IF(Data!N476=\"\",\"\",Data!N476)","v":""},{"$f":"IF(Data!O476=\"\",\"\",Data!O476)","v":""},{"$f":"IF(Data!P476=\"\",\"\",Data!P476)","v":""},{"$f":"IF(Data!Q476=\"\",\"\",Data!Q476)","v":""},{"$f":"IF(Data!R476=\"\",\"\",Data!R476)","v":""},{"$f":"IF(Data!S476=\"\",\"\",Data!S476)","v":""},null,null,null,null,476]
[{"$f":"IF(Data!A477=\"\",\"\",Data!A477)","v":""},"",{"$f":"IF(Data!B477=\"\",\"\",Data!B477)","v":""},{"$f":"IF(Data!C477=\"\",\"\",Data!C477)","v":""},{"$f":"IF(Data!D477=\"\",\"\",Data!D477)","v":""},{"$f":"IF(Data!E477=\"\",\"\",Data!E477)","v":""},{"$f":"IF(Data!F477=\"\",\"\",Data!F477)","v":""},{"$f":"IF(Data!G477=\"\",\"\",Data!G477)","v":""},{"$f":"IF(Data!H477=\"\",\"\",Data!H477)","v":""},{"$f":"IF(Data!I477=\"\",\"\",Data!I477)","v":""},{"$f":"IF(Data!J477=\"\",\"\",Data!J477)","v":""},{"$f":"IF(Data!K477=\"\",\"\",Data!K477)","v":""},{"$f":"IF(Data!L477=\"\",\"\",Data!L477)","v":""},{"$f":"IF(Data!M477=\"\",\"\",Data!M477)","v":""},{"$f":"IF(Data!N477=\"\",\"\",Data!N477)","v":""},{"$f":"IF(Data!O477=\"\",\"\",Data!O477)","v":""},{"$f":"IF(Data!P477=\"\",\"\",Data!P477)","v":""},{"$f":"IF(Data!Q477=\"\",\"\",Data!Q477)","v":""},{"$f":"IF(Data!R477=\"\",\"\",Data!R477)","v":""},{"$f":"IF(Data!S477=\"\",\"\",Data!S477)","v":""},null,null,null,null,477]
[{"$f":"IF(Data!A478=\"\",\"\",Data!A478)","v":""},"",{"$f":"IF(Data!B478=\"\",\"\",Data!B478)","v":""},{"$f":"IF(Data!C478=\"\",\"\",Data!C478)","v":""},{"$f":"IF(Data!D478=\"\",\"\",Data!D478)","v":""},{"$f":"IF(Data!E478=\"\",\"\",Data!E478)","v":""},{"$f":"IF(Data!F478=\"\",\"\",Data!F478)","v":""},{"$f":"IF(Data!G478=\"\",\"\",Data!G478)","v":""},{"$f":"IF(Data!H478=\"\",\"\",Data!H478)","v":""},{"$f":"IF(Data!I478=\"\",\"\",Data!I478)","v":""},{"$f":"IF(Data!J478=\"\",\"\",Data!J478)","v":""},{"$f":"IF(Data!K478=\"\",\"\",Data!K478)","v":""},{"$f":"IF(Data!L478=\"\",\"\",Data!L478)","v":""},{"$f":"IF(Data!M478=\"\",\"\",Data!M478)","v":""},{"$f":"IF(Data!N478=\"\",\"\",Data!N478)","v":""},{"$f":"IF(Data!O478=\"\",\"\",Data!O478)","v":""},{"$f":"IF(Data!P478=\"\",\"\",Data!P478)","v":""},{"$f":"IF(Data!Q478=\"\",\"\",Data!Q478)","v":""},{"$f":"IF(Data!R478=\"\",\"\",Data!R478)","v":""},{"$f":"IF(Data!S478=\"\",\"\",Data!S478)","v":""},null,null,null,null,478]
[{"$f":"IF(Data!A479=\"\",\"\",Data!A479)","v":""},"",{"$f":"IF(Data!B479=\"\",\"\",Data!B479)","v":""},{"$f":"IF(Data!C479=\"\",\"\",Data!C479)","v":""},{"$f":"IF(Data!D479=\"\",\"\",Data!D479)","v":""},{"$f":"IF(Data!E479=\"\",\"\",Data!E479)","v":""},{"$f":"IF(Data!F479=\"\",\"\",Data!F479)","v":""},{"$f":"IF(Data!G479=\"\",\"\",Data!G479)","v":""},{"$f":"IF(Data!H479=\"\",\"\",Data!H479)","v":""},{"$f":"IF(Data!I479=\"\",\"\",Data!I479)","v":""},{"$f":"IF(Data!J479=\"\",\"\",Data!J479)","v":""},{"$f":"IF(Data!K479=\"\",\"\",Data!K479)","v":""},{"$f":"IF(Data!L479=\"\",\"\",Data!L479)","v":""},{"$f":"IF(Data!M479=\"\",\"\",Data!M479)","v":""},{"$f":"IF(Data!N479=\"\",\"\",Data!N479)","v":""},{"$f":"IF(Data!O479=\"\",\"\",Data!O479)","v":""},{"$f":"IF(Data!P479=\"\",\"\",Data!P479)","v":""},{"$f":"IF(Data!Q479=\"\",\"\",Data!Q479)","v":""},{"$f":"IF(Data!R479=\"\",\"\",Data!R479)","v":""},{"$f":"IF(Data!S479=\"\",\"\",Data!S479)","v":""},null,null,null,null,479]
[{"$f":"IF(Data!A480=\"\",\"\",Data!A480)","v":""},"",{"$f":"IF(Data!B480=\"\",\"\",Data!B480)","v":""},{"$f":"IF(Data!C480=\"\",\"\",Data!C480)","v":""},{"$f":"IF(Data!D480=\"\",\"\",Data!D480)","v":""},{"$f":"IF(Data!E480=\"\",\"\",Data!E480)","v":""},{"$f":"IF(Data!F480=\"\",\"\",Data!F480)","v":""},{"$f":"IF(Data!G480=\"\",\"\",Data!G480)","v":""},{"$f":"IF(Data!H480=\"\",\"\",Data!H480)","v":""},{"$f":"IF(Data!I480=\"\",\"\",Data!I480)","v":""},{"$f":"IF(Data!J480=\"\",\"\",Data!J480)","v":""},{"$f":"IF(Data!K480=\"\",\"\",Data!K480)","v":""},{"$f":"IF(Data!L480=\"\",\"\",Data!L480)","v":""},{"$f":"IF(Data!M480=\"\",\"\",Data!M480)","v":""},{"$f":"IF(Data!N480=\"\",\"\",Data!N480)","v":""},{"$f":"IF(Data!O480=\"\",\"\",Data!O480)","v":""},{"$f":"IF(Data!P480=\"\",\"\",Data!P480)","v":""},{"$f":"IF(Data!Q480=\"\",\"\",Data!Q480)","v":""},{"$f":"IF(Data!R480=\"\",\"\",Data!R480)","v":""},{"$f":"IF(Data!S480=\"\",\"\",Data!S480)","v":""},null,null,null,null,480]
[{"$f":"IF(Data!A481=\"\",\"\",Data!A481)","v":""},"",{"$f":"IF(Data!B481=\"\",\"\",Data!B481)","v":""},{"$f":"IF(Data!C481=\"\",\"\",Data!C481)","v":""},{"$f":"IF(Data!D481=\"\",\"\",Data!D481)","v":""},{"$f":"IF(Data!E481=\"\",\"\",Data!E481)","v":""},{"$f":"IF(Data!F481=\"\",\"\",Data!F481)","v":""},{"$f":"IF(Data!G481=\"\",\"\",Data!G481)","v":""},{"$f":"IF(Data!H481=\"\",\"\",Data!H481)","v":""},{"$f":"IF(Data!I481=\"\",\"\",Data!I481)","v":""},{"$f":"IF(Data!J481=\"\",\"\",Data!J481)","v":""},{"$f":"IF(Data!K481=\"\",\"\",Data!K481)","v":""},{"$f":"IF(Data!L481=\"\",\"\",Data!L481)","v":""},{"$f":"IF(Data!M481=\"\",\"\",Data!M481)","v":""},{"$f":"IF(Data!N481=\"\",\"\",Data!N481)","v":""},{"$f":"IF(Data!O481=\"\",\"\",Data!O481)","v":""},{"$f":"IF(Data!P481=\"\",\"\",Data!P481)","v":""},{"$f":"IF(Data!Q481=\"\",\"\",Data!Q481)","v":""},{"$f":"IF(Data!R481=\"\",\"\",Data!R481)","v":""},{"$f":"IF(Data!S481=\"\",\"\",Data!S481)","v":""},null,null,null,null,481]
[{"$f":"IF(Data!A482=\"\",\"\",Data!A482)","v":""},"",{"$f":"IF(Data!B482=\"\",\"\",Data!B482)","v":""},{"$f":"IF(Data!C482=\"\",\"\",Data!C482)","v":""},{"$f":"IF(Data!D482=\"\",\"\",Data!D482)","v":""},{"$f":"IF(Data!E482=\"\",\"\",Data!E482)","v":""},{"$f":"IF(Data!F482=\"\",\"\",Data!F482)","v":""},{"$f":"IF(Data!G482=\"\",\"\",Data!G482)","v":""},{"$f":"IF(Data!H482=\"\",\"\",Data!H482)","v":""},{"$f":"IF(Data!I482=\"\",\"\",Data!I482)","v":""},{"$f":"IF(Data!J482=\"\",\"\",Data!J482)","v":""},{"$f":"IF(Data!K482=\"\",\"\",Data!K482)","v":""},{"$f":"IF(Data!L482=\"\",\"\",Data!L482)","v":""},{"$f":"IF(Data!M482=\"\",\"\",Data!M482)","v":""},{"$f":"IF(Data!N482=\"\",\"\",Data!N482)","v":""},{"$f":"IF(Data!O482=\"\",\"\",Data!O482)","v":""},{"$f":"IF(Data!P482=\"\",\"\",Data!P482)","v":""},{"$f":"IF(Data!Q482=\"\",\"\",Data!Q482)","v":""},{"$f":"IF(Data!R482=\"\",\"\",Data!R482)","v":""},{"$f":"IF(Data!S482=\"\",\"\",Data!S482)","v":""},null,null,null,null,482]
[{"$f":"IF(Data!A483=\"\",\"\",Data!A483)","v":""},"",{"$f":"IF(Data!B483=\"\",\"\",Data!B483)","v":""},{"$f":"IF(Data!C483=\"\",\"\",Data!C483)","v":""},{"$f":"IF(Data!D483=\"\",\"\",Data!D483)","v":""},{"$f":"IF(Data!E483=\"\",\"\",Data!E483)","v":""},{"$f":"IF(Data!F483=\"\",\"\",Data!F483)","v":""},{"$f":"IF(Data!G483=\"\",\"\",Data!G483)","v":""},{"$f":"IF(Data!H483=\"\",\"\",Data!H483)","v":""},{"$f":"IF(Data!I483=\"\",\"\",Data!I483)","v":""},{"$f":"IF(Data!J483=\"\",\"\",Data!J483)","v":""},{"$f":"IF(Data!K483=\"\",\"\",Data!K483)","v":""},{"$f":"IF(Data!L483=\"\",\"\",Data!L483)","v":""},{"$f":"IF(Data!M483=\"\",\"\",Data!M483)","v":""},{"$f":"IF(Data!N483=\"\",\"\",Data!N483)","v":""},{"$f":"IF(Data!O483=\"\",\"\",Data!O483)","v":""},{"$f":"IF(Data!P483=\"\",\"\",Data!P483)","v":""},{"$f":"IF(Data!Q483=\"\",\"\",Data!Q483)","v":""},{"$f":"IF(Data!R483=\"\",\"\",Data!R483)","v":""},{"$f":"IF(Data!S483=\"\",\"\",Data!S483)","v":""},null,null,null,null,483]
[{"$f":"IF(Data!A484=\"\",\"\",Data!A484)","v":""},"",{"$f":"IF(Data!B484=\"\",\"\",Data!B484)","v":""},{"$f":"IF(Data!C484=\"\",\"\",Data!C484)","v":""},{"$f":"IF(Data!D484=\"\",\"\",Data!D484)","v":""},{"$f":"IF(Data!E484=\"\",\"\",Data!E484)","v":""},{"$f":"IF(Data!F484=\"\",\"\",Data!F484)","v":""},{"$f":"IF(Data!G484=\"\",\"\",Data!G484)","v":""},{"$f":"IF(Data!H484=\"\",\"\",Data!H484)","v":""},{"$f":"IF(Data!I484=\"\",\"\",Data!I484)","v":""},{"$f":"IF(Data!J484=\"\",\"\",Data!J484)","v":""},{"$f":"IF(Data!K484=\"\",\"\",Data!K484)","v":""},{"$f":"IF(Data!L484=\"\",\"\",Data!L484)","v":""},{"$f":"IF(Data!M484=\"\",\"\",Data!M484)","v":""},{"$f":"IF(Data!N484=\"\",\"\",Data!N484)","v":""},{"$f":"IF(Data!O484=\"\",\"\",Data!O484)","v":""},{"$f":"IF(Data!P484=\"\",\"\",Data!P484)","v":""},{"$f":"IF(Data!Q484=\"\",\"\",Data!Q484)","v":""},{"$f":"IF(Data!R484=\"\",\"\",Data!R484)","v":""},{"$f":"IF(Data!S484=\"\",\"\",Data!S484)","v":""},null,null,null,null,484]
[{"$f":"IF(Data!A485=\"\",\"\",Data!A485)","v":""},"",{"$f":"IF(Data!B485=\"\",\"\",Data!B485)","v":""},{"$f":"IF(Data!C485=\"\",\"\",Data!C485)","v":""},{"$f":"IF(Data!D485=\"\",\"\",Data!D485)","v":""},{"$f":"IF(Data!E485=\"\",\"\",Data!E485)","v":""},{"$f":"IF(Data!F485=\"\",\"\",Data!F485)","v":""},{"$f":"IF(Data!G485=\"\",\"\",Data!G485)","v":""},{"$f":"IF(Data!H485=\"\",\"\",Data!H485)","v":""},{"$f":"IF(Data!I485=\"\",\"\",Data!I485)","v":""},{"$f":"IF(Data!J485=\"\",\"\",Data!J485)","v":""},{"$f":"IF(Data!K485=\"\",\"\",Data!K485)","v":""},{"$f":"IF(Data!L485=\"\",\"\",Data!L485)","v":""},{"$f":"IF(Data!M485=\"\",\"\",Data!M485)","v":""},{"$f":"IF(Data!N485=\"\",\"\",Data!N485)","v":""},{"$f":"IF(Data!O485=\"\",\"\",Data!O485)","v":""},{"$f":"IF(Data!P485=\"\",\"\",Data!P485)","v":""},{"$f":"IF(Data!Q485=\"\",\"\",Data!Q485)","v":""},{"$f":"IF(Data!R485=\"\",\"\",Data!R485)","v":""},{"$f":"IF(Data!S485=\"\",\"\",Data!S485)","v":""},null,null,null,null,485]
[{"$f":"IF(Data!A486=\"\",\"\",Data!A486)","v":""},"",{"$f":"IF(Data!B486=\"\",\"\",Data!B486)","v":""},{"$f":"IF(Data!C486=\"\",\"\",Data!C486)","v":""},{"$f":"IF(Data!D486=\"\",\"\",Data!D486)","v":""},{"$f":"IF(Data!E486=\"\",\"\",Data!E486)","v":""},{"$f":"IF(Data!F486=\"\",\"\",Data!F486)","v":""},{"$f":"IF(Data!G486=\"\",\"\",Data!G486)","v":""},{"$f":"IF(Data!H486=\"\",\"\",Data!H486)","v":""},{"$f":"IF(Data!I486=\"\",\"\",Data!I486)","v":""},{"$f":"IF(Data!J486=\"\",\"\",Data!J486)","v":""},{"$f":"IF(Data!K486=\"\",\"\",Data!K486)","v":""},{"$f":"IF(Data!L486=\"\",\"\",Data!L486)","v":""},{"$f":"IF(Data!M486=\"\",\"\",Data!M486)","v":""},{"$f":"IF(Data!N486=\"\",\"\",Data!N486)","v":""},{"$f":"IF(Data!O486=\"\",\"\",Data!O486)","v":""},{"$f":"IF(Data!P486=\"\",\"\",Data!P486)","v":""},{"$f":"IF(Data!Q486=\"\",\"\",Data!Q486)","v":""},{"$f":"IF(Data!R486=\"\",\"\",Data!R486)","v":""},{"$f":"IF(Data!S486=\"\",\"\",Data!S486)","v":""},null,null,null,null,486]
[{"$f":"IF(Data!A487=\"\",\"\",Data!A487)","v":""},"",{"$f":"IF(Data!B487=\"\",\"\",Data!B487)","v":""},{"$f":"IF(Data!C487=\"\",\"\",Data!C487)","v":""},{"$f":"IF(Data!D487=\"\",\"\",Data!D487)","v":""},{"$f":"IF(Data!E487=\"\",\"\",Data!E487)","v":""},{"$f":"IF(Data!F487=\"\",\"\",Data!F487)","v":""},{"$f":"IF(Data!G487=\"\",\"\",Data!G487)","v":""},{"$f":"IF(Data!H487=\"\",\"\",Data!H487)","v":""},{"$f":"IF(Data!I487=\"\",\"\",Data!I487)","v":""},{"$f":"IF(Data!J487=\"\",\"\",Data!J487)","v":""},{"$f":"IF(Data!K487=\"\",\"\",Data!K487)","v":""},{"$f":"IF(Data!L487=\"\",\"\",Data!L487)","v":""},{"$f":"IF(Data!M487=\"\",\"\",Data!M487)","v":""},{"$f":"IF(Data!N487=\"\",\"\",Data!N487)","v":""},{"$f":"IF(Data!O487=\"\",\"\",Data!O487)","v":""},{"$f":"IF(Data!P487=\"\",\"\",Data!P487)","v":""},{"$f":"IF(Data!Q487=\"\",\"\",Data!Q487)","v":""},{"$f":"IF(Data!R487=\"\",\"\",Data!R487)","v":""},{"$f":"IF(Data!S487=\"\",\"\",Data!S487)","v":""},null,null,null,null,487]
[{"$f":"IF(Data!A488=\"\",\"\",Data!A488)","v":""},"",{"$f":"IF(Data!B488=\"\",\"\",Data!B488)","v":""},{"$f":"IF(Data!C488=\"\",\"\",Data!C488)","v":""},{"$f":"IF(Data!D488=\"\",\"\",Data!D488)","v":""},{"$f":"IF(Data!E488=\"\",\"\",Data!E488)","v":""},{"$f":"IF(Data!F488=\"\",\"\",Data!F488)","v":""},{"$f":"IF(Data!G488=\"\",\"\",Data!G488)","v":""},{"$f":"IF(Data!H488=\"\",\"\",Data!H488)","v":""},{"$f":"IF(Data!I488=\"\",\"\",Data!I488)","v":""},{"$f":"IF(Data!J488=\"\",\"\",Data!J488)","v":""},{"$f":"IF(Data!K488=\"\",\"\",Data!K488)","v":""},{"$f":"IF(Data!L488=\"\",\"\",Data!L488)","v":""},{"$f":"IF(Data!M488=\"\",\"\",Data!M488)","v":""},{"$f":"IF(Data!N488=\"\",\"\",Data!N488)","v":""},{"$f":"IF(Data!O488=\"\",\"\",Data!O488)","v":""},{"$f":"IF(Data!P488=\"\",\"\",Data!P488)","v":""},{"$f":"IF(Data!Q488=\"\",\"\",Data!Q488)","v":""},{"$f":"IF(Data!R488=\"\",\"\",Data!R488)","v":""},{"$f":"IF(Data!S488=\"\",\"\",Data!S488)","v":""},null,null,null,null,488]
[{"$f":"IF(Data!A489=\"\",\"\",Data!A489)","v":""},"",{"$f":"IF(Data!B489=\"\",\"\",Data!B489)","v":""},{"$f":"IF(Data!C489=\"\",\"\",Data!C489)","v":""},{"$f":"IF(Data!D489=\"\",\"\",Data!D489)","v":""},{"$f":"IF(Data!E489=\"\",\"\",Data!E489)","v":""},{"$f":"IF(Data!F489=\"\",\"\",Data!F489)","v":""},{"$f":"IF(Data!G489=\"\",\"\",Data!G489)","v":""},{"$f":"IF(Data!H489=\"\",\"\",Data!H489)","v":""},{"$f":"IF(Data!I489=\"\",\"\",Data!I489)","v":""},{"$f":"IF(Data!J489=\"\",\"\",Data!J489)","v":""},{"$f":"IF(Data!K489=\"\",\"\",Data!K489)","v":""},{"$f":"IF(Data!L489=\"\",\"\",Data!L489)","v":""},{"$f":"IF(Data!M489=\"\",\"\",Data!M489)","v":""},{"$f":"IF(Data!N489=\"\",\"\",Data!N489)","v":""},{"$f":"IF(Data!O489=\"\",\"\",Data!O489)","v":""},{"$f":"IF(Data!P489=\"\",\"\",Data!P489)","v":""},{"$f":"IF(Data!Q489=\"\",\"\",Data!Q489)","v":""},{"$f":"IF(Data!R489=\"\",\"\",Data!R489)","v":""},{"$f":"IF(Data!S489=\"\",\"\",Data!S489)","v":""},null,null,null,null,489]
[{"$f":"IF(Data!A490=\"\",\"\",Data!A490)","v":""},"",{"$f":"IF(Data!B490=\"\",\"\",Data!B490)","v":""},{"$f":"IF(Data!C490=\"\",\"\",Data!C490)","v":""},{"$f":"IF(Data!D490=\"\",\"\",Data!D490)","v":""},{"$f":"IF(Data!E490=\"\",\"\",Data!E490)","v":""},{"$f":"IF(Data!F490=\"\",\"\",Data!F490)","v":""},{"$f":"IF(Data!G490=\"\",\"\",Data!G490)","v":""},{"$f":"IF(Data!H490=\"\",\"\",Data!H490)","v":""},{"$f":"IF(Data!I490=\"\",\"\",Data!I490)","v":""},{"$f":"IF(Data!J490=\"\",\"\",Data!J490)","v":""},{"$f":"IF(Data!K490=\"\",\"\",Data!K490)","v":""},{"$f":"IF(Data!L490=\"\",\"\",Data!L490)","v":""},{"$f":"IF(Data!M490=\"\",\"\",Data!M490)","v":""},{"$f":"IF(Data!N490=\"\",\"\",Data!N490)","v":""},{"$f":"IF(Data!O490=\"\",\"\",Data!O490)","v":""},{"$f":"IF(Data!P490=\"\",\"\",Data!P490)","v":""},{"$f":"IF(Data!Q490=\"\",\"\",Data!Q490)","v":""},{"$f":"IF(Data!R490=\"\",\"\",Data!R490)","v":""},{"$f":"IF(Data!S490=\"\",\"\",Data!S490)","v":""},null,null,null,null,490]
[{"$f":"IF(Data!A491=\"\",\"\",Data!A491)","v":""},"",{"$f":"IF(Data!B491=\"\",\"\",Data!B491)","v":""},{"$f":"IF(Data!C491=\"\",\"\",Data!C491)","v":""},{"$f":"IF(Data!D491=\"\",\"\",Data!D491)","v":""},{"$f":"IF(Data!E491=\"\",\"\",Data!E491)","v":""},{"$f":"IF(Data!F491=\"\",\"\",Data!F491)","v":""},{"$f":"IF(Data!G491=\"\",\"\",Data!G491)","v":""},{"$f":"IF(Data!H491=\"\",\"\",Data!H491)","v":""},{"$f":"IF(Data!I491=\"\",\"\",Data!I491)","v":""},{"$f":"IF(Data!J491=\"\",\"\",Data!J491)","v":""},{"$f":"IF(Data!K491=\"\",\"\",Data!K491)","v":""},{"$f":"IF(Data!L491=\"\",\"\",Data!L491)","v":""},{"$f":"IF(Data!M491=\"\",\"\",Data!M491)","v":""},{"$f":"IF(Data!N491=\"\",\"\",Data!N491)","v":""},{"$f":"IF(Data!O491=\"\",\"\",Data!O491)","v":""},{"$f":"IF(Data!P491=\"\",\"\",Data!P491)","v":""},{"$f":"IF(Data!Q491=\"\",\"\",Data!Q491)","v":""},{"$f":"IF(Data!R491=\"\",\"\",Data!R491)","v":""},{"$f":"IF(Data!S491=\"\",\"\",Data!S491)","v":""},null,null,null,null,491]
[{"$f":"IF(Data!A492=\"\",\"\",Data!A492)","v":""},"",{"$f":"IF(Data!B492=\"\",\"\",Data!B492)","v":""},{"$f":"IF(Data!C492=\"\",\"\",Data!C492)","v":""},{"$f":"IF(Data!D492=\"\",\"\",Data!D492)","v":""},{"$f":"IF(Data!E492=\"\",\"\",Data!E492)","v":""},{"$f":"IF(Data!F492=\"\",\"\",Data!F492)","v":""},{"$f":"IF(Data!G492=\"\",\"\",Data!G492)","v":""},{"$f":"IF(Data!H492=\"\",\"\",Data!H492)","v":""},{"$f":"IF(Data!I492=\"\",\"\",Data!I492)","v":""},{"$f":"IF(Data!J492=\"\",\"\",Data!J492)","v":""},{"$f":"IF(Data!K492=\"\",\"\",Data!K492)","v":""},{"$f":"IF(Data!L492=\"\",\"\",Data!L492)","v":""},{"$f":"IF(Data!M492=\"\",\"\",Data!M492)","v":""},{"$f":"IF(Data!N492=\"\",\"\",Data!N492)","v":""},{"$f":"IF(Data!O492=\"\",\"\",Data!O492)","v":""},{"$f":"IF(Data!P492=\"\",\"\",Data!P492)","v":""},{"$f":"IF(Data!Q492=\"\",\"\",Data!Q492)","v":""},{"$f":"IF(Data!R492=\"\",\"\",Data!R492)","v":""},{"$f":"IF(Data!S492=\"\",\"\",Data!S492)","v":""},null,null,null,null,492]
[{"$f":"IF(Data!A493=\"\",\"\",Data!A493)","v":""},"",{"$f":"IF(Data!B493=\"\",\"\",Data!B493)","v":""},{"$f":"IF(Data!C493=\"\",\"\",Data!C493)","v":""},{"$f":"IF(Data!D493=\"\",\"\",Data!D493)","v":""},{"$f":"IF(Data!E493=\"\",\"\",Data!E493)","v":""},{"$f":"IF(Data!F493=\"\",\"\",Data!F493)","v":""},{"$f":"IF(Data!G493=\"\",\"\",Data!G493)","v":""},{"$f":"IF(Data!H493=\"\",\"\",Data!H493)","v":""},{"$f":"IF(Data!I493=\"\",\"\",Data!I493)","v":""},{"$f":"IF(Data!J493=\"\",\"\",Data!J493)","v":""},{"$f":"IF(Data!K493=\"\",\"\",Data!K493)","v":""},{"$f":"IF(Data!L493=\"\",\"\",Data!L493)","v":""},{"$f":"IF(Data!M493=\"\",\"\",Data!M493)","v":""},{"$f":"IF(Data!N493=\"\",\"\",Data!N493)","v":""},{"$f":"IF(Data!O493=\"\",\"\",Data!O493)","v":""},{"$f":"IF(Data!P493=\"\",\"\",Data!P493)","v":""},{"$f":"IF(Data!Q493=\"\",\"\",Data!Q493)","v":""},{"$f":"IF(Data!R493=\"\",\"\",Data!R493)","v":""},{"$f":"IF(Data!S493=\"\",\"\",Data!S493)","v":""},null,null,null,null,493]
[{"$f":"IF(Data!A494=\"\",\"\",Data!A494)","v":""},"",{"$f":"IF(Data!B494=\"\",\"\",Data!B494)","v":""},{"$f":"IF(Data!C494=\"\",\"\",Data!C494)","v":""},{"$f":"IF(Data!D494=\"\",\"\",Data!D494)","v":""},{"$f":"IF(Data!E494=\"\",\"\",Data!E494)","v":""},{"$f":"IF(Data!F494=\"\",\"\",Data!F494)","v":""},{"$f":"IF(Data!G494=\"\",\"\",Data!G494)","v":""},{"$f":"IF(Data!H494=\"\",\"\",Data!H494)","v":""},{"$f":"IF(Data!I494=\"\",\"\",Data!I494)","v":""},{"$f":"IF(Data!J494=\"\",\"\",Data!J494)","v":""},{"$f":"IF(Data!K494=\"\",\"\",Data!K494)","v":""},{"$f":"IF(Data!L494=\"\",\"\",Data!L494)","v":""},{"$f":"IF(Data!M494=\"\",\"\",Data!M494)","v":""},{"$f":"IF(Data!N494=\"\",\"\",Data!N494)","v":""},{"$f":"IF(Data!O494=\"\",\"\",Data!O494)","v":""},{"$f":"IF(Data!P494=\"\",\"\",Data!P494)","v":""},{"$f":"IF(Data!Q494=\"\",\"\",Data!Q494)","v":""},{"$f":"IF(Data!R494=\"\",\"\",Data!R494)","v":""},{"$f":"IF(Data!S494=\"\",\"\",Data!S494)","v":""},null,null,null,null,494]
[{"$f":"IF(Data!A495=\"\",\"\",Data!A495)","v":""},"",{"$f":"IF(Data!B495=\"\",\"\",Data!B495)","v":""},{"$f":"IF(Data!C495=\"\",\"\",Data!C495)","v":""},{"$f":"IF(Data!D495=\"\",\"\",Data!D495)","v":""},{"$f":"IF(Data!E495=\"\",\"\",Data!E495)","v":""},{"$f":"IF(Data!F495=\"\",\"\",Data!F495)","v":""},{"$f":"IF(Data!G495=\"\",\"\",Data!G495)","v":""},{"$f":"IF(Data!H495=\"\",\"\",Data!H495)","v":""},{"$f":"IF(Data!I495=\"\",\"\",Data!I495)","v":""},{"$f":"IF(Data!J495=\"\",\"\",Data!J495)","v":""},{"$f":"IF(Data!K495=\"\",\"\",Data!K495)","v":""},{"$f":"IF(Data!L495=\"\",\"\",Data!L495)","v":""},{"$f":"IF(Data!M495=\"\",\"\",Data!M495)","v":""},{"$f":"IF(Data!N495=\"\",\"\",Data!N495)","v":""},{"$f":"IF(Data!O495=\"\",\"\",Data!O495)","v":""},{"$f":"IF(Data!P495=\"\",\"\",Data!P495)","v":""},{"$f":"IF(Data!Q495=\"\",\"\",Data!Q495)","v":""},{"$f":"IF(Data!R495=\"\",\"\",Data!R495)","v":""},{"$f":"IF(Data!S495=\"\",\"\",Data!S495)","v":""},null,null,null,null,495]
[{"$f":"IF(Data!A496=\"\",\"\",Data!A496)","v":""},"",{"$f":"IF(Data!B496=\"\",\"\",Data!B496)","v":""},{"$f":"IF(Data!C496=\"\",\"\",Data!C496)","v":""},{"$f":"IF(Data!D496=\"\",\"\",Data!D496)","v":""},{"$f":"IF(Data!E496=\"\",\"\",Data!E496)","v":""},{"$f":"IF(Data!F496=\"\",\"\",Data!F496)","v":""},{"$f":"IF(Data!G496=\"\",\"\",Data!G496)","v":""},{"$f":"IF(Data!H496=\"\",\"\",Data!H496)","v":""},{"$f":"IF(Data!I496=\"\",\"\",Data!I496)","v":""},{"$f":"IF(Data!J496=\"\",\"\",Data!J496)","v":""},{"$f":"IF(Data!K496=\"\",\"\",Data!K496)","v":""},{"$f":"IF(Data!L496=\"\",\"\",Data!L496)","v":""},{"$f":"IF(Data!M496=\"\",\"\",Data!M496)","v":""},{"$f":"IF(Data!N496=\"\",\"\",Data!N496)","v":""},{"$f":"IF(Data!O496=\"\",\"\",Data!O496)","v":""},{"$f":"IF(Data!P496=\"\",\"\",Data!P496)","v":""},{"$f":"IF(Data!Q496=\"\",\"\",Data!Q496)","v":""},{"$f":"IF(Data!R496=\"\",\"\",Data!R496)","v":""},{"$f":"IF(Data!S496=\"\",\"\",Data!S496)","v":""},null,null,null,null,496]
[{"$f":"IF(Data!A497=\"\",\"\",Data!A497)","v":""},"",{"$f":"IF(Data!B497=\"\",\"\",Data!B497)","v":""},{"$f":"IF(Data!C497=\"\",\"\",Data!C497)","v":""},{"$f":"IF(Data!D497=\"\",\"\",Data!D497)","v":""},{"$f":"IF(Data!E497=\"\",\"\",Data!E497)","v":""},{"$f":"IF(Data!F497=\"\",\"\",Data!F497)","v":""},{"$f":"IF(Data!G497=\"\",\"\",Data!G497)","v":""},{"$f":"IF(Data!H497=\"\",\"\",Data!H497)","v":""},{"$f":"IF(Data!I497=\"\",\"\",Data!I497)","v":""},{"$f":"IF(Data!J497=\"\",\"\",Data!J497)","v":""},{"$f":"IF(Data!K497=\"\",\"\",Data!K497)","v":""},{"$f":"IF(Data!L497=\"\",\"\",Data!L497)","v":""},{"$f":"IF(Data!M497=\"\",\"\",Data!M497)","v":""},{"$f":"IF(Data!N497=\"\",\"\",Data!N497)","v":""},{"$f":"IF(Data!O497=\"\",\"\",Data!O497)","v":""},{"$f":"IF(Data!P497=\"\",\"\",Data!P497)","v":""},{"$f":"IF(Data!Q497=\"\",\"\",Data!Q497)","v":""},{"$f":"IF(Data!R497=\"\",\"\",Data!R497)","v":""},{"$f":"IF(Data!S497=\"\",\"\",Data!S497)","v":""},null,null,null,null,497]
[{"$f":"IF(Data!A498=\"\",\"\",Data!A498)","v":""},"",{"$f":"IF(Data!B498=\"\",\"\",Data!B498)","v":""},{"$f":"IF(Data!C498=\"\",\"\",Data!C498)","v":""},{"$f":"IF(Data!D498=\"\",\"\",Data!D498)","v":""},{"$f":"IF(Data!E498=\"\",\"\",Data!E498)","v":""},{"$f":"IF(Data!F498=\"\",\"\",Data!F498)","v":""},{"$f":"IF(Data!G498=\"\",\"\",Data!G498)","v":""},{"$f":"IF(Data!H498=\"\",\"\",Data!H498)","v":""},{"$f":"IF(Data!I498=\"\",\"\",Data!I498)","v":""},{"$f":"IF(Data!J498=\"\",\"\",Data!J498)","v":""},{"$f":"IF(Data!K498=\"\",\"\",Data!K498)","v":""},{"$f":"IF(Data!L498=\"\",\"\",Data!L498)","v":""},{"$f":"IF(Data!M498=\"\",\"\",Data!M498)","v":""},{"$f":"IF(Data!N498=\"\",\"\",Data!N498)","v":""},{"$f":"IF(Data!O498=\"\",\"\",Data!O498)","v":""},{"$f":"IF(Data!P498=\"\",\"\",Data!P498)","v":""},{"$f":"IF(Data!Q498=\"\",\"\",Data!Q498)","v":""},{"$f":"IF(Data!R498=\"\",\"\",Data!R498)","v":""},{"$f":"IF(Data!S498=\"\",\"\",Data!S498)","v":""},null,null,null,null,498]
[{"$f":"IF(Data!A499=\"\",\"\",Data!A499)","v":""},"",{"$f":"IF(Data!B499=\"\",\"\",Data!B499)","v":""},{"$f":"IF(Data!C499=\"\",\"\",Data!C499)","v":""},{"$f":"IF(Data!D499=\"\",\"\",Data!D499)","v":""},{"$f":"IF(Data!E499=\"\",\"\",Data!E499)","v":""},{"$f":"IF(Data!F499=\"\",\"\",Data!F499)","v":""},{"$f":"IF(Data!G499=\"\",\"\",Data!G499)","v":""},{"$f":"IF(Data!H499=\"\",\"\",Data!H499)","v":""},{"$f":"IF(Data!I499=\"\",\"\",Data!I499)","v":""},{"$f":"IF(Data!J499=\"\",\"\",Data!J499)","v":""},{"$f":"IF(Data!K499=\"\",\"\",Data!K499)","v":""},{"$f":"IF(Data!L499=\"\",\"\",Data!L499)","v":""},{"$f":"IF(Data!M499=\"\",\"\",Data!M499)","v":""},{"$f":"IF(Data!N499=\"\",\"\",Data!N499)","v":""},{"$f":"IF(Data!O499=\"\",\"\",Data!O499)","v":""},{"$f":"IF(Data!P499=\"\",\"\",Data!P499)","v":""},{"$f":"IF(Data!Q499=\"\",\"\",Data!Q499)","v":""},{"$f":"IF(Data!R499=\"\",\"\",Data!R499)","v":""},{"$f":"IF(Data!S499=\"\",\"\",Data!S499)","v":""},null,null,null,null,499]
[{"$f":"IF(Data!A500=\"\",\"\",Data!A500)","v":""},"",{"$f":"IF(Data!B500=\"\",\"\",Data!B500)","v":""},{"$f":"IF(Data!C500=\"\",\"\",Data!C500)","v":""},{"$f":"IF(Data!D500=\"\",\"\",Data!D500)","v":""},{"$f":"IF(Data!E500=\"\",\"\",Data!E500)","v":""},{"$f":"IF(Data!F500=\"\",\"\",Data!F500)","v":""},{"$f":"IF(Data!G500=\"\",\"\",Data!G500)","v":""},{"$f":"IF(Data!H500=\"\",\"\",Data!H500)","v":""},{"$f":"IF(Data!I500=\"\",\"\",Data!I500)","v":""},{"$f":"IF(Data!J500=\"\",\"\",Data!J500)","v":""},{"$f":"IF(Data!K500=\"\",\"\",Data!K500)","v":""},{"$f":"IF(Data!L500=\"\",\"\",Data!L500)","v":""},{"$f":"IF(Data!M500=\"\",\"\",Data!M500)","v":""},{"$f":"IF(Data!N500=\"\",\"\",Data!N500)","v":""},{"$f":"IF(Data!O500=\"\",\"\",Data!O500)","v":""},{"$f":"IF(Data!P500=\"\",\"\",Data!P500)","v":""},{"$f":"IF(Data!Q500=\"\",\"\",Data!Q500)","v":""},{"$f":"IF(Data!R500=\"\",\"\",Data!R500)","v":""},{"$f":"IF(Data!S500=\"\",\"\",Data!S500)","v":""},null,null,null,null,500]
[{"$f":"IF(Data!A501=\"\",\"\",Data!A501)","v":""},"",{"$f":"IF(Data!B501=\"\",\"\",Data!B501)","v":""},{"$f":"IF(Data!C501=\"\",\"\",Data!C501)","v":""},{"$f":"IF(Data!D501=\"\",\"\",Data!D501)","v":""},{"$f":"IF(Data!E501=\"\",\"\",Data!E501)","v":""},{"$f":"IF(Data!F501=\"\",\"\",Data!F501)","v":""},{"$f":"IF(Data!G501=\"\",\"\",Data!G501)","v":""},{"$f":"IF(Data!H501=\"\",\"\",Data!H501)","v":""},{"$f":"IF(Data!I501=\"\",\"\",Data!I501)","v":""},{"$f":"IF(Data!J501=\"\",\"\",Data!J501)","v":""},{"$f":"IF(Data!K501=\"\",\"\",Data!K501)","v":""},{"$f":"IF(Data!L501=\"\",\"\",Data!L501)","v":""},{"$f":"IF(Data!M501=\"\",\"\",Data!M501)","v":""},{"$f":"IF(Data!N501=\"\",\"\",Data!N501)","v":""},{"$f":"IF(Data!O501=\"\",\"\",Data!O501)","v":""},{"$f":"IF(Data!P501=\"\",\"\",Data!P501)","v":""},{"$f":"IF(Data!Q501=\"\",\"\",Data!Q501)","v":""},{"$f":"IF(Data!R501=\"\",\"\",Data!R501)","v":""},{"$f":"IF(Data!S501=\"\",\"\",Data!S501)","v":""},null,null,null,null,501]
[{"$f":"IF(Data!A502=\"\",\"\",Data!A502)","v":""},"",{"$f":"IF(Data!B502=\"\",\"\",Data!B502)","v":""},{"$f":"IF(Data!C502=\"\",\"\",Data!C502)","v":""},{"$f":"IF(Data!D502=\"\",\"\",Data!D502)","v":""},{"$f":"IF(Data!E502=\"\",\"\",Data!E502)","v":""},{"$f":"IF(Data!F502=\"\",\"\",Data!F502)","v":""},{"$f":"IF(Data!G502=\"\",\"\",Data!G502)","v":""},{"$f":"IF(Data!H502=\"\",\"\",Data!H502)","v":""},{"$f":"IF(Data!I502=\"\",\"\",Data!I502)","v":""},{"$f":"IF(Data!J502=\"\",\"\",Data!J502)","v":""},{"$f":"IF(Data!K502=\"\",\"\",Data!K502)","v":""},{"$f":"IF(Data!L502=\"\",\"\",Data!L502)","v":""},{"$f":"IF(Data!M502=\"\",\"\",Data!M502)","v":""},{"$f":"IF(Data!N502=\"\",\"\",Data!N502)","v":""},{"$f":"IF(Data!O502=\"\",\"\",Data!O502)","v":""},{"$f":"IF(Data!P502=\"\",\"\",Data!P502)","v":""},{"$f":"IF(Data!Q502=\"\",\"\",Data!Q502)","v":""},{"$f":"IF(Data!R502=\"\",\"\",Data!R502)","v":""},{"$f":"IF(Data!S502=\"\",\"\",Data!S502)","v":""},null,null,null,null,502]
[{"$f":"IF(Data!A503=\"\",\"\",Data!A503)","v":""},"",{"$f":"IF(Data!B503=\"\",\"\",Data!B503)","v":""},{"$f":"IF(Data!C503=\"\",\"\",Data!C503)","v":""},{"$f":"IF(Data!D503=\"\",\"\",Data!D503)","v":""},{"$f":"IF(Data!E503=\"\",\"\",Data!E503)","v":""},{"$f":"IF(Data!F503=\"\",\"\",Data!F503)","v":""},{"$f":"IF(Data!G503=\"\",\"\",Data!G503)","v":""},{"$f":"IF(Data!H503=\"\",\"\",Data!H503)","v":""},{"$f":"IF(Data!I503=\"\",\"\",Data!I503)","v":""},{"$f":"IF(Data!J503=\"\",\"\",Data!J503)","v":""},{"$f":"IF(Data!K503=\"\",\"\",Data!K503)","v":""},{"$f":"IF(Data!L503=\"\",\"\",Data!L503)","v":""},{"$f":"IF(Data!M503=\"\",\"\",Data!M503)","v":""},{"$f":"IF(Data!N503=\"\",\"\",Data!N503)","v":""},{"$f":"IF(Data!O503=\"\",\"\",Data!O503)","v":""},{"$f":"IF(Data!P503=\"\",\"\",Data!P503)","v":""},{"$f":"IF(Data!Q503=\"\",\"\",Data!Q503)","v":""},{"$f":"IF(Data!R503=\"\",\"\",Data!R503)","v":""},{"$f":"IF(Data!S503=\"\",\"\",Data!S503)","v":""},null,null,null,null,503]
[{"$f":"IF(Data!A504=\"\",\"\",Data!A504)","v":""},"",{"$f":"IF(Data!B504=\"\",\"\",Data!B504)","v":""},{"$f":"IF(Data!C504=\"\",\"\",Data!C504)","v":""},{"$f":"IF(Data!D504=\"\",\"\",Data!D504)","v":""},{"$f":"IF(Data!E504=\"\",\"\",Data!E504)","v":""},{"$f":"IF(Data!F504=\"\",\"\",Data!F504)","v":""},{"$f":"IF(Data!G504=\"\",\"\",Data!G504)","v":""},{"$f":"IF(Data!H504=\"\",\"\",Data!H504)","v":""},{"$f":"IF(Data!I504=\"\",\"\",Data!I504)","v":""},{"$f":"IF(Data!J504=\"\",\"\",Data!J504)","v":""},{"$f":"IF(Data!K504=\"\",\"\",Data!K504)","v":""},{"$f":"IF(Data!L504=\"\",\"\",Data!L504)","v":""},{"$f":"IF(Data!M504=\"\",\"\",Data!M504)","v":""},{"$f":"IF(Data!N504=\"\",\"\",Data!N504)","v":""},{"$f":"IF(Data!O504=\"\",\"\",Data!O504)","v":""},{"$f":"IF(Data!P504=\"\",\"\",Data!P504)","v":""},{"$f":"IF(Data!Q504=\"\",\"\",Data!Q504)","v":""},{"$f":"IF(Data!R504=\"\",\"\",Data!R504)","v":""},{"$f":"IF(Data!S504=\"\",\"\",Data!S504)","v":""},null,null,null,null,504]
[{"$f":"IF(Data!A505=\"\",\"\",Data!A505)","v":""},"",{"$f":"IF(Data!B505=\"\",\"\",Data!B505)","v":""},{"$f":"IF(Data!C505=\"\",\"\",Data!C505)","v":""},{"$f":"IF(Data!D505=\"\",\"\",Data!D505)","v":""},{"$f":"IF(Data!E505=\"\",\"\",Data!E505)","v":""},{"$f":"IF(Data!F505=\"\",\"\",Data!F505)","v":""},{"$f":"IF(Data!G505=\"\",\"\",Data!G505)","v":""},{"$f":"IF(Data!H505=\"\",\"\",Data!H505)","v":""},{"$f":"IF(Data!I505=\"\",\"\",Data!I505)","v":""},{"$f":"IF(Data!J505=\"\",\"\",Data!J505)","v":""},{"$f":"IF(Data!K505=\"\",\"\",Data!K505)","v":""},{"$f":"IF(Data!L505=\"\",\"\",Data!L505)","v":""},{"$f":"IF(Data!M505=\"\",\"\",Data!M505)","v":""},{"$f":"IF(Data!N505=\"\",\"\",Data!N505)","v":""},{"$f":"IF(Data!O505=\"\",\"\",Data!O505)","v":""},{"$f":"IF(Data!P505=\"\",\"\",Data!P505)","v":""},{"$f":"IF(Data!Q505=\"\",\"\",Data!Q505)","v":""},{"$f":"IF(Data!R505=\"\",\"\",Data!R505)","v":""},{"$f":"IF(Data!S505=\"\",\"\",Data!S505)","v":""},null,null,null,null,505]
[{"$f":"IF(Data!A506=\"\",\"\",Data!A506)","v":""},"",{"$f":"IF(Data!B506=\"\",\"\",Data!B506)","v":""},{"$f":"IF(Data!C506=\"\",\"\",Data!C506)","v":""},{"$f":"IF(Data!D506=\"\",\"\",Data!D506)","v":""},{"$f":"IF(Data!E506=\"\",\"\",Data!E506)","v":""},{"$f":"IF(Data!F506=\"\",\"\",Data!F506)","v":""},{"$f":"IF(Data!G506=\"\",\"\",Data!G506)","v":""},{"$f":"IF(Data!H506=\"\",\"\",Data!H506)","v":""},{"$f":"IF(Data!I506=\"\",\"\",Data!I506)","v":""},{"$f":"IF(Data!J506=\"\",\"\",Data!J506)","v":""},{"$f":"IF(Data!K506=\"\",\"\",Data!K506)","v":""},{"$f":"IF(Data!L506=\"\",\"\",Data!L506)","v":""},{"$f":"IF(Data!M506=\"\",\"\",Data!M506)","v":""},{"$f":"IF(Data!N506=\"\",\"\",Data!N506)","v":""},{"$f":"IF(Data!O506=\"\",\"\",Data!O506)","v":""},{"$f":"IF(Data!P506=\"\",\"\",Data!P506)","v":""},{"$f":"IF(Data!Q506=\"\",\"\",Data!Q506)","v":""},{"$f":"IF(Data!R506=\"\",\"\",Data!R506)","v":""},{"$f":"IF(Data!S506=\"\",\"\",Data!S506)","v":""},null,null,null,null,506]
[{"$f":"IF(Data!A507=\"\",\"\",Data!A507)","v":""},"",{"$f":"IF(Data!B507=\"\",\"\",Data!B507)","v":""},{"$f":"IF(Data!C507=\"\",\"\",Data!C507)","v":""},{"$f":"IF(Data!D507=\"\",\"\",Data!D507)","v":""},{"$f":"IF(Data!E507=\"\",\"\",Data!E507)","v":""},{"$f":"IF(Data!F507=\"\",\"\",Data!F507)","v":""},{"$f":"IF(Data!G507=\"\",\"\",Data!G507)","v":""},{"$f":"IF(Data!H507=\"\",\"\",Data!H507)","v":""},{"$f":"IF(Data!I507=\"\",\"\",Data!I507)","v":""},{"$f":"IF(Data!J507=\"\",\"\",Data!J507)","v":""},{"$f":"IF(Data!K507=\"\",\"\",Data!K507)","v":""},{"$f":"IF(Data!L507=\"\",\"\",Data!L507)","v":""},{"$f":"IF(Data!M507=\"\",\"\",Data!M507)","v":""},{"$f":"IF(Data!N507=\"\",\"\",Data!N507)","v":""},{"$f":"IF(Data!O507=\"\",\"\",Data!O507)","v":""},{"$f":"IF(Data!P507=\"\",\"\",Data!P507)","v":""},{"$f":"IF(Data!Q507=\"\",\"\",Data!Q507)","v":""},{"$f":"IF(Data!R507=\"\",\"\",Data!R507)","v":""},{"$f":"IF(Data!S507=\"\",\"\",Data!S507)","v":""},null,null,null,null,507]
[{"$f":"IF(Data!A508=\"\",\"\",Data!A508)","v":""},"",{"$f":"IF(Data!B508=\"\",\"\",Data!B508)","v":""},{"$f":"IF(Data!C508=\"\",\"\",Data!C508)","v":""},{"$f":"IF(Data!D508=\"\",\"\",Data!D508)","v":""},{"$f":"IF(Data!E508=\"\",\"\",Data!E508)","v":""},{"$f":"IF(Data!F508=\"\",\"\",Data!F508)","v":""},{"$f":"IF(Data!G508=\"\",\"\",Data!G508)","v":""},{"$f":"IF(Data!H508=\"\",\"\",Data!H508)","v":""},{"$f":"IF(Data!I508=\"\",\"\",Data!I508)","v":""},{"$f":"IF(Data!J508=\"\",\"\",Data!J508)","v":""},{"$f":"IF(Data!K508=\"\",\"\",Data!K508)","v":""},{"$f":"IF(Data!L508=\"\",\"\",Data!L508)","v":""},{"$f":"IF(Data!M508=\"\",\"\",Data!M508)","v":""},{"$f":"IF(Data!N508=\"\",\"\",Data!N508)","v":""},{"$f":"IF(Data!O508=\"\",\"\",Data!O508)","v":""},{"$f":"IF(Data!P508=\"\",\"\",Data!P508)","v":""},{"$f":"IF(Data!Q508=\"\",\"\",Data!Q508)","v":""},{"$f":"IF(Data!R508=\"\",\"\",Data!R508)","v":""},{"$f":"IF(Data!S508=\"\",\"\",Data!S508)","v":""},null,null,null,null,508]
[{"$f":"IF(Data!A509=\"\",\"\",Data!A509)","v":""},"",{"$f":"IF(Data!B509=\"\",\"\",Data!B509)","v":""},{"$f":"IF(Data!C509=\"\",\"\",Data!C509)","v":""},{"$f":"IF(Data!D509=\"\",\"\",Data!D509)","v":""},{"$f":"IF(Data!E509=\"\",\"\",Data!E509)","v":""},{"$f":"IF(Data!F509=\"\",\"\",Data!F509)","v":""},{"$f":"IF(Data!G509=\"\",\"\",Data!G509)","v":""},{"$f":"IF(Data!H509=\"\",\"\",Data!H509)","v":""},{"$f":"IF(Data!I509=\"\",\"\",Data!I509)","v":""},{"$f":"IF(Data!J509=\"\",\"\",Data!J509)","v":""},{"$f":"IF(Data!K509=\"\",\"\",Data!K509)","v":""},{"$f":"IF(Data!L509=\"\",\"\",Data!L509)","v":""},{"$f":"IF(Data!M509=\"\",\"\",Data!M509)","v":""},{"$f":"IF(Data!N509=\"\",\"\",Data!N509)","v":""},{"$f":"IF(Data!O509=\"\",\"\",Data!O509)","v":""},{"$f":"IF(Data!P509=\"\",\"\",Data!P509)","v":""},{"$f":"IF(Data!Q509=\"\",\"\",Data!Q509)","v":""},{"$f":"IF(Data!R509=\"\",\"\",Data!R509)","v":""},{"$f":"IF(Data!S509=\"\",\"\",Data!S509)","v":""},null,null,null,null,509]
[{"$f":"IF(Data!A510=\"\",\"\",Data!A510)","v":""},"",{"$f":"IF(Data!B510=\"\",\"\",Data!B510)","v":""},{"$f":"IF(Data!C510=\"\",\"\",Data!C510)","v":""},{"$f":"IF(Data!D510=\"\",\"\",Data!D510)","v":""},{"$f":"IF(Data!E510=\"\",\"\",Data!E510)","v":""},{"$f":"IF(Data!F510=\"\",\"\",Data!F510)","v":""},{"$f":"IF(Data!G510=\"\",\"\",Data!G510)","v":""},{"$f":"IF(Data!H510=\"\",\"\",Data!H510)","v":""},{"$f":"IF(Data!I510=\"\",\"\",Data!I510)","v":""},{"$f":"IF(Data!J510=\"\",\"\",Data!J510)","v":""},{"$f":"IF(Data!K510=\"\",\"\",Data!K510)","v":""},{"$f":"IF(Data!L510=\"\",\"\",Data!L510)","v":""},{"$f":"IF(Data!M510=\"\",\"\",Data!M510)","v":""},{"$f":"IF(Data!N510=\"\",\"\",Data!N510)","v":""},{"$f":"IF(Data!O510=\"\",\"\",Data!O510)","v":""},{"$f":"IF(Data!P510=\"\",\"\",Data!P510)","v":""},{"$f":"IF(Data!Q510=\"\",\"\",Data!Q510)","v":""},{"$f":"IF(Data!R510=\"\",\"\",Data!R510)","v":""},{"$f":"IF(Data!S510=\"\",\"\",Data!S510)","v":""},null,null,null,null,510]
[{"$f":"IF(Data!A511=\"\",\"\",Data!A511)","v":""},"",{"$f":"IF(Data!B511=\"\",\"\",Data!B511)","v":""},{"$f":"IF(Data!C511=\"\",\"\",Data!C511)","v":""},{"$f":"IF(Data!D511=\"\",\"\",Data!D511)","v":""},{"$f":"IF(Data!E511=\"\",\"\",Data!E511)","v":""},{"$f":"IF(Data!F511=\"\",\"\",Data!F511)","v":""},{"$f":"IF(Data!G511=\"\",\"\",Data!G511)","v":""},{"$f":"IF(Data!H511=\"\",\"\",Data!H511)","v":""},{"$f":"IF(Data!I511=\"\",\"\",Data!I511)","v":""},{"$f":"IF(Data!J511=\"\",\"\",Data!J511)","v":""},{"$f":"IF(Data!K511=\"\",\"\",Data!K511)","v":""},{"$f":"IF(Data!L511=\"\",\"\",Data!L511)","v":""},{"$f":"IF(Data!M511=\"\",\"\",Data!M511)","v":""},{"$f":"IF(Data!N511=\"\",\"\",Data!N511)","v":""},{"$f":"IF(Data!O511=\"\",\"\",Data!O511)","v":""},{"$f":"IF(Data!P511=\"\",\"\",Data!P511)","v":""},{"$f":"IF(Data!Q511=\"\",\"\",Data!Q511)","v":""},{"$f":"IF(Data!R511=\"\",\"\",Data!R511)","v":""},{"$f":"IF(Data!S511=\"\",\"\",Data!S511)","v":""},null,null,null,null,511]
[{"$f":"IF(Data!A512=\"\",\"\",Data!A512)","v":""},"",{"$f":"IF(Data!B512=\"\",\"\",Data!B512)","v":""},{"$f":"IF(Data!C512=\"\",\"\",Data!C512)","v":""},{"$f":"IF(Data!D512=\"\",\"\",Data!D512)","v":""},{"$f":"IF(Data!E512=\"\",\"\",Data!E512)","v":""},{"$f":"IF(Data!F512=\"\",\"\",Data!F512)","v":""},{"$f":"IF(Data!G512=\"\",\"\",Data!G512)","v":""},{"$f":"IF(Data!H512=\"\",\"\",Data!H512)","v":""},{"$f":"IF(Data!I512=\"\",\"\",Data!I512)","v":""},{"$f":"IF(Data!J512=\"\",\"\",Data!J512)","v":""},{"$f":"IF(Data!K512=\"\",\"\",Data!K512)","v":""},{"$f":"IF(Data!L512=\"\",\"\",Data!L512)","v":""},{"$f":"IF(Data!M512=\"\",\"\",Data!M512)","v":""},{"$f":"IF(Data!N512=\"\",\"\",Data!N512)","v":""},{"$f":"IF(Data!O512=\"\",\"\",Data!O512)","v":""},{"$f":"IF(Data!P512=\"\",\"\",Data!P512)","v":""},{"$f":"IF(Data!Q512=\"\",\"\",Data!Q512)","v":""},{"$f":"IF(Data!R512=\"\",\"\",Data!R512)","v":""},{"$f":"IF(Data!S512=\"\",\"\",Data!S512)","v":""},null,null,null,null,512]
[{"$f":"IF(Data!A513=\"\",\"\",Data!A513)","v":""},{"$f":"IF(A514=\"\",\"\",Y514)","v":""},{"$f":"IF(Data!B513=\"\",\"\",Data!B513)","v":""},{"$f":"IF(Data!C513=\"\",\"\",Data!C513)","v":""},{"$f":"IF(Data!D513=\"\",\"\",Data!D513)","v":""},{"$f":"IF(Data!E513=\"\",\"\",Data!E513)","v":""},{"$f":"IF(Data!F513=\"\",\"\",Data!F513)","v":""},{"$f":"IF(Data!G513=\"\",\"\",Data!G513)","v":""},{"$f":"IF(Data!H513=\"\",\"\",Data!H513)","v":""},{"$f":"IF(Data!I513=\"\",\"\",Data!I513)","v":""},{"$f":"IF(Data!J513=\"\",\"\",Data!J513)","v":""},{"$f":"IF(Data!K513=\"\",\"\",Data!K513)","v":""},{"$f":"IF(Data!L513=\"\",\"\",Data!L513)","v":""},{"$f":"IF(Data!M513=\"\",\"\",Data!M513)","v":""},{"$f":"IF(Data!N513=\"\",\"\",Data!N513)","v":""},{"$f":"IF(Data!O513=\"\",\"\",Data!O513)","v":""},{"$f":"IF(Data!P513=\"\",\"\",Data!P513)","v":""},{"$f":"IF(Data!Q513=\"\",\"\",Data!Q513)","v":""},{"$f":"IF(Data!R513=\"\",\"\",Data!R513)","v":""},{"$f":"IF(Data!S513=\"\",\"\",Data!S513)","v":""},null,null,null,null,513]
[{"$f":"IF(Data!A514=\"\",\"\",Data!A514)","v":""},"",{"$f":"IF(Data!B514=\"\",\"\",Data!B514)","v":""},{"$f":"IF(Data!C514=\"\",\"\",Data!C514)","v":""},{"$f":"IF(Data!D514=\"\",\"\",Data!D514)","v":""},{"$f":"IF(Data!E514=\"\",\"\",Data!E514)","v":""},{"$f":"IF(Data!F514=\"\",\"\",Data!F514)","v":""},{"$f":"IF(Data!G514=\"\",\"\",Data!G514)","v":""},{"$f":"IF(Data!H514=\"\",\"\",Data!H514)","v":""},{"$f":"IF(Data!I514=\"\",\"\",Data!I514)","v":""},{"$f":"IF(Data!J514=\"\",\"\",Data!J514)","v":""},{"$f":"IF(Data!K514=\"\",\"\",Data!K514)","v":""},{"$f":"IF(Data!L514=\"\",\"\",Data!L514)","v":""},{"$f":"IF(Data!M514=\"\",\"\",Data!M514)","v":""},{"$f":"IF(Data!N514=\"\",\"\",Data!N514)","v":""},{"$f":"IF(Data!O514=\"\",\"\",Data!O514)","v":""},{"$f":"IF(Data!P514=\"\",\"\",Data!P514)","v":""},{"$f":"IF(Data!Q514=\"\",\"\",Data!Q514)","v":""},{"$f":"IF(Data!R514=\"\",\"\",Data!R514)","v":""},{"$f":"IF(Data!S514=\"\",\"\",Data!S514)","v":""},null,null,null,null,514]
[{"$f":"IF(Data!A515=\"\",\"\",Data!A515)","v":""},"",{"$f":"IF(Data!B515=\"\",\"\",Data!B515)","v":""},{"$f":"IF(Data!C515=\"\",\"\",Data!C515)","v":""},{"$f":"IF(Data!D515=\"\",\"\",Data!D515)","v":""},{"$f":"IF(Data!E515=\"\",\"\",Data!E515)","v":""},{"$f":"IF(Data!F515=\"\",\"\",Data!F515)","v":""},{"$f":"IF(Data!G515=\"\",\"\",Data!G515)","v":""},{"$f":"IF(Data!H515=\"\",\"\",Data!H515)","v":""},{"$f":"IF(Data!I515=\"\",\"\",Data!I515)","v":""},{"$f":"IF(Data!J515=\"\",\"\",Data!J515)","v":""},{"$f":"IF(Data!K515=\"\",\"\",Data!K515)","v":""},{"$f":"IF(Data!L515=\"\",\"\",Data!L515)","v":""},{"$f":"IF(Data!M515=\"\",\"\",Data!M515)","v":""},{"$f":"IF(Data!N515=\"\",\"\",Data!N515)","v":""},{"$f":"IF(Data!O515=\"\",\"\",Data!O515)","v":""},{"$f":"IF(Data!P515=\"\",\"\",Data!P515)","v":""},{"$f":"IF(Data!Q515=\"\",\"\",Data!Q515)","v":""},{"$f":"IF(Data!R515=\"\",\"\",Data!R515)","v":""},{"$f":"IF(Data!S515=\"\",\"\",Data!S515)","v":""},null,null,null,null,515]
[{"$f":"IF(Data!A516=\"\",\"\",Data!A516)","v":""},"",{"$f":"IF(Data!B516=\"\",\"\",Data!B516)","v":""},{"$f":"IF(Data!C516=\"\",\"\",Data!C516)","v":""},{"$f":"IF(Data!D516=\"\",\"\",Data!D516)","v":""},{"$f":"IF(Data!E516=\"\",\"\",Data!E516)","v":""},{"$f":"IF(Data!F516=\"\",\"\",Data!F516)","v":""},{"$f":"IF(Data!G516=\"\",\"\",Data!G516)","v":""},{"$f":"IF(Data!H516=\"\",\"\",Data!H516)","v":""},{"$f":"IF(Data!I516=\"\",\"\",Data!I516)","v":""},{"$f":"IF(Data!J516=\"\",\"\",Data!J516)","v":""},{"$f":"IF(Data!K516=\"\",\"\",Data!K516)","v":""},{"$f":"IF(Data!L516=\"\",\"\",Data!L516)","v":""},{"$f":"IF(Data!M516=\"\",\"\",Data!M516)","v":""},{"$f":"IF(Data!N516=\"\",\"\",Data!N516)","v":""},{"$f":"IF(Data!O516=\"\",\"\",Data!O516)","v":""},{"$f":"IF(Data!P516=\"\",\"\",Data!P516)","v":""},{"$f":"IF(Data!Q516=\"\",\"\",Data!Q516)","v":""},{"$f":"IF(Data!R516=\"\",\"\",Data!R516)","v":""},{"$f":"IF(Data!S516=\"\",\"\",Data!S516)","v":""},null,null,null,null,516]
[{"$f":"IF(Data!A517=\"\",\"\",Data!A517)","v":""},"",{"$f":"IF(Data!B517=\"\",\"\",Data!B517)","v":""},{"$f":"IF(Data!C517=\"\",\"\",Data!C517)","v":""},{"$f":"IF(Data!D517=\"\",\"\",Data!D517)","v":""},{"$f":"IF(Data!E517=\"\",\"\",Data!E517)","v":""},{"$f":"IF(Data!F517=\"\",\"\",Data!F517)","v":""},{"$f":"IF(Data!G517=\"\",\"\",Data!G517)","v":""},{"$f":"IF(Data!H517=\"\",\"\",Data!H517)","v":""},{"$f":"IF(Data!I517=\"\",\"\",Data!I517)","v":""},{"$f":"IF(Data!J517=\"\",\"\",Data!J517)","v":""},{"$f":"IF(Data!K517=\"\",\"\",Data!K517)","v":""},{"$f":"IF(Data!L517=\"\",\"\",Data!L517)","v":""},{"$f":"IF(Data!M517=\"\",\"\",Data!M517)","v":""},{"$f":"IF(Data!N517=\"\",\"\",Data!N517)","v":""},{"$f":"IF(Data!O517=\"\",\"\",Data!O517)","v":""},{"$f":"IF(Data!P517=\"\",\"\",Data!P517)","v":""},{"$f":"IF(Data!Q517=\"\",\"\",Data!Q517)","v":""},{"$f":"IF(Data!R517=\"\",\"\",Data!R517)","v":""},{"$f":"IF(Data!S517=\"\",\"\",Data!S517)","v":""},null,null,null,null,517]
[{"$f":"IF(Data!A518=\"\",\"\",Data!A518)","v":""},"",{"$f":"IF(Data!B518=\"\",\"\",Data!B518)","v":""},{"$f":"IF(Data!C518=\"\",\"\",Data!C518)","v":""},{"$f":"IF(Data!D518=\"\",\"\",Data!D518)","v":""},{"$f":"IF(Data!E518=\"\",\"\",Data!E518)","v":""},{"$f":"IF(Data!F518=\"\",\"\",Data!F518)","v":""},{"$f":"IF(Data!G518=\"\",\"\",Data!G518)","v":""},{"$f":"IF(Data!H518=\"\",\"\",Data!H518)","v":""},{"$f":"IF(Data!I518=\"\",\"\",Data!I518)","v":""},{"$f":"IF(Data!J518=\"\",\"\",Data!J518)","v":""},{"$f":"IF(Data!K518=\"\",\"\",Data!K518)","v":""},{"$f":"IF(Data!L518=\"\",\"\",Data!L518)","v":""},{"$f":"IF(Data!M518=\"\",\"\",Data!M518)","v":""},{"$f":"IF(Data!N518=\"\",\"\",Data!N518)","v":""},{"$f":"IF(Data!O518=\"\",\"\",Data!O518)","v":""},{"$f":"IF(Data!P518=\"\",\"\",Data!P518)","v":""},{"$f":"IF(Data!Q518=\"\",\"\",Data!Q518)","v":""},{"$f":"IF(Data!R518=\"\",\"\",Data!R518)","v":""},{"$f":"IF(Data!S518=\"\",\"\",Data!S518)","v":""},null,null,null,null,518]
[{"$f":"IF(Data!A519=\"\",\"\",Data!A519)","v":""},"",{"$f":"IF(Data!B519=\"\",\"\",Data!B519)","v":""},{"$f":"IF(Data!C519=\"\",\"\",Data!C519)","v":""},{"$f":"IF(Data!D519=\"\",\"\",Data!D519)","v":""},{"$f":"IF(Data!E519=\"\",\"\",Data!E519)","v":""},{"$f":"IF(Data!F519=\"\",\"\",Data!F519)","v":""},{"$f":"IF(Data!G519=\"\",\"\",Data!G519)","v":""},{"$f":"IF(Data!H519=\"\",\"\",Data!H519)","v":""},{"$f":"IF(Data!I519=\"\",\"\",Data!I519)","v":""},{"$f":"IF(Data!J519=\"\",\"\",Data!J519)","v":""},{"$f":"IF(Data!K519=\"\",\"\",Data!K519)","v":""},{"$f":"IF(Data!L519=\"\",\"\",Data!L519)","v":""},{"$f":"IF(Data!M519=\"\",\"\",Data!M519)","v":""},{"$f":"IF(Data!N519=\"\",\"\",Data!N519)","v":""},{"$f":"IF(Data!O519=\"\",\"\",Data!O519)","v":""},{"$f":"IF(Data!P519=\"\",\"\",Data!P519)","v":""},{"$f":"IF(Data!Q519=\"\",\"\",Data!Q519)","v":""},{"$f":"IF(Data!R519=\"\",\"\",Data!R519)","v":""},{"$f":"IF(Data!S519=\"\",\"\",Data!S519)","v":""},null,null,null,null,519]
[{"$f":"IF(Data!A520=\"\",\"\",Data!A520)","v":""},"",{"$f":"IF(Data!B520=\"\",\"\",Data!B520)","v":""},{"$f":"IF(Data!C520=\"\",\"\",Data!C520)","v":""},{"$f":"IF(Data!D520=\"\",\"\",Data!D520)","v":""},{"$f":"IF(Data!E520=\"\",\"\",Data!E520)","v":""},{"$f":"IF(Data!F520=\"\",\"\",Data!F520)","v":""},{"$f":"IF(Data!G520=\"\",\"\",Data!G520)","v":""},{"$f":"IF(Data!H520=\"\",\"\",Data!H520)","v":""},{"$f":"IF(Data!I520=\"\",\"\",Data!I520)","v":""},{"$f":"IF(Data!J520=\"\",\"\",Data!J520)","v":""},{"$f":"IF(Data!K520=\"\",\"\",Data!K520)","v":""},{"$f":"IF(Data!L520=\"\",\"\",Data!L520)","v":""},{"$f":"IF(Data!M520=\"\",\"\",Data!M520)","v":""},{"$f":"IF(Data!N520=\"\",\"\",Data!N520)","v":""},{"$f":"IF(Data!O520=\"\",\"\",Data!O520)","v":""},{"$f":"IF(Data!P520=\"\",\"\",Data!P520)","v":""},{"$f":"IF(Data!Q520=\"\",\"\",Data!Q520)","v":""},{"$f":"IF(Data!R520=\"\",\"\",Data!R520)","v":""},{"$f":"IF(Data!S520=\"\",\"\",Data!S520)","v":""},null,null,null,null,520]
[{"$f":"IF(Data!A521=\"\",\"\",Data!A521)","v":""},"",{"$f":"IF(Data!B521=\"\",\"\",Data!B521)","v":""},{"$f":"IF(Data!C521=\"\",\"\",Data!C521)","v":""},{"$f":"IF(Data!D521=\"\",\"\",Data!D521)","v":""},{"$f":"IF(Data!E521=\"\",\"\",Data!E521)","v":""},{"$f":"IF(Data!F521=\"\",\"\",Data!F521)","v":""},{"$f":"IF(Data!G521=\"\",\"\",Data!G521)","v":""},{"$f":"IF(Data!H521=\"\",\"\",Data!H521)","v":""},{"$f":"IF(Data!I521=\"\",\"\",Data!I521)","v":""},{"$f":"IF(Data!J521=\"\",\"\",Data!J521)","v":""},{"$f":"IF(Data!K521=\"\",\"\",Data!K521)","v":""},{"$f":"IF(Data!L521=\"\",\"\",Data!L521)","v":""},{"$f":"IF(Data!M521=\"\",\"\",Data!M521)","v":""},{"$f":"IF(Data!N521=\"\",\"\",Data!N521)","v":""},{"$f":"IF(Data!O521=\"\",\"\",Data!O521)","v":""},{"$f":"IF(Data!P521=\"\",\"\",Data!P521)","v":""},{"$f":"IF(Data!Q521=\"\",\"\",Data!Q521)","v":""},{"$f":"IF(Data!R521=\"\",\"\",Data!R521)","v":""},{"$f":"IF(Data!S521=\"\",\"\",Data!S521)","v":""},null,null,null,null,521]
[{"$f":"IF(Data!A522=\"\",\"\",Data!A522)","v":""},"",{"$f":"IF(Data!B522=\"\",\"\",Data!B522)","v":""},{"$f":"IF(Data!C522=\"\",\"\",Data!C522)","v":""},{"$f":"IF(Data!D522=\"\",\"\",Data!D522)","v":""},{"$f":"IF(Data!E522=\"\",\"\",Data!E522)","v":""},{"$f":"IF(Data!F522=\"\",\"\",Data!F522)","v":""},{"$f":"IF(Data!G522=\"\",\"\",Data!G522)","v":""},{"$f":"IF(Data!H522=\"\",\"\",Data!H522)","v":""},{"$f":"IF(Data!I522=\"\",\"\",Data!I522)","v":""},{"$f":"IF(Data!J522=\"\",\"\",Data!J522)","v":""},{"$f":"IF(Data!K522=\"\",\"\",Data!K522)","v":""},{"$f":"IF(Data!L522=\"\",\"\",Data!L522)","v":""},{"$f":"IF(Data!M522=\"\",\"\",Data!M522)","v":""},{"$f":"IF(Data!N522=\"\",\"\",Data!N522)","v":""},{"$f":"IF(Data!O522=\"\",\"\",Data!O522)","v":""},{"$f":"IF(Data!P522=\"\",\"\",Data!P522)","v":""},{"$f":"IF(Data!Q522=\"\",\"\",Data!Q522)","v":""},{"$f":"IF(Data!R522=\"\",\"\",Data!R522)","v":""},{"$f":"IF(Data!S522=\"\",\"\",Data!S522)","v":""},null,null,null,null,522]
[{"$f":"IF(Data!A523=\"\",\"\",Data!A523)","v":""},"",{"$f":"IF(Data!B523=\"\",\"\",Data!B523)","v":""},{"$f":"IF(Data!C523=\"\",\"\",Data!C523)","v":""},{"$f":"IF(Data!D523=\"\",\"\",Data!D523)","v":""},{"$f":"IF(Data!E523=\"\",\"\",Data!E523)","v":""},{"$f":"IF(Data!F523=\"\",\"\",Data!F523)","v":""},{"$f":"IF(Data!G523=\"\",\"\",Data!G523)","v":""},{"$f":"IF(Data!H523=\"\",\"\",Data!H523)","v":""},{"$f":"IF(Data!I523=\"\",\"\",Data!I523)","v":""},{"$f":"IF(Data!J523=\"\",\"\",Data!J523)","v":""},{"$f":"IF(Data!K523=\"\",\"\",Data!K523)","v":""},{"$f":"IF(Data!L523=\"\",\"\",Data!L523)","v":""},{"$f":"IF(Data!M523=\"\",\"\",Data!M523)","v":""},{"$f":"IF(Data!N523=\"\",\"\",Data!N523)","v":""},{"$f":"IF(Data!O523=\"\",\"\",Data!O523)","v":""},{"$f":"IF(Data!P523=\"\",\"\",Data!P523)","v":""},{"$f":"IF(Data!Q523=\"\",\"\",Data!Q523)","v":""},{"$f":"IF(Data!R523=\"\",\"\",Data!R523)","v":""},{"$f":"IF(Data!S523=\"\",\"\",Data!S523)","v":""},null,null,null,null,523]
[{"$f":"IF(Data!A524=\"\",\"\",Data!A524)","v":""},"",{"$f":"IF(Data!B524=\"\",\"\",Data!B524)","v":""},{"$f":"IF(Data!C524=\"\",\"\",Data!C524)","v":""},{"$f":"IF(Data!D524=\"\",\"\",Data!D524)","v":""},{"$f":"IF(Data!E524=\"\",\"\",Data!E524)","v":""},{"$f":"IF(Data!F524=\"\",\"\",Data!F524)","v":""},{"$f":"IF(Data!G524=\"\",\"\",Data!G524)","v":""},{"$f":"IF(Data!H524=\"\",\"\",Data!H524)","v":""},{"$f":"IF(Data!I524=\"\",\"\",Data!I524)","v":""},{"$f":"IF(Data!J524=\"\",\"\",Data!J524)","v":""},{"$f":"IF(Data!K524=\"\",\"\",Data!K524)","v":""},{"$f":"IF(Data!L524=\"\",\"\",Data!L524)","v":""},{"$f":"IF(Data!M524=\"\",\"\",Data!M524)","v":""},{"$f":"IF(Data!N524=\"\",\"\",Data!N524)","v":""},{"$f":"IF(Data!O524=\"\",\"\",Data!O524)","v":""},{"$f":"IF(Data!P524=\"\",\"\",Data!P524)","v":""},{"$f":"IF(Data!Q524=\"\",\"\",Data!Q524)","v":""},{"$f":"IF(Data!R524=\"\",\"\",Data!R524)","v":""},{"$f":"IF(Data!S524=\"\",\"\",Data!S524)","v":""},null,null,null,null,524]
[{"$f":"IF(Data!A525=\"\",\"\",Data!A525)","v":""},"",{"$f":"IF(Data!B525=\"\",\"\",Data!B525)","v":""},{"$f":"IF(Data!C525=\"\",\"\",Data!C525)","v":""},{"$f":"IF(Data!D525=\"\",\"\",Data!D525)","v":""},{"$f":"IF(Data!E525=\"\",\"\",Data!E525)","v":""},{"$f":"IF(Data!F525=\"\",\"\",Data!F525)","v":""},{"$f":"IF(Data!G525=\"\",\"\",Data!G525)","v":""},{"$f":"IF(Data!H525=\"\",\"\",Data!H525)","v":""},{"$f":"IF(Data!I525=\"\",\"\",Data!I525)","v":""},{"$f":"IF(Data!J525=\"\",\"\",Data!J525)","v":""},{"$f":"IF(Data!K525=\"\",\"\",Data!K525)","v":""},{"$f":"IF(Data!L525=\"\",\"\",Data!L525)","v":""},{"$f":"IF(Data!M525=\"\",\"\",Data!M525)","v":""},{"$f":"IF(Data!N525=\"\",\"\",Data!N525)","v":""},{"$f":"IF(Data!O525=\"\",\"\",Data!O525)","v":""},{"$f":"IF(Data!P525=\"\",\"\",Data!P525)","v":""},{"$f":"IF(Data!Q525=\"\",\"\",Data!Q525)","v":""},{"$f":"IF(Data!R525=\"\",\"\",Data!R525)","v":""},{"$f":"IF(Data!S525=\"\",\"\",Data!S525)","v":""},null,null,null,null,525]
[{"$f":"IF(Data!A526=\"\",\"\",Data!A526)","v":""},"",{"$f":"IF(Data!B526=\"\",\"\",Data!B526)","v":""},{"$f":"IF(Data!C526=\"\",\"\",Data!C526)","v":""},{"$f":"IF(Data!D526=\"\",\"\",Data!D526)","v":""},{"$f":"IF(Data!E526=\"\",\"\",Data!E526)","v":""},{"$f":"IF(Data!F526=\"\",\"\",Data!F526)","v":""},{"$f":"IF(Data!G526=\"\",\"\",Data!G526)","v":""},{"$f":"IF(Data!H526=\"\",\"\",Data!H526)","v":""},{"$f":"IF(Data!I526=\"\",\"\",Data!I526)","v":""},{"$f":"IF(Data!J526=\"\",\"\",Data!J526)","v":""},{"$f":"IF(Data!K526=\"\",\"\",Data!K526)","v":""},{"$f":"IF(Data!L526=\"\",\"\",Data!L526)","v":""},{"$f":"IF(Data!M526=\"\",\"\",Data!M526)","v":""},{"$f":"IF(Data!N526=\"\",\"\",Data!N526)","v":""},{"$f":"IF(Data!O526=\"\",\"\",Data!O526)","v":""},{"$f":"IF(Data!P526=\"\",\"\",Data!P526)","v":""},{"$f":"IF(Data!Q526=\"\",\"\",Data!Q526)","v":""},{"$f":"IF(Data!R526=\"\",\"\",Data!R526)","v":""},{"$f":"IF(Data!S526=\"\",\"\",Data!S526)","v":""},null,null,null,null,526]
[{"$f":"IF(Data!A527=\"\",\"\",Data!A527)","v":""},"",{"$f":"IF(Data!B527=\"\",\"\",Data!B527)","v":""},{"$f":"IF(Data!C527=\"\",\"\",Data!C527)","v":""},{"$f":"IF(Data!D527=\"\",\"\",Data!D527)","v":""},{"$f":"IF(Data!E527=\"\",\"\",Data!E527)","v":""},{"$f":"IF(Data!F527=\"\",\"\",Data!F527)","v":""},{"$f":"IF(Data!G527=\"\",\"\",Data!G527)","v":""},{"$f":"IF(Data!H527=\"\",\"\",Data!H527)","v":""},{"$f":"IF(Data!I527=\"\",\"\",Data!I527)","v":""},{"$f":"IF(Data!J527=\"\",\"\",Data!J527)","v":""},{"$f":"IF(Data!K527=\"\",\"\",Data!K527)","v":""},{"$f":"IF(Data!L527=\"\",\"\",Data!L527)","v":""},{"$f":"IF(Data!M527=\"\",\"\",Data!M527)","v":""},{"$f":"IF(Data!N527=\"\",\"\",Data!N527)","v":""},{"$f":"IF(Data!O527=\"\",\"\",Data!O527)","v":""},{"$f":"IF(Data!P527=\"\",\"\",Data!P527)","v":""},{"$f":"IF(Data!Q527=\"\",\"\",Data!Q527)","v":""},{"$f":"IF(Data!R527=\"\",\"\",Data!R527)","v":""},{"$f":"IF(Data!S527=\"\",\"\",Data!S527)","v":""},null,null,null,null,527]
[{"$f":"IF(Data!A528=\"\",\"\",Data!A528)","v":""},"",{"$f":"IF(Data!B528=\"\",\"\",Data!B528)","v":""},{"$f":"IF(Data!C528=\"\",\"\",Data!C528)","v":""},{"$f":"IF(Data!D528=\"\",\"\",Data!D528)","v":""},{"$f":"IF(Data!E528=\"\",\"\",Data!E528)","v":""},{"$f":"IF(Data!F528=\"\",\"\",Data!F528)","v":""},{"$f":"IF(Data!G528=\"\",\"\",Data!G528)","v":""},{"$f":"IF(Data!H528=\"\",\"\",Data!H528)","v":""},{"$f":"IF(Data!I528=\"\",\"\",Data!I528)","v":""},{"$f":"IF(Data!J528=\"\",\"\",Data!J528)","v":""},{"$f":"IF(Data!K528=\"\",\"\",Data!K528)","v":""},{"$f":"IF(Data!L528=\"\",\"\",Data!L528)","v":""},{"$f":"IF(Data!M528=\"\",\"\",Data!M528)","v":""},{"$f":"IF(Data!N528=\"\",\"\",Data!N528)","v":""},{"$f":"IF(Data!O528=\"\",\"\",Data!O528)","v":""},{"$f":"IF(Data!P528=\"\",\"\",Data!P528)","v":""},{"$f":"IF(Data!Q528=\"\",\"\",Data!Q528)","v":""},{"$f":"IF(Data!R528=\"\",\"\",Data!R528)","v":""},{"$f":"IF(Data!S528=\"\",\"\",Data!S528)","v":""},null,null,null,null,528]
[{"$f":"IF(Data!A529=\"\",\"\",Data!A529)","v":""},"",{"$f":"IF(Data!B529=\"\",\"\",Data!B529)","v":""},{"$f":"IF(Data!C529=\"\",\"\",Data!C529)","v":""},{"$f":"IF(Data!D529=\"\",\"\",Data!D529)","v":""},{"$f":"IF(Data!E529=\"\",\"\",Data!E529)","v":""},{"$f":"IF(Data!F529=\"\",\"\",Data!F529)","v":""},{"$f":"IF(Data!G529=\"\",\"\",Data!G529)","v":""},{"$f":"IF(Data!H529=\"\",\"\",Data!H529)","v":""},{"$f":"IF(Data!I529=\"\",\"\",Data!I529)","v":""},{"$f":"IF(Data!J529=\"\",\"\",Data!J529)","v":""},{"$f":"IF(Data!K529=\"\",\"\",Data!K529)","v":""},{"$f":"IF(Data!L529=\"\",\"\",Data!L529)","v":""},{"$f":"IF(Data!M529=\"\",\"\",Data!M529)","v":""},{"$f":"IF(Data!N529=\"\",\"\",Data!N529)","v":""},{"$f":"IF(Data!O529=\"\",\"\",Data!O529)","v":""},{"$f":"IF(Data!P529=\"\",\"\",Data!P529)","v":""},{"$f":"IF(Data!Q529=\"\",\"\",Data!Q529)","v":""},{"$f":"IF(Data!R529=\"\",\"\",Data!R529)","v":""},{"$f":"IF(Data!S529=\"\",\"\",Data!S529)","v":""},null,null,null,null,529]
[{"$f":"IF(Data!A530=\"\",\"\",Data!A530)","v":""},"",{"$f":"IF(Data!B530=\"\",\"\",Data!B530)","v":""},{"$f":"IF(Data!C530=\"\",\"\",Data!C530)","v":""},{"$f":"IF(Data!D530=\"\",\"\",Data!D530)","v":""},{"$f":"IF(Data!E530=\"\",\"\",Data!E530)","v":""},{"$f":"IF(Data!F530=\"\",\"\",Data!F530)","v":""},{"$f":"IF(Data!G530=\"\",\"\",Data!G530)","v":""},{"$f":"IF(Data!H530=\"\",\"\",Data!H530)","v":""},{"$f":"IF(Data!I530=\"\",\"\",Data!I530)","v":""},{"$f":"IF(Data!J530=\"\",\"\",Data!J530)","v":""},{"$f":"IF(Data!K530=\"\",\"\",Data!K530)","v":""},{"$f":"IF(Data!L530=\"\",\"\",Data!L530)","v":""},{"$f":"IF(Data!M530=\"\",\"\",Data!M530)","v":""},{"$f":"IF(Data!N530=\"\",\"\",Data!N530)","v":""},{"$f":"IF(Data!O530=\"\",\"\",Data!O530)","v":""},{"$f":"IF(Data!P530=\"\",\"\",Data!P530)","v":""},{"$f":"IF(Data!Q530=\"\",\"\",Data!Q530)","v":""},{"$f":"IF(Data!R530=\"\",\"\",Data!R530)","v":""},{"$f":"IF(Data!S530=\"\",\"\",Data!S530)","v":""},null,null,null,null,530]
[{"$f":"IF(Data!A531=\"\",\"\",Data!A531)","v":""},"",{"$f":"IF(Data!B531=\"\",\"\",Data!B531)","v":""},{"$f":"IF(Data!C531=\"\",\"\",Data!C531)","v":""},{"$f":"IF(Data!D531=\"\",\"\",Data!D531)","v":""},{"$f":"IF(Data!E531=\"\",\"\",Data!E531)","v":""},{"$f":"IF(Data!F531=\"\",\"\",Data!F531)","v":""},{"$f":"IF(Data!G531=\"\",\"\",Data!G531)","v":""},{"$f":"IF(Data!H531=\"\",\"\",Data!H531)","v":""},{"$f":"IF(Data!I531=\"\",\"\",Data!I531)","v":""},{"$f":"IF(Data!J531=\"\",\"\",Data!J531)","v":""},{"$f":"IF(Data!K531=\"\",\"\",Data!K531)","v":""},{"$f":"IF(Data!L531=\"\",\"\",Data!L531)","v":""},{"$f":"IF(Data!M531=\"\",\"\",Data!M531)","v":""},{"$f":"IF(Data!N531=\"\",\"\",Data!N531)","v":""},{"$f":"IF(Data!O531=\"\",\"\",Data!O531)","v":""},{"$f":"IF(Data!P531=\"\",\"\",Data!P531)","v":""},{"$f":"IF(Data!Q531=\"\",\"\",Data!Q531)","v":""},{"$f":"IF(Data!R531=\"\",\"\",Data!R531)","v":""},{"$f":"IF(Data!S531=\"\",\"\",Data!S531)","v":""},null,null,null,null,531]
[{"$f":"IF(Data!A532=\"\",\"\",Data!A532)","v":""},"",{"$f":"IF(Data!B532=\"\",\"\",Data!B532)","v":""},{"$f":"IF(Data!C532=\"\",\"\",Data!C532)","v":""},{"$f":"IF(Data!D532=\"\",\"\",Data!D532)","v":""},{"$f":"IF(Data!E532=\"\",\"\",Data!E532)","v":""},{"$f":"IF(Data!F532=\"\",\"\",Data!F532)","v":""},{"$f":"IF(Data!G532=\"\",\"\",Data!G532)","v":""},{"$f":"IF(Data!H532=\"\",\"\",Data!H532)","v":""},{"$f":"IF(Data!I532=\"\",\"\",Data!I532)","v":""},{"$f":"IF(Data!J532=\"\",\"\",Data!J532)","v":""},{"$f":"IF(Data!K532=\"\",\"\",Data!K532)","v":""},{"$f":"IF(Data!L532=\"\",\"\",Data!L532)","v":""},{"$f":"IF(Data!M532=\"\",\"\",Data!M532)","v":""},{"$f":"IF(Data!N532=\"\",\"\",Data!N532)","v":""},{"$f":"IF(Data!O532=\"\",\"\",Data!O532)","v":""},{"$f":"IF(Data!P532=\"\",\"\",Data!P532)","v":""},{"$f":"IF(Data!Q532=\"\",\"\",Data!Q532)","v":""},{"$f":"IF(Data!R532=\"\",\"\",Data!R532)","v":""},{"$f":"IF(Data!S532=\"\",\"\",Data!S532)","v":""},null,null,null,null,532]
[{"$f":"IF(Data!A533=\"\",\"\",Data!A533)","v":""},"",{"$f":"IF(Data!B533=\"\",\"\",Data!B533)","v":""},{"$f":"IF(Data!C533=\"\",\"\",Data!C533)","v":""},{"$f":"IF(Data!D533=\"\",\"\",Data!D533)","v":""},{"$f":"IF(Data!E533=\"\",\"\",Data!E533)","v":""},{"$f":"IF(Data!F533=\"\",\"\",Data!F533)","v":""},{"$f":"IF(Data!G533=\"\",\"\",Data!G533)","v":""},{"$f":"IF(Data!H533=\"\",\"\",Data!H533)","v":""},{"$f":"IF(Data!I533=\"\",\"\",Data!I533)","v":""},{"$f":"IF(Data!J533=\"\",\"\",Data!J533)","v":""},{"$f":"IF(Data!K533=\"\",\"\",Data!K533)","v":""},{"$f":"IF(Data!L533=\"\",\"\",Data!L533)","v":""},{"$f":"IF(Data!M533=\"\",\"\",Data!M533)","v":""},{"$f":"IF(Data!N533=\"\",\"\",Data!N533)","v":""},{"$f":"IF(Data!O533=\"\",\"\",Data!O533)","v":""},{"$f":"IF(Data!P533=\"\",\"\",Data!P533)","v":""},{"$f":"IF(Data!Q533=\"\",\"\",Data!Q533)","v":""},{"$f":"IF(Data!R533=\"\",\"\",Data!R533)","v":""},{"$f":"IF(Data!S533=\"\",\"\",Data!S533)","v":""},null,null,null,null,533]
[{"$f":"IF(Data!A534=\"\",\"\",Data!A534)","v":""},"",{"$f":"IF(Data!B534=\"\",\"\",Data!B534)","v":""},{"$f":"IF(Data!C534=\"\",\"\",Data!C534)","v":""},{"$f":"IF(Data!D534=\"\",\"\",Data!D534)","v":""},{"$f":"IF(Data!E534=\"\",\"\",Data!E534)","v":""},{"$f":"IF(Data!F534=\"\",\"\",Data!F534)","v":""},{"$f":"IF(Data!G534=\"\",\"\",Data!G534)","v":""},{"$f":"IF(Data!H534=\"\",\"\",Data!H534)","v":""},{"$f":"IF(Data!I534=\"\",\"\",Data!I534)","v":""},{"$f":"IF(Data!J534=\"\",\"\",Data!J534)","v":""},{"$f":"IF(Data!K534=\"\",\"\",Data!K534)","v":""},{"$f":"IF(Data!L534=\"\",\"\",Data!L534)","v":""},{"$f":"IF(Data!M534=\"\",\"\",Data!M534)","v":""},{"$f":"IF(Data!N534=\"\",\"\",Data!N534)","v":""},{"$f":"IF(Data!O534=\"\",\"\",Data!O534)","v":""},{"$f":"IF(Data!P534=\"\",\"\",Data!P534)","v":""},{"$f":"IF(Data!Q534=\"\",\"\",Data!Q534)","v":""},{"$f":"IF(Data!R534=\"\",\"\",Data!R534)","v":""},{"$f":"IF(Data!S534=\"\",\"\",Data!S534)","v":""},null,null,null,null,534]
[{"$f":"IF(Data!A535=\"\",\"\",Data!A535)","v":""},"",{"$f":"IF(Data!B535=\"\",\"\",Data!B535)","v":""},{"$f":"IF(Data!C535=\"\",\"\",Data!C535)","v":""},{"$f":"IF(Data!D535=\"\",\"\",Data!D535)","v":""},{"$f":"IF(Data!E535=\"\",\"\",Data!E535)","v":""},{"$f":"IF(Data!F535=\"\",\"\",Data!F535)","v":""},{"$f":"IF(Data!G535=\"\",\"\",Data!G535)","v":""},{"$f":"IF(Data!H535=\"\",\"\",Data!H535)","v":""},{"$f":"IF(Data!I535=\"\",\"\",Data!I535)","v":""},{"$f":"IF(Data!J535=\"\",\"\",Data!J535)","v":""},{"$f":"IF(Data!K535=\"\",\"\",Data!K535)","v":""},{"$f":"IF(Data!L535=\"\",\"\",Data!L535)","v":""},{"$f":"IF(Data!M535=\"\",\"\",Data!M535)","v":""},{"$f":"IF(Data!N535=\"\",\"\",Data!N535)","v":""},{"$f":"IF(Data!O535=\"\",\"\",Data!O535)","v":""},{"$f":"IF(Data!P535=\"\",\"\",Data!P535)","v":""},{"$f":"IF(Data!Q535=\"\",\"\",Data!Q535)","v":""},{"$f":"IF(Data!R535=\"\",\"\",Data!R535)","v":""},{"$f":"IF(Data!S535=\"\",\"\",Data!S535)","v":""},null,null,null,null,535]
[{"$f":"IF(Data!A536=\"\",\"\",Data!A536)","v":""},"",{"$f":"IF(Data!B536=\"\",\"\",Data!B536)","v":""},{"$f":"IF(Data!C536=\"\",\"\",Data!C536)","v":""},{"$f":"IF(Data!D536=\"\",\"\",Data!D536)","v":""},{"$f":"IF(Data!E536=\"\",\"\",Data!E536)","v":""},{"$f":"IF(Data!F536=\"\",\"\",Data!F536)","v":""},{"$f":"IF(Data!G536=\"\",\"\",Data!G536)","v":""},{"$f":"IF(Data!H536=\"\",\"\",Data!H536)","v":""},{"$f":"IF(Data!I536=\"\",\"\",Data!I536)","v":""},{"$f":"IF(Data!J536=\"\",\"\",Data!J536)","v":""},{"$f":"IF(Data!K536=\"\",\"\",Data!K536)","v":""},{"$f":"IF(Data!L536=\"\",\"\",Data!L536)","v":""},{"$f":"IF(Data!M536=\"\",\"\",Data!M536)","v":""},{"$f":"IF(Data!N536=\"\",\"\",Data!N536)","v":""},{"$f":"IF(Data!O536=\"\",\"\",Data!O536)","v":""},{"$f":"IF(Data!P536=\"\",\"\",Data!P536)","v":""},{"$f":"IF(Data!Q536=\"\",\"\",Data!Q536)","v":""},{"$f":"IF(Data!R536=\"\",\"\",Data!R536)","v":""},{"$f":"IF(Data!S536=\"\",\"\",Data!S536)","v":""},null,null,null,null,536]
[{"$f":"IF(Data!A537=\"\",\"\",Data!A537)","v":""},"",{"$f":"IF(Data!B537=\"\",\"\",Data!B537)","v":""},{"$f":"IF(Data!C537=\"\",\"\",Data!C537)","v":""},{"$f":"IF(Data!D537=\"\",\"\",Data!D537)","v":""},{"$f":"IF(Data!E537=\"\",\"\",Data!E537)","v":""},{"$f":"IF(Data!F537=\"\",\"\",Data!F537)","v":""},{"$f":"IF(Data!G537=\"\",\"\",Data!G537)","v":""},{"$f":"IF(Data!H537=\"\",\"\",Data!H537)","v":""},{"$f":"IF(Data!I537=\"\",\"\",Data!I537)","v":""},{"$f":"IF(Data!J537=\"\",\"\",Data!J537)","v":""},{"$f":"IF(Data!K537=\"\",\"\",Data!K537)","v":""},{"$f":"IF(Data!L537=\"\",\"\",Data!L537)","v":""},{"$f":"IF(Data!M537=\"\",\"\",Data!M537)","v":""},{"$f":"IF(Data!N537=\"\",\"\",Data!N537)","v":""},{"$f":"IF(Data!O537=\"\",\"\",Data!O537)","v":""},{"$f":"IF(Data!P537=\"\",\"\",Data!P537)","v":""},{"$f":"IF(Data!Q537=\"\",\"\",Data!Q537)","v":""},{"$f":"IF(Data!R537=\"\",\"\",Data!R537)","v":""},{"$f":"IF(Data!S537=\"\",\"\",Data!S537)","v":""},null,null,null,null,537]
[{"$f":"IF(Data!A538=\"\",\"\",Data!A538)","v":""},"",{"$f":"IF(Data!B538=\"\",\"\",Data!B538)","v":""},{"$f":"IF(Data!C538=\"\",\"\",Data!C538)","v":""},{"$f":"IF(Data!D538=\"\",\"\",Data!D538)","v":""},{"$f":"IF(Data!E538=\"\",\"\",Data!E538)","v":""},{"$f":"IF(Data!F538=\"\",\"\",Data!F538)","v":""},{"$f":"IF(Data!G538=\"\",\"\",Data!G538)","v":""},{"$f":"IF(Data!H538=\"\",\"\",Data!H538)","v":""},{"$f":"IF(Data!I538=\"\",\"\",Data!I538)","v":""},{"$f":"IF(Data!J538=\"\",\"\",Data!J538)","v":""},{"$f":"IF(Data!K538=\"\",\"\",Data!K538)","v":""},{"$f":"IF(Data!L538=\"\",\"\",Data!L538)","v":""},{"$f":"IF(Data!M538=\"\",\"\",Data!M538)","v":""},{"$f":"IF(Data!N538=\"\",\"\",Data!N538)","v":""},{"$f":"IF(Data!O538=\"\",\"\",Data!O538)","v":""},{"$f":"IF(Data!P538=\"\",\"\",Data!P538)","v":""},{"$f":"IF(Data!Q538=\"\",\"\",Data!Q538)","v":""},{"$f":"IF(Data!R538=\"\",\"\",Data!R538)","v":""},{"$f":"IF(Data!S538=\"\",\"\",Data!S538)","v":""},null,null,null,null,538]
[{"$f":"IF(Data!A539=\"\",\"\",Data!A539)","v":""},"",{"$f":"IF(Data!B539=\"\",\"\",Data!B539)","v":""},{"$f":"IF(Data!C539=\"\",\"\",Data!C539)","v":""},{"$f":"IF(Data!D539=\"\",\"\",Data!D539)","v":""},{"$f":"IF(Data!E539=\"\",\"\",Data!E539)","v":""},{"$f":"IF(Data!F539=\"\",\"\",Data!F539)","v":""},{"$f":"IF(Data!G539=\"\",\"\",Data!G539)","v":""},{"$f":"IF(Data!H539=\"\",\"\",Data!H539)","v":""},{"$f":"IF(Data!I539=\"\",\"\",Data!I539)","v":""},{"$f":"IF(Data!J539=\"\",\"\",Data!J539)","v":""},{"$f":"IF(Data!K539=\"\",\"\",Data!K539)","v":""},{"$f":"IF(Data!L539=\"\",\"\",Data!L539)","v":""},{"$f":"IF(Data!M539=\"\",\"\",Data!M539)","v":""},{"$f":"IF(Data!N539=\"\",\"\",Data!N539)","v":""},{"$f":"IF(Data!O539=\"\",\"\",Data!O539)","v":""},{"$f":"IF(Data!P539=\"\",\"\",Data!P539)","v":""},{"$f":"IF(Data!Q539=\"\",\"\",Data!Q539)","v":""},{"$f":"IF(Data!R539=\"\",\"\",Data!R539)","v":""},{"$f":"IF(Data!S539=\"\",\"\",Data!S539)","v":""},null,null,null,null,539]
[{"$f":"IF(Data!A540=\"\",\"\",Data!A540)","v":""},"",{"$f":"IF(Data!B540=\"\",\"\",Data!B540)","v":""},{"$f":"IF(Data!C540=\"\",\"\",Data!C540)","v":""},{"$f":"IF(Data!D540=\"\",\"\",Data!D540)","v":""},{"$f":"IF(Data!E540=\"\",\"\",Data!E540)","v":""},{"$f":"IF(Data!F540=\"\",\"\",Data!F540)","v":""},{"$f":"IF(Data!G540=\"\",\"\",Data!G540)","v":""},{"$f":"IF(Data!H540=\"\",\"\",Data!H540)","v":""},{"$f":"IF(Data!I540=\"\",\"\",Data!I540)","v":""},{"$f":"IF(Data!J540=\"\",\"\",Data!J540)","v":""},{"$f":"IF(Data!K540=\"\",\"\",Data!K540)","v":""},{"$f":"IF(Data!L540=\"\",\"\",Data!L540)","v":""},{"$f":"IF(Data!M540=\"\",\"\",Data!M540)","v":""},{"$f":"IF(Data!N540=\"\",\"\",Data!N540)","v":""},{"$f":"IF(Data!O540=\"\",\"\",Data!O540)","v":""},{"$f":"IF(Data!P540=\"\",\"\",Data!P540)","v":""},{"$f":"IF(Data!Q540=\"\",\"\",Data!Q540)","v":""},{"$f":"IF(Data!R540=\"\",\"\",Data!R540)","v":""},{"$f":"IF(Data!S540=\"\",\"\",Data!S540)","v":""},null,null,null,null,540]
[{"$f":"IF(Data!A541=\"\",\"\",Data!A541)","v":""},"",{"$f":"IF(Data!B541=\"\",\"\",Data!B541)","v":""},{"$f":"IF(Data!C541=\"\",\"\",Data!C541)","v":""},{"$f":"IF(Data!D541=\"\",\"\",Data!D541)","v":""},{"$f":"IF(Data!E541=\"\",\"\",Data!E541)","v":""},{"$f":"IF(Data!F541=\"\",\"\",Data!F541)","v":""},{"$f":"IF(Data!G541=\"\",\"\",Data!G541)","v":""},{"$f":"IF(Data!H541=\"\",\"\",Data!H541)","v":""},{"$f":"IF(Data!I541=\"\",\"\",Data!I541)","v":""},{"$f":"IF(Data!J541=\"\",\"\",Data!J541)","v":""},{"$f":"IF(Data!K541=\"\",\"\",Data!K541)","v":""},{"$f":"IF(Data!L541=\"\",\"\",Data!L541)","v":""},{"$f":"IF(Data!M541=\"\",\"\",Data!M541)","v":""},{"$f":"IF(Data!N541=\"\",\"\",Data!N541)","v":""},{"$f":"IF(Data!O541=\"\",\"\",Data!O541)","v":""},{"$f":"IF(Data!P541=\"\",\"\",Data!P541)","v":""},{"$f":"IF(Data!Q541=\"\",\"\",Data!Q541)","v":""},{"$f":"IF(Data!R541=\"\",\"\",Data!R541)","v":""},{"$f":"IF(Data!S541=\"\",\"\",Data!S541)","v":""},null,null,null,null,541]
[{"$f":"IF(Data!A542=\"\",\"\",Data!A542)","v":""},"",{"$f":"IF(Data!B542=\"\",\"\",Data!B542)","v":""},{"$f":"IF(Data!C542=\"\",\"\",Data!C542)","v":""},{"$f":"IF(Data!D542=\"\",\"\",Data!D542)","v":""},{"$f":"IF(Data!E542=\"\",\"\",Data!E542)","v":""},{"$f":"IF(Data!F542=\"\",\"\",Data!F542)","v":""},{"$f":"IF(Data!G542=\"\",\"\",Data!G542)","v":""},{"$f":"IF(Data!H542=\"\",\"\",Data!H542)","v":""},{"$f":"IF(Data!I542=\"\",\"\",Data!I542)","v":""},{"$f":"IF(Data!J542=\"\",\"\",Data!J542)","v":""},{"$f":"IF(Data!K542=\"\",\"\",Data!K542)","v":""},{"$f":"IF(Data!L542=\"\",\"\",Data!L542)","v":""},{"$f":"IF(Data!M542=\"\",\"\",Data!M542)","v":""},{"$f":"IF(Data!N542=\"\",\"\",Data!N542)","v":""},{"$f":"IF(Data!O542=\"\",\"\",Data!O542)","v":""},{"$f":"IF(Data!P542=\"\",\"\",Data!P542)","v":""},{"$f":"IF(Data!Q542=\"\",\"\",Data!Q542)","v":""},{"$f":"IF(Data!R542=\"\",\"\",Data!R542)","v":""},{"$f":"IF(Data!S542=\"\",\"\",Data!S542)","v":""},null,null,null,null,542]
[{"$f":"IF(Data!A543=\"\",\"\",Data!A543)","v":""},"",{"$f":"IF(Data!B543=\"\",\"\",Data!B543)","v":""},{"$f":"IF(Data!C543=\"\",\"\",Data!C543)","v":""},{"$f":"IF(Data!D543=\"\",\"\",Data!D543)","v":""},{"$f":"IF(Data!E543=\"\",\"\",Data!E543)","v":""},{"$f":"IF(Data!F543=\"\",\"\",Data!F543)","v":""},{"$f":"IF(Data!G543=\"\",\"\",Data!G543)","v":""},{"$f":"IF(Data!H543=\"\",\"\",Data!H543)","v":""},{"$f":"IF(Data!I543=\"\",\"\",Data!I543)","v":""},{"$f":"IF(Data!J543=\"\",\"\",Data!J543)","v":""},{"$f":"IF(Data!K543=\"\",\"\",Data!K543)","v":""},{"$f":"IF(Data!L543=\"\",\"\",Data!L543)","v":""},{"$f":"IF(Data!M543=\"\",\"\",Data!M543)","v":""},{"$f":"IF(Data!N543=\"\",\"\",Data!N543)","v":""},{"$f":"IF(Data!O543=\"\",\"\",Data!O543)","v":""},{"$f":"IF(Data!P543=\"\",\"\",Data!P543)","v":""},{"$f":"IF(Data!Q543=\"\",\"\",Data!Q543)","v":""},{"$f":"IF(Data!R543=\"\",\"\",Data!R543)","v":""},{"$f":"IF(Data!S543=\"\",\"\",Data!S543)","v":""},null,null,null,null,543]
[{"$f":"IF(Data!A544=\"\",\"\",Data!A544)","v":""},"",{"$f":"IF(Data!B544=\"\",\"\",Data!B544)","v":""},{"$f":"IF(Data!C544=\"\",\"\",Data!C544)","v":""},{"$f":"IF(Data!D544=\"\",\"\",Data!D544)","v":""},{"$f":"IF(Data!E544=\"\",\"\",Data!E544)","v":""},{"$f":"IF(Data!F544=\"\",\"\",Data!F544)","v":""},{"$f":"IF(Data!G544=\"\",\"\",Data!G544)","v":""},{"$f":"IF(Data!H544=\"\",\"\",Data!H544)","v":""},{"$f":"IF(Data!I544=\"\",\"\",Data!I544)","v":""},{"$f":"IF(Data!J544=\"\",\"\",Data!J544)","v":""},{"$f":"IF(Data!K544=\"\",\"\",Data!K544)","v":""},{"$f":"IF(Data!L544=\"\",\"\",Data!L544)","v":""},{"$f":"IF(Data!M544=\"\",\"\",Data!M544)","v":""},{"$f":"IF(Data!N544=\"\",\"\",Data!N544)","v":""},{"$f":"IF(Data!O544=\"\",\"\",Data!O544)","v":""},{"$f":"IF(Data!P544=\"\",\"\",Data!P544)","v":""},{"$f":"IF(Data!Q544=\"\",\"\",Data!Q544)","v":""},{"$f":"IF(Data!R544=\"\",\"\",Data!R544)","v":""},{"$f":"IF(Data!S544=\"\",\"\",Data!S544)","v":""},null,null,null,null,544]
[{"$f":"IF(Data!A545=\"\",\"\",Data!A545)","v":""},"",{"$f":"IF(Data!B545=\"\",\"\",Data!B545)","v":""},{"$f":"IF(Data!C545=\"\",\"\",Data!C545)","v":""},{"$f":"IF(Data!D545=\"\",\"\",Data!D545)","v":""},{"$f":"IF(Data!E545=\"\",\"\",Data!E545)","v":""},{"$f":"IF(Data!F545=\"\",\"\",Data!F545)","v":""},{"$f":"IF(Data!G545=\"\",\"\",Data!G545)","v":""},{"$f":"IF(Data!H545=\"\",\"\",Data!H545)","v":""},{"$f":"IF(Data!I545=\"\",\"\",Data!I545)","v":""},{"$f":"IF(Data!J545=\"\",\"\",Data!J545)","v":""},{"$f":"IF(Data!K545=\"\",\"\",Data!K545)","v":""},{"$f":"IF(Data!L545=\"\",\"\",Data!L545)","v":""},{"$f":"IF(Data!M545=\"\",\"\",Data!M545)","v":""},{"$f":"IF(Data!N545=\"\",\"\",Data!N545)","v":""},{"$f":"IF(Data!O545=\"\",\"\",Data!O545)","v":""},{"$f":"IF(Data!P545=\"\",\"\",Data!P545)","v":""},{"$f":"IF(Data!Q545=\"\",\"\",Data!Q545)","v":""},{"$f":"IF(Data!R545=\"\",\"\",Data!R545)","v":""},{"$f":"IF(Data!S545=\"\",\"\",Data!S545)","v":""},null,null,null,null,545]
[{"$f":"IF(Data!A546=\"\",\"\",Data!A546)","v":""},"",{"$f":"IF(Data!B546=\"\",\"\",Data!B546)","v":""},{"$f":"IF(Data!C546=\"\",\"\",Data!C546)","v":""},{"$f":"IF(Data!D546=\"\",\"\",Data!D546)","v":""},{"$f":"IF(Data!E546=\"\",\"\",Data!E546)","v":""},{"$f":"IF(Data!F546=\"\",\"\",Data!F546)","v":""},{"$f":"IF(Data!G546=\"\",\"\",Data!G546)","v":""},{"$f":"IF(Data!H546=\"\",\"\",Data!H546)","v":""},{"$f":"IF(Data!I546=\"\",\"\",Data!I546)","v":""},{"$f":"IF(Data!J546=\"\",\"\",Data!J546)","v":""},{"$f":"IF(Data!K546=\"\",\"\",Data!K546)","v":""},{"$f":"IF(Data!L546=\"\",\"\",Data!L546)","v":""},{"$f":"IF(Data!M546=\"\",\"\",Data!M546)","v":""},{"$f":"IF(Data!N546=\"\",\"\",Data!N546)","v":""},{"$f":"IF(Data!O546=\"\",\"\",Data!O546)","v":""},{"$f":"IF(Data!P546=\"\",\"\",Data!P546)","v":""},{"$f":"IF(Data!Q546=\"\",\"\",Data!Q546)","v":""},{"$f":"IF(Data!R546=\"\",\"\",Data!R546)","v":""},{"$f":"IF(Data!S546=\"\",\"\",Data!S546)","v":""},null,null,null,null,546]
[{"$f":"IF(Data!A547=\"\",\"\",Data!A547)","v":""},"",{"$f":"IF(Data!B547=\"\",\"\",Data!B547)","v":""},{"$f":"IF(Data!C547=\"\",\"\",Data!C547)","v":""},{"$f":"IF(Data!D547=\"\",\"\",Data!D547)","v":""},{"$f":"IF(Data!E547=\"\",\"\",Data!E547)","v":""},{"$f":"IF(Data!F547=\"\",\"\",Data!F547)","v":""},{"$f":"IF(Data!G547=\"\",\"\",Data!G547)","v":""},{"$f":"IF(Data!H547=\"\",\"\",Data!H547)","v":""},{"$f":"IF(Data!I547=\"\",\"\",Data!I547)","v":""},{"$f":"IF(Data!J547=\"\",\"\",Data!J547)","v":""},{"$f":"IF(Data!K547=\"\",\"\",Data!K547)","v":""},{"$f":"IF(Data!L547=\"\",\"\",Data!L547)","v":""},{"$f":"IF(Data!M547=\"\",\"\",Data!M547)","v":""},{"$f":"IF(Data!N547=\"\",\"\",Data!N547)","v":""},{"$f":"IF(Data!O547=\"\",\"\",Data!O547)","v":""},{"$f":"IF(Data!P547=\"\",\"\",Data!P547)","v":""},{"$f":"IF(Data!Q547=\"\",\"\",Data!Q547)","v":""},{"$f":"IF(Data!R547=\"\",\"\",Data!R547)","v":""},{"$f":"IF(Data!S547=\"\",\"\",Data!S547)","v":""},null,null,null,null,547]
[{"$f":"IF(Data!A548=\"\",\"\",Data!A548)","v":""},"",{"$f":"IF(Data!B548=\"\",\"\",Data!B548)","v":""},{"$f":"IF(Data!C548=\"\",\"\",Data!C548)","v":""},{"$f":"IF(Data!D548=\"\",\"\",Data!D548)","v":""},{"$f":"IF(Data!E548=\"\",\"\",Data!E548)","v":""},{"$f":"IF(Data!F548=\"\",\"\",Data!F548)","v":""},{"$f":"IF(Data!G548=\"\",\"\",Data!G548)","v":""},{"$f":"IF(Data!H548=\"\",\"\",Data!H548)","v":""},{"$f":"IF(Data!I548=\"\",\"\",Data!I548)","v":""},{"$f":"IF(Data!J548=\"\",\"\",Data!J548)","v":""},{"$f":"IF(Data!K548=\"\",\"\",Data!K548)","v":""},{"$f":"IF(Data!L548=\"\",\"\",Data!L548)","v":""},{"$f":"IF(Data!M548=\"\",\"\",Data!M548)","v":""},{"$f":"IF(Data!N548=\"\",\"\",Data!N548)","v":""},{"$f":"IF(Data!O548=\"\",\"\",Data!O548)","v":""},{"$f":"IF(Data!P548=\"\",\"\",Data!P548)","v":""},{"$f":"IF(Data!Q548=\"\",\"\",Data!Q548)","v":""},{"$f":"IF(Data!R548=\"\",\"\",Data!R548)","v":""},{"$f":"IF(Data!S548=\"\",\"\",Data!S548)","v":""},null,null,null,null,548]
[{"$f":"IF(Data!A549=\"\",\"\",Data!A549)","v":""},"",{"$f":"IF(Data!B549=\"\",\"\",Data!B549)","v":""},{"$f":"IF(Data!C549=\"\",\"\",Data!C549)","v":""},{"$f":"IF(Data!D549=\"\",\"\",Data!D549)","v":""},{"$f":"IF(Data!E549=\"\",\"\",Data!E549)","v":""},{"$f":"IF(Data!F549=\"\",\"\",Data!F549)","v":""},{"$f":"IF(Data!G549=\"\",\"\",Data!G549)","v":""},{"$f":"IF(Data!H549=\"\",\"\",Data!H549)","v":""},{"$f":"IF(Data!I549=\"\",\"\",Data!I549)","v":""},{"$f":"IF(Data!J549=\"\",\"\",Data!J549)","v":""},{"$f":"IF(Data!K549=\"\",\"\",Data!K549)","v":""},{"$f":"IF(Data!L549=\"\",\"\",Data!L549)","v":""},{"$f":"IF(Data!M549=\"\",\"\",Data!M549)","v":""},{"$f":"IF(Data!N549=\"\",\"\",Data!N549)","v":""},{"$f":"IF(Data!O549=\"\",\"\",Data!O549)","v":""},{"$f":"IF(Data!P549=\"\",\"\",Data!P549)","v":""},{"$f":"IF(Data!Q549=\"\",\"\",Data!Q549)","v":""},{"$f":"IF(Data!R549=\"\",\"\",Data!R549)","v":""},{"$f":"IF(Data!S549=\"\",\"\",Data!S549)","v":""},null,null,null,null,549]
[{"$f":"IF(Data!A550=\"\",\"\",Data!A550)","v":""},"",{"$f":"IF(Data!B550=\"\",\"\",Data!B550)","v":""},{"$f":"IF(Data!C550=\"\",\"\",Data!C550)","v":""},{"$f":"IF(Data!D550=\"\",\"\",Data!D550)","v":""},{"$f":"IF(Data!E550=\"\",\"\",Data!E550)","v":""},{"$f":"IF(Data!F550=\"\",\"\",Data!F550)","v":""},{"$f":"IF(Data!G550=\"\",\"\",Data!G550)","v":""},{"$f":"IF(Data!H550=\"\",\"\",Data!H550)","v":""},{"$f":"IF(Data!I550=\"\",\"\",Data!I550)","v":""},{"$f":"IF(Data!J550=\"\",\"\",Data!J550)","v":""},{"$f":"IF(Data!K550=\"\",\"\",Data!K550)","v":""},{"$f":"IF(Data!L550=\"\",\"\",Data!L550)","v":""},{"$f":"IF(Data!M550=\"\",\"\",Data!M550)","v":""},{"$f":"IF(Data!N550=\"\",\"\",Data!N550)","v":""},{"$f":"IF(Data!O550=\"\",\"\",Data!O550)","v":""},{"$f":"IF(Data!P550=\"\",\"\",Data!P550)","v":""},{"$f":"IF(Data!Q550=\"\",\"\",Data!Q550)","v":""},{"$f":"IF(Data!R550=\"\",\"\",Data!R550)","v":""},{"$f":"IF(Data!S550=\"\",\"\",Data!S550)","v":""},null,null,null,null,550]
[{"$f":"IF(Data!A551=\"\",\"\",Data!A551)","v":""},"",{"$f":"IF(Data!B551=\"\",\"\",Data!B551)","v":""},{"$f":"IF(Data!C551=\"\",\"\",Data!C551)","v":""},{"$f":"IF(Data!D551=\"\",\"\",Data!D551)","v":""},{"$f":"IF(Data!E551=\"\",\"\",Data!E551)","v":""},{"$f":"IF(Data!F551=\"\",\"\",Data!F551)","v":""},{"$f":"IF(Data!G551=\"\",\"\",Data!G551)","v":""},{"$f":"IF(Data!H551=\"\",\"\",Data!H551)","v":""},{"$f":"IF(Data!I551=\"\",\"\",Data!I551)","v":""},{"$f":"IF(Data!J551=\"\",\"\",Data!J551)","v":""},{"$f":"IF(Data!K551=\"\",\"\",Data!K551)","v":""},{"$f":"IF(Data!L551=\"\",\"\",Data!L551)","v":""},{"$f":"IF(Data!M551=\"\",\"\",Data!M551)","v":""},{"$f":"IF(Data!N551=\"\",\"\",Data!N551)","v":""},{"$f":"IF(Data!O551=\"\",\"\",Data!O551)","v":""},{"$f":"IF(Data!P551=\"\",\"\",Data!P551)","v":""},{"$f":"IF(Data!Q551=\"\",\"\",Data!Q551)","v":""},{"$f":"IF(Data!R551=\"\",\"\",Data!R551)","v":""},{"$f":"IF(Data!S551=\"\",\"\",Data!S551)","v":""},null,null,null,null,551]
[{"$f":"IF(Data!A552=\"\",\"\",Data!A552)","v":""},"",{"$f":"IF(Data!B552=\"\",\"\",Data!B552)","v":""},{"$f":"IF(Data!C552=\"\",\"\",Data!C552)","v":""},{"$f":"IF(Data!D552=\"\",\"\",Data!D552)","v":""},{"$f":"IF(Data!E552=\"\",\"\",Data!E552)","v":""},{"$f":"IF(Data!F552=\"\",\"\",Data!F552)","v":""},{"$f":"IF(Data!G552=\"\",\"\",Data!G552)","v":""},{"$f":"IF(Data!H552=\"\",\"\",Data!H552)","v":""},{"$f":"IF(Data!I552=\"\",\"\",Data!I552)","v":""},{"$f":"IF(Data!J552=\"\",\"\",Data!J552)","v":""},{"$f":"IF(Data!K552=\"\",\"\",Data!K552)","v":""},{"$f":"IF(Data!L552=\"\",\"\",Data!L552)","v":""},{"$f":"IF(Data!M552=\"\",\"\",Data!M552)","v":""},{"$f":"IF(Data!N552=\"\",\"\",Data!N552)","v":""},{"$f":"IF(Data!O552=\"\",\"\",Data!O552)","v":""},{"$f":"IF(Data!P552=\"\",\"\",Data!P552)","v":""},{"$f":"IF(Data!Q552=\"\",\"\",Data!Q552)","v":""},{"$f":"IF(Data!R552=\"\",\"\",Data!R552)","v":""},{"$f":"IF(Data!S552=\"\",\"\",Data!S552)","v":""},null,null,null,null,552]
[{"$f":"IF(Data!A553=\"\",\"\",Data!A553)","v":""},"",{"$f":"IF(Data!B553=\"\",\"\",Data!B553)","v":""},{"$f":"IF(Data!C553=\"\",\"\",Data!C553)","v":""},{"$f":"IF(Data!D553=\"\",\"\",Data!D553)","v":""},{"$f":"IF(Data!E553=\"\",\"\",Data!E553)","v":""},{"$f":"IF(Data!F553=\"\",\"\",Data!F553)","v":""},{"$f":"IF(Data!G553=\"\",\"\",Data!G553)","v":""},{"$f":"IF(Data!H553=\"\",\"\",Data!H553)","v":""},{"$f":"IF(Data!I553=\"\",\"\",Data!I553)","v":""},{"$f":"IF(Data!J553=\"\",\"\",Data!J553)","v":""},{"$f":"IF(Data!K553=\"\",\"\",Data!K553)","v":""},{"$f":"IF(Data!L553=\"\",\"\",Data!L553)","v":""},{"$f":"IF(Data!M553=\"\",\"\",Data!M553)","v":""},{"$f":"IF(Data!N553=\"\",\"\",Data!N553)","v":""},{"$f":"IF(Data!O553=\"\",\"\",Data!O553)","v":""},{"$f":"IF(Data!P553=\"\",\"\",Data!P553)","v":""},{"$f":"IF(Data!Q553=\"\",\"\",Data!Q553)","v":""},{"$f":"IF(Data!R553=\"\",\"\",Data!R553)","v":""},{"$f":"IF(Data!S553=\"\",\"\",Data!S553)","v":""},null,null,null,null,553]
[{"$f":"IF(Data!A554=\"\",\"\",Data!A554)","v":""},"",{"$f":"IF(Data!B554=\"\",\"\",Data!B554)","v":""},{"$f":"IF(Data!C554=\"\",\"\",Data!C554)","v":""},{"$f":"IF(Data!D554=\"\",\"\",Data!D554)","v":""},{"$f":"IF(Data!E554=\"\",\"\",Data!E554)","v":""},{"$f":"IF(Data!F554=\"\",\"\",Data!F554)","v":""},{"$f":"IF(Data!G554=\"\",\"\",Data!G554)","v":""},{"$f":"IF(Data!H554=\"\",\"\",Data!H554)","v":""},{"$f":"IF(Data!I554=\"\",\"\",Data!I554)","v":""},{"$f":"IF(Data!J554=\"\",\"\",Data!J554)","v":""},{"$f":"IF(Data!K554=\"\",\"\",Data!K554)","v":""},{"$f":"IF(Data!L554=\"\",\"\",Data!L554)","v":""},{"$f":"IF(Data!M554=\"\",\"\",Data!M554)","v":""},{"$f":"IF(Data!N554=\"\",\"\",Data!N554)","v":""},{"$f":"IF(Data!O554=\"\",\"\",Data!O554)","v":""},{"$f":"IF(Data!P554=\"\",\"\",Data!P554)","v":""},{"$f":"IF(Data!Q554=\"\",\"\",Data!Q554)","v":""},{"$f":"IF(Data!R554=\"\",\"\",Data!R554)","v":""},{"$f":"IF(Data!S554=\"\",\"\",Data!S554)","v":""},null,null,null,null,554]
[{"$f":"IF(Data!A555=\"\",\"\",Data!A555)","v":""},"",{"$f":"IF(Data!B555=\"\",\"\",Data!B555)","v":""},{"$f":"IF(Data!C555=\"\",\"\",Data!C555)","v":""},{"$f":"IF(Data!D555=\"\",\"\",Data!D555)","v":""},{"$f":"IF(Data!E555=\"\",\"\",Data!E555)","v":""},{"$f":"IF(Data!F555=\"\",\"\",Data!F555)","v":""},{"$f":"IF(Data!G555=\"\",\"\",Data!G555)","v":""},{"$f":"IF(Data!H555=\"\",\"\",Data!H555)","v":""},{"$f":"IF(Data!I555=\"\",\"\",Data!I555)","v":""},{"$f":"IF(Data!J555=\"\",\"\",Data!J555)","v":""},{"$f":"IF(Data!K555=\"\",\"\",Data!K555)","v":""},{"$f":"IF(Data!L555=\"\",\"\",Data!L555)","v":""},{"$f":"IF(Data!M555=\"\",\"\",Data!M555)","v":""},{"$f":"IF(Data!N555=\"\",\"\",Data!N555)","v":""},{"$f":"IF(Data!O555=\"\",\"\",Data!O555)","v":""},{"$f":"IF(Data!P555=\"\",\"\",Data!P555)","v":""},{"$f":"IF(Data!Q555=\"\",\"\",Data!Q555)","v":""},{"$f":"IF(Data!R555=\"\",\"\",Data!R555)","v":""},{"$f":"IF(Data!S555=\"\",\"\",Data!S555)","v":""},null,null,null,null,555]
[{"$f":"IF(Data!A556=\"\",\"\",Data!A556)","v":""},"",{"$f":"IF(Data!B556=\"\",\"\",Data!B556)","v":""},{"$f":"IF(Data!C556=\"\",\"\",Data!C556)","v":""},{"$f":"IF(Data!D556=\"\",\"\",Data!D556)","v":""},{"$f":"IF(Data!E556=\"\",\"\",Data!E556)","v":""},{"$f":"IF(Data!F556=\"\",\"\",Data!F556)","v":""},{"$f":"IF(Data!G556=\"\",\"\",Data!G556)","v":""},{"$f":"IF(Data!H556=\"\",\"\",Data!H556)","v":""},{"$f":"IF(Data!I556=\"\",\"\",Data!I556)","v":""},{"$f":"IF(Data!J556=\"\",\"\",Data!J556)","v":""},{"$f":"IF(Data!K556=\"\",\"\",Data!K556)","v":""},{"$f":"IF(Data!L556=\"\",\"\",Data!L556)","v":""},{"$f":"IF(Data!M556=\"\",\"\",Data!M556)","v":""},{"$f":"IF(Data!N556=\"\",\"\",Data!N556)","v":""},{"$f":"IF(Data!O556=\"\",\"\",Data!O556)","v":""},{"$f":"IF(Data!P556=\"\",\"\",Data!P556)","v":""},{"$f":"IF(Data!Q556=\"\",\"\",Data!Q556)","v":""},{"$f":"IF(Data!R556=\"\",\"\",Data!R556)","v":""},{"$f":"IF(Data!S556=\"\",\"\",Data!S556)","v":""},null,null,null,null,556]
[{"$f":"IF(Data!A557=\"\",\"\",Data!A557)","v":""},"",{"$f":"IF(Data!B557=\"\",\"\",Data!B557)","v":""},{"$f":"IF(Data!C557=\"\",\"\",Data!C557)","v":""},{"$f":"IF(Data!D557=\"\",\"\",Data!D557)","v":""},{"$f":"IF(Data!E557=\"\",\"\",Data!E557)","v":""},{"$f":"IF(Data!F557=\"\",\"\",Data!F557)","v":""},{"$f":"IF(Data!G557=\"\",\"\",Data!G557)","v":""},{"$f":"IF(Data!H557=\"\",\"\",Data!H557)","v":""},{"$f":"IF(Data!I557=\"\",\"\",Data!I557)","v":""},{"$f":"IF(Data!J557=\"\",\"\",Data!J557)","v":""},{"$f":"IF(Data!K557=\"\",\"\",Data!K557)","v":""},{"$f":"IF(Data!L557=\"\",\"\",Data!L557)","v":""},{"$f":"IF(Data!M557=\"\",\"\",Data!M557)","v":""},{"$f":"IF(Data!N557=\"\",\"\",Data!N557)","v":""},{"$f":"IF(Data!O557=\"\",\"\",Data!O557)","v":""},{"$f":"IF(Data!P557=\"\",\"\",Data!P557)","v":""},{"$f":"IF(Data!Q557=\"\",\"\",Data!Q557)","v":""},{"$f":"IF(Data!R557=\"\",\"\",Data!R557)","v":""},{"$f":"IF(Data!S557=\"\",\"\",Data!S557)","v":""},null,null,null,null,557]
[{"$f":"IF(Data!A558=\"\",\"\",Data!A558)","v":""},"",{"$f":"IF(Data!B558=\"\",\"\",Data!B558)","v":""},{"$f":"IF(Data!C558=\"\",\"\",Data!C558)","v":""},{"$f":"IF(Data!D558=\"\",\"\",Data!D558)","v":""},{"$f":"IF(Data!E558=\"\",\"\",Data!E558)","v":""},{"$f":"IF(Data!F558=\"\",\"\",Data!F558)","v":""},{"$f":"IF(Data!G558=\"\",\"\",Data!G558)","v":""},{"$f":"IF(Data!H558=\"\",\"\",Data!H558)","v":""},{"$f":"IF(Data!I558=\"\",\"\",Data!I558)","v":""},{"$f":"IF(Data!J558=\"\",\"\",Data!J558)","v":""},{"$f":"IF(Data!K558=\"\",\"\",Data!K558)","v":""},{"$f":"IF(Data!L558=\"\",\"\",Data!L558)","v":""},{"$f":"IF(Data!M558=\"\",\"\",Data!M558)","v":""},{"$f":"IF(Data!N558=\"\",\"\",Data!N558)","v":""},{"$f":"IF(Data!O558=\"\",\"\",Data!O558)","v":""},{"$f":"IF(Data!P558=\"\",\"\",Data!P558)","v":""},{"$f":"IF(Data!Q558=\"\",\"\",Data!Q558)","v":""},{"$f":"IF(Data!R558=\"\",\"\",Data!R558)","v":""},{"$f":"IF(Data!S558=\"\",\"\",Data!S558)","v":""},null,null,null,null,558]
[{"$f":"IF(Data!A559=\"\",\"\",Data!A559)","v":""},"",{"$f":"IF(Data!B559=\"\",\"\",Data!B559)","v":""},{"$f":"IF(Data!C559=\"\",\"\",Data!C559)","v":""},{"$f":"IF(Data!D559=\"\",\"\",Data!D559)","v":""},{"$f":"IF(Data!E559=\"\",\"\",Data!E559)","v":""},{"$f":"IF(Data!F559=\"\",\"\",Data!F559)","v":""},{"$f":"IF(Data!G559=\"\",\"\",Data!G559)","v":""},{"$f":"IF(Data!H559=\"\",\"\",Data!H559)","v":""},{"$f":"IF(Data!I559=\"\",\"\",Data!I559)","v":""},{"$f":"IF(Data!J559=\"\",\"\",Data!J559)","v":""},{"$f":"IF(Data!K559=\"\",\"\",Data!K559)","v":""},{"$f":"IF(Data!L559=\"\",\"\",Data!L559)","v":""},{"$f":"IF(Data!M559=\"\",\"\",Data!M559)","v":""},{"$f":"IF(Data!N559=\"\",\"\",Data!N559)","v":""},{"$f":"IF(Data!O559=\"\",\"\",Data!O559)","v":""},{"$f":"IF(Data!P559=\"\",\"\",Data!P559)","v":""},{"$f":"IF(Data!Q559=\"\",\"\",Data!Q559)","v":""},{"$f":"IF(Data!R559=\"\",\"\",Data!R559)","v":""},{"$f":"IF(Data!S559=\"\",\"\",Data!S559)","v":""},null,null,null,null,559]
[{"$f":"IF(Data!A560=\"\",\"\",Data!A560)","v":""},"",{"$f":"IF(Data!B560=\"\",\"\",Data!B560)","v":""},{"$f":"IF(Data!C560=\"\",\"\",Data!C560)","v":""},{"$f":"IF(Data!D560=\"\",\"\",Data!D560)","v":""},{"$f":"IF(Data!E560=\"\",\"\",Data!E560)","v":""},{"$f":"IF(Data!F560=\"\",\"\",Data!F560)","v":""},{"$f":"IF(Data!G560=\"\",\"\",Data!G560)","v":""},{"$f":"IF(Data!H560=\"\",\"\",Data!H560)","v":""},{"$f":"IF(Data!I560=\"\",\"\",Data!I560)","v":""},{"$f":"IF(Data!J560=\"\",\"\",Data!J560)","v":""},{"$f":"IF(Data!K560=\"\",\"\",Data!K560)","v":""},{"$f":"IF(Data!L560=\"\",\"\",Data!L560)","v":""},{"$f":"IF(Data!M560=\"\",\"\",Data!M560)","v":""},{"$f":"IF(Data!N560=\"\",\"\",Data!N560)","v":""},{"$f":"IF(Data!O560=\"\",\"\",Data!O560)","v":""},{"$f":"IF(Data!P560=\"\",\"\",Data!P560)","v":""},{"$f":"IF(Data!Q560=\"\",\"\",Data!Q560)","v":""},{"$f":"IF(Data!R560=\"\",\"\",Data!R560)","v":""},{"$f":"IF(Data!S560=\"\",\"\",Data!S560)","v":""},null,null,null,null,560]
[{"$f":"IF(Data!A561=\"\",\"\",Data!A561)","v":""},"",{"$f":"IF(Data!B561=\"\",\"\",Data!B561)","v":""},{"$f":"IF(Data!C561=\"\",\"\",Data!C561)","v":""},{"$f":"IF(Data!D561=\"\",\"\",Data!D561)","v":""},{"$f":"IF(Data!E561=\"\",\"\",Data!E561)","v":""},{"$f":"IF(Data!F561=\"\",\"\",Data!F561)","v":""},{"$f":"IF(Data!G561=\"\",\"\",Data!G561)","v":""},{"$f":"IF(Data!H561=\"\",\"\",Data!H561)","v":""},{"$f":"IF(Data!I561=\"\",\"\",Data!I561)","v":""},{"$f":"IF(Data!J561=\"\",\"\",Data!J561)","v":""},{"$f":"IF(Data!K561=\"\",\"\",Data!K561)","v":""},{"$f":"IF(Data!L561=\"\",\"\",Data!L561)","v":""},{"$f":"IF(Data!M561=\"\",\"\",Data!M561)","v":""},{"$f":"IF(Data!N561=\"\",\"\",Data!N561)","v":""},{"$f":"IF(Data!O561=\"\",\"\",Data!O561)","v":""},{"$f":"IF(Data!P561=\"\",\"\",Data!P561)","v":""},{"$f":"IF(Data!Q561=\"\",\"\",Data!Q561)","v":""},{"$f":"IF(Data!R561=\"\",\"\",Data!R561)","v":""},{"$f":"IF(Data!S561=\"\",\"\",Data!S561)","v":""},null,null,null,null,561]
[{"$f":"IF(Data!A562=\"\",\"\",Data!A562)","v":""},"",{"$f":"IF(Data!B562=\"\",\"\",Data!B562)","v":""},{"$f":"IF(Data!C562=\"\",\"\",Data!C562)","v":""},{"$f":"IF(Data!D562=\"\",\"\",Data!D562)","v":""},{"$f":"IF(Data!E562=\"\",\"\",Data!E562)","v":""},{"$f":"IF(Data!F562=\"\",\"\",Data!F562)","v":""},{"$f":"IF(Data!G562=\"\",\"\",Data!G562)","v":""},{"$f":"IF(Data!H562=\"\",\"\",Data!H562)","v":""},{"$f":"IF(Data!I562=\"\",\"\",Data!I562)","v":""},{"$f":"IF(Data!J562=\"\",\"\",Data!J562)","v":""},{"$f":"IF(Data!K562=\"\",\"\",Data!K562)","v":""},{"$f":"IF(Data!L562=\"\",\"\",Data!L562)","v":""},{"$f":"IF(Data!M562=\"\",\"\",Data!M562)","v":""},{"$f":"IF(Data!N562=\"\",\"\",Data!N562)","v":""},{"$f":"IF(Data!O562=\"\",\"\",Data!O562)","v":""},{"$f":"IF(Data!P562=\"\",\"\",Data!P562)","v":""},{"$f":"IF(Data!Q562=\"\",\"\",Data!Q562)","v":""},{"$f":"IF(Data!R562=\"\",\"\",Data!R562)","v":""},{"$f":"IF(Data!S562=\"\",\"\",Data!S562)","v":""},null,null,null,null,562]
[{"$f":"IF(Data!A563=\"\",\"\",Data!A563)","v":""},"",{"$f":"IF(Data!B563=\"\",\"\",Data!B563)","v":""},{"$f":"IF(Data!C563=\"\",\"\",Data!C563)","v":""},{"$f":"IF(Data!D563=\"\",\"\",Data!D563)","v":""},{"$f":"IF(Data!E563=\"\",\"\",Data!E563)","v":""},{"$f":"IF(Data!F563=\"\",\"\",Data!F563)","v":""},{"$f":"IF(Data!G563=\"\",\"\",Data!G563)","v":""},{"$f":"IF(Data!H563=\"\",\"\",Data!H563)","v":""},{"$f":"IF(Data!I563=\"\",\"\",Data!I563)","v":""},{"$f":"IF(Data!J563=\"\",\"\",Data!J563)","v":""},{"$f":"IF(Data!K563=\"\",\"\",Data!K563)","v":""},{"$f":"IF(Data!L563=\"\",\"\",Data!L563)","v":""},{"$f":"IF(Data!M563=\"\",\"\",Data!M563)","v":""},{"$f":"IF(Data!N563=\"\",\"\",Data!N563)","v":""},{"$f":"IF(Data!O563=\"\",\"\",Data!O563)","v":""},{"$f":"IF(Data!P563=\"\",\"\",Data!P563)","v":""},{"$f":"IF(Data!Q563=\"\",\"\",Data!Q563)","v":""},{"$f":"IF(Data!R563=\"\",\"\",Data!R563)","v":""},{"$f":"IF(Data!S563=\"\",\"\",Data!S563)","v":""},null,null,null,null,563]
[{"$f":"IF(Data!A564=\"\",\"\",Data!A564)","v":""},"",{"$f":"IF(Data!B564=\"\",\"\",Data!B564)","v":""},{"$f":"IF(Data!C564=\"\",\"\",Data!C564)","v":""},{"$f":"IF(Data!D564=\"\",\"\",Data!D564)","v":""},{"$f":"IF(Data!E564=\"\",\"\",Data!E564)","v":""},{"$f":"IF(Data!F564=\"\",\"\",Data!F564)","v":""},{"$f":"IF(Data!G564=\"\",\"\",Data!G564)","v":""},{"$f":"IF(Data!H564=\"\",\"\",Data!H564)","v":""},{"$f":"IF(Data!I564=\"\",\"\",Data!I564)","v":""},{"$f":"IF(Data!J564=\"\",\"\",Data!J564)","v":""},{"$f":"IF(Data!K564=\"\",\"\",Data!K564)","v":""},{"$f":"IF(Data!L564=\"\",\"\",Data!L564)","v":""},{"$f":"IF(Data!M564=\"\",\"\",Data!M564)","v":""},{"$f":"IF(Data!N564=\"\",\"\",Data!N564)","v":""},{"$f":"IF(Data!O564=\"\",\"\",Data!O564)","v":""},{"$f":"IF(Data!P564=\"\",\"\",Data!P564)","v":""},{"$f":"IF(Data!Q564=\"\",\"\",Data!Q564)","v":""},{"$f":"IF(Data!R564=\"\",\"\",Data!R564)","v":""},{"$f":"IF(Data!S564=\"\",\"\",Data!S564)","v":""},null,null,null,null,564]
[{"$f":"IF(Data!A565=\"\",\"\",Data!A565)","v":""},"",{"$f":"IF(Data!B565=\"\",\"\",Data!B565)","v":""},{"$f":"IF(Data!C565=\"\",\"\",Data!C565)","v":""},{"$f":"IF(Data!D565=\"\",\"\",Data!D565)","v":""},{"$f":"IF(Data!E565=\"\",\"\",Data!E565)","v":""},{"$f":"IF(Data!F565=\"\",\"\",Data!F565)","v":""},{"$f":"IF(Data!G565=\"\",\"\",Data!G565)","v":""},{"$f":"IF(Data!H565=\"\",\"\",Data!H565)","v":""},{"$f":"IF(Data!I565=\"\",\"\",Data!I565)","v":""},{"$f":"IF(Data!J565=\"\",\"\",Data!J565)","v":""},{"$f":"IF(Data!K565=\"\",\"\",Data!K565)","v":""},{"$f":"IF(Data!L565=\"\",\"\",Data!L565)","v":""},{"$f":"IF(Data!M565=\"\",\"\",Data!M565)","v":""},{"$f":"IF(Data!N565=\"\",\"\",Data!N565)","v":""},{"$f":"IF(Data!O565=\"\",\"\",Data!O565)","v":""},{"$f":"IF(Data!P565=\"\",\"\",Data!P565)","v":""},{"$f":"IF(Data!Q565=\"\",\"\",Data!Q565)","v":""},{"$f":"IF(Data!R565=\"\",\"\",Data!R565)","v":""},{"$f":"IF(Data!S565=\"\",\"\",Data!S565)","v":""},null,null,null,null,565]
[{"$f":"IF(Data!A566=\"\",\"\",Data!A566)","v":""},"",{"$f":"IF(Data!B566=\"\",\"\",Data!B566)","v":""},{"$f":"IF(Data!C566=\"\",\"\",Data!C566)","v":""},{"$f":"IF(Data!D566=\"\",\"\",Data!D566)","v":""},{"$f":"IF(Data!E566=\"\",\"\",Data!E566)","v":""},{"$f":"IF(Data!F566=\"\",\"\",Data!F566)","v":""},{"$f":"IF(Data!G566=\"\",\"\",Data!G566)","v":""},{"$f":"IF(Data!H566=\"\",\"\",Data!H566)","v":""},{"$f":"IF(Data!I566=\"\",\"\",Data!I566)","v":""},{"$f":"IF(Data!J566=\"\",\"\",Data!J566)","v":""},{"$f":"IF(Data!K566=\"\",\"\",Data!K566)","v":""},{"$f":"IF(Data!L566=\"\",\"\",Data!L566)","v":""},{"$f":"IF(Data!M566=\"\",\"\",Data!M566)","v":""},{"$f":"IF(Data!N566=\"\",\"\",Data!N566)","v":""},{"$f":"IF(Data!O566=\"\",\"\",Data!O566)","v":""},{"$f":"IF(Data!P566=\"\",\"\",Data!P566)","v":""},{"$f":"IF(Data!Q566=\"\",\"\",Data!Q566)","v":""},{"$f":"IF(Data!R566=\"\",\"\",Data!R566)","v":""},{"$f":"IF(Data!S566=\"\",\"\",Data!S566)","v":""},null,null,null,null,566]
[{"$f":"IF(Data!A567=\"\",\"\",Data!A567)","v":""},"",{"$f":"IF(Data!B567=\"\",\"\",Data!B567)","v":""},{"$f":"IF(Data!C567=\"\",\"\",Data!C567)","v":""},{"$f":"IF(Data!D567=\"\",\"\",Data!D567)","v":""},{"$f":"IF(Data!E567=\"\",\"\",Data!E567)","v":""},{"$f":"IF(Data!F567=\"\",\"\",Data!F567)","v":""},{"$f":"IF(Data!G567=\"\",\"\",Data!G567)","v":""},{"$f":"IF(Data!H567=\"\",\"\",Data!H567)","v":""},{"$f":"IF(Data!I567=\"\",\"\",Data!I567)","v":""},{"$f":"IF(Data!J567=\"\",\"\",Data!J567)","v":""},{"$f":"IF(Data!K567=\"\",\"\",Data!K567)","v":""},{"$f":"IF(Data!L567=\"\",\"\",Data!L567)","v":""},{"$f":"IF(Data!M567=\"\",\"\",Data!M567)","v":""},{"$f":"IF(Data!N567=\"\",\"\",Data!N567)","v":""},{"$f":"IF(Data!O567=\"\",\"\",Data!O567)","v":""},{"$f":"IF(Data!P567=\"\",\"\",Data!P567)","v":""},{"$f":"IF(Data!Q567=\"\",\"\",Data!Q567)","v":""},{"$f":"IF(Data!R567=\"\",\"\",Data!R567)","v":""},{"$f":"IF(Data!S567=\"\",\"\",Data!S567)","v":""},null,null,null,null,567]
[{"$f":"IF(Data!A568=\"\",\"\",Data!A568)","v":""},"",{"$f":"IF(Data!B568=\"\",\"\",Data!B568)","v":""},{"$f":"IF(Data!C568=\"\",\"\",Data!C568)","v":""},{"$f":"IF(Data!D568=\"\",\"\",Data!D568)","v":""},{"$f":"IF(Data!E568=\"\",\"\",Data!E568)","v":""},{"$f":"IF(Data!F568=\"\",\"\",Data!F568)","v":""},{"$f":"IF(Data!G568=\"\",\"\",Data!G568)","v":""},{"$f":"IF(Data!H568=\"\",\"\",Data!H568)","v":""},{"$f":"IF(Data!I568=\"\",\"\",Data!I568)","v":""},{"$f":"IF(Data!J568=\"\",\"\",Data!J568)","v":""},{"$f":"IF(Data!K568=\"\",\"\",Data!K568)","v":""},{"$f":"IF(Data!L568=\"\",\"\",Data!L568)","v":""},{"$f":"IF(Data!M568=\"\",\"\",Data!M568)","v":""},{"$f":"IF(Data!N568=\"\",\"\",Data!N568)","v":""},{"$f":"IF(Data!O568=\"\",\"\",Data!O568)","v":""},{"$f":"IF(Data!P568=\"\",\"\",Data!P568)","v":""},{"$f":"IF(Data!Q568=\"\",\"\",Data!Q568)","v":""},{"$f":"IF(Data!R568=\"\",\"\",Data!R568)","v":""},{"$f":"IF(Data!S568=\"\",\"\",Data!S568)","v":""},null,null,null,null,568]
[{"$f":"IF(Data!A569=\"\",\"\",Data!A569)","v":""},"",{"$f":"IF(Data!B569=\"\",\"\",Data!B569)","v":""},{"$f":"IF(Data!C569=\"\",\"\",Data!C569)","v":""},{"$f":"IF(Data!D569=\"\",\"\",Data!D569)","v":""},{"$f":"IF(Data!E569=\"\",\"\",Data!E569)","v":""},{"$f":"IF(Data!F569=\"\",\"\",Data!F569)","v":""},{"$f":"IF(Data!G569=\"\",\"\",Data!G569)","v":""},{"$f":"IF(Data!H569=\"\",\"\",Data!H569)","v":""},{"$f":"IF(Data!I569=\"\",\"\",Data!I569)","v":""},{"$f":"IF(Data!J569=\"\",\"\",Data!J569)","v":""},{"$f":"IF(Data!K569=\"\",\"\",Data!K569)","v":""},{"$f":"IF(Data!L569=\"\",\"\",Data!L569)","v":""},{"$f":"IF(Data!M569=\"\",\"\",Data!M569)","v":""},{"$f":"IF(Data!N569=\"\",\"\",Data!N569)","v":""},{"$f":"IF(Data!O569=\"\",\"\",Data!O569)","v":""},{"$f":"IF(Data!P569=\"\",\"\",Data!P569)","v":""},{"$f":"IF(Data!Q569=\"\",\"\",Data!Q569)","v":""},{"$f":"IF(Data!R569=\"\",\"\",Data!R569)","v":""},{"$f":"IF(Data!S569=\"\",\"\",Data!S569)","v":""},null,null,null,null,569]
[{"$f":"IF(Data!A570=\"\",\"\",Data!A570)","v":""},"",{"$f":"IF(Data!B570=\"\",\"\",Data!B570)","v":""},{"$f":"IF(Data!C570=\"\",\"\",Data!C570)","v":""},{"$f":"IF(Data!D570=\"\",\"\",Data!D570)","v":""},{"$f":"IF(Data!E570=\"\",\"\",Data!E570)","v":""},{"$f":"IF(Data!F570=\"\",\"\",Data!F570)","v":""},{"$f":"IF(Data!G570=\"\",\"\",Data!G570)","v":""},{"$f":"IF(Data!H570=\"\",\"\",Data!H570)","v":""},{"$f":"IF(Data!I570=\"\",\"\",Data!I570)","v":""},{"$f":"IF(Data!J570=\"\",\"\",Data!J570)","v":""},{"$f":"IF(Data!K570=\"\",\"\",Data!K570)","v":""},{"$f":"IF(Data!L570=\"\",\"\",Data!L570)","v":""},{"$f":"IF(Data!M570=\"\",\"\",Data!M570)","v":""},{"$f":"IF(Data!N570=\"\",\"\",Data!N570)","v":""},{"$f":"IF(Data!O570=\"\",\"\",Data!O570)","v":""},{"$f":"IF(Data!P570=\"\",\"\",Data!P570)","v":""},{"$f":"IF(Data!Q570=\"\",\"\",Data!Q570)","v":""},{"$f":"IF(Data!R570=\"\",\"\",Data!R570)","v":""},{"$f":"IF(Data!S570=\"\",\"\",Data!S570)","v":""},null,null,null,null,570]
[{"$f":"IF(Data!A571=\"\",\"\",Data!A571)","v":""},"",{"$f":"IF(Data!B571=\"\",\"\",Data!B571)","v":""},{"$f":"IF(Data!C571=\"\",\"\",Data!C571)","v":""},{"$f":"IF(Data!D571=\"\",\"\",Data!D571)","v":""},{"$f":"IF(Data!E571=\"\",\"\",Data!E571)","v":""},{"$f":"IF(Data!F571=\"\",\"\",Data!F571)","v":""},{"$f":"IF(Data!G571=\"\",\"\",Data!G571)","v":""},{"$f":"IF(Data!H571=\"\",\"\",Data!H571)","v":""},{"$f":"IF(Data!I571=\"\",\"\",Data!I571)","v":""},{"$f":"IF(Data!J571=\"\",\"\",Data!J571)","v":""},{"$f":"IF(Data!K571=\"\",\"\",Data!K571)","v":""},{"$f":"IF(Data!L571=\"\",\"\",Data!L571)","v":""},{"$f":"IF(Data!M571=\"\",\"\",Data!M571)","v":""},{"$f":"IF(Data!N571=\"\",\"\",Data!N571)","v":""},{"$f":"IF(Data!O571=\"\",\"\",Data!O571)","v":""},{"$f":"IF(Data!P571=\"\",\"\",Data!P571)","v":""},{"$f":"IF(Data!Q571=\"\",\"\",Data!Q571)","v":""},{"$f":"IF(Data!R571=\"\",\"\",Data!R571)","v":""},{"$f":"IF(Data!S571=\"\",\"\",Data!S571)","v":""},null,null,null,null,571]
[{"$f":"IF(Data!A572=\"\",\"\",Data!A572)","v":""},"",{"$f":"IF(Data!B572=\"\",\"\",Data!B572)","v":""},{"$f":"IF(Data!C572=\"\",\"\",Data!C572)","v":""},{"$f":"IF(Data!D572=\"\",\"\",Data!D572)","v":""},{"$f":"IF(Data!E572=\"\",\"\",Data!E572)","v":""},{"$f":"IF(Data!F572=\"\",\"\",Data!F572)","v":""},{"$f":"IF(Data!G572=\"\",\"\",Data!G572)","v":""},{"$f":"IF(Data!H572=\"\",\"\",Data!H572)","v":""},{"$f":"IF(Data!I572=\"\",\"\",Data!I572)","v":""},{"$f":"IF(Data!J572=\"\",\"\",Data!J572)","v":""},{"$f":"IF(Data!K572=\"\",\"\",Data!K572)","v":""},{"$f":"IF(Data!L572=\"\",\"\",Data!L572)","v":""},{"$f":"IF(Data!M572=\"\",\"\",Data!M572)","v":""},{"$f":"IF(Data!N572=\"\",\"\",Data!N572)","v":""},{"$f":"IF(Data!O572=\"\",\"\",Data!O572)","v":""},{"$f":"IF(Data!P572=\"\",\"\",Data!P572)","v":""},{"$f":"IF(Data!Q572=\"\",\"\",Data!Q572)","v":""},{"$f":"IF(Data!R572=\"\",\"\",Data!R572)","v":""},{"$f":"IF(Data!S572=\"\",\"\",Data!S572)","v":""},null,null,null,null,572]
[{"$f":"IF(Data!A573=\"\",\"\",Data!A573)","v":""},"",{"$f":"IF(Data!B573=\"\",\"\",Data!B573)","v":""},{"$f":"IF(Data!C573=\"\",\"\",Data!C573)","v":""},{"$f":"IF(Data!D573=\"\",\"\",Data!D573)","v":""},{"$f":"IF(Data!E573=\"\",\"\",Data!E573)","v":""},{"$f":"IF(Data!F573=\"\",\"\",Data!F573)","v":""},{"$f":"IF(Data!G573=\"\",\"\",Data!G573)","v":""},{"$f":"IF(Data!H573=\"\",\"\",Data!H573)","v":""},{"$f":"IF(Data!I573=\"\",\"\",Data!I573)","v":""},{"$f":"IF(Data!J573=\"\",\"\",Data!J573)","v":""},{"$f":"IF(Data!K573=\"\",\"\",Data!K573)","v":""},{"$f":"IF(Data!L573=\"\",\"\",Data!L573)","v":""},{"$f":"IF(Data!M573=\"\",\"\",Data!M573)","v":""},{"$f":"IF(Data!N573=\"\",\"\",Data!N573)","v":""},{"$f":"IF(Data!O573=\"\",\"\",Data!O573)","v":""},{"$f":"IF(Data!P573=\"\",\"\",Data!P573)","v":""},{"$f":"IF(Data!Q573=\"\",\"\",Data!Q573)","v":""},{"$f":"IF(Data!R573=\"\",\"\",Data!R573)","v":""},{"$f":"IF(Data!S573=\"\",\"\",Data!S573)","v":""},null,null,null,null,573]
[{"$f":"IF(Data!A574=\"\",\"\",Data!A574)","v":""},"",{"$f":"IF(Data!B574=\"\",\"\",Data!B574)","v":""},{"$f":"IF(Data!C574=\"\",\"\",Data!C574)","v":""},{"$f":"IF(Data!D574=\"\",\"\",Data!D574)","v":""},{"$f":"IF(Data!E574=\"\",\"\",Data!E574)","v":""},{"$f":"IF(Data!F574=\"\",\"\",Data!F574)","v":""},{"$f":"IF(Data!G574=\"\",\"\",Data!G574)","v":""},{"$f":"IF(Data!H574=\"\",\"\",Data!H574)","v":""},{"$f":"IF(Data!I574=\"\",\"\",Data!I574)","v":""},{"$f":"IF(Data!J574=\"\",\"\",Data!J574)","v":""},{"$f":"IF(Data!K574=\"\",\"\",Data!K574)","v":""},{"$f":"IF(Data!L574=\"\",\"\",Data!L574)","v":""},{"$f":"IF(Data!M574=\"\",\"\",Data!M574)","v":""},{"$f":"IF(Data!N574=\"\",\"\",Data!N574)","v":""},{"$f":"IF(Data!O574=\"\",\"\",Data!O574)","v":""},{"$f":"IF(Data!P574=\"\",\"\",Data!P574)","v":""},{"$f":"IF(Data!Q574=\"\",\"\",Data!Q574)","v":""},{"$f":"IF(Data!R574=\"\",\"\",Data!R574)","v":""},{"$f":"IF(Data!S574=\"\",\"\",Data!S574)","v":""},null,null,null,null,574]
[{"$f":"IF(Data!A575=\"\",\"\",Data!A575)","v":""},"",{"$f":"IF(Data!B575=\"\",\"\",Data!B575)","v":""},{"$f":"IF(Data!C575=\"\",\"\",Data!C575)","v":""},{"$f":"IF(Data!D575=\"\",\"\",Data!D575)","v":""},{"$f":"IF(Data!E575=\"\",\"\",Data!E575)","v":""},{"$f":"IF(Data!F575=\"\",\"\",Data!F575)","v":""},{"$f":"IF(Data!G575=\"\",\"\",Data!G575)","v":""},{"$f":"IF(Data!H575=\"\",\"\",Data!H575)","v":""},{"$f":"IF(Data!I575=\"\",\"\",Data!I575)","v":""},{"$f":"IF(Data!J575=\"\",\"\",Data!J575)","v":""},{"$f":"IF(Data!K575=\"\",\"\",Data!K575)","v":""},{"$f":"IF(Data!L575=\"\",\"\",Data!L575)","v":""},{"$f":"IF(Data!M575=\"\",\"\",Data!M575)","v":""},{"$f":"IF(Data!N575=\"\",\"\",Data!N575)","v":""},{"$f":"IF(Data!O575=\"\",\"\",Data!O575)","v":""},{"$f":"IF(Data!P575=\"\",\"\",Data!P575)","v":""},{"$f":"IF(Data!Q575=\"\",\"\",Data!Q575)","v":""},{"$f":"IF(Data!R575=\"\",\"\",Data!R575)","v":""},{"$f":"IF(Data!S575=\"\",\"\",Data!S575)","v":""},null,null,null,null,575]
[{"$f":"IF(Data!A576=\"\",\"\",Data!A576)","v":""},"",{"$f":"IF(Data!B576=\"\",\"\",Data!B576)","v":""},{"$f":"IF(Data!C576=\"\",\"\",Data!C576)","v":""},{"$f":"IF(Data!D576=\"\",\"\",Data!D576)","v":""},{"$f":"IF(Data!E576=\"\",\"\",Data!E576)","v":""},{"$f":"IF(Data!F576=\"\",\"\",Data!F576)","v":""},{"$f":"IF(Data!G576=\"\",\"\",Data!G576)","v":""},{"$f":"IF(Data!H576=\"\",\"\",Data!H576)","v":""},{"$f":"IF(Data!I576=\"\",\"\",Data!I576)","v":""},{"$f":"IF(Data!J576=\"\",\"\",Data!J576)","v":""},{"$f":"IF(Data!K576=\"\",\"\",Data!K576)","v":""},{"$f":"IF(Data!L576=\"\",\"\",Data!L576)","v":""},{"$f":"IF(Data!M576=\"\",\"\",Data!M576)","v":""},{"$f":"IF(Data!N576=\"\",\"\",Data!N576)","v":""},{"$f":"IF(Data!O576=\"\",\"\",Data!O576)","v":""},{"$f":"IF(Data!P576=\"\",\"\",Data!P576)","v":""},{"$f":"IF(Data!Q576=\"\",\"\",Data!Q576)","v":""},{"$f":"IF(Data!R576=\"\",\"\",Data!R576)","v":""},{"$f":"IF(Data!S576=\"\",\"\",Data!S576)","v":""},null,null,null,null,576]
[{"$f":"IF(Data!A577=\"\",\"\",Data!A577)","v":""},{"$f":"IF(A578=\"\",\"\",Y578)","v":""},{"$f":"IF(Data!B577=\"\",\"\",Data!B577)","v":""},{"$f":"IF(Data!C577=\"\",\"\",Data!C577)","v":""},{"$f":"IF(Data!D577=\"\",\"\",Data!D577)","v":""},{"$f":"IF(Data!E577=\"\",\"\",Data!E577)","v":""},{"$f":"IF(Data!F577=\"\",\"\",Data!F577)","v":""},{"$f":"IF(Data!G577=\"\",\"\",Data!G577)","v":""},{"$f":"IF(Data!H577=\"\",\"\",Data!H577)","v":""},{"$f":"IF(Data!I577=\"\",\"\",Data!I577)","v":""},{"$f":"IF(Data!J577=\"\",\"\",Data!J577)","v":""},{"$f":"IF(Data!K577=\"\",\"\",Data!K577)","v":""},{"$f":"IF(Data!L577=\"\",\"\",Data!L577)","v":""},{"$f":"IF(Data!M577=\"\",\"\",Data!M577)","v":""},{"$f":"IF(Data!N577=\"\",\"\",Data!N577)","v":""},{"$f":"IF(Data!O577=\"\",\"\",Data!O577)","v":""},{"$f":"IF(Data!P577=\"\",\"\",Data!P577)","v":""},{"$f":"IF(Data!Q577=\"\",\"\",Data!Q577)","v":""},{"$f":"IF(Data!R577=\"\",\"\",Data!R577)","v":""},{"$f":"IF(Data!S577=\"\",\"\",Data!S577)","v":""},null,null,null,null,577]
[{"$f":"IF(Data!A578=\"\",\"\",Data!A578)","v":""},"",{"$f":"IF(Data!B578=\"\",\"\",Data!B578)","v":""},{"$f":"IF(Data!C578=\"\",\"\",Data!C578)","v":""},{"$f":"IF(Data!D578=\"\",\"\",Data!D578)","v":""},{"$f":"IF(Data!E578=\"\",\"\",Data!E578)","v":""},{"$f":"IF(Data!F578=\"\",\"\",Data!F578)","v":""},{"$f":"IF(Data!G578=\"\",\"\",Data!G578)","v":""},{"$f":"IF(Data!H578=\"\",\"\",Data!H578)","v":""},{"$f":"IF(Data!I578=\"\",\"\",Data!I578)","v":""},{"$f":"IF(Data!J578=\"\",\"\",Data!J578)","v":""},{"$f":"IF(Data!K578=\"\",\"\",Data!K578)","v":""},{"$f":"IF(Data!L578=\"\",\"\",Data!L578)","v":""},{"$f":"IF(Data!M578=\"\",\"\",Data!M578)","v":""},{"$f":"IF(Data!N578=\"\",\"\",Data!N578)","v":""},{"$f":"IF(Data!O578=\"\",\"\",Data!O578)","v":""},{"$f":"IF(Data!P578=\"\",\"\",Data!P578)","v":""},{"$f":"IF(Data!Q578=\"\",\"\",Data!Q578)","v":""},{"$f":"IF(Data!R578=\"\",\"\",Data!R578)","v":""},{"$f":"IF(Data!S578=\"\",\"\",Data!S578)","v":""},null,null,null,null,578]
[{"$f":"IF(Data!A579=\"\",\"\",Data!A579)","v":""},"",{"$f":"IF(Data!B579=\"\",\"\",Data!B579)","v":""},{"$f":"IF(Data!C579=\"\",\"\",Data!C579)","v":""},{"$f":"IF(Data!D579=\"\",\"\",Data!D579)","v":""},{"$f":"IF(Data!E579=\"\",\"\",Data!E579)","v":""},{"$f":"IF(Data!F579=\"\",\"\",Data!F579)","v":""},{"$f":"IF(Data!G579=\"\",\"\",Data!G579)","v":""},{"$f":"IF(Data!H579=\"\",\"\",Data!H579)","v":""},{"$f":"IF(Data!I579=\"\",\"\",Data!I579)","v":""},{"$f":"IF(Data!J579=\"\",\"\",Data!J579)","v":""},{"$f":"IF(Data!K579=\"\",\"\",Data!K579)","v":""},{"$f":"IF(Data!L579=\"\",\"\",Data!L579)","v":""},{"$f":"IF(Data!M579=\"\",\"\",Data!M579)","v":""},{"$f":"IF(Data!N579=\"\",\"\",Data!N579)","v":""},{"$f":"IF(Data!O579=\"\",\"\",Data!O579)","v":""},{"$f":"IF(Data!P579=\"\",\"\",Data!P579)","v":""},{"$f":"IF(Data!Q579=\"\",\"\",Data!Q579)","v":""},{"$f":"IF(Data!R579=\"\",\"\",Data!R579)","v":""},{"$f":"IF(Data!S579=\"\",\"\",Data!S579)","v":""},null,null,null,null,579]
[{"$f":"IF(Data!A580=\"\",\"\",Data!A580)","v":""},"",{"$f":"IF(Data!B580=\"\",\"\",Data!B580)","v":""},{"$f":"IF(Data!C580=\"\",\"\",Data!C580)","v":""},{"$f":"IF(Data!D580=\"\",\"\",Data!D580)","v":""},{"$f":"IF(Data!E580=\"\",\"\",Data!E580)","v":""},{"$f":"IF(Data!F580=\"\",\"\",Data!F580)","v":""},{"$f":"IF(Data!G580=\"\",\"\",Data!G580)","v":""},{"$f":"IF(Data!H580=\"\",\"\",Data!H580)","v":""},{"$f":"IF(Data!I580=\"\",\"\",Data!I580)","v":""},{"$f":"IF(Data!J580=\"\",\"\",Data!J580)","v":""},{"$f":"IF(Data!K580=\"\",\"\",Data!K580)","v":""},{"$f":"IF(Data!L580=\"\",\"\",Data!L580)","v":""},{"$f":"IF(Data!M580=\"\",\"\",Data!M580)","v":""},{"$f":"IF(Data!N580=\"\",\"\",Data!N580)","v":""},{"$f":"IF(Data!O580=\"\",\"\",Data!O580)","v":""},{"$f":"IF(Data!P580=\"\",\"\",Data!P580)","v":""},{"$f":"IF(Data!Q580=\"\",\"\",Data!Q580)","v":""},{"$f":"IF(Data!R580=\"\",\"\",Data!R580)","v":""},{"$f":"IF(Data!S580=\"\",\"\",Data!S580)","v":""},null,null,null,null,580]
[{"$f":"IF(Data!A581=\"\",\"\",Data!A581)","v":""},"",{"$f":"IF(Data!B581=\"\",\"\",Data!B581)","v":""},{"$f":"IF(Data!C581=\"\",\"\",Data!C581)","v":""},{"$f":"IF(Data!D581=\"\",\"\",Data!D581)","v":""},{"$f":"IF(Data!E581=\"\",\"\",Data!E581)","v":""},{"$f":"IF(Data!F581=\"\",\"\",Data!F581)","v":""},{"$f":"IF(Data!G581=\"\",\"\",Data!G581)","v":""},{"$f":"IF(Data!H581=\"\",\"\",Data!H581)","v":""},{"$f":"IF(Data!I581=\"\",\"\",Data!I581)","v":""},{"$f":"IF(Data!J581=\"\",\"\",Data!J581)","v":""},{"$f":"IF(Data!K581=\"\",\"\",Data!K581)","v":""},{"$f":"IF(Data!L581=\"\",\"\",Data!L581)","v":""},{"$f":"IF(Data!M581=\"\",\"\",Data!M581)","v":""},{"$f":"IF(Data!N581=\"\",\"\",Data!N581)","v":""},{"$f":"IF(Data!O581=\"\",\"\",Data!O581)","v":""},{"$f":"IF(Data!P581=\"\",\"\",Data!P581)","v":""},{"$f":"IF(Data!Q581=\"\",\"\",Data!Q581)","v":""},{"$f":"IF(Data!R581=\"\",\"\",Data!R581)","v":""},{"$f":"IF(Data!S581=\"\",\"\",Data!S581)","v":""},null,null,null,null,581]
[{"$f":"IF(Data!A582=\"\",\"\",Data!A582)","v":""},"",{"$f":"IF(Data!B582=\"\",\"\",Data!B582)","v":""},{"$f":"IF(Data!C582=\"\",\"\",Data!C582)","v":""},{"$f":"IF(Data!D582=\"\",\"\",Data!D582)","v":""},{"$f":"IF(Data!E582=\"\",\"\",Data!E582)","v":""},{"$f":"IF(Data!F582=\"\",\"\",Data!F582)","v":""},{"$f":"IF(Data!G582=\"\",\"\",Data!G582)","v":""},{"$f":"IF(Data!H582=\"\",\"\",Data!H582)","v":""},{"$f":"IF(Data!I582=\"\",\"\",Data!I582)","v":""},{"$f":"IF(Data!J582=\"\",\"\",Data!J582)","v":""},{"$f":"IF(Data!K582=\"\",\"\",Data!K582)","v":""},{"$f":"IF(Data!L582=\"\",\"\",Data!L582)","v":""},{"$f":"IF(Data!M582=\"\",\"\",Data!M582)","v":""},{"$f":"IF(Data!N582=\"\",\"\",Data!N582)","v":""},{"$f":"IF(Data!O582=\"\",\"\",Data!O582)","v":""},{"$f":"IF(Data!P582=\"\",\"\",Data!P582)","v":""},{"$f":"IF(Data!Q582=\"\",\"\",Data!Q582)","v":""},{"$f":"IF(Data!R582=\"\",\"\",Data!R582)","v":""},{"$f":"IF(Data!S582=\"\",\"\",Data!S582)","v":""},null,null,null,null,582]
[{"$f":"IF(Data!A583=\"\",\"\",Data!A583)","v":""},"",{"$f":"IF(Data!B583=\"\",\"\",Data!B583)","v":""},{"$f":"IF(Data!C583=\"\",\"\",Data!C583)","v":""},{"$f":"IF(Data!D583=\"\",\"\",Data!D583)","v":""},{"$f":"IF(Data!E583=\"\",\"\",Data!E583)","v":""},{"$f":"IF(Data!F583=\"\",\"\",Data!F583)","v":""},{"$f":"IF(Data!G583=\"\",\"\",Data!G583)","v":""},{"$f":"IF(Data!H583=\"\",\"\",Data!H583)","v":""},{"$f":"IF(Data!I583=\"\",\"\",Data!I583)","v":""},{"$f":"IF(Data!J583=\"\",\"\",Data!J583)","v":""},{"$f":"IF(Data!K583=\"\",\"\",Data!K583)","v":""},{"$f":"IF(Data!L583=\"\",\"\",Data!L583)","v":""},{"$f":"IF(Data!M583=\"\",\"\",Data!M583)","v":""},{"$f":"IF(Data!N583=\"\",\"\",Data!N583)","v":""},{"$f":"IF(Data!O583=\"\",\"\",Data!O583)","v":""},{"$f":"IF(Data!P583=\"\",\"\",Data!P583)","v":""},{"$f":"IF(Data!Q583=\"\",\"\",Data!Q583)","v":""},{"$f":"IF(Data!R583=\"\",\"\",Data!R583)","v":""},{"$f":"IF(Data!S583=\"\",\"\",Data!S583)","v":""},null,null,null,null,583]
[{"$f":"IF(Data!A584=\"\",\"\",Data!A584)","v":""},"",{"$f":"IF(Data!B584=\"\",\"\",Data!B584)","v":""},{"$f":"IF(Data!C584=\"\",\"\",Data!C584)","v":""},{"$f":"IF(Data!D584=\"\",\"\",Data!D584)","v":""},{"$f":"IF(Data!E584=\"\",\"\",Data!E584)","v":""},{"$f":"IF(Data!F584=\"\",\"\",Data!F584)","v":""},{"$f":"IF(Data!G584=\"\",\"\",Data!G584)","v":""},{"$f":"IF(Data!H584=\"\",\"\",Data!H584)","v":""},{"$f":"IF(Data!I584=\"\",\"\",Data!I584)","v":""},{"$f":"IF(Data!J584=\"\",\"\",Data!J584)","v":""},{"$f":"IF(Data!K584=\"\",\"\",Data!K584)","v":""},{"$f":"IF(Data!L584=\"\",\"\",Data!L584)","v":""},{"$f":"IF(Data!M584=\"\",\"\",Data!M584)","v":""},{"$f":"IF(Data!N584=\"\",\"\",Data!N584)","v":""},{"$f":"IF(Data!O584=\"\",\"\",Data!O584)","v":""},{"$f":"IF(Data!P584=\"\",\"\",Data!P584)","v":""},{"$f":"IF(Data!Q584=\"\",\"\",Data!Q584)","v":""},{"$f":"IF(Data!R584=\"\",\"\",Data!R584)","v":""},{"$f":"IF(Data!S584=\"\",\"\",Data!S584)","v":""},null,null,null,null,584]
[{"$f":"IF(Data!A585=\"\",\"\",Data!A585)","v":""},"",{"$f":"IF(Data!B585=\"\",\"\",Data!B585)","v":""},{"$f":"IF(Data!C585=\"\",\"\",Data!C585)","v":""},{"$f":"IF(Data!D585=\"\",\"\",Data!D585)","v":""},{"$f":"IF(Data!E585=\"\",\"\",Data!E585)","v":""},{"$f":"IF(Data!F585=\"\",\"\",Data!F585)","v":""},{"$f":"IF(Data!G585=\"\",\"\",Data!G585)","v":""},{"$f":"IF(Data!H585=\"\",\"\",Data!H585)","v":""},{"$f":"IF(Data!I585=\"\",\"\",Data!I585)","v":""},{"$f":"IF(Data!J585=\"\",\"\",Data!J585)","v":""},{"$f":"IF(Data!K585=\"\",\"\",Data!K585)","v":""},{"$f":"IF(Data!L585=\"\",\"\",Data!L585)","v":""},{"$f":"IF(Data!M585=\"\",\"\",Data!M585)","v":""},{"$f":"IF(Data!N585=\"\",\"\",Data!N585)","v":""},{"$f":"IF(Data!O585=\"\",\"\",Data!O585)","v":""},{"$f":"IF(Data!P585=\"\",\"\",Data!P585)","v":""},{"$f":"IF(Data!Q585=\"\",\"\",Data!Q585)","v":""},{"$f":"IF(Data!R585=\"\",\"\",Data!R585)","v":""},{"$f":"IF(Data!S585=\"\",\"\",Data!S585)","v":""},null,null,null,null,585]
[{"$f":"IF(Data!A586=\"\",\"\",Data!A586)","v":""},"",{"$f":"IF(Data!B586=\"\",\"\",Data!B586)","v":""},{"$f":"IF(Data!C586=\"\",\"\",Data!C586)","v":""},{"$f":"IF(Data!D586=\"\",\"\",Data!D586)","v":""},{"$f":"IF(Data!E586=\"\",\"\",Data!E586)","v":""},{"$f":"IF(Data!F586=\"\",\"\",Data!F586)","v":""},{"$f":"IF(Data!G586=\"\",\"\",Data!G586)","v":""},{"$f":"IF(Data!H586=\"\",\"\",Data!H586)","v":""},{"$f":"IF(Data!I586=\"\",\"\",Data!I586)","v":""},{"$f":"IF(Data!J586=\"\",\"\",Data!J586)","v":""},{"$f":"IF(Data!K586=\"\",\"\",Data!K586)","v":""},{"$f":"IF(Data!L586=\"\",\"\",Data!L586)","v":""},{"$f":"IF(Data!M586=\"\",\"\",Data!M586)","v":""},{"$f":"IF(Data!N586=\"\",\"\",Data!N586)","v":""},{"$f":"IF(Data!O586=\"\",\"\",Data!O586)","v":""},{"$f":"IF(Data!P586=\"\",\"\",Data!P586)","v":""},{"$f":"IF(Data!Q586=\"\",\"\",Data!Q586)","v":""},{"$f":"IF(Data!R586=\"\",\"\",Data!R586)","v":""},{"$f":"IF(Data!S586=\"\",\"\",Data!S586)","v":""},null,null,null,null,586]
[{"$f":"IF(Data!A587=\"\",\"\",Data!A587)","v":""},"",{"$f":"IF(Data!B587=\"\",\"\",Data!B587)","v":""},{"$f":"IF(Data!C587=\"\",\"\",Data!C587)","v":""},{"$f":"IF(Data!D587=\"\",\"\",Data!D587)","v":""},{"$f":"IF(Data!E587=\"\",\"\",Data!E587)","v":""},{"$f":"IF(Data!F587=\"\",\"\",Data!F587)","v":""},{"$f":"IF(Data!G587=\"\",\"\",Data!G587)","v":""},{"$f":"IF(Data!H587=\"\",\"\",Data!H587)","v":""},{"$f":"IF(Data!I587=\"\",\"\",Data!I587)","v":""},{"$f":"IF(Data!J587=\"\",\"\",Data!J587)","v":""},{"$f":"IF(Data!K587=\"\",\"\",Data!K587)","v":""},{"$f":"IF(Data!L587=\"\",\"\",Data!L587)","v":""},{"$f":"IF(Data!M587=\"\",\"\",Data!M587)","v":""},{"$f":"IF(Data!N587=\"\",\"\",Data!N587)","v":""},{"$f":"IF(Data!O587=\"\",\"\",Data!O587)","v":""},{"$f":"IF(Data!P587=\"\",\"\",Data!P587)","v":""},{"$f":"IF(Data!Q587=\"\",\"\",Data!Q587)","v":""},{"$f":"IF(Data!R587=\"\",\"\",Data!R587)","v":""},{"$f":"IF(Data!S587=\"\",\"\",Data!S587)","v":""},null,null,null,null,587]
[{"$f":"IF(Data!A588=\"\",\"\",Data!A588)","v":""},"",{"$f":"IF(Data!B588=\"\",\"\",Data!B588)","v":""},{"$f":"IF(Data!C588=\"\",\"\",Data!C588)","v":""},{"$f":"IF(Data!D588=\"\",\"\",Data!D588)","v":""},{"$f":"IF(Data!E588=\"\",\"\",Data!E588)","v":""},{"$f":"IF(Data!F588=\"\",\"\",Data!F588)","v":""},{"$f":"IF(Data!G588=\"\",\"\",Data!G588)","v":""},{"$f":"IF(Data!H588=\"\",\"\",Data!H588)","v":""},{"$f":"IF(Data!I588=\"\",\"\",Data!I588)","v":""},{"$f":"IF(Data!J588=\"\",\"\",Data!J588)","v":""},{"$f":"IF(Data!K588=\"\",\"\",Data!K588)","v":""},{"$f":"IF(Data!L588=\"\",\"\",Data!L588)","v":""},{"$f":"IF(Data!M588=\"\",\"\",Data!M588)","v":""},{"$f":"IF(Data!N588=\"\",\"\",Data!N588)","v":""},{"$f":"IF(Data!O588=\"\",\"\",Data!O588)","v":""},{"$f":"IF(Data!P588=\"\",\"\",Data!P588)","v":""},{"$f":"IF(Data!Q588=\"\",\"\",Data!Q588)","v":""},{"$f":"IF(Data!R588=\"\",\"\",Data!R588)","v":""},{"$f":"IF(Data!S588=\"\",\"\",Data!S588)","v":""},null,null,null,null,588]
[{"$f":"IF(Data!A589=\"\",\"\",Data!A589)","v":""},"",{"$f":"IF(Data!B589=\"\",\"\",Data!B589)","v":""},{"$f":"IF(Data!C589=\"\",\"\",Data!C589)","v":""},{"$f":"IF(Data!D589=\"\",\"\",Data!D589)","v":""},{"$f":"IF(Data!E589=\"\",\"\",Data!E589)","v":""},{"$f":"IF(Data!F589=\"\",\"\",Data!F589)","v":""},{"$f":"IF(Data!G589=\"\",\"\",Data!G589)","v":""},{"$f":"IF(Data!H589=\"\",\"\",Data!H589)","v":""},{"$f":"IF(Data!I589=\"\",\"\",Data!I589)","v":""},{"$f":"IF(Data!J589=\"\",\"\",Data!J589)","v":""},{"$f":"IF(Data!K589=\"\",\"\",Data!K589)","v":""},{"$f":"IF(Data!L589=\"\",\"\",Data!L589)","v":""},{"$f":"IF(Data!M589=\"\",\"\",Data!M589)","v":""},{"$f":"IF(Data!N589=\"\",\"\",Data!N589)","v":""},{"$f":"IF(Data!O589=\"\",\"\",Data!O589)","v":""},{"$f":"IF(Data!P589=\"\",\"\",Data!P589)","v":""},{"$f":"IF(Data!Q589=\"\",\"\",Data!Q589)","v":""},{"$f":"IF(Data!R589=\"\",\"\",Data!R589)","v":""},{"$f":"IF(Data!S589=\"\",\"\",Data!S589)","v":""},null,null,null,null,589]
[{"$f":"IF(Data!A590=\"\",\"\",Data!A590)","v":""},"",{"$f":"IF(Data!B590=\"\",\"\",Data!B590)","v":""},{"$f":"IF(Data!C590=\"\",\"\",Data!C590)","v":""},{"$f":"IF(Data!D590=\"\",\"\",Data!D590)","v":""},{"$f":"IF(Data!E590=\"\",\"\",Data!E590)","v":""},{"$f":"IF(Data!F590=\"\",\"\",Data!F590)","v":""},{"$f":"IF(Data!G590=\"\",\"\",Data!G590)","v":""},{"$f":"IF(Data!H590=\"\",\"\",Data!H590)","v":""},{"$f":"IF(Data!I590=\"\",\"\",Data!I590)","v":""},{"$f":"IF(Data!J590=\"\",\"\",Data!J590)","v":""},{"$f":"IF(Data!K590=\"\",\"\",Data!K590)","v":""},{"$f":"IF(Data!L590=\"\",\"\",Data!L590)","v":""},{"$f":"IF(Data!M590=\"\",\"\",Data!M590)","v":""},{"$f":"IF(Data!N590=\"\",\"\",Data!N590)","v":""},{"$f":"IF(Data!O590=\"\",\"\",Data!O590)","v":""},{"$f":"IF(Data!P590=\"\",\"\",Data!P590)","v":""},{"$f":"IF(Data!Q590=\"\",\"\",Data!Q590)","v":""},{"$f":"IF(Data!R590=\"\",\"\",Data!R590)","v":""},{"$f":"IF(Data!S590=\"\",\"\",Data!S590)","v":""},null,null,null,null,590]
[{"$f":"IF(Data!A591=\"\",\"\",Data!A591)","v":""},"",{"$f":"IF(Data!B591=\"\",\"\",Data!B591)","v":""},{"$f":"IF(Data!C591=\"\",\"\",Data!C591)","v":""},{"$f":"IF(Data!D591=\"\",\"\",Data!D591)","v":""},{"$f":"IF(Data!E591=\"\",\"\",Data!E591)","v":""},{"$f":"IF(Data!F591=\"\",\"\",Data!F591)","v":""},{"$f":"IF(Data!G591=\"\",\"\",Data!G591)","v":""},{"$f":"IF(Data!H591=\"\",\"\",Data!H591)","v":""},{"$f":"IF(Data!I591=\"\",\"\",Data!I591)","v":""},{"$f":"IF(Data!J591=\"\",\"\",Data!J591)","v":""},{"$f":"IF(Data!K591=\"\",\"\",Data!K591)","v":""},{"$f":"IF(Data!L591=\"\",\"\",Data!L591)","v":""},{"$f":"IF(Data!M591=\"\",\"\",Data!M591)","v":""},{"$f":"IF(Data!N591=\"\",\"\",Data!N591)","v":""},{"$f":"IF(Data!O591=\"\",\"\",Data!O591)","v":""},{"$f":"IF(Data!P591=\"\",\"\",Data!P591)","v":""},{"$f":"IF(Data!Q591=\"\",\"\",Data!Q591)","v":""},{"$f":"IF(Data!R591=\"\",\"\",Data!R591)","v":""},{"$f":"IF(Data!S591=\"\",\"\",Data!S591)","v":""},null,null,null,null,591]
[{"$f":"IF(Data!A592=\"\",\"\",Data!A592)","v":""},"",{"$f":"IF(Data!B592=\"\",\"\",Data!B592)","v":""},{"$f":"IF(Data!C592=\"\",\"\",Data!C592)","v":""},{"$f":"IF(Data!D592=\"\",\"\",Data!D592)","v":""},{"$f":"IF(Data!E592=\"\",\"\",Data!E592)","v":""},{"$f":"IF(Data!F592=\"\",\"\",Data!F592)","v":""},{"$f":"IF(Data!G592=\"\",\"\",Data!G592)","v":""},{"$f":"IF(Data!H592=\"\",\"\",Data!H592)","v":""},{"$f":"IF(Data!I592=\"\",\"\",Data!I592)","v":""},{"$f":"IF(Data!J592=\"\",\"\",Data!J592)","v":""},{"$f":"IF(Data!K592=\"\",\"\",Data!K592)","v":""},{"$f":"IF(Data!L592=\"\",\"\",Data!L592)","v":""},{"$f":"IF(Data!M592=\"\",\"\",Data!M592)","v":""},{"$f":"IF(Data!N592=\"\",\"\",Data!N592)","v":""},{"$f":"IF(Data!O592=\"\",\"\",Data!O592)","v":""},{"$f":"IF(Data!P592=\"\",\"\",Data!P592)","v":""},{"$f":"IF(Data!Q592=\"\",\"\",Data!Q592)","v":""},{"$f":"IF(Data!R592=\"\",\"\",Data!R592)","v":""},{"$f":"IF(Data!S592=\"\",\"\",Data!S592)","v":""},null,null,null,null,592]
[{"$f":"IF(Data!A593=\"\",\"\",Data!A593)","v":""},"",{"$f":"IF(Data!B593=\"\",\"\",Data!B593)","v":""},{"$f":"IF(Data!C593=\"\",\"\",Data!C593)","v":""},{"$f":"IF(Data!D593=\"\",\"\",Data!D593)","v":""},{"$f":"IF(Data!E593=\"\",\"\",Data!E593)","v":""},{"$f":"IF(Data!F593=\"\",\"\",Data!F593)","v":""},{"$f":"IF(Data!G593=\"\",\"\",Data!G593)","v":""},{"$f":"IF(Data!H593=\"\",\"\",Data!H593)","v":""},{"$f":"IF(Data!I593=\"\",\"\",Data!I593)","v":""},{"$f":"IF(Data!J593=\"\",\"\",Data!J593)","v":""},{"$f":"IF(Data!K593=\"\",\"\",Data!K593)","v":""},{"$f":"IF(Data!L593=\"\",\"\",Data!L593)","v":""},{"$f":"IF(Data!M593=\"\",\"\",Data!M593)","v":""},{"$f":"IF(Data!N593=\"\",\"\",Data!N593)","v":""},{"$f":"IF(Data!O593=\"\",\"\",Data!O593)","v":""},{"$f":"IF(Data!P593=\"\",\"\",Data!P593)","v":""},{"$f":"IF(Data!Q593=\"\",\"\",Data!Q593)","v":""},{"$f":"IF(Data!R593=\"\",\"\",Data!R593)","v":""},{"$f":"IF(Data!S593=\"\",\"\",Data!S593)","v":""},null,null,null,null,593]
[{"$f":"IF(Data!A594=\"\",\"\",Data!A594)","v":""},"",{"$f":"IF(Data!B594=\"\",\"\",Data!B594)","v":""},{"$f":"IF(Data!C594=\"\",\"\",Data!C594)","v":""},{"$f":"IF(Data!D594=\"\",\"\",Data!D594)","v":""},{"$f":"IF(Data!E594=\"\",\"\",Data!E594)","v":""},{"$f":"IF(Data!F594=\"\",\"\",Data!F594)","v":""},{"$f":"IF(Data!G594=\"\",\"\",Data!G594)","v":""},{"$f":"IF(Data!H594=\"\",\"\",Data!H594)","v":""},{"$f":"IF(Data!I594=\"\",\"\",Data!I594)","v":""},{"$f":"IF(Data!J594=\"\",\"\",Data!J594)","v":""},{"$f":"IF(Data!K594=\"\",\"\",Data!K594)","v":""},{"$f":"IF(Data!L594=\"\",\"\",Data!L594)","v":""},{"$f":"IF(Data!M594=\"\",\"\",Data!M594)","v":""},{"$f":"IF(Data!N594=\"\",\"\",Data!N594)","v":""},{"$f":"IF(Data!O594=\"\",\"\",Data!O594)","v":""},{"$f":"IF(Data!P594=\"\",\"\",Data!P594)","v":""},{"$f":"IF(Data!Q594=\"\",\"\",Data!Q594)","v":""},{"$f":"IF(Data!R594=\"\",\"\",Data!R594)","v":""},{"$f":"IF(Data!S594=\"\",\"\",Data!S594)","v":""},null,null,null,null,594]
[{"$f":"IF(Data!A595=\"\",\"\",Data!A595)","v":""},"",{"$f":"IF(Data!B595=\"\",\"\",Data!B595)","v":""},{"$f":"IF(Data!C595=\"\",\"\",Data!C595)","v":""},{"$f":"IF(Data!D595=\"\",\"\",Data!D595)","v":""},{"$f":"IF(Data!E595=\"\",\"\",Data!E595)","v":""},{"$f":"IF(Data!F595=\"\",\"\",Data!F595)","v":""},{"$f":"IF(Data!G595=\"\",\"\",Data!G595)","v":""},{"$f":"IF(Data!H595=\"\",\"\",Data!H595)","v":""},{"$f":"IF(Data!I595=\"\",\"\",Data!I595)","v":""},{"$f":"IF(Data!J595=\"\",\"\",Data!J595)","v":""},{"$f":"IF(Data!K595=\"\",\"\",Data!K595)","v":""},{"$f":"IF(Data!L595=\"\",\"\",Data!L595)","v":""},{"$f":"IF(Data!M595=\"\",\"\",Data!M595)","v":""},{"$f":"IF(Data!N595=\"\",\"\",Data!N595)","v":""},{"$f":"IF(Data!O595=\"\",\"\",Data!O595)","v":""},{"$f":"IF(Data!P595=\"\",\"\",Data!P595)","v":""},{"$f":"IF(Data!Q595=\"\",\"\",Data!Q595)","v":""},{"$f":"IF(Data!R595=\"\",\"\",Data!R595)","v":""},{"$f":"IF(Data!S595=\"\",\"\",Data!S595)","v":""},null,null,null,null,595]
[{"$f":"IF(Data!A596=\"\",\"\",Data!A596)","v":""},"",{"$f":"IF(Data!B596=\"\",\"\",Data!B596)","v":""},{"$f":"IF(Data!C596=\"\",\"\",Data!C596)","v":""},{"$f":"IF(Data!D596=\"\",\"\",Data!D596)","v":""},{"$f":"IF(Data!E596=\"\",\"\",Data!E596)","v":""},{"$f":"IF(Data!F596=\"\",\"\",Data!F596)","v":""},{"$f":"IF(Data!G596=\"\",\"\",Data!G596)","v":""},{"$f":"IF(Data!H596=\"\",\"\",Data!H596)","v":""},{"$f":"IF(Data!I596=\"\",\"\",Data!I596)","v":""},{"$f":"IF(Data!J596=\"\",\"\",Data!J596)","v":""},{"$f":"IF(Data!K596=\"\",\"\",Data!K596)","v":""},{"$f":"IF(Data!L596=\"\",\"\",Data!L596)","v":""},{"$f":"IF(Data!M596=\"\",\"\",Data!M596)","v":""},{"$f":"IF(Data!N596=\"\",\"\",Data!N596)","v":""},{"$f":"IF(Data!O596=\"\",\"\",Data!O596)","v":""},{"$f":"IF(Data!P596=\"\",\"\",Data!P596)","v":""},{"$f":"IF(Data!Q596=\"\",\"\",Data!Q596)","v":""},{"$f":"IF(Data!R596=\"\",\"\",Data!R596)","v":""},{"$f":"IF(Data!S596=\"\",\"\",Data!S596)","v":""},null,null,null,null,596]
[{"$f":"IF(Data!A597=\"\",\"\",Data!A597)","v":""},"",{"$f":"IF(Data!B597=\"\",\"\",Data!B597)","v":""},{"$f":"IF(Data!C597=\"\",\"\",Data!C597)","v":""},{"$f":"IF(Data!D597=\"\",\"\",Data!D597)","v":""},{"$f":"IF(Data!E597=\"\",\"\",Data!E597)","v":""},{"$f":"IF(Data!F597=\"\",\"\",Data!F597)","v":""},{"$f":"IF(Data!G597=\"\",\"\",Data!G597)","v":""},{"$f":"IF(Data!H597=\"\",\"\",Data!H597)","v":""},{"$f":"IF(Data!I597=\"\",\"\",Data!I597)","v":""},{"$f":"IF(Data!J597=\"\",\"\",Data!J597)","v":""},{"$f":"IF(Data!K597=\"\",\"\",Data!K597)","v":""},{"$f":"IF(Data!L597=\"\",\"\",Data!L597)","v":""},{"$f":"IF(Data!M597=\"\",\"\",Data!M597)","v":""},{"$f":"IF(Data!N597=\"\",\"\",Data!N597)","v":""},{"$f":"IF(Data!O597=\"\",\"\",Data!O597)","v":""},{"$f":"IF(Data!P597=\"\",\"\",Data!P597)","v":""},{"$f":"IF(Data!Q597=\"\",\"\",Data!Q597)","v":""},{"$f":"IF(Data!R597=\"\",\"\",Data!R597)","v":""},{"$f":"IF(Data!S597=\"\",\"\",Data!S597)","v":""},null,null,null,null,597]
[{"$f":"IF(Data!A598=\"\",\"\",Data!A598)","v":""},"",{"$f":"IF(Data!B598=\"\",\"\",Data!B598)","v":""},{"$f":"IF(Data!C598=\"\",\"\",Data!C598)","v":""},{"$f":"IF(Data!D598=\"\",\"\",Data!D598)","v":""},{"$f":"IF(Data!E598=\"\",\"\",Data!E598)","v":""},{"$f":"IF(Data!F598=\"\",\"\",Data!F598)","v":""},{"$f":"IF(Data!G598=\"\",\"\",Data!G598)","v":""},{"$f":"IF(Data!H598=\"\",\"\",Data!H598)","v":""},{"$f":"IF(Data!I598=\"\",\"\",Data!I598)","v":""},{"$f":"IF(Data!J598=\"\",\"\",Data!J598)","v":""},{"$f":"IF(Data!K598=\"\",\"\",Data!K598)","v":""},{"$f":"IF(Data!L598=\"\",\"\",Data!L598)","v":""},{"$f":"IF(Data!M598=\"\",\"\",Data!M598)","v":""},{"$f":"IF(Data!N598=\"\",\"\",Data!N598)","v":""},{"$f":"IF(Data!O598=\"\",\"\",Data!O598)","v":""},{"$f":"IF(Data!P598=\"\",\"\",Data!P598)","v":""},{"$f":"IF(Data!Q598=\"\",\"\",Data!Q598)","v":""},{"$f":"IF(Data!R598=\"\",\"\",Data!R598)","v":""},{"$f":"IF(Data!S598=\"\",\"\",Data!S598)","v":""},null,null,null,null,598]
[{"$f":"IF(Data!A599=\"\",\"\",Data!A599)","v":""},"",{"$f":"IF(Data!B599=\"\",\"\",Data!B599)","v":""},{"$f":"IF(Data!C599=\"\",\"\",Data!C599)","v":""},{"$f":"IF(Data!D599=\"\",\"\",Data!D599)","v":""},{"$f":"IF(Data!E599=\"\",\"\",Data!E599)","v":""},{"$f":"IF(Data!F599=\"\",\"\",Data!F599)","v":""},{"$f":"IF(Data!G599=\"\",\"\",Data!G599)","v":""},{"$f":"IF(Data!H599=\"\",\"\",Data!H599)","v":""},{"$f":"IF(Data!I599=\"\",\"\",Data!I599)","v":""},{"$f":"IF(Data!J599=\"\",\"\",Data!J599)","v":""},{"$f":"IF(Data!K599=\"\",\"\",Data!K599)","v":""},{"$f":"IF(Data!L599=\"\",\"\",Data!L599)","v":""},{"$f":"IF(Data!M599=\"\",\"\",Data!M599)","v":""},{"$f":"IF(Data!N599=\"\",\"\",Data!N599)","v":""},{"$f":"IF(Data!O599=\"\",\"\",Data!O599)","v":""},{"$f":"IF(Data!P599=\"\",\"\",Data!P599)","v":""},{"$f":"IF(Data!Q599=\"\",\"\",Data!Q599)","v":""},{"$f":"IF(Data!R599=\"\",\"\",Data!R599)","v":""},{"$f":"IF(Data!S599=\"\",\"\",Data!S599)","v":""},null,null,null,null,599]
[{"$f":"IF(Data!A600=\"\",\"\",Data!A600)","v":""},"",{"$f":"IF(Data!B600=\"\",\"\",Data!B600)","v":""},{"$f":"IF(Data!C600=\"\",\"\",Data!C600)","v":""},{"$f":"IF(Data!D600=\"\",\"\",Data!D600)","v":""},{"$f":"IF(Data!E600=\"\",\"\",Data!E600)","v":""},{"$f":"IF(Data!F600=\"\",\"\",Data!F600)","v":""},{"$f":"IF(Data!G600=\"\",\"\",Data!G600)","v":""},{"$f":"IF(Data!H600=\"\",\"\",Data!H600)","v":""},{"$f":"IF(Data!I600=\"\",\"\",Data!I600)","v":""},{"$f":"IF(Data!J600=\"\",\"\",Data!J600)","v":""},{"$f":"IF(Data!K600=\"\",\"\",Data!K600)","v":""},{"$f":"IF(Data!L600=\"\",\"\",Data!L600)","v":""},{"$f":"IF(Data!M600=\"\",\"\",Data!M600)","v":""},{"$f":"IF(Data!N600=\"\",\"\",Data!N600)","v":""},{"$f":"IF(Data!O600=\"\",\"\",Data!O600)","v":""},{"$f":"IF(Data!P600=\"\",\"\",Data!P600)","v":""},{"$f":"IF(Data!Q600=\"\",\"\",Data!Q600)","v":""},{"$f":"IF(Data!R600=\"\",\"\",Data!R600)","v":""},{"$f":"IF(Data!S600=\"\",\"\",Data!S600)","v":""},null,null,null,null,600]
[{"$f":"IF(Data!A601=\"\",\"\",Data!A601)","v":""},"",{"$f":"IF(Data!B601=\"\",\"\",Data!B601)","v":""},{"$f":"IF(Data!C601=\"\",\"\",Data!C601)","v":""},{"$f":"IF(Data!D601=\"\",\"\",Data!D601)","v":""},{"$f":"IF(Data!E601=\"\",\"\",Data!E601)","v":""},{"$f":"IF(Data!F601=\"\",\"\",Data!F601)","v":""},{"$f":"IF(Data!G601=\"\",\"\",Data!G601)","v":""},{"$f":"IF(Data!H601=\"\",\"\",Data!H601)","v":""},{"$f":"IF(Data!I601=\"\",\"\",Data!I601)","v":""},{"$f":"IF(Data!J601=\"\",\"\",Data!J601)","v":""},{"$f":"IF(Data!K601=\"\",\"\",Data!K601)","v":""},{"$f":"IF(Data!L601=\"\",\"\",Data!L601)","v":""},{"$f":"IF(Data!M601=\"\",\"\",Data!M601)","v":""},{"$f":"IF(Data!N601=\"\",\"\",Data!N601)","v":""},{"$f":"IF(Data!O601=\"\",\"\",Data!O601)","v":""},{"$f":"IF(Data!P601=\"\",\"\",Data!P601)","v":""},{"$f":"IF(Data!Q601=\"\",\"\",Data!Q601)","v":""},{"$f":"IF(Data!R601=\"\",\"\",Data!R601)","v":""},{"$f":"IF(Data!S601=\"\",\"\",Data!S601)","v":""},null,null,null,null,601]
[{"$f":"IF(Data!A602=\"\",\"\",Data!A602)","v":""},"",{"$f":"IF(Data!B602=\"\",\"\",Data!B602)","v":""},{"$f":"IF(Data!C602=\"\",\"\",Data!C602)","v":""},{"$f":"IF(Data!D602=\"\",\"\",Data!D602)","v":""},{"$f":"IF(Data!E602=\"\",\"\",Data!E602)","v":""},{"$f":"IF(Data!F602=\"\",\"\",Data!F602)","v":""},{"$f":"IF(Data!G602=\"\",\"\",Data!G602)","v":""},{"$f":"IF(Data!H602=\"\",\"\",Data!H602)","v":""},{"$f":"IF(Data!I602=\"\",\"\",Data!I602)","v":""},{"$f":"IF(Data!J602=\"\",\"\",Data!J602)","v":""},{"$f":"IF(Data!K602=\"\",\"\",Data!K602)","v":""},{"$f":"IF(Data!L602=\"\",\"\",Data!L602)","v":""},{"$f":"IF(Data!M602=\"\",\"\",Data!M602)","v":""},{"$f":"IF(Data!N602=\"\",\"\",Data!N602)","v":""},{"$f":"IF(Data!O602=\"\",\"\",Data!O602)","v":""},{"$f":"IF(Data!P602=\"\",\"\",Data!P602)","v":""},{"$f":"IF(Data!Q602=\"\",\"\",Data!Q602)","v":""},{"$f":"IF(Data!R602=\"\",\"\",Data!R602)","v":""},{"$f":"IF(Data!S602=\"\",\"\",Data!S602)","v":""},null,null,null,null,602]
[{"$f":"IF(Data!A603=\"\",\"\",Data!A603)","v":""},"",{"$f":"IF(Data!B603=\"\",\"\",Data!B603)","v":""},{"$f":"IF(Data!C603=\"\",\"\",Data!C603)","v":""},{"$f":"IF(Data!D603=\"\",\"\",Data!D603)","v":""},{"$f":"IF(Data!E603=\"\",\"\",Data!E603)","v":""},{"$f":"IF(Data!F603=\"\",\"\",Data!F603)","v":""},{"$f":"IF(Data!G603=\"\",\"\",Data!G603)","v":""},{"$f":"IF(Data!H603=\"\",\"\",Data!H603)","v":""},{"$f":"IF(Data!I603=\"\",\"\",Data!I603)","v":""},{"$f":"IF(Data!J603=\"\",\"\",Data!J603)","v":""},{"$f":"IF(Data!K603=\"\",\"\",Data!K603)","v":""},{"$f":"IF(Data!L603=\"\",\"\",Data!L603)","v":""},{"$f":"IF(Data!M603=\"\",\"\",Data!M603)","v":""},{"$f":"IF(Data!N603=\"\",\"\",Data!N603)","v":""},{"$f":"IF(Data!O603=\"\",\"\",Data!O603)","v":""},{"$f":"IF(Data!P603=\"\",\"\",Data!P603)","v":""},{"$f":"IF(Data!Q603=\"\",\"\",Data!Q603)","v":""},{"$f":"IF(Data!R603=\"\",\"\",Data!R603)","v":""},{"$f":"IF(Data!S603=\"\",\"\",Data!S603)","v":""},null,null,null,null,603]
[{"$f":"IF(Data!A604=\"\",\"\",Data!A604)","v":""},"",{"$f":"IF(Data!B604=\"\",\"\",Data!B604)","v":""},{"$f":"IF(Data!C604=\"\",\"\",Data!C604)","v":""},{"$f":"IF(Data!D604=\"\",\"\",Data!D604)","v":""},{"$f":"IF(Data!E604=\"\",\"\",Data!E604)","v":""},{"$f":"IF(Data!F604=\"\",\"\",Data!F604)","v":""},{"$f":"IF(Data!G604=\"\",\"\",Data!G604)","v":""},{"$f":"IF(Data!H604=\"\",\"\",Data!H604)","v":""},{"$f":"IF(Data!I604=\"\",\"\",Data!I604)","v":""},{"$f":"IF(Data!J604=\"\",\"\",Data!J604)","v":""},{"$f":"IF(Data!K604=\"\",\"\",Data!K604)","v":""},{"$f":"IF(Data!L604=\"\",\"\",Data!L604)","v":""},{"$f":"IF(Data!M604=\"\",\"\",Data!M604)","v":""},{"$f":"IF(Data!N604=\"\",\"\",Data!N604)","v":""},{"$f":"IF(Data!O604=\"\",\"\",Data!O604)","v":""},{"$f":"IF(Data!P604=\"\",\"\",Data!P604)","v":""},{"$f":"IF(Data!Q604=\"\",\"\",Data!Q604)","v":""},{"$f":"IF(Data!R604=\"\",\"\",Data!R604)","v":""},{"$f":"IF(Data!S604=\"\",\"\",Data!S604)","v":""},null,null,null,null,604]
[{"$f":"IF(Data!A605=\"\",\"\",Data!A605)","v":""},"",{"$f":"IF(Data!B605=\"\",\"\",Data!B605)","v":""},{"$f":"IF(Data!C605=\"\",\"\",Data!C605)","v":""},{"$f":"IF(Data!D605=\"\",\"\",Data!D605)","v":""},{"$f":"IF(Data!E605=\"\",\"\",Data!E605)","v":""},{"$f":"IF(Data!F605=\"\",\"\",Data!F605)","v":""},{"$f":"IF(Data!G605=\"\",\"\",Data!G605)","v":""},{"$f":"IF(Data!H605=\"\",\"\",Data!H605)","v":""},{"$f":"IF(Data!I605=\"\",\"\",Data!I605)","v":""},{"$f":"IF(Data!J605=\"\",\"\",Data!J605)","v":""},{"$f":"IF(Data!K605=\"\",\"\",Data!K605)","v":""},{"$f":"IF(Data!L605=\"\",\"\",Data!L605)","v":""},{"$f":"IF(Data!M605=\"\",\"\",Data!M605)","v":""},{"$f":"IF(Data!N605=\"\",\"\",Data!N605)","v":""},{"$f":"IF(Data!O605=\"\",\"\",Data!O605)","v":""},{"$f":"IF(Data!P605=\"\",\"\",Data!P605)","v":""},{"$f":"IF(Data!Q605=\"\",\"\",Data!Q605)","v":""},{"$f":"IF(Data!R605=\"\",\"\",Data!R605)","v":""},{"$f":"IF(Data!S605=\"\",\"\",Data!S605)","v":""},null,null,null,null,605]
[{"$f":"IF(Data!A606=\"\",\"\",Data!A606)","v":""},"",{"$f":"IF(Data!B606=\"\",\"\",Data!B606)","v":""},{"$f":"IF(Data!C606=\"\",\"\",Data!C606)","v":""},{"$f":"IF(Data!D606=\"\",\"\",Data!D606)","v":""},{"$f":"IF(Data!E606=\"\",\"\",Data!E606)","v":""},{"$f":"IF(Data!F606=\"\",\"\",Data!F606)","v":""},{"$f":"IF(Data!G606=\"\",\"\",Data!G606)","v":""},{"$f":"IF(Data!H606=\"\",\"\",Data!H606)","v":""},{"$f":"IF(Data!I606=\"\",\"\",Data!I606)","v":""},{"$f":"IF(Data!J606=\"\",\"\",Data!J606)","v":""},{"$f":"IF(Data!K606=\"\",\"\",Data!K606)","v":""},{"$f":"IF(Data!L606=\"\",\"\",Data!L606)","v":""},{"$f":"IF(Data!M606=\"\",\"\",Data!M606)","v":""},{"$f":"IF(Data!N606=\"\",\"\",Data!N606)","v":""},{"$f":"IF(Data!O606=\"\",\"\",Data!O606)","v":""},{"$f":"IF(Data!P606=\"\",\"\",Data!P606)","v":""},{"$f":"IF(Data!Q606=\"\",\"\",Data!Q606)","v":""},{"$f":"IF(Data!R606=\"\",\"\",Data!R606)","v":""},{"$f":"IF(Data!S606=\"\",\"\",Data!S606)","v":""},null,null,null,null,606]
[{"$f":"IF(Data!A607=\"\",\"\",Data!A607)","v":""},"",{"$f":"IF(Data!B607=\"\",\"\",Data!B607)","v":""},{"$f":"IF(Data!C607=\"\",\"\",Data!C607)","v":""},{"$f":"IF(Data!D607=\"\",\"\",Data!D607)","v":""},{"$f":"IF(Data!E607=\"\",\"\",Data!E607)","v":""},{"$f":"IF(Data!F607=\"\",\"\",Data!F607)","v":""},{"$f":"IF(Data!G607=\"\",\"\",Data!G607)","v":""},{"$f":"IF(Data!H607=\"\",\"\",Data!H607)","v":""},{"$f":"IF(Data!I607=\"\",\"\",Data!I607)","v":""},{"$f":"IF(Data!J607=\"\",\"\",Data!J607)","v":""},{"$f":"IF(Data!K607=\"\",\"\",Data!K607)","v":""},{"$f":"IF(Data!L607=\"\",\"\",Data!L607)","v":""},{"$f":"IF(Data!M607=\"\",\"\",Data!M607)","v":""},{"$f":"IF(Data!N607=\"\",\"\",Data!N607)","v":""},{"$f":"IF(Data!O607=\"\",\"\",Data!O607)","v":""},{"$f":"IF(Data!P607=\"\",\"\",Data!P607)","v":""},{"$f":"IF(Data!Q607=\"\",\"\",Data!Q607)","v":""},{"$f":"IF(Data!R607=\"\",\"\",Data!R607)","v":""},{"$f":"IF(Data!S607=\"\",\"\",Data!S607)","v":""},null,null,null,null,607]
[{"$f":"IF(Data!A608=\"\",\"\",Data!A608)","v":""},"",{"$f":"IF(Data!B608=\"\",\"\",Data!B608)","v":""},{"$f":"IF(Data!C608=\"\",\"\",Data!C608)","v":""},{"$f":"IF(Data!D608=\"\",\"\",Data!D608)","v":""},{"$f":"IF(Data!E608=\"\",\"\",Data!E608)","v":""},{"$f":"IF(Data!F608=\"\",\"\",Data!F608)","v":""},{"$f":"IF(Data!G608=\"\",\"\",Data!G608)","v":""},{"$f":"IF(Data!H608=\"\",\"\",Data!H608)","v":""},{"$f":"IF(Data!I608=\"\",\"\",Data!I608)","v":""},{"$f":"IF(Data!J608=\"\",\"\",Data!J608)","v":""},{"$f":"IF(Data!K608=\"\",\"\",Data!K608)","v":""},{"$f":"IF(Data!L608=\"\",\"\",Data!L608)","v":""},{"$f":"IF(Data!M608=\"\",\"\",Data!M608)","v":""},{"$f":"IF(Data!N608=\"\",\"\",Data!N608)","v":""},{"$f":"IF(Data!O608=\"\",\"\",Data!O608)","v":""},{"$f":"IF(Data!P608=\"\",\"\",Data!P608)","v":""},{"$f":"IF(Data!Q608=\"\",\"\",Data!Q608)","v":""},{"$f":"IF(Data!R608=\"\",\"\",Data!R608)","v":""},{"$f":"IF(Data!S608=\"\",\"\",Data!S608)","v":""},null,null,null,null,608]
[{"$f":"IF(Data!A609=\"\",\"\",Data!A609)","v":""},"",{"$f":"IF(Data!B609=\"\",\"\",Data!B609)","v":""},{"$f":"IF(Data!C609=\"\",\"\",Data!C609)","v":""},{"$f":"IF(Data!D609=\"\",\"\",Data!D609)","v":""},{"$f":"IF(Data!E609=\"\",\"\",Data!E609)","v":""},{"$f":"IF(Data!F609=\"\",\"\",Data!F609)","v":""},{"$f":"IF(Data!G609=\"\",\"\",Data!G609)","v":""},{"$f":"IF(Data!H609=\"\",\"\",Data!H609)","v":""},{"$f":"IF(Data!I609=\"\",\"\",Data!I609)","v":""},{"$f":"IF(Data!J609=\"\",\"\",Data!J609)","v":""},{"$f":"IF(Data!K609=\"\",\"\",Data!K609)","v":""},{"$f":"IF(Data!L609=\"\",\"\",Data!L609)","v":""},{"$f":"IF(Data!M609=\"\",\"\",Data!M609)","v":""},{"$f":"IF(Data!N609=\"\",\"\",Data!N609)","v":""},{"$f":"IF(Data!O609=\"\",\"\",Data!O609)","v":""},{"$f":"IF(Data!P609=\"\",\"\",Data!P609)","v":""},{"$f":"IF(Data!Q609=\"\",\"\",Data!Q609)","v":""},{"$f":"IF(Data!R609=\"\",\"\",Data!R609)","v":""},{"$f":"IF(Data!S609=\"\",\"\",Data!S609)","v":""},null,null,null,null,609]
[{"$f":"IF(Data!A610=\"\",\"\",Data!A610)","v":""},"",{"$f":"IF(Data!B610=\"\",\"\",Data!B610)","v":""},{"$f":"IF(Data!C610=\"\",\"\",Data!C610)","v":""},{"$f":"IF(Data!D610=\"\",\"\",Data!D610)","v":""},{"$f":"IF(Data!E610=\"\",\"\",Data!E610)","v":""},{"$f":"IF(Data!F610=\"\",\"\",Data!F610)","v":""},{"$f":"IF(Data!G610=\"\",\"\",Data!G610)","v":""},{"$f":"IF(Data!H610=\"\",\"\",Data!H610)","v":""},{"$f":"IF(Data!I610=\"\",\"\",Data!I610)","v":""},{"$f":"IF(Data!J610=\"\",\"\",Data!J610)","v":""},{"$f":"IF(Data!K610=\"\",\"\",Data!K610)","v":""},{"$f":"IF(Data!L610=\"\",\"\",Data!L610)","v":""},{"$f":"IF(Data!M610=\"\",\"\",Data!M610)","v":""},{"$f":"IF(Data!N610=\"\",\"\",Data!N610)","v":""},{"$f":"IF(Data!O610=\"\",\"\",Data!O610)","v":""},{"$f":"IF(Data!P610=\"\",\"\",Data!P610)","v":""},{"$f":"IF(Data!Q610=\"\",\"\",Data!Q610)","v":""},{"$f":"IF(Data!R610=\"\",\"\",Data!R610)","v":""},{"$f":"IF(Data!S610=\"\",\"\",Data!S610)","v":""},null,null,null,null,610]
[{"$f":"IF(Data!A611=\"\",\"\",Data!A611)","v":""},"",{"$f":"IF(Data!B611=\"\",\"\",Data!B611)","v":""},{"$f":"IF(Data!C611=\"\",\"\",Data!C611)","v":""},{"$f":"IF(Data!D611=\"\",\"\",Data!D611)","v":""},{"$f":"IF(Data!E611=\"\",\"\",Data!E611)","v":""},{"$f":"IF(Data!F611=\"\",\"\",Data!F611)","v":""},{"$f":"IF(Data!G611=\"\",\"\",Data!G611)","v":""},{"$f":"IF(Data!H611=\"\",\"\",Data!H611)","v":""},{"$f":"IF(Data!I611=\"\",\"\",Data!I611)","v":""},{"$f":"IF(Data!J611=\"\",\"\",Data!J611)","v":""},{"$f":"IF(Data!K611=\"\",\"\",Data!K611)","v":""},{"$f":"IF(Data!L611=\"\",\"\",Data!L611)","v":""},{"$f":"IF(Data!M611=\"\",\"\",Data!M611)","v":""},{"$f":"IF(Data!N611=\"\",\"\",Data!N611)","v":""},{"$f":"IF(Data!O611=\"\",\"\",Data!O611)","v":""},{"$f":"IF(Data!P611=\"\",\"\",Data!P611)","v":""},{"$f":"IF(Data!Q611=\"\",\"\",Data!Q611)","v":""},{"$f":"IF(Data!R611=\"\",\"\",Data!R611)","v":""},{"$f":"IF(Data!S611=\"\",\"\",Data!S611)","v":""},null,null,null,null,611]
[{"$f":"IF(Data!A612=\"\",\"\",Data!A612)","v":""},"",{"$f":"IF(Data!B612=\"\",\"\",Data!B612)","v":""},{"$f":"IF(Data!C612=\"\",\"\",Data!C612)","v":""},{"$f":"IF(Data!D612=\"\",\"\",Data!D612)","v":""},{"$f":"IF(Data!E612=\"\",\"\",Data!E612)","v":""},{"$f":"IF(Data!F612=\"\",\"\",Data!F612)","v":""},{"$f":"IF(Data!G612=\"\",\"\",Data!G612)","v":""},{"$f":"IF(Data!H612=\"\",\"\",Data!H612)","v":""},{"$f":"IF(Data!I612=\"\",\"\",Data!I612)","v":""},{"$f":"IF(Data!J612=\"\",\"\",Data!J612)","v":""},{"$f":"IF(Data!K612=\"\",\"\",Data!K612)","v":""},{"$f":"IF(Data!L612=\"\",\"\",Data!L612)","v":""},{"$f":"IF(Data!M612=\"\",\"\",Data!M612)","v":""},{"$f":"IF(Data!N612=\"\",\"\",Data!N612)","v":""},{"$f":"IF(Data!O612=\"\",\"\",Data!O612)","v":""},{"$f":"IF(Data!P612=\"\",\"\",Data!P612)","v":""},{"$f":"IF(Data!Q612=\"\",\"\",Data!Q612)","v":""},{"$f":"IF(Data!R612=\"\",\"\",Data!R612)","v":""},{"$f":"IF(Data!S612=\"\",\"\",Data!S612)","v":""},null,null,null,null,612]
[{"$f":"IF(Data!A613=\"\",\"\",Data!A613)","v":""},"",{"$f":"IF(Data!B613=\"\",\"\",Data!B613)","v":""},{"$f":"IF(Data!C613=\"\",\"\",Data!C613)","v":""},{"$f":"IF(Data!D613=\"\",\"\",Data!D613)","v":""},{"$f":"IF(Data!E613=\"\",\"\",Data!E613)","v":""},{"$f":"IF(Data!F613=\"\",\"\",Data!F613)","v":""},{"$f":"IF(Data!G613=\"\",\"\",Data!G613)","v":""},{"$f":"IF(Data!H613=\"\",\"\",Data!H613)","v":""},{"$f":"IF(Data!I613=\"\",\"\",Data!I613)","v":""},{"$f":"IF(Data!J613=\"\",\"\",Data!J613)","v":""},{"$f":"IF(Data!K613=\"\",\"\",Data!K613)","v":""},{"$f":"IF(Data!L613=\"\",\"\",Data!L613)","v":""},{"$f":"IF(Data!M613=\"\",\"\",Data!M613)","v":""},{"$f":"IF(Data!N613=\"\",\"\",Data!N613)","v":""},{"$f":"IF(Data!O613=\"\",\"\",Data!O613)","v":""},{"$f":"IF(Data!P613=\"\",\"\",Data!P613)","v":""},{"$f":"IF(Data!Q613=\"\",\"\",Data!Q613)","v":""},{"$f":"IF(Data!R613=\"\",\"\",Data!R613)","v":""},{"$f":"IF(Data!S613=\"\",\"\",Data!S613)","v":""},null,null,null,null,613]
[{"$f":"IF(Data!A614=\"\",\"\",Data!A614)","v":""},"",{"$f":"IF(Data!B614=\"\",\"\",Data!B614)","v":""},{"$f":"IF(Data!C614=\"\",\"\",Data!C614)","v":""},{"$f":"IF(Data!D614=\"\",\"\",Data!D614)","v":""},{"$f":"IF(Data!E614=\"\",\"\",Data!E614)","v":""},{"$f":"IF(Data!F614=\"\",\"\",Data!F614)","v":""},{"$f":"IF(Data!G614=\"\",\"\",Data!G614)","v":""},{"$f":"IF(Data!H614=\"\",\"\",Data!H614)","v":""},{"$f":"IF(Data!I614=\"\",\"\",Data!I614)","v":""},{"$f":"IF(Data!J614=\"\",\"\",Data!J614)","v":""},{"$f":"IF(Data!K614=\"\",\"\",Data!K614)","v":""},{"$f":"IF(Data!L614=\"\",\"\",Data!L614)","v":""},{"$f":"IF(Data!M614=\"\",\"\",Data!M614)","v":""},{"$f":"IF(Data!N614=\"\",\"\",Data!N614)","v":""},{"$f":"IF(Data!O614=\"\",\"\",Data!O614)","v":""},{"$f":"IF(Data!P614=\"\",\"\",Data!P614)","v":""},{"$f":"IF(Data!Q614=\"\",\"\",Data!Q614)","v":""},{"$f":"IF(Data!R614=\"\",\"\",Data!R614)","v":""},{"$f":"IF(Data!S614=\"\",\"\",Data!S614)","v":""},null,null,null,null,614]
[{"$f":"IF(Data!A615=\"\",\"\",Data!A615)","v":""},"",{"$f":"IF(Data!B615=\"\",\"\",Data!B615)","v":""},{"$f":"IF(Data!C615=\"\",\"\",Data!C615)","v":""},{"$f":"IF(Data!D615=\"\",\"\",Data!D615)","v":""},{"$f":"IF(Data!E615=\"\",\"\",Data!E615)","v":""},{"$f":"IF(Data!F615=\"\",\"\",Data!F615)","v":""},{"$f":"IF(Data!G615=\"\",\"\",Data!G615)","v":""},{"$f":"IF(Data!H615=\"\",\"\",Data!H615)","v":""},{"$f":"IF(Data!I615=\"\",\"\",Data!I615)","v":""},{"$f":"IF(Data!J615=\"\",\"\",Data!J615)","v":""},{"$f":"IF(Data!K615=\"\",\"\",Data!K615)","v":""},{"$f":"IF(Data!L615=\"\",\"\",Data!L615)","v":""},{"$f":"IF(Data!M615=\"\",\"\",Data!M615)","v":""},{"$f":"IF(Data!N615=\"\",\"\",Data!N615)","v":""},{"$f":"IF(Data!O615=\"\",\"\",Data!O615)","v":""},{"$f":"IF(Data!P615=\"\",\"\",Data!P615)","v":""},{"$f":"IF(Data!Q615=\"\",\"\",Data!Q615)","v":""},{"$f":"IF(Data!R615=\"\",\"\",Data!R615)","v":""},{"$f":"IF(Data!S615=\"\",\"\",Data!S615)","v":""},null,null,null,null,615]
[{"$f":"IF(Data!A616=\"\",\"\",Data!A616)","v":""},"",{"$f":"IF(Data!B616=\"\",\"\",Data!B616)","v":""},{"$f":"IF(Data!C616=\"\",\"\",Data!C616)","v":""},{"$f":"IF(Data!D616=\"\",\"\",Data!D616)","v":""},{"$f":"IF(Data!E616=\"\",\"\",Data!E616)","v":""},{"$f":"IF(Data!F616=\"\",\"\",Data!F616)","v":""},{"$f":"IF(Data!G616=\"\",\"\",Data!G616)","v":""},{"$f":"IF(Data!H616=\"\",\"\",Data!H616)","v":""},{"$f":"IF(Data!I616=\"\",\"\",Data!I616)","v":""},{"$f":"IF(Data!J616=\"\",\"\",Data!J616)","v":""},{"$f":"IF(Data!K616=\"\",\"\",Data!K616)","v":""},{"$f":"IF(Data!L616=\"\",\"\",Data!L616)","v":""},{"$f":"IF(Data!M616=\"\",\"\",Data!M616)","v":""},{"$f":"IF(Data!N616=\"\",\"\",Data!N616)","v":""},{"$f":"IF(Data!O616=\"\",\"\",Data!O616)","v":""},{"$f":"IF(Data!P616=\"\",\"\",Data!P616)","v":""},{"$f":"IF(Data!Q616=\"\",\"\",Data!Q616)","v":""},{"$f":"IF(Data!R616=\"\",\"\",Data!R616)","v":""},{"$f":"IF(Data!S616=\"\",\"\",Data!S616)","v":""},null,null,null,null,616]
[{"$f":"IF(Data!A617=\"\",\"\",Data!A617)","v":""},"",{"$f":"IF(Data!B617=\"\",\"\",Data!B617)","v":""},{"$f":"IF(Data!C617=\"\",\"\",Data!C617)","v":""},{"$f":"IF(Data!D617=\"\",\"\",Data!D617)","v":""},{"$f":"IF(Data!E617=\"\",\"\",Data!E617)","v":""},{"$f":"IF(Data!F617=\"\",\"\",Data!F617)","v":""},{"$f":"IF(Data!G617=\"\",\"\",Data!G617)","v":""},{"$f":"IF(Data!H617=\"\",\"\",Data!H617)","v":""},{"$f":"IF(Data!I617=\"\",\"\",Data!I617)","v":""},{"$f":"IF(Data!J617=\"\",\"\",Data!J617)","v":""},{"$f":"IF(Data!K617=\"\",\"\",Data!K617)","v":""},{"$f":"IF(Data!L617=\"\",\"\",Data!L617)","v":""},{"$f":"IF(Data!M617=\"\",\"\",Data!M617)","v":""},{"$f":"IF(Data!N617=\"\",\"\",Data!N617)","v":""},{"$f":"IF(Data!O617=\"\",\"\",Data!O617)","v":""},{"$f":"IF(Data!P617=\"\",\"\",Data!P617)","v":""},{"$f":"IF(Data!Q617=\"\",\"\",Data!Q617)","v":""},{"$f":"IF(Data!R617=\"\",\"\",Data!R617)","v":""},{"$f":"IF(Data!S617=\"\",\"\",Data!S617)","v":""},null,null,null,null,617]
[{"$f":"IF(Data!A618=\"\",\"\",Data!A618)","v":""},"",{"$f":"IF(Data!B618=\"\",\"\",Data!B618)","v":""},{"$f":"IF(Data!C618=\"\",\"\",Data!C618)","v":""},{"$f":"IF(Data!D618=\"\",\"\",Data!D618)","v":""},{"$f":"IF(Data!E618=\"\",\"\",Data!E618)","v":""},{"$f":"IF(Data!F618=\"\",\"\",Data!F618)","v":""},{"$f":"IF(Data!G618=\"\",\"\",Data!G618)","v":""},{"$f":"IF(Data!H618=\"\",\"\",Data!H618)","v":""},{"$f":"IF(Data!I618=\"\",\"\",Data!I618)","v":""},{"$f":"IF(Data!J618=\"\",\"\",Data!J618)","v":""},{"$f":"IF(Data!K618=\"\",\"\",Data!K618)","v":""},{"$f":"IF(Data!L618=\"\",\"\",Data!L618)","v":""},{"$f":"IF(Data!M618=\"\",\"\",Data!M618)","v":""},{"$f":"IF(Data!N618=\"\",\"\",Data!N618)","v":""},{"$f":"IF(Data!O618=\"\",\"\",Data!O618)","v":""},{"$f":"IF(Data!P618=\"\",\"\",Data!P618)","v":""},{"$f":"IF(Data!Q618=\"\",\"\",Data!Q618)","v":""},{"$f":"IF(Data!R618=\"\",\"\",Data!R618)","v":""},{"$f":"IF(Data!S618=\"\",\"\",Data!S618)","v":""},null,null,null,null,618]
[{"$f":"IF(Data!A619=\"\",\"\",Data!A619)","v":""},"",{"$f":"IF(Data!B619=\"\",\"\",Data!B619)","v":""},{"$f":"IF(Data!C619=\"\",\"\",Data!C619)","v":""},{"$f":"IF(Data!D619=\"\",\"\",Data!D619)","v":""},{"$f":"IF(Data!E619=\"\",\"\",Data!E619)","v":""},{"$f":"IF(Data!F619=\"\",\"\",Data!F619)","v":""},{"$f":"IF(Data!G619=\"\",\"\",Data!G619)","v":""},{"$f":"IF(Data!H619=\"\",\"\",Data!H619)","v":""},{"$f":"IF(Data!I619=\"\",\"\",Data!I619)","v":""},{"$f":"IF(Data!J619=\"\",\"\",Data!J619)","v":""},{"$f":"IF(Data!K619=\"\",\"\",Data!K619)","v":""},{"$f":"IF(Data!L619=\"\",\"\",Data!L619)","v":""},{"$f":"IF(Data!M619=\"\",\"\",Data!M619)","v":""},{"$f":"IF(Data!N619=\"\",\"\",Data!N619)","v":""},{"$f":"IF(Data!O619=\"\",\"\",Data!O619)","v":""},{"$f":"IF(Data!P619=\"\",\"\",Data!P619)","v":""},{"$f":"IF(Data!Q619=\"\",\"\",Data!Q619)","v":""},{"$f":"IF(Data!R619=\"\",\"\",Data!R619)","v":""},{"$f":"IF(Data!S619=\"\",\"\",Data!S619)","v":""},null,null,null,null,619]
[{"$f":"IF(Data!A620=\"\",\"\",Data!A620)","v":""},"",{"$f":"IF(Data!B620=\"\",\"\",Data!B620)","v":""},{"$f":"IF(Data!C620=\"\",\"\",Data!C620)","v":""},{"$f":"IF(Data!D620=\"\",\"\",Data!D620)","v":""},{"$f":"IF(Data!E620=\"\",\"\",Data!E620)","v":""},{"$f":"IF(Data!F620=\"\",\"\",Data!F620)","v":""},{"$f":"IF(Data!G620=\"\",\"\",Data!G620)","v":""},{"$f":"IF(Data!H620=\"\",\"\",Data!H620)","v":""},{"$f":"IF(Data!I620=\"\",\"\",Data!I620)","v":""},{"$f":"IF(Data!J620=\"\",\"\",Data!J620)","v":""},{"$f":"IF(Data!K620=\"\",\"\",Data!K620)","v":""},{"$f":"IF(Data!L620=\"\",\"\",Data!L620)","v":""},{"$f":"IF(Data!M620=\"\",\"\",Data!M620)","v":""},{"$f":"IF(Data!N620=\"\",\"\",Data!N620)","v":""},{"$f":"IF(Data!O620=\"\",\"\",Data!O620)","v":""},{"$f":"IF(Data!P620=\"\",\"\",Data!P620)","v":""},{"$f":"IF(Data!Q620=\"\",\"\",Data!Q620)","v":""},{"$f":"IF(Data!R620=\"\",\"\",Data!R620)","v":""},{"$f":"IF(Data!S620=\"\",\"\",Data!S620)","v":""},null,null,null,null,620]
[{"$f":"IF(Data!A621=\"\",\"\",Data!A621)","v":""},"",{"$f":"IF(Data!B621=\"\",\"\",Data!B621)","v":""},{"$f":"IF(Data!C621=\"\",\"\",Data!C621)","v":""},{"$f":"IF(Data!D621=\"\",\"\",Data!D621)","v":""},{"$f":"IF(Data!E621=\"\",\"\",Data!E621)","v":""},{"$f":"IF(Data!F621=\"\",\"\",Data!F621)","v":""},{"$f":"IF(Data!G621=\"\",\"\",Data!G621)","v":""},{"$f":"IF(Data!H621=\"\",\"\",Data!H621)","v":""},{"$f":"IF(Data!I621=\"\",\"\",Data!I621)","v":""},{"$f":"IF(Data!J621=\"\",\"\",Data!J621)","v":""},{"$f":"IF(Data!K621=\"\",\"\",Data!K621)","v":""},{"$f":"IF(Data!L621=\"\",\"\",Data!L621)","v":""},{"$f":"IF(Data!M621=\"\",\"\",Data!M621)","v":""},{"$f":"IF(Data!N621=\"\",\"\",Data!N621)","v":""},{"$f":"IF(Data!O621=\"\",\"\",Data!O621)","v":""},{"$f":"IF(Data!P621=\"\",\"\",Data!P621)","v":""},{"$f":"IF(Data!Q621=\"\",\"\",Data!Q621)","v":""},{"$f":"IF(Data!R621=\"\",\"\",Data!R621)","v":""},{"$f":"IF(Data!S621=\"\",\"\",Data!S621)","v":""},null,null,null,null,621]
[{"$f":"IF(Data!A622=\"\",\"\",Data!A622)","v":""},"",{"$f":"IF(Data!B622=\"\",\"\",Data!B622)","v":""},{"$f":"IF(Data!C622=\"\",\"\",Data!C622)","v":""},{"$f":"IF(Data!D622=\"\",\"\",Data!D622)","v":""},{"$f":"IF(Data!E622=\"\",\"\",Data!E622)","v":""},{"$f":"IF(Data!F622=\"\",\"\",Data!F622)","v":""},{"$f":"IF(Data!G622=\"\",\"\",Data!G622)","v":""},{"$f":"IF(Data!H622=\"\",\"\",Data!H622)","v":""},{"$f":"IF(Data!I622=\"\",\"\",Data!I622)","v":""},{"$f":"IF(Data!J622=\"\",\"\",Data!J622)","v":""},{"$f":"IF(Data!K622=\"\",\"\",Data!K622)","v":""},{"$f":"IF(Data!L622=\"\",\"\",Data!L622)","v":""},{"$f":"IF(Data!M622=\"\",\"\",Data!M622)","v":""},{"$f":"IF(Data!N622=\"\",\"\",Data!N622)","v":""},{"$f":"IF(Data!O622=\"\",\"\",Data!O622)","v":""},{"$f":"IF(Data!P622=\"\",\"\",Data!P622)","v":""},{"$f":"IF(Data!Q622=\"\",\"\",Data!Q622)","v":""},{"$f":"IF(Data!R622=\"\",\"\",Data!R622)","v":""},{"$f":"IF(Data!S622=\"\",\"\",Data!S622)","v":""},null,null,null,null,622]
[{"$f":"IF(Data!A623=\"\",\"\",Data!A623)","v":""},"",{"$f":"IF(Data!B623=\"\",\"\",Data!B623)","v":""},{"$f":"IF(Data!C623=\"\",\"\",Data!C623)","v":""},{"$f":"IF(Data!D623=\"\",\"\",Data!D623)","v":""},{"$f":"IF(Data!E623=\"\",\"\",Data!E623)","v":""},{"$f":"IF(Data!F623=\"\",\"\",Data!F623)","v":""},{"$f":"IF(Data!G623=\"\",\"\",Data!G623)","v":""},{"$f":"IF(Data!H623=\"\",\"\",Data!H623)","v":""},{"$f":"IF(Data!I623=\"\",\"\",Data!I623)","v":""},{"$f":"IF(Data!J623=\"\",\"\",Data!J623)","v":""},{"$f":"IF(Data!K623=\"\",\"\",Data!K623)","v":""},{"$f":"IF(Data!L623=\"\",\"\",Data!L623)","v":""},{"$f":"IF(Data!M623=\"\",\"\",Data!M623)","v":""},{"$f":"IF(Data!N623=\"\",\"\",Data!N623)","v":""},{"$f":"IF(Data!O623=\"\",\"\",Data!O623)","v":""},{"$f":"IF(Data!P623=\"\",\"\",Data!P623)","v":""},{"$f":"IF(Data!Q623=\"\",\"\",Data!Q623)","v":""},{"$f":"IF(Data!R623=\"\",\"\",Data!R623)","v":""},{"$f":"IF(Data!S623=\"\",\"\",Data!S623)","v":""},null,null,null,null,623]
[{"$f":"IF(Data!A624=\"\",\"\",Data!A624)","v":""},"",{"$f":"IF(Data!B624=\"\",\"\",Data!B624)","v":""},{"$f":"IF(Data!C624=\"\",\"\",Data!C624)","v":""},{"$f":"IF(Data!D624=\"\",\"\",Data!D624)","v":""},{"$f":"IF(Data!E624=\"\",\"\",Data!E624)","v":""},{"$f":"IF(Data!F624=\"\",\"\",Data!F624)","v":""},{"$f":"IF(Data!G624=\"\",\"\",Data!G624)","v":""},{"$f":"IF(Data!H624=\"\",\"\",Data!H624)","v":""},{"$f":"IF(Data!I624=\"\",\"\",Data!I624)","v":""},{"$f":"IF(Data!J624=\"\",\"\",Data!J624)","v":""},{"$f":"IF(Data!K624=\"\",\"\",Data!K624)","v":""},{"$f":"IF(Data!L624=\"\",\"\",Data!L624)","v":""},{"$f":"IF(Data!M624=\"\",\"\",Data!M624)","v":""},{"$f":"IF(Data!N624=\"\",\"\",Data!N624)","v":""},{"$f":"IF(Data!O624=\"\",\"\",Data!O624)","v":""},{"$f":"IF(Data!P624=\"\",\"\",Data!P624)","v":""},{"$f":"IF(Data!Q624=\"\",\"\",Data!Q624)","v":""},{"$f":"IF(Data!R624=\"\",\"\",Data!R624)","v":""},{"$f":"IF(Data!S624=\"\",\"\",Data!S624)","v":""},null,null,null,null,624]
[{"$f":"IF(Data!A625=\"\",\"\",Data!A625)","v":""},"",{"$f":"IF(Data!B625=\"\",\"\",Data!B625)","v":""},{"$f":"IF(Data!C625=\"\",\"\",Data!C625)","v":""},{"$f":"IF(Data!D625=\"\",\"\",Data!D625)","v":""},{"$f":"IF(Data!E625=\"\",\"\",Data!E625)","v":""},{"$f":"IF(Data!F625=\"\",\"\",Data!F625)","v":""},{"$f":"IF(Data!G625=\"\",\"\",Data!G625)","v":""},{"$f":"IF(Data!H625=\"\",\"\",Data!H625)","v":""},{"$f":"IF(Data!I625=\"\",\"\",Data!I625)","v":""},{"$f":"IF(Data!J625=\"\",\"\",Data!J625)","v":""},{"$f":"IF(Data!K625=\"\",\"\",Data!K625)","v":""},{"$f":"IF(Data!L625=\"\",\"\",Data!L625)","v":""},{"$f":"IF(Data!M625=\"\",\"\",Data!M625)","v":""},{"$f":"IF(Data!N625=\"\",\"\",Data!N625)","v":""},{"$f":"IF(Data!O625=\"\",\"\",Data!O625)","v":""},{"$f":"IF(Data!P625=\"\",\"\",Data!P625)","v":""},{"$f":"IF(Data!Q625=\"\",\"\",Data!Q625)","v":""},{"$f":"IF(Data!R625=\"\",\"\",Data!R625)","v":""},{"$f":"IF(Data!S625=\"\",\"\",Data!S625)","v":""},null,null,null,null,625]
[{"$f":"IF(Data!A626=\"\",\"\",Data!A626)","v":""},"",{"$f":"IF(Data!B626=\"\",\"\",Data!B626)","v":""},{"$f":"IF(Data!C626=\"\",\"\",Data!C626)","v":""},{"$f":"IF(Data!D626=\"\",\"\",Data!D626)","v":""},{"$f":"IF(Data!E626=\"\",\"\",Data!E626)","v":""},{"$f":"IF(Data!F626=\"\",\"\",Data!F626)","v":""},{"$f":"IF(Data!G626=\"\",\"\",Data!G626)","v":""},{"$f":"IF(Data!H626=\"\",\"\",Data!H626)","v":""},{"$f":"IF(Data!I626=\"\",\"\",Data!I626)","v":""},{"$f":"IF(Data!J626=\"\",\"\",Data!J626)","v":""},{"$f":"IF(Data!K626=\"\",\"\",Data!K626)","v":""},{"$f":"IF(Data!L626=\"\",\"\",Data!L626)","v":""},{"$f":"IF(Data!M626=\"\",\"\",Data!M626)","v":""},{"$f":"IF(Data!N626=\"\",\"\",Data!N626)","v":""},{"$f":"IF(Data!O626=\"\",\"\",Data!O626)","v":""},{"$f":"IF(Data!P626=\"\",\"\",Data!P626)","v":""},{"$f":"IF(Data!Q626=\"\",\"\",Data!Q626)","v":""},{"$f":"IF(Data!R626=\"\",\"\",Data!R626)","v":""},{"$f":"IF(Data!S626=\"\",\"\",Data!S626)","v":""},null,null,null,null,626]
[{"$f":"IF(Data!A627=\"\",\"\",Data!A627)","v":""},"",{"$f":"IF(Data!B627=\"\",\"\",Data!B627)","v":""},{"$f":"IF(Data!C627=\"\",\"\",Data!C627)","v":""},{"$f":"IF(Data!D627=\"\",\"\",Data!D627)","v":""},{"$f":"IF(Data!E627=\"\",\"\",Data!E627)","v":""},{"$f":"IF(Data!F627=\"\",\"\",Data!F627)","v":""},{"$f":"IF(Data!G627=\"\",\"\",Data!G627)","v":""},{"$f":"IF(Data!H627=\"\",\"\",Data!H627)","v":""},{"$f":"IF(Data!I627=\"\",\"\",Data!I627)","v":""},{"$f":"IF(Data!J627=\"\",\"\",Data!J627)","v":""},{"$f":"IF(Data!K627=\"\",\"\",Data!K627)","v":""},{"$f":"IF(Data!L627=\"\",\"\",Data!L627)","v":""},{"$f":"IF(Data!M627=\"\",\"\",Data!M627)","v":""},{"$f":"IF(Data!N627=\"\",\"\",Data!N627)","v":""},{"$f":"IF(Data!O627=\"\",\"\",Data!O627)","v":""},{"$f":"IF(Data!P627=\"\",\"\",Data!P627)","v":""},{"$f":"IF(Data!Q627=\"\",\"\",Data!Q627)","v":""},{"$f":"IF(Data!R627=\"\",\"\",Data!R627)","v":""},{"$f":"IF(Data!S627=\"\",\"\",Data!S627)","v":""},null,null,null,null,627]
[{"$f":"IF(Data!A628=\"\",\"\",Data!A628)","v":""},"",{"$f":"IF(Data!B628=\"\",\"\",Data!B628)","v":""},{"$f":"IF(Data!C628=\"\",\"\",Data!C628)","v":""},{"$f":"IF(Data!D628=\"\",\"\",Data!D628)","v":""},{"$f":"IF(Data!E628=\"\",\"\",Data!E628)","v":""},{"$f":"IF(Data!F628=\"\",\"\",Data!F628)","v":""},{"$f":"IF(Data!G628=\"\",\"\",Data!G628)","v":""},{"$f":"IF(Data!H628=\"\",\"\",Data!H628)","v":""},{"$f":"IF(Data!I628=\"\",\"\",Data!I628)","v":""},{"$f":"IF(Data!J628=\"\",\"\",Data!J628)","v":""},{"$f":"IF(Data!K628=\"\",\"\",Data!K628)","v":""},{"$f":"IF(Data!L628=\"\",\"\",Data!L628)","v":""},{"$f":"IF(Data!M628=\"\",\"\",Data!M628)","v":""},{"$f":"IF(Data!N628=\"\",\"\",Data!N628)","v":""},{"$f":"IF(Data!O628=\"\",\"\",Data!O628)","v":""},{"$f":"IF(Data!P628=\"\",\"\",Data!P628)","v":""},{"$f":"IF(Data!Q628=\"\",\"\",Data!Q628)","v":""},{"$f":"IF(Data!R628=\"\",\"\",Data!R628)","v":""},{"$f":"IF(Data!S628=\"\",\"\",Data!S628)","v":""},null,null,null,null,628]
[{"$f":"IF(Data!A629=\"\",\"\",Data!A629)","v":""},"",{"$f":"IF(Data!B629=\"\",\"\",Data!B629)","v":""},{"$f":"IF(Data!C629=\"\",\"\",Data!C629)","v":""},{"$f":"IF(Data!D629=\"\",\"\",Data!D629)","v":""},{"$f":"IF(Data!E629=\"\",\"\",Data!E629)","v":""},{"$f":"IF(Data!F629=\"\",\"\",Data!F629)","v":""},{"$f":"IF(Data!G629=\"\",\"\",Data!G629)","v":""},{"$f":"IF(Data!H629=\"\",\"\",Data!H629)","v":""},{"$f":"IF(Data!I629=\"\",\"\",Data!I629)","v":""},{"$f":"IF(Data!J629=\"\",\"\",Data!J629)","v":""},{"$f":"IF(Data!K629=\"\",\"\",Data!K629)","v":""},{"$f":"IF(Data!L629=\"\",\"\",Data!L629)","v":""},{"$f":"IF(Data!M629=\"\",\"\",Data!M629)","v":""},{"$f":"IF(Data!N629=\"\",\"\",Data!N629)","v":""},{"$f":"IF(Data!O629=\"\",\"\",Data!O629)","v":""},{"$f":"IF(Data!P629=\"\",\"\",Data!P629)","v":""},{"$f":"IF(Data!Q629=\"\",\"\",Data!Q629)","v":""},{"$f":"IF(Data!R629=\"\",\"\",Data!R629)","v":""},{"$f":"IF(Data!S629=\"\",\"\",Data!S629)","v":""},null,null,null,null,629]
[{"$f":"IF(Data!A630=\"\",\"\",Data!A630)","v":""},"",{"$f":"IF(Data!B630=\"\",\"\",Data!B630)","v":""},{"$f":"IF(Data!C630=\"\",\"\",Data!C630)","v":""},{"$f":"IF(Data!D630=\"\",\"\",Data!D630)","v":""},{"$f":"IF(Data!E630=\"\",\"\",Data!E630)","v":""},{"$f":"IF(Data!F630=\"\",\"\",Data!F630)","v":""},{"$f":"IF(Data!G630=\"\",\"\",Data!G630)","v":""},{"$f":"IF(Data!H630=\"\",\"\",Data!H630)","v":""},{"$f":"IF(Data!I630=\"\",\"\",Data!I630)","v":""},{"$f":"IF(Data!J630=\"\",\"\",Data!J630)","v":""},{"$f":"IF(Data!K630=\"\",\"\",Data!K630)","v":""},{"$f":"IF(Data!L630=\"\",\"\",Data!L630)","v":""},{"$f":"IF(Data!M630=\"\",\"\",Data!M630)","v":""},{"$f":"IF(Data!N630=\"\",\"\",Data!N630)","v":""},{"$f":"IF(Data!O630=\"\",\"\",Data!O630)","v":""},{"$f":"IF(Data!P630=\"\",\"\",Data!P630)","v":""},{"$f":"IF(Data!Q630=\"\",\"\",Data!Q630)","v":""},{"$f":"IF(Data!R630=\"\",\"\",Data!R630)","v":""},{"$f":"IF(Data!S630=\"\",\"\",Data!S630)","v":""},null,null,null,null,630]
[{"$f":"IF(Data!A631=\"\",\"\",Data!A631)","v":""},"",{"$f":"IF(Data!B631=\"\",\"\",Data!B631)","v":""},{"$f":"IF(Data!C631=\"\",\"\",Data!C631)","v":""},{"$f":"IF(Data!D631=\"\",\"\",Data!D631)","v":""},{"$f":"IF(Data!E631=\"\",\"\",Data!E631)","v":""},{"$f":"IF(Data!F631=\"\",\"\",Data!F631)","v":""},{"$f":"IF(Data!G631=\"\",\"\",Data!G631)","v":""},{"$f":"IF(Data!H631=\"\",\"\",Data!H631)","v":""},{"$f":"IF(Data!I631=\"\",\"\",Data!I631)","v":""},{"$f":"IF(Data!J631=\"\",\"\",Data!J631)","v":""},{"$f":"IF(Data!K631=\"\",\"\",Data!K631)","v":""},{"$f":"IF(Data!L631=\"\",\"\",Data!L631)","v":""},{"$f":"IF(Data!M631=\"\",\"\",Data!M631)","v":""},{"$f":"IF(Data!N631=\"\",\"\",Data!N631)","v":""},{"$f":"IF(Data!O631=\"\",\"\",Data!O631)","v":""},{"$f":"IF(Data!P631=\"\",\"\",Data!P631)","v":""},{"$f":"IF(Data!Q631=\"\",\"\",Data!Q631)","v":""},{"$f":"IF(Data!R631=\"\",\"\",Data!R631)","v":""},{"$f":"IF(Data!S631=\"\",\"\",Data!S631)","v":""},null,null,null,null,631]
[{"$f":"IF(Data!A632=\"\",\"\",Data!A632)","v":""},"",{"$f":"IF(Data!B632=\"\",\"\",Data!B632)","v":""},{"$f":"IF(Data!C632=\"\",\"\",Data!C632)","v":""},{"$f":"IF(Data!D632=\"\",\"\",Data!D632)","v":""},{"$f":"IF(Data!E632=\"\",\"\",Data!E632)","v":""},{"$f":"IF(Data!F632=\"\",\"\",Data!F632)","v":""},{"$f":"IF(Data!G632=\"\",\"\",Data!G632)","v":""},{"$f":"IF(Data!H632=\"\",\"\",Data!H632)","v":""},{"$f":"IF(Data!I632=\"\",\"\",Data!I632)","v":""},{"$f":"IF(Data!J632=\"\",\"\",Data!J632)","v":""},{"$f":"IF(Data!K632=\"\",\"\",Data!K632)","v":""},{"$f":"IF(Data!L632=\"\",\"\",Data!L632)","v":""},{"$f":"IF(Data!M632=\"\",\"\",Data!M632)","v":""},{"$f":"IF(Data!N632=\"\",\"\",Data!N632)","v":""},{"$f":"IF(Data!O632=\"\",\"\",Data!O632)","v":""},{"$f":"IF(Data!P632=\"\",\"\",Data!P632)","v":""},{"$f":"IF(Data!Q632=\"\",\"\",Data!Q632)","v":""},{"$f":"IF(Data!R632=\"\",\"\",Data!R632)","v":""},{"$f":"IF(Data!S632=\"\",\"\",Data!S632)","v":""},null,null,null,null,632]
[{"$f":"IF(Data!A633=\"\",\"\",Data!A633)","v":""},"",{"$f":"IF(Data!B633=\"\",\"\",Data!B633)","v":""},{"$f":"IF(Data!C633=\"\",\"\",Data!C633)","v":""},{"$f":"IF(Data!D633=\"\",\"\",Data!D633)","v":""},{"$f":"IF(Data!E633=\"\",\"\",Data!E633)","v":""},{"$f":"IF(Data!F633=\"\",\"\",Data!F633)","v":""},{"$f":"IF(Data!G633=\"\",\"\",Data!G633)","v":""},{"$f":"IF(Data!H633=\"\",\"\",Data!H633)","v":""},{"$f":"IF(Data!I633=\"\",\"\",Data!I633)","v":""},{"$f":"IF(Data!J633=\"\",\"\",Data!J633)","v":""},{"$f":"IF(Data!K633=\"\",\"\",Data!K633)","v":""},{"$f":"IF(Data!L633=\"\",\"\",Data!L633)","v":""},{"$f":"IF(Data!M633=\"\",\"\",Data!M633)","v":""},{"$f":"IF(Data!N633=\"\",\"\",Data!N633)","v":""},{"$f":"IF(Data!O633=\"\",\"\",Data!O633)","v":""},{"$f":"IF(Data!P633=\"\",\"\",Data!P633)","v":""},{"$f":"IF(Data!Q633=\"\",\"\",Data!Q633)","v":""},{"$f":"IF(Data!R633=\"\",\"\",Data!R633)","v":""},{"$f":"IF(Data!S633=\"\",\"\",Data!S633)","v":""},null,null,null,null,633]
[{"$f":"IF(Data!A634=\"\",\"\",Data!A634)","v":""},"",{"$f":"IF(Data!B634=\"\",\"\",Data!B634)","v":""},{"$f":"IF(Data!C634=\"\",\"\",Data!C634)","v":""},{"$f":"IF(Data!D634=\"\",\"\",Data!D634)","v":""},{"$f":"IF(Data!E634=\"\",\"\",Data!E634)","v":""},{"$f":"IF(Data!F634=\"\",\"\",Data!F634)","v":""},{"$f":"IF(Data!G634=\"\",\"\",Data!G634)","v":""},{"$f":"IF(Data!H634=\"\",\"\",Data!H634)","v":""},{"$f":"IF(Data!I634=\"\",\"\",Data!I634)","v":""},{"$f":"IF(Data!J634=\"\",\"\",Data!J634)","v":""},{"$f":"IF(Data!K634=\"\",\"\",Data!K634)","v":""},{"$f":"IF(Data!L634=\"\",\"\",Data!L634)","v":""},{"$f":"IF(Data!M634=\"\",\"\",Data!M634)","v":""},{"$f":"IF(Data!N634=\"\",\"\",Data!N634)","v":""},{"$f":"IF(Data!O634=\"\",\"\",Data!O634)","v":""},{"$f":"IF(Data!P634=\"\",\"\",Data!P634)","v":""},{"$f":"IF(Data!Q634=\"\",\"\",Data!Q634)","v":""},{"$f":"IF(Data!R634=\"\",\"\",Data!R634)","v":""},{"$f":"IF(Data!S634=\"\",\"\",Data!S634)","v":""},null,null,null,null,634]
[{"$f":"IF(Data!A635=\"\",\"\",Data!A635)","v":""},"",{"$f":"IF(Data!B635=\"\",\"\",Data!B635)","v":""},{"$f":"IF(Data!C635=\"\",\"\",Data!C635)","v":""},{"$f":"IF(Data!D635=\"\",\"\",Data!D635)","v":""},{"$f":"IF(Data!E635=\"\",\"\",Data!E635)","v":""},{"$f":"IF(Data!F635=\"\",\"\",Data!F635)","v":""},{"$f":"IF(Data!G635=\"\",\"\",Data!G635)","v":""},{"$f":"IF(Data!H635=\"\",\"\",Data!H635)","v":""},{"$f":"IF(Data!I635=\"\",\"\",Data!I635)","v":""},{"$f":"IF(Data!J635=\"\",\"\",Data!J635)","v":""},{"$f":"IF(Data!K635=\"\",\"\",Data!K635)","v":""},{"$f":"IF(Data!L635=\"\",\"\",Data!L635)","v":""},{"$f":"IF(Data!M635=\"\",\"\",Data!M635)","v":""},{"$f":"IF(Data!N635=\"\",\"\",Data!N635)","v":""},{"$f":"IF(Data!O635=\"\",\"\",Data!O635)","v":""},{"$f":"IF(Data!P635=\"\",\"\",Data!P635)","v":""},{"$f":"IF(Data!Q635=\"\",\"\",Data!Q635)","v":""},{"$f":"IF(Data!R635=\"\",\"\",Data!R635)","v":""},{"$f":"IF(Data!S635=\"\",\"\",Data!S635)","v":""},null,null,null,null,635]
[{"$f":"IF(Data!A636=\"\",\"\",Data!A636)","v":""},"",{"$f":"IF(Data!B636=\"\",\"\",Data!B636)","v":""},{"$f":"IF(Data!C636=\"\",\"\",Data!C636)","v":""},{"$f":"IF(Data!D636=\"\",\"\",Data!D636)","v":""},{"$f":"IF(Data!E636=\"\",\"\",Data!E636)","v":""},{"$f":"IF(Data!F636=\"\",\"\",Data!F636)","v":""},{"$f":"IF(Data!G636=\"\",\"\",Data!G636)","v":""},{"$f":"IF(Data!H636=\"\",\"\",Data!H636)","v":""},{"$f":"IF(Data!I636=\"\",\"\",Data!I636)","v":""},{"$f":"IF(Data!J636=\"\",\"\",Data!J636)","v":""},{"$f":"IF(Data!K636=\"\",\"\",Data!K636)","v":""},{"$f":"IF(Data!L636=\"\",\"\",Data!L636)","v":""},{"$f":"IF(Data!M636=\"\",\"\",Data!M636)","v":""},{"$f":"IF(Data!N636=\"\",\"\",Data!N636)","v":""},{"$f":"IF(Data!O636=\"\",\"\",Data!O636)","v":""},{"$f":"IF(Data!P636=\"\",\"\",Data!P636)","v":""},{"$f":"IF(Data!Q636=\"\",\"\",Data!Q636)","v":""},{"$f":"IF(Data!R636=\"\",\"\",Data!R636)","v":""},{"$f":"IF(Data!S636=\"\",\"\",Data!S636)","v":""},null,null,null,null,636]
[{"$f":"IF(Data!A637=\"\",\"\",Data!A637)","v":""},"",{"$f":"IF(Data!B637=\"\",\"\",Data!B637)","v":""},{"$f":"IF(Data!C637=\"\",\"\",Data!C637)","v":""},{"$f":"IF(Data!D637=\"\",\"\",Data!D637)","v":""},{"$f":"IF(Data!E637=\"\",\"\",Data!E637)","v":""},{"$f":"IF(Data!F637=\"\",\"\",Data!F637)","v":""},{"$f":"IF(Data!G637=\"\",\"\",Data!G637)","v":""},{"$f":"IF(Data!H637=\"\",\"\",Data!H637)","v":""},{"$f":"IF(Data!I637=\"\",\"\",Data!I637)","v":""},{"$f":"IF(Data!J637=\"\",\"\",Data!J637)","v":""},{"$f":"IF(Data!K637=\"\",\"\",Data!K637)","v":""},{"$f":"IF(Data!L637=\"\",\"\",Data!L637)","v":""},{"$f":"IF(Data!M637=\"\",\"\",Data!M637)","v":""},{"$f":"IF(Data!N637=\"\",\"\",Data!N637)","v":""},{"$f":"IF(Data!O637=\"\",\"\",Data!O637)","v":""},{"$f":"IF(Data!P637=\"\",\"\",Data!P637)","v":""},{"$f":"IF(Data!Q637=\"\",\"\",Data!Q637)","v":""},{"$f":"IF(Data!R637=\"\",\"\",Data!R637)","v":""},{"$f":"IF(Data!S637=\"\",\"\",Data!S637)","v":""},null,null,null,null,637]
[{"$f":"IF(Data!A638=\"\",\"\",Data!A638)","v":""},"",{"$f":"IF(Data!B638=\"\",\"\",Data!B638)","v":""},{"$f":"IF(Data!C638=\"\",\"\",Data!C638)","v":""},{"$f":"IF(Data!D638=\"\",\"\",Data!D638)","v":""},{"$f":"IF(Data!E638=\"\",\"\",Data!E638)","v":""},{"$f":"IF(Data!F638=\"\",\"\",Data!F638)","v":""},{"$f":"IF(Data!G638=\"\",\"\",Data!G638)","v":""},{"$f":"IF(Data!H638=\"\",\"\",Data!H638)","v":""},{"$f":"IF(Data!I638=\"\",\"\",Data!I638)","v":""},{"$f":"IF(Data!J638=\"\",\"\",Data!J638)","v":""},{"$f":"IF(Data!K638=\"\",\"\",Data!K638)","v":""},{"$f":"IF(Data!L638=\"\",\"\",Data!L638)","v":""},{"$f":"IF(Data!M638=\"\",\"\",Data!M638)","v":""},{"$f":"IF(Data!N638=\"\",\"\",Data!N638)","v":""},{"$f":"IF(Data!O638=\"\",\"\",Data!O638)","v":""},{"$f":"IF(Data!P638=\"\",\"\",Data!P638)","v":""},{"$f":"IF(Data!Q638=\"\",\"\",Data!Q638)","v":""},{"$f":"IF(Data!R638=\"\",\"\",Data!R638)","v":""},{"$f":"IF(Data!S638=\"\",\"\",Data!S638)","v":""},null,null,null,null,638]
[{"$f":"IF(Data!A639=\"\",\"\",Data!A639)","v":""},"",{"$f":"IF(Data!B639=\"\",\"\",Data!B639)","v":""},{"$f":"IF(Data!C639=\"\",\"\",Data!C639)","v":""},{"$f":"IF(Data!D639=\"\",\"\",Data!D639)","v":""},{"$f":"IF(Data!E639=\"\",\"\",Data!E639)","v":""},{"$f":"IF(Data!F639=\"\",\"\",Data!F639)","v":""},{"$f":"IF(Data!G639=\"\",\"\",Data!G639)","v":""},{"$f":"IF(Data!H639=\"\",\"\",Data!H639)","v":""},{"$f":"IF(Data!I639=\"\",\"\",Data!I639)","v":""},{"$f":"IF(Data!J639=\"\",\"\",Data!J639)","v":""},{"$f":"IF(Data!K639=\"\",\"\",Data!K639)","v":""},{"$f":"IF(Data!L639=\"\",\"\",Data!L639)","v":""},{"$f":"IF(Data!M639=\"\",\"\",Data!M639)","v":""},{"$f":"IF(Data!N639=\"\",\"\",Data!N639)","v":""},{"$f":"IF(Data!O639=\"\",\"\",Data!O639)","v":""},{"$f":"IF(Data!P639=\"\",\"\",Data!P639)","v":""},{"$f":"IF(Data!Q639=\"\",\"\",Data!Q639)","v":""},{"$f":"IF(Data!R639=\"\",\"\",Data!R639)","v":""},{"$f":"IF(Data!S639=\"\",\"\",Data!S639)","v":""},null,null,null,null,639]
[{"$f":"IF(Data!A640=\"\",\"\",Data!A640)","v":""},"",{"$f":"IF(Data!B640=\"\",\"\",Data!B640)","v":""},{"$f":"IF(Data!C640=\"\",\"\",Data!C640)","v":""},{"$f":"IF(Data!D640=\"\",\"\",Data!D640)","v":""},{"$f":"IF(Data!E640=\"\",\"\",Data!E640)","v":""},{"$f":"IF(Data!F640=\"\",\"\",Data!F640)","v":""},{"$f":"IF(Data!G640=\"\",\"\",Data!G640)","v":""},{"$f":"IF(Data!H640=\"\",\"\",Data!H640)","v":""},{"$f":"IF(Data!I640=\"\",\"\",Data!I640)","v":""},{"$f":"IF(Data!J640=\"\",\"\",Data!J640)","v":""},{"$f":"IF(Data!K640=\"\",\"\",Data!K640)","v":""},{"$f":"IF(Data!L640=\"\",\"\",Data!L640)","v":""},{"$f":"IF(Data!M640=\"\",\"\",Data!M640)","v":""},{"$f":"IF(Data!N640=\"\",\"\",Data!N640)","v":""},{"$f":"IF(Data!O640=\"\",\"\",Data!O640)","v":""},{"$f":"IF(Data!P640=\"\",\"\",Data!P640)","v":""},{"$f":"IF(Data!Q640=\"\",\"\",Data!Q640)","v":""},{"$f":"IF(Data!R640=\"\",\"\",Data!R640)","v":""},{"$f":"IF(Data!S640=\"\",\"\",Data!S640)","v":""},null,null,null,null,640]
[{"$f":"IF(Data!A641=\"\",\"\",Data!A641)","v":""},{"$f":"IF(A642=\"\",\"\",Y642)","v":""},{"$f":"IF(Data!B641=\"\",\"\",Data!B641)","v":""},{"$f":"IF(Data!C641=\"\",\"\",Data!C641)","v":""},{"$f":"IF(Data!D641=\"\",\"\",Data!D641)","v":""},{"$f":"IF(Data!E641=\"\",\"\",Data!E641)","v":""},{"$f":"IF(Data!F641=\"\",\"\",Data!F641)","v":""},{"$f":"IF(Data!G641=\"\",\"\",Data!G641)","v":""},{"$f":"IF(Data!H641=\"\",\"\",Data!H641)","v":""},{"$f":"IF(Data!I641=\"\",\"\",Data!I641)","v":""},{"$f":"IF(Data!J641=\"\",\"\",Data!J641)","v":""},{"$f":"IF(Data!K641=\"\",\"\",Data!K641)","v":""},{"$f":"IF(Data!L641=\"\",\"\",Data!L641)","v":""},{"$f":"IF(Data!M641=\"\",\"\",Data!M641)","v":""},{"$f":"IF(Data!N641=\"\",\"\",Data!N641)","v":""},{"$f":"IF(Data!O641=\"\",\"\",Data!O641)","v":""},{"$f":"IF(Data!P641=\"\",\"\",Data!P641)","v":""},{"$f":"IF(Data!Q641=\"\",\"\",Data!Q641)","v":""},{"$f":"IF(Data!R641=\"\",\"\",Data!R641)","v":""},{"$f":"IF(Data!S641=\"\",\"\",Data!S641)","v":""},null,null,null,null,641]
[{"$f":"IF(Data!A642=\"\",\"\",Data!A642)","v":""},"",{"$f":"IF(Data!B642=\"\",\"\",Data!B642)","v":""},{"$f":"IF(Data!C642=\"\",\"\",Data!C642)","v":""},{"$f":"IF(Data!D642=\"\",\"\",Data!D642)","v":""},{"$f":"IF(Data!E642=\"\",\"\",Data!E642)","v":""},{"$f":"IF(Data!F642=\"\",\"\",Data!F642)","v":""},{"$f":"IF(Data!G642=\"\",\"\",Data!G642)","v":""},{"$f":"IF(Data!H642=\"\",\"\",Data!H642)","v":""},{"$f":"IF(Data!I642=\"\",\"\",Data!I642)","v":""},{"$f":"IF(Data!J642=\"\",\"\",Data!J642)","v":""},{"$f":"IF(Data!K642=\"\",\"\",Data!K642)","v":""},{"$f":"IF(Data!L642=\"\",\"\",Data!L642)","v":""},{"$f":"IF(Data!M642=\"\",\"\",Data!M642)","v":""},{"$f":"IF(Data!N642=\"\",\"\",Data!N642)","v":""},{"$f":"IF(Data!O642=\"\",\"\",Data!O642)","v":""},{"$f":"IF(Data!P642=\"\",\"\",Data!P642)","v":""},{"$f":"IF(Data!Q642=\"\",\"\",Data!Q642)","v":""},{"$f":"IF(Data!R642=\"\",\"\",Data!R642)","v":""},{"$f":"IF(Data!S642=\"\",\"\",Data!S642)","v":""},null,null,null,null,642]
[{"$f":"IF(Data!A643=\"\",\"\",Data!A643)","v":""},"",{"$f":"IF(Data!B643=\"\",\"\",Data!B643)","v":""},{"$f":"IF(Data!C643=\"\",\"\",Data!C643)","v":""},{"$f":"IF(Data!D643=\"\",\"\",Data!D643)","v":""},{"$f":"IF(Data!E643=\"\",\"\",Data!E643)","v":""},{"$f":"IF(Data!F643=\"\",\"\",Data!F643)","v":""},{"$f":"IF(Data!G643=\"\",\"\",Data!G643)","v":""},{"$f":"IF(Data!H643=\"\",\"\",Data!H643)","v":""},{"$f":"IF(Data!I643=\"\",\"\",Data!I643)","v":""},{"$f":"IF(Data!J643=\"\",\"\",Data!J643)","v":""},{"$f":"IF(Data!K643=\"\",\"\",Data!K643)","v":""},{"$f":"IF(Data!L643=\"\",\"\",Data!L643)","v":""},{"$f":"IF(Data!M643=\"\",\"\",Data!M643)","v":""},{"$f":"IF(Data!N643=\"\",\"\",Data!N643)","v":""},{"$f":"IF(Data!O643=\"\",\"\",Data!O643)","v":""},{"$f":"IF(Data!P643=\"\",\"\",Data!P643)","v":""},{"$f":"IF(Data!Q643=\"\",\"\",Data!Q643)","v":""},{"$f":"IF(Data!R643=\"\",\"\",Data!R643)","v":""},{"$f":"IF(Data!S643=\"\",\"\",Data!S643)","v":""},null,null,null,null,643]
[{"$f":"IF(Data!A644=\"\",\"\",Data!A644)","v":""},"",{"$f":"IF(Data!B644=\"\",\"\",Data!B644)","v":""},{"$f":"IF(Data!C644=\"\",\"\",Data!C644)","v":""},{"$f":"IF(Data!D644=\"\",\"\",Data!D644)","v":""},{"$f":"IF(Data!E644=\"\",\"\",Data!E644)","v":""},{"$f":"IF(Data!F644=\"\",\"\",Data!F644)","v":""},{"$f":"IF(Data!G644=\"\",\"\",Data!G644)","v":""},{"$f":"IF(Data!H644=\"\",\"\",Data!H644)","v":""},{"$f":"IF(Data!I644=\"\",\"\",Data!I644)","v":""},{"$f":"IF(Data!J644=\"\",\"\",Data!J644)","v":""},{"$f":"IF(Data!K644=\"\",\"\",Data!K644)","v":""},{"$f":"IF(Data!L644=\"\",\"\",Data!L644)","v":""},{"$f":"IF(Data!M644=\"\",\"\",Data!M644)","v":""},{"$f":"IF(Data!N644=\"\",\"\",Data!N644)","v":""},{"$f":"IF(Data!O644=\"\",\"\",Data!O644)","v":""},{"$f":"IF(Data!P644=\"\",\"\",Data!P644)","v":""},{"$f":"IF(Data!Q644=\"\",\"\",Data!Q644)","v":""},{"$f":"IF(Data!R644=\"\",\"\",Data!R644)","v":""},{"$f":"IF(Data!S644=\"\",\"\",Data!S644)","v":""},null,null,null,null,644]
[{"$f":"IF(Data!A645=\"\",\"\",Data!A645)","v":""},"",{"$f":"IF(Data!B645=\"\",\"\",Data!B645)","v":""},{"$f":"IF(Data!C645=\"\",\"\",Data!C645)","v":""},{"$f":"IF(Data!D645=\"\",\"\",Data!D645)","v":""},{"$f":"IF(Data!E645=\"\",\"\",Data!E645)","v":""},{"$f":"IF(Data!F645=\"\",\"\",Data!F645)","v":""},{"$f":"IF(Data!G645=\"\",\"\",Data!G645)","v":""},{"$f":"IF(Data!H645=\"\",\"\",Data!H645)","v":""},{"$f":"IF(Data!I645=\"\",\"\",Data!I645)","v":""},{"$f":"IF(Data!J645=\"\",\"\",Data!J645)","v":""},{"$f":"IF(Data!K645=\"\",\"\",Data!K645)","v":""},{"$f":"IF(Data!L645=\"\",\"\",Data!L645)","v":""},{"$f":"IF(Data!M645=\"\",\"\",Data!M645)","v":""},{"$f":"IF(Data!N645=\"\",\"\",Data!N645)","v":""},{"$f":"IF(Data!O645=\"\",\"\",Data!O645)","v":""},{"$f":"IF(Data!P645=\"\",\"\",Data!P645)","v":""},{"$f":"IF(Data!Q645=\"\",\"\",Data!Q645)","v":""},{"$f":"IF(Data!R645=\"\",\"\",Data!R645)","v":""},{"$f":"IF(Data!S645=\"\",\"\",Data!S645)","v":""},null,null,null,null,645]
[{"$f":"IF(Data!A646=\"\",\"\",Data!A646)","v":""},"",{"$f":"IF(Data!B646=\"\",\"\",Data!B646)","v":""},{"$f":"IF(Data!C646=\"\",\"\",Data!C646)","v":""},{"$f":"IF(Data!D646=\"\",\"\",Data!D646)","v":""},{"$f":"IF(Data!E646=\"\",\"\",Data!E646)","v":""},{"$f":"IF(Data!F646=\"\",\"\",Data!F646)","v":""},{"$f":"IF(Data!G646=\"\",\"\",Data!G646)","v":""},{"$f":"IF(Data!H646=\"\",\"\",Data!H646)","v":""},{"$f":"IF(Data!I646=\"\",\"\",Data!I646)","v":""},{"$f":"IF(Data!J646=\"\",\"\",Data!J646)","v":""},{"$f":"IF(Data!K646=\"\",\"\",Data!K646)","v":""},{"$f":"IF(Data!L646=\"\",\"\",Data!L646)","v":""},{"$f":"IF(Data!M646=\"\",\"\",Data!M646)","v":""},{"$f":"IF(Data!N646=\"\",\"\",Data!N646)","v":""},{"$f":"IF(Data!O646=\"\",\"\",Data!O646)","v":""},{"$f":"IF(Data!P646=\"\",\"\",Data!P646)","v":""},{"$f":"IF(Data!Q646=\"\",\"\",Data!Q646)","v":""},{"$f":"IF(Data!R646=\"\",\"\",Data!R646)","v":""},{"$f":"IF(Data!S646=\"\",\"\",Data!S646)","v":""},null,null,null,null,646]
[{"$f":"IF(Data!A647=\"\",\"\",Data!A647)","v":""},"",{"$f":"IF(Data!B647=\"\",\"\",Data!B647)","v":""},{"$f":"IF(Data!C647=\"\",\"\",Data!C647)","v":""},{"$f":"IF(Data!D647=\"\",\"\",Data!D647)","v":""},{"$f":"IF(Data!E647=\"\",\"\",Data!E647)","v":""},{"$f":"IF(Data!F647=\"\",\"\",Data!F647)","v":""},{"$f":"IF(Data!G647=\"\",\"\",Data!G647)","v":""},{"$f":"IF(Data!H647=\"\",\"\",Data!H647)","v":""},{"$f":"IF(Data!I647=\"\",\"\",Data!I647)","v":""},{"$f":"IF(Data!J647=\"\",\"\",Data!J647)","v":""},{"$f":"IF(Data!K647=\"\",\"\",Data!K647)","v":""},{"$f":"IF(Data!L647=\"\",\"\",Data!L647)","v":""},{"$f":"IF(Data!M647=\"\",\"\",Data!M647)","v":""},{"$f":"IF(Data!N647=\"\",\"\",Data!N647)","v":""},{"$f":"IF(Data!O647=\"\",\"\",Data!O647)","v":""},{"$f":"IF(Data!P647=\"\",\"\",Data!P647)","v":""},{"$f":"IF(Data!Q647=\"\",\"\",Data!Q647)","v":""},{"$f":"IF(Data!R647=\"\",\"\",Data!R647)","v":""},{"$f":"IF(Data!S647=\"\",\"\",Data!S647)","v":""},null,null,null,null,647]
[{"$f":"IF(Data!A648=\"\",\"\",Data!A648)","v":""},"",{"$f":"IF(Data!B648=\"\",\"\",Data!B648)","v":""},{"$f":"IF(Data!C648=\"\",\"\",Data!C648)","v":""},{"$f":"IF(Data!D648=\"\",\"\",Data!D648)","v":""},{"$f":"IF(Data!E648=\"\",\"\",Data!E648)","v":""},{"$f":"IF(Data!F648=\"\",\"\",Data!F648)","v":""},{"$f":"IF(Data!G648=\"\",\"\",Data!G648)","v":""},{"$f":"IF(Data!H648=\"\",\"\",Data!H648)","v":""},{"$f":"IF(Data!I648=\"\",\"\",Data!I648)","v":""},{"$f":"IF(Data!J648=\"\",\"\",Data!J648)","v":""},{"$f":"IF(Data!K648=\"\",\"\",Data!K648)","v":""},{"$f":"IF(Data!L648=\"\",\"\",Data!L648)","v":""},{"$f":"IF(Data!M648=\"\",\"\",Data!M648)","v":""},{"$f":"IF(Data!N648=\"\",\"\",Data!N648)","v":""},{"$f":"IF(Data!O648=\"\",\"\",Data!O648)","v":""},{"$f":"IF(Data!P648=\"\",\"\",Data!P648)","v":""},{"$f":"IF(Data!Q648=\"\",\"\",Data!Q648)","v":""},{"$f":"IF(Data!R648=\"\",\"\",Data!R648)","v":""},{"$f":"IF(Data!S648=\"\",\"\",Data!S648)","v":""},null,null,null,null,648]
[{"$f":"IF(Data!A649=\"\",\"\",Data!A649)","v":""},"",{"$f":"IF(Data!B649=\"\",\"\",Data!B649)","v":""},{"$f":"IF(Data!C649=\"\",\"\",Data!C649)","v":""},{"$f":"IF(Data!D649=\"\",\"\",Data!D649)","v":""},{"$f":"IF(Data!E649=\"\",\"\",Data!E649)","v":""},{"$f":"IF(Data!F649=\"\",\"\",Data!F649)","v":""},{"$f":"IF(Data!G649=\"\",\"\",Data!G649)","v":""},{"$f":"IF(Data!H649=\"\",\"\",Data!H649)","v":""},{"$f":"IF(Data!I649=\"\",\"\",Data!I649)","v":""},{"$f":"IF(Data!J649=\"\",\"\",Data!J649)","v":""},{"$f":"IF(Data!K649=\"\",\"\",Data!K649)","v":""},{"$f":"IF(Data!L649=\"\",\"\",Data!L649)","v":""},{"$f":"IF(Data!M649=\"\",\"\",Data!M649)","v":""},{"$f":"IF(Data!N649=\"\",\"\",Data!N649)","v":""},{"$f":"IF(Data!O649=\"\",\"\",Data!O649)","v":""},{"$f":"IF(Data!P649=\"\",\"\",Data!P649)","v":""},{"$f":"IF(Data!Q649=\"\",\"\",Data!Q649)","v":""},{"$f":"IF(Data!R649=\"\",\"\",Data!R649)","v":""},{"$f":"IF(Data!S649=\"\",\"\",Data!S649)","v":""},null,null,null,null,649]
[{"$f":"IF(Data!A650=\"\",\"\",Data!A650)","v":""},"",{"$f":"IF(Data!B650=\"\",\"\",Data!B650)","v":""},{"$f":"IF(Data!C650=\"\",\"\",Data!C650)","v":""},{"$f":"IF(Data!D650=\"\",\"\",Data!D650)","v":""},{"$f":"IF(Data!E650=\"\",\"\",Data!E650)","v":""},{"$f":"IF(Data!F650=\"\",\"\",Data!F650)","v":""},{"$f":"IF(Data!G650=\"\",\"\",Data!G650)","v":""},{"$f":"IF(Data!H650=\"\",\"\",Data!H650)","v":""},{"$f":"IF(Data!I650=\"\",\"\",Data!I650)","v":""},{"$f":"IF(Data!J650=\"\",\"\",Data!J650)","v":""},{"$f":"IF(Data!K650=\"\",\"\",Data!K650)","v":""},{"$f":"IF(Data!L650=\"\",\"\",Data!L650)","v":""},{"$f":"IF(Data!M650=\"\",\"\",Data!M650)","v":""},{"$f":"IF(Data!N650=\"\",\"\",Data!N650)","v":""},{"$f":"IF(Data!O650=\"\",\"\",Data!O650)","v":""},{"$f":"IF(Data!P650=\"\",\"\",Data!P650)","v":""},{"$f":"IF(Data!Q650=\"\",\"\",Data!Q650)","v":""},{"$f":"IF(Data!R650=\"\",\"\",Data!R650)","v":""},{"$f":"IF(Data!S650=\"\",\"\",Data!S650)","v":""},null,null,null,null,650]
[{"$f":"IF(Data!A651=\"\",\"\",Data!A651)","v":""},"",{"$f":"IF(Data!B651=\"\",\"\",Data!B651)","v":""},{"$f":"IF(Data!C651=\"\",\"\",Data!C651)","v":""},{"$f":"IF(Data!D651=\"\",\"\",Data!D651)","v":""},{"$f":"IF(Data!E651=\"\",\"\",Data!E651)","v":""},{"$f":"IF(Data!F651=\"\",\"\",Data!F651)","v":""},{"$f":"IF(Data!G651=\"\",\"\",Data!G651)","v":""},{"$f":"IF(Data!H651=\"\",\"\",Data!H651)","v":""},{"$f":"IF(Data!I651=\"\",\"\",Data!I651)","v":""},{"$f":"IF(Data!J651=\"\",\"\",Data!J651)","v":""},{"$f":"IF(Data!K651=\"\",\"\",Data!K651)","v":""},{"$f":"IF(Data!L651=\"\",\"\",Data!L651)","v":""},{"$f":"IF(Data!M651=\"\",\"\",Data!M651)","v":""},{"$f":"IF(Data!N651=\"\",\"\",Data!N651)","v":""},{"$f":"IF(Data!O651=\"\",\"\",Data!O651)","v":""},{"$f":"IF(Data!P651=\"\",\"\",Data!P651)","v":""},{"$f":"IF(Data!Q651=\"\",\"\",Data!Q651)","v":""},{"$f":"IF(Data!R651=\"\",\"\",Data!R651)","v":""},{"$f":"IF(Data!S651=\"\",\"\",Data!S651)","v":""},null,null,null,null,651]
[{"$f":"IF(Data!A652=\"\",\"\",Data!A652)","v":""},"",{"$f":"IF(Data!B652=\"\",\"\",Data!B652)","v":""},{"$f":"IF(Data!C652=\"\",\"\",Data!C652)","v":""},{"$f":"IF(Data!D652=\"\",\"\",Data!D652)","v":""},{"$f":"IF(Data!E652=\"\",\"\",Data!E652)","v":""},{"$f":"IF(Data!F652=\"\",\"\",Data!F652)","v":""},{"$f":"IF(Data!G652=\"\",\"\",Data!G652)","v":""},{"$f":"IF(Data!H652=\"\",\"\",Data!H652)","v":""},{"$f":"IF(Data!I652=\"\",\"\",Data!I652)","v":""},{"$f":"IF(Data!J652=\"\",\"\",Data!J652)","v":""},{"$f":"IF(Data!K652=\"\",\"\",Data!K652)","v":""},{"$f":"IF(Data!L652=\"\",\"\",Data!L652)","v":""},{"$f":"IF(Data!M652=\"\",\"\",Data!M652)","v":""},{"$f":"IF(Data!N652=\"\",\"\",Data!N652)","v":""},{"$f":"IF(Data!O652=\"\",\"\",Data!O652)","v":""},{"$f":"IF(Data!P652=\"\",\"\",Data!P652)","v":""},{"$f":"IF(Data!Q652=\"\",\"\",Data!Q652)","v":""},{"$f":"IF(Data!R652=\"\",\"\",Data!R652)","v":""},{"$f":"IF(Data!S652=\"\",\"\",Data!S652)","v":""},null,null,null,null,652]
[{"$f":"IF(Data!A653=\"\",\"\",Data!A653)","v":""},"",{"$f":"IF(Data!B653=\"\",\"\",Data!B653)","v":""},{"$f":"IF(Data!C653=\"\",\"\",Data!C653)","v":""},{"$f":"IF(Data!D653=\"\",\"\",Data!D653)","v":""},{"$f":"IF(Data!E653=\"\",\"\",Data!E653)","v":""},{"$f":"IF(Data!F653=\"\",\"\",Data!F653)","v":""},{"$f":"IF(Data!G653=\"\",\"\",Data!G653)","v":""},{"$f":"IF(Data!H653=\"\",\"\",Data!H653)","v":""},{"$f":"IF(Data!I653=\"\",\"\",Data!I653)","v":""},{"$f":"IF(Data!J653=\"\",\"\",Data!J653)","v":""},{"$f":"IF(Data!K653=\"\",\"\",Data!K653)","v":""},{"$f":"IF(Data!L653=\"\",\"\",Data!L653)","v":""},{"$f":"IF(Data!M653=\"\",\"\",Data!M653)","v":""},{"$f":"IF(Data!N653=\"\",\"\",Data!N653)","v":""},{"$f":"IF(Data!O653=\"\",\"\",Data!O653)","v":""},{"$f":"IF(Data!P653=\"\",\"\",Data!P653)","v":""},{"$f":"IF(Data!Q653=\"\",\"\",Data!Q653)","v":""},{"$f":"IF(Data!R653=\"\",\"\",Data!R653)","v":""},{"$f":"IF(Data!S653=\"\",\"\",Data!S653)","v":""},null,null,null,null,653]
[{"$f":"IF(Data!A654=\"\",\"\",Data!A654)","v":""},"",{"$f":"IF(Data!B654=\"\",\"\",Data!B654)","v":""},{"$f":"IF(Data!C654=\"\",\"\",Data!C654)","v":""},{"$f":"IF(Data!D654=\"\",\"\",Data!D654)","v":""},{"$f":"IF(Data!E654=\"\",\"\",Data!E654)","v":""},{"$f":"IF(Data!F654=\"\",\"\",Data!F654)","v":""},{"$f":"IF(Data!G654=\"\",\"\",Data!G654)","v":""},{"$f":"IF(Data!H654=\"\",\"\",Data!H654)","v":""},{"$f":"IF(Data!I654=\"\",\"\",Data!I654)","v":""},{"$f":"IF(Data!J654=\"\",\"\",Data!J654)","v":""},{"$f":"IF(Data!K654=\"\",\"\",Data!K654)","v":""},{"$f":"IF(Data!L654=\"\",\"\",Data!L654)","v":""},{"$f":"IF(Data!M654=\"\",\"\",Data!M654)","v":""},{"$f":"IF(Data!N654=\"\",\"\",Data!N654)","v":""},{"$f":"IF(Data!O654=\"\",\"\",Data!O654)","v":""},{"$f":"IF(Data!P654=\"\",\"\",Data!P654)","v":""},{"$f":"IF(Data!Q654=\"\",\"\",Data!Q654)","v":""},{"$f":"IF(Data!R654=\"\",\"\",Data!R654)","v":""},{"$f":"IF(Data!S654=\"\",\"\",Data!S654)","v":""},null,null,null,null,654]
[{"$f":"IF(Data!A655=\"\",\"\",Data!A655)","v":""},"",{"$f":"IF(Data!B655=\"\",\"\",Data!B655)","v":""},{"$f":"IF(Data!C655=\"\",\"\",Data!C655)","v":""},{"$f":"IF(Data!D655=\"\",\"\",Data!D655)","v":""},{"$f":"IF(Data!E655=\"\",\"\",Data!E655)","v":""},{"$f":"IF(Data!F655=\"\",\"\",Data!F655)","v":""},{"$f":"IF(Data!G655=\"\",\"\",Data!G655)","v":""},{"$f":"IF(Data!H655=\"\",\"\",Data!H655)","v":""},{"$f":"IF(Data!I655=\"\",\"\",Data!I655)","v":""},{"$f":"IF(Data!J655=\"\",\"\",Data!J655)","v":""},{"$f":"IF(Data!K655=\"\",\"\",Data!K655)","v":""},{"$f":"IF(Data!L655=\"\",\"\",Data!L655)","v":""},{"$f":"IF(Data!M655=\"\",\"\",Data!M655)","v":""},{"$f":"IF(Data!N655=\"\",\"\",Data!N655)","v":""},{"$f":"IF(Data!O655=\"\",\"\",Data!O655)","v":""},{"$f":"IF(Data!P655=\"\",\"\",Data!P655)","v":""},{"$f":"IF(Data!Q655=\"\",\"\",Data!Q655)","v":""},{"$f":"IF(Data!R655=\"\",\"\",Data!R655)","v":""},{"$f":"IF(Data!S655=\"\",\"\",Data!S655)","v":""},null,null,null,null,655]
[{"$f":"IF(Data!A656=\"\",\"\",Data!A656)","v":""},"",{"$f":"IF(Data!B656=\"\",\"\",Data!B656)","v":""},{"$f":"IF(Data!C656=\"\",\"\",Data!C656)","v":""},{"$f":"IF(Data!D656=\"\",\"\",Data!D656)","v":""},{"$f":"IF(Data!E656=\"\",\"\",Data!E656)","v":""},{"$f":"IF(Data!F656=\"\",\"\",Data!F656)","v":""},{"$f":"IF(Data!G656=\"\",\"\",Data!G656)","v":""},{"$f":"IF(Data!H656=\"\",\"\",Data!H656)","v":""},{"$f":"IF(Data!I656=\"\",\"\",Data!I656)","v":""},{"$f":"IF(Data!J656=\"\",\"\",Data!J656)","v":""},{"$f":"IF(Data!K656=\"\",\"\",Data!K656)","v":""},{"$f":"IF(Data!L656=\"\",\"\",Data!L656)","v":""},{"$f":"IF(Data!M656=\"\",\"\",Data!M656)","v":""},{"$f":"IF(Data!N656=\"\",\"\",Data!N656)","v":""},{"$f":"IF(Data!O656=\"\",\"\",Data!O656)","v":""},{"$f":"IF(Data!P656=\"\",\"\",Data!P656)","v":""},{"$f":"IF(Data!Q656=\"\",\"\",Data!Q656)","v":""},{"$f":"IF(Data!R656=\"\",\"\",Data!R656)","v":""},{"$f":"IF(Data!S656=\"\",\"\",Data!S656)","v":""},null,null,null,null,656]
[{"$f":"IF(Data!A657=\"\",\"\",Data!A657)","v":""},"",{"$f":"IF(Data!B657=\"\",\"\",Data!B657)","v":""},{"$f":"IF(Data!C657=\"\",\"\",Data!C657)","v":""},{"$f":"IF(Data!D657=\"\",\"\",Data!D657)","v":""},{"$f":"IF(Data!E657=\"\",\"\",Data!E657)","v":""},{"$f":"IF(Data!F657=\"\",\"\",Data!F657)","v":""},{"$f":"IF(Data!G657=\"\",\"\",Data!G657)","v":""},{"$f":"IF(Data!H657=\"\",\"\",Data!H657)","v":""},{"$f":"IF(Data!I657=\"\",\"\",Data!I657)","v":""},{"$f":"IF(Data!J657=\"\",\"\",Data!J657)","v":""},{"$f":"IF(Data!K657=\"\",\"\",Data!K657)","v":""},{"$f":"IF(Data!L657=\"\",\"\",Data!L657)","v":""},{"$f":"IF(Data!M657=\"\",\"\",Data!M657)","v":""},{"$f":"IF(Data!N657=\"\",\"\",Data!N657)","v":""},{"$f":"IF(Data!O657=\"\",\"\",Data!O657)","v":""},{"$f":"IF(Data!P657=\"\",\"\",Data!P657)","v":""},{"$f":"IF(Data!Q657=\"\",\"\",Data!Q657)","v":""},{"$f":"IF(Data!R657=\"\",\"\",Data!R657)","v":""},{"$f":"IF(Data!S657=\"\",\"\",Data!S657)","v":""},null,null,null,null,657]
[{"$f":"IF(Data!A658=\"\",\"\",Data!A658)","v":""},"",{"$f":"IF(Data!B658=\"\",\"\",Data!B658)","v":""},{"$f":"IF(Data!C658=\"\",\"\",Data!C658)","v":""},{"$f":"IF(Data!D658=\"\",\"\",Data!D658)","v":""},{"$f":"IF(Data!E658=\"\",\"\",Data!E658)","v":""},{"$f":"IF(Data!F658=\"\",\"\",Data!F658)","v":""},{"$f":"IF(Data!G658=\"\",\"\",Data!G658)","v":""},{"$f":"IF(Data!H658=\"\",\"\",Data!H658)","v":""},{"$f":"IF(Data!I658=\"\",\"\",Data!I658)","v":""},{"$f":"IF(Data!J658=\"\",\"\",Data!J658)","v":""},{"$f":"IF(Data!K658=\"\",\"\",Data!K658)","v":""},{"$f":"IF(Data!L658=\"\",\"\",Data!L658)","v":""},{"$f":"IF(Data!M658=\"\",\"\",Data!M658)","v":""},{"$f":"IF(Data!N658=\"\",\"\",Data!N658)","v":""},{"$f":"IF(Data!O658=\"\",\"\",Data!O658)","v":""},{"$f":"IF(Data!P658=\"\",\"\",Data!P658)","v":""},{"$f":"IF(Data!Q658=\"\",\"\",Data!Q658)","v":""},{"$f":"IF(Data!R658=\"\",\"\",Data!R658)","v":""},{"$f":"IF(Data!S658=\"\",\"\",Data!S658)","v":""},null,null,null,null,658]
[{"$f":"IF(Data!A659=\"\",\"\",Data!A659)","v":""},"",{"$f":"IF(Data!B659=\"\",\"\",Data!B659)","v":""},{"$f":"IF(Data!C659=\"\",\"\",Data!C659)","v":""},{"$f":"IF(Data!D659=\"\",\"\",Data!D659)","v":""},{"$f":"IF(Data!E659=\"\",\"\",Data!E659)","v":""},{"$f":"IF(Data!F659=\"\",\"\",Data!F659)","v":""},{"$f":"IF(Data!G659=\"\",\"\",Data!G659)","v":""},{"$f":"IF(Data!H659=\"\",\"\",Data!H659)","v":""},{"$f":"IF(Data!I659=\"\",\"\",Data!I659)","v":""},{"$f":"IF(Data!J659=\"\",\"\",Data!J659)","v":""},{"$f":"IF(Data!K659=\"\",\"\",Data!K659)","v":""},{"$f":"IF(Data!L659=\"\",\"\",Data!L659)","v":""},{"$f":"IF(Data!M659=\"\",\"\",Data!M659)","v":""},{"$f":"IF(Data!N659=\"\",\"\",Data!N659)","v":""},{"$f":"IF(Data!O659=\"\",\"\",Data!O659)","v":""},{"$f":"IF(Data!P659=\"\",\"\",Data!P659)","v":""},{"$f":"IF(Data!Q659=\"\",\"\",Data!Q659)","v":""},{"$f":"IF(Data!R659=\"\",\"\",Data!R659)","v":""},{"$f":"IF(Data!S659=\"\",\"\",Data!S659)","v":""},null,null,null,null,659]
[{"$f":"IF(Data!A660=\"\",\"\",Data!A660)","v":""},"",{"$f":"IF(Data!B660=\"\",\"\",Data!B660)","v":""},{"$f":"IF(Data!C660=\"\",\"\",Data!C660)","v":""},{"$f":"IF(Data!D660=\"\",\"\",Data!D660)","v":""},{"$f":"IF(Data!E660=\"\",\"\",Data!E660)","v":""},{"$f":"IF(Data!F660=\"\",\"\",Data!F660)","v":""},{"$f":"IF(Data!G660=\"\",\"\",Data!G660)","v":""},{"$f":"IF(Data!H660=\"\",\"\",Data!H660)","v":""},{"$f":"IF(Data!I660=\"\",\"\",Data!I660)","v":""},{"$f":"IF(Data!J660=\"\",\"\",Data!J660)","v":""},{"$f":"IF(Data!K660=\"\",\"\",Data!K660)","v":""},{"$f":"IF(Data!L660=\"\",\"\",Data!L660)","v":""},{"$f":"IF(Data!M660=\"\",\"\",Data!M660)","v":""},{"$f":"IF(Data!N660=\"\",\"\",Data!N660)","v":""},{"$f":"IF(Data!O660=\"\",\"\",Data!O660)","v":""},{"$f":"IF(Data!P660=\"\",\"\",Data!P660)","v":""},{"$f":"IF(Data!Q660=\"\",\"\",Data!Q660)","v":""},{"$f":"IF(Data!R660=\"\",\"\",Data!R660)","v":""},{"$f":"IF(Data!S660=\"\",\"\",Data!S660)","v":""},null,null,null,null,660]
[{"$f":"IF(Data!A661=\"\",\"\",Data!A661)","v":""},"",{"$f":"IF(Data!B661=\"\",\"\",Data!B661)","v":""},{"$f":"IF(Data!C661=\"\",\"\",Data!C661)","v":""},{"$f":"IF(Data!D661=\"\",\"\",Data!D661)","v":""},{"$f":"IF(Data!E661=\"\",\"\",Data!E661)","v":""},{"$f":"IF(Data!F661=\"\",\"\",Data!F661)","v":""},{"$f":"IF(Data!G661=\"\",\"\",Data!G661)","v":""},{"$f":"IF(Data!H661=\"\",\"\",Data!H661)","v":""},{"$f":"IF(Data!I661=\"\",\"\",Data!I661)","v":""},{"$f":"IF(Data!J661=\"\",\"\",Data!J661)","v":""},{"$f":"IF(Data!K661=\"\",\"\",Data!K661)","v":""},{"$f":"IF(Data!L661=\"\",\"\",Data!L661)","v":""},{"$f":"IF(Data!M661=\"\",\"\",Data!M661)","v":""},{"$f":"IF(Data!N661=\"\",\"\",Data!N661)","v":""},{"$f":"IF(Data!O661=\"\",\"\",Data!O661)","v":""},{"$f":"IF(Data!P661=\"\",\"\",Data!P661)","v":""},{"$f":"IF(Data!Q661=\"\",\"\",Data!Q661)","v":""},{"$f":"IF(Data!R661=\"\",\"\",Data!R661)","v":""},{"$f":"IF(Data!S661=\"\",\"\",Data!S661)","v":""},null,null,null,null,661]
[{"$f":"IF(Data!A662=\"\",\"\",Data!A662)","v":""},"",{"$f":"IF(Data!B662=\"\",\"\",Data!B662)","v":""},{"$f":"IF(Data!C662=\"\",\"\",Data!C662)","v":""},{"$f":"IF(Data!D662=\"\",\"\",Data!D662)","v":""},{"$f":"IF(Data!E662=\"\",\"\",Data!E662)","v":""},{"$f":"IF(Data!F662=\"\",\"\",Data!F662)","v":""},{"$f":"IF(Data!G662=\"\",\"\",Data!G662)","v":""},{"$f":"IF(Data!H662=\"\",\"\",Data!H662)","v":""},{"$f":"IF(Data!I662=\"\",\"\",Data!I662)","v":""},{"$f":"IF(Data!J662=\"\",\"\",Data!J662)","v":""},{"$f":"IF(Data!K662=\"\",\"\",Data!K662)","v":""},{"$f":"IF(Data!L662=\"\",\"\",Data!L662)","v":""},{"$f":"IF(Data!M662=\"\",\"\",Data!M662)","v":""},{"$f":"IF(Data!N662=\"\",\"\",Data!N662)","v":""},{"$f":"IF(Data!O662=\"\",\"\",Data!O662)","v":""},{"$f":"IF(Data!P662=\"\",\"\",Data!P662)","v":""},{"$f":"IF(Data!Q662=\"\",\"\",Data!Q662)","v":""},{"$f":"IF(Data!R662=\"\",\"\",Data!R662)","v":""},{"$f":"IF(Data!S662=\"\",\"\",Data!S662)","v":""},null,null,null,null,662]
[{"$f":"IF(Data!A663=\"\",\"\",Data!A663)","v":""},"",{"$f":"IF(Data!B663=\"\",\"\",Data!B663)","v":""},{"$f":"IF(Data!C663=\"\",\"\",Data!C663)","v":""},{"$f":"IF(Data!D663=\"\",\"\",Data!D663)","v":""},{"$f":"IF(Data!E663=\"\",\"\",Data!E663)","v":""},{"$f":"IF(Data!F663=\"\",\"\",Data!F663)","v":""},{"$f":"IF(Data!G663=\"\",\"\",Data!G663)","v":""},{"$f":"IF(Data!H663=\"\",\"\",Data!H663)","v":""},{"$f":"IF(Data!I663=\"\",\"\",Data!I663)","v":""},{"$f":"IF(Data!J663=\"\",\"\",Data!J663)","v":""},{"$f":"IF(Data!K663=\"\",\"\",Data!K663)","v":""},{"$f":"IF(Data!L663=\"\",\"\",Data!L663)","v":""},{"$f":"IF(Data!M663=\"\",\"\",Data!M663)","v":""},{"$f":"IF(Data!N663=\"\",\"\",Data!N663)","v":""},{"$f":"IF(Data!O663=\"\",\"\",Data!O663)","v":""},{"$f":"IF(Data!P663=\"\",\"\",Data!P663)","v":""},{"$f":"IF(Data!Q663=\"\",\"\",Data!Q663)","v":""},{"$f":"IF(Data!R663=\"\",\"\",Data!R663)","v":""},{"$f":"IF(Data!S663=\"\",\"\",Data!S663)","v":""},null,null,null,null,663]
[{"$f":"IF(Data!A664=\"\",\"\",Data!A664)","v":""},"",{"$f":"IF(Data!B664=\"\",\"\",Data!B664)","v":""},{"$f":"IF(Data!C664=\"\",\"\",Data!C664)","v":""},{"$f":"IF(Data!D664=\"\",\"\",Data!D664)","v":""},{"$f":"IF(Data!E664=\"\",\"\",Data!E664)","v":""},{"$f":"IF(Data!F664=\"\",\"\",Data!F664)","v":""},{"$f":"IF(Data!G664=\"\",\"\",Data!G664)","v":""},{"$f":"IF(Data!H664=\"\",\"\",Data!H664)","v":""},{"$f":"IF(Data!I664=\"\",\"\",Data!I664)","v":""},{"$f":"IF(Data!J664=\"\",\"\",Data!J664)","v":""},{"$f":"IF(Data!K664=\"\",\"\",Data!K664)","v":""},{"$f":"IF(Data!L664=\"\",\"\",Data!L664)","v":""},{"$f":"IF(Data!M664=\"\",\"\",Data!M664)","v":""},{"$f":"IF(Data!N664=\"\",\"\",Data!N664)","v":""},{"$f":"IF(Data!O664=\"\",\"\",Data!O664)","v":""},{"$f":"IF(Data!P664=\"\",\"\",Data!P664)","v":""},{"$f":"IF(Data!Q664=\"\",\"\",Data!Q664)","v":""},{"$f":"IF(Data!R664=\"\",\"\",Data!R664)","v":""},{"$f":"IF(Data!S664=\"\",\"\",Data!S664)","v":""},null,null,null,null,664]
[{"$f":"IF(Data!A665=\"\",\"\",Data!A665)","v":""},"",{"$f":"IF(Data!B665=\"\",\"\",Data!B665)","v":""},{"$f":"IF(Data!C665=\"\",\"\",Data!C665)","v":""},{"$f":"IF(Data!D665=\"\",\"\",Data!D665)","v":""},{"$f":"IF(Data!E665=\"\",\"\",Data!E665)","v":""},{"$f":"IF(Data!F665=\"\",\"\",Data!F665)","v":""},{"$f":"IF(Data!G665=\"\",\"\",Data!G665)","v":""},{"$f":"IF(Data!H665=\"\",\"\",Data!H665)","v":""},{"$f":"IF(Data!I665=\"\",\"\",Data!I665)","v":""},{"$f":"IF(Data!J665=\"\",\"\",Data!J665)","v":""},{"$f":"IF(Data!K665=\"\",\"\",Data!K665)","v":""},{"$f":"IF(Data!L665=\"\",\"\",Data!L665)","v":""},{"$f":"IF(Data!M665=\"\",\"\",Data!M665)","v":""},{"$f":"IF(Data!N665=\"\",\"\",Data!N665)","v":""},{"$f":"IF(Data!O665=\"\",\"\",Data!O665)","v":""},{"$f":"IF(Data!P665=\"\",\"\",Data!P665)","v":""},{"$f":"IF(Data!Q665=\"\",\"\",Data!Q665)","v":""},{"$f":"IF(Data!R665=\"\",\"\",Data!R665)","v":""},{"$f":"IF(Data!S665=\"\",\"\",Data!S665)","v":""},null,null,null,null,665]
[{"$f":"IF(Data!A666=\"\",\"\",Data!A666)","v":""},"",{"$f":"IF(Data!B666=\"\",\"\",Data!B666)","v":""},{"$f":"IF(Data!C666=\"\",\"\",Data!C666)","v":""},{"$f":"IF(Data!D666=\"\",\"\",Data!D666)","v":""},{"$f":"IF(Data!E666=\"\",\"\",Data!E666)","v":""},{"$f":"IF(Data!F666=\"\",\"\",Data!F666)","v":""},{"$f":"IF(Data!G666=\"\",\"\",Data!G666)","v":""},{"$f":"IF(Data!H666=\"\",\"\",Data!H666)","v":""},{"$f":"IF(Data!I666=\"\",\"\",Data!I666)","v":""},{"$f":"IF(Data!J666=\"\",\"\",Data!J666)","v":""},{"$f":"IF(Data!K666=\"\",\"\",Data!K666)","v":""},{"$f":"IF(Data!L666=\"\",\"\",Data!L666)","v":""},{"$f":"IF(Data!M666=\"\",\"\",Data!M666)","v":""},{"$f":"IF(Data!N666=\"\",\"\",Data!N666)","v":""},{"$f":"IF(Data!O666=\"\",\"\",Data!O666)","v":""},{"$f":"IF(Data!P666=\"\",\"\",Data!P666)","v":""},{"$f":"IF(Data!Q666=\"\",\"\",Data!Q666)","v":""},{"$f":"IF(Data!R666=\"\",\"\",Data!R666)","v":""},{"$f":"IF(Data!S666=\"\",\"\",Data!S666)","v":""},null,null,null,null,666]
[{"$f":"IF(Data!A667=\"\",\"\",Data!A667)","v":""},"",{"$f":"IF(Data!B667=\"\",\"\",Data!B667)","v":""},{"$f":"IF(Data!C667=\"\",\"\",Data!C667)","v":""},{"$f":"IF(Data!D667=\"\",\"\",Data!D667)","v":""},{"$f":"IF(Data!E667=\"\",\"\",Data!E667)","v":""},{"$f":"IF(Data!F667=\"\",\"\",Data!F667)","v":""},{"$f":"IF(Data!G667=\"\",\"\",Data!G667)","v":""},{"$f":"IF(Data!H667=\"\",\"\",Data!H667)","v":""},{"$f":"IF(Data!I667=\"\",\"\",Data!I667)","v":""},{"$f":"IF(Data!J667=\"\",\"\",Data!J667)","v":""},{"$f":"IF(Data!K667=\"\",\"\",Data!K667)","v":""},{"$f":"IF(Data!L667=\"\",\"\",Data!L667)","v":""},{"$f":"IF(Data!M667=\"\",\"\",Data!M667)","v":""},{"$f":"IF(Data!N667=\"\",\"\",Data!N667)","v":""},{"$f":"IF(Data!O667=\"\",\"\",Data!O667)","v":""},{"$f":"IF(Data!P667=\"\",\"\",Data!P667)","v":""},{"$f":"IF(Data!Q667=\"\",\"\",Data!Q667)","v":""},{"$f":"IF(Data!R667=\"\",\"\",Data!R667)","v":""},{"$f":"IF(Data!S667=\"\",\"\",Data!S667)","v":""},null,null,null,null,667]
[{"$f":"IF(Data!A668=\"\",\"\",Data!A668)","v":""},"",{"$f":"IF(Data!B668=\"\",\"\",Data!B668)","v":""},{"$f":"IF(Data!C668=\"\",\"\",Data!C668)","v":""},{"$f":"IF(Data!D668=\"\",\"\",Data!D668)","v":""},{"$f":"IF(Data!E668=\"\",\"\",Data!E668)","v":""},{"$f":"IF(Data!F668=\"\",\"\",Data!F668)","v":""},{"$f":"IF(Data!G668=\"\",\"\",Data!G668)","v":""},{"$f":"IF(Data!H668=\"\",\"\",Data!H668)","v":""},{"$f":"IF(Data!I668=\"\",\"\",Data!I668)","v":""},{"$f":"IF(Data!J668=\"\",\"\",Data!J668)","v":""},{"$f":"IF(Data!K668=\"\",\"\",Data!K668)","v":""},{"$f":"IF(Data!L668=\"\",\"\",Data!L668)","v":""},{"$f":"IF(Data!M668=\"\",\"\",Data!M668)","v":""},{"$f":"IF(Data!N668=\"\",\"\",Data!N668)","v":""},{"$f":"IF(Data!O668=\"\",\"\",Data!O668)","v":""},{"$f":"IF(Data!P668=\"\",\"\",Data!P668)","v":""},{"$f":"IF(Data!Q668=\"\",\"\",Data!Q668)","v":""},{"$f":"IF(Data!R668=\"\",\"\",Data!R668)","v":""},{"$f":"IF(Data!S668=\"\",\"\",Data!S668)","v":""},null,null,null,null,668]
[{"$f":"IF(Data!A669=\"\",\"\",Data!A669)","v":""},"",{"$f":"IF(Data!B669=\"\",\"\",Data!B669)","v":""},{"$f":"IF(Data!C669=\"\",\"\",Data!C669)","v":""},{"$f":"IF(Data!D669=\"\",\"\",Data!D669)","v":""},{"$f":"IF(Data!E669=\"\",\"\",Data!E669)","v":""},{"$f":"IF(Data!F669=\"\",\"\",Data!F669)","v":""},{"$f":"IF(Data!G669=\"\",\"\",Data!G669)","v":""},{"$f":"IF(Data!H669=\"\",\"\",Data!H669)","v":""},{"$f":"IF(Data!I669=\"\",\"\",Data!I669)","v":""},{"$f":"IF(Data!J669=\"\",\"\",Data!J669)","v":""},{"$f":"IF(Data!K669=\"\",\"\",Data!K669)","v":""},{"$f":"IF(Data!L669=\"\",\"\",Data!L669)","v":""},{"$f":"IF(Data!M669=\"\",\"\",Data!M669)","v":""},{"$f":"IF(Data!N669=\"\",\"\",Data!N669)","v":""},{"$f":"IF(Data!O669=\"\",\"\",Data!O669)","v":""},{"$f":"IF(Data!P669=\"\",\"\",Data!P669)","v":""},{"$f":"IF(Data!Q669=\"\",\"\",Data!Q669)","v":""},{"$f":"IF(Data!R669=\"\",\"\",Data!R669)","v":""},{"$f":"IF(Data!S669=\"\",\"\",Data!S669)","v":""},null,null,null,null,669]
[{"$f":"IF(Data!A670=\"\",\"\",Data!A670)","v":""},"",{"$f":"IF(Data!B670=\"\",\"\",Data!B670)","v":""},{"$f":"IF(Data!C670=\"\",\"\",Data!C670)","v":""},{"$f":"IF(Data!D670=\"\",\"\",Data!D670)","v":""},{"$f":"IF(Data!E670=\"\",\"\",Data!E670)","v":""},{"$f":"IF(Data!F670=\"\",\"\",Data!F670)","v":""},{"$f":"IF(Data!G670=\"\",\"\",Data!G670)","v":""},{"$f":"IF(Data!H670=\"\",\"\",Data!H670)","v":""},{"$f":"IF(Data!I670=\"\",\"\",Data!I670)","v":""},{"$f":"IF(Data!J670=\"\",\"\",Data!J670)","v":""},{"$f":"IF(Data!K670=\"\",\"\",Data!K670)","v":""},{"$f":"IF(Data!L670=\"\",\"\",Data!L670)","v":""},{"$f":"IF(Data!M670=\"\",\"\",Data!M670)","v":""},{"$f":"IF(Data!N670=\"\",\"\",Data!N670)","v":""},{"$f":"IF(Data!O670=\"\",\"\",Data!O670)","v":""},{"$f":"IF(Data!P670=\"\",\"\",Data!P670)","v":""},{"$f":"IF(Data!Q670=\"\",\"\",Data!Q670)","v":""},{"$f":"IF(Data!R670=\"\",\"\",Data!R670)","v":""},{"$f":"IF(Data!S670=\"\",\"\",Data!S670)","v":""},null,null,null,null,670]
[{"$f":"IF(Data!A671=\"\",\"\",Data!A671)","v":""},"",{"$f":"IF(Data!B671=\"\",\"\",Data!B671)","v":""},{"$f":"IF(Data!C671=\"\",\"\",Data!C671)","v":""},{"$f":"IF(Data!D671=\"\",\"\",Data!D671)","v":""},{"$f":"IF(Data!E671=\"\",\"\",Data!E671)","v":""},{"$f":"IF(Data!F671=\"\",\"\",Data!F671)","v":""},{"$f":"IF(Data!G671=\"\",\"\",Data!G671)","v":""},{"$f":"IF(Data!H671=\"\",\"\",Data!H671)","v":""},{"$f":"IF(Data!I671=\"\",\"\",Data!I671)","v":""},{"$f":"IF(Data!J671=\"\",\"\",Data!J671)","v":""},{"$f":"IF(Data!K671=\"\",\"\",Data!K671)","v":""},{"$f":"IF(Data!L671=\"\",\"\",Data!L671)","v":""},{"$f":"IF(Data!M671=\"\",\"\",Data!M671)","v":""},{"$f":"IF(Data!N671=\"\",\"\",Data!N671)","v":""},{"$f":"IF(Data!O671=\"\",\"\",Data!O671)","v":""},{"$f":"IF(Data!P671=\"\",\"\",Data!P671)","v":""},{"$f":"IF(Data!Q671=\"\",\"\",Data!Q671)","v":""},{"$f":"IF(Data!R671=\"\",\"\",Data!R671)","v":""},{"$f":"IF(Data!S671=\"\",\"\",Data!S671)","v":""},null,null,null,null,671]
[{"$f":"IF(Data!A672=\"\",\"\",Data!A672)","v":""},"",{"$f":"IF(Data!B672=\"\",\"\",Data!B672)","v":""},{"$f":"IF(Data!C672=\"\",\"\",Data!C672)","v":""},{"$f":"IF(Data!D672=\"\",\"\",Data!D672)","v":""},{"$f":"IF(Data!E672=\"\",\"\",Data!E672)","v":""},{"$f":"IF(Data!F672=\"\",\"\",Data!F672)","v":""},{"$f":"IF(Data!G672=\"\",\"\",Data!G672)","v":""},{"$f":"IF(Data!H672=\"\",\"\",Data!H672)","v":""},{"$f":"IF(Data!I672=\"\",\"\",Data!I672)","v":""},{"$f":"IF(Data!J672=\"\",\"\",Data!J672)","v":""},{"$f":"IF(Data!K672=\"\",\"\",Data!K672)","v":""},{"$f":"IF(Data!L672=\"\",\"\",Data!L672)","v":""},{"$f":"IF(Data!M672=\"\",\"\",Data!M672)","v":""},{"$f":"IF(Data!N672=\"\",\"\",Data!N672)","v":""},{"$f":"IF(Data!O672=\"\",\"\",Data!O672)","v":""},{"$f":"IF(Data!P672=\"\",\"\",Data!P672)","v":""},{"$f":"IF(Data!Q672=\"\",\"\",Data!Q672)","v":""},{"$f":"IF(Data!R672=\"\",\"\",Data!R672)","v":""},{"$f":"IF(Data!S672=\"\",\"\",Data!S672)","v":""},null,null,null,null,672]
[{"$f":"IF(Data!A673=\"\",\"\",Data!A673)","v":""},"",{"$f":"IF(Data!B673=\"\",\"\",Data!B673)","v":""},{"$f":"IF(Data!C673=\"\",\"\",Data!C673)","v":""},{"$f":"IF(Data!D673=\"\",\"\",Data!D673)","v":""},{"$f":"IF(Data!E673=\"\",\"\",Data!E673)","v":""},{"$f":"IF(Data!F673=\"\",\"\",Data!F673)","v":""},{"$f":"IF(Data!G673=\"\",\"\",Data!G673)","v":""},{"$f":"IF(Data!H673=\"\",\"\",Data!H673)","v":""},{"$f":"IF(Data!I673=\"\",\"\",Data!I673)","v":""},{"$f":"IF(Data!J673=\"\",\"\",Data!J673)","v":""},{"$f":"IF(Data!K673=\"\",\"\",Data!K673)","v":""},{"$f":"IF(Data!L673=\"\",\"\",Data!L673)","v":""},{"$f":"IF(Data!M673=\"\",\"\",Data!M673)","v":""},{"$f":"IF(Data!N673=\"\",\"\",Data!N673)","v":""},{"$f":"IF(Data!O673=\"\",\"\",Data!O673)","v":""},{"$f":"IF(Data!P673=\"\",\"\",Data!P673)","v":""},{"$f":"IF(Data!Q673=\"\",\"\",Data!Q673)","v":""},{"$f":"IF(Data!R673=\"\",\"\",Data!R673)","v":""},{"$f":"IF(Data!S673=\"\",\"\",Data!S673)","v":""},null,null,null,null,673]
[{"$f":"IF(Data!A674=\"\",\"\",Data!A674)","v":""},"",{"$f":"IF(Data!B674=\"\",\"\",Data!B674)","v":""},{"$f":"IF(Data!C674=\"\",\"\",Data!C674)","v":""},{"$f":"IF(Data!D674=\"\",\"\",Data!D674)","v":""},{"$f":"IF(Data!E674=\"\",\"\",Data!E674)","v":""},{"$f":"IF(Data!F674=\"\",\"\",Data!F674)","v":""},{"$f":"IF(Data!G674=\"\",\"\",Data!G674)","v":""},{"$f":"IF(Data!H674=\"\",\"\",Data!H674)","v":""},{"$f":"IF(Data!I674=\"\",\"\",Data!I674)","v":""},{"$f":"IF(Data!J674=\"\",\"\",Data!J674)","v":""},{"$f":"IF(Data!K674=\"\",\"\",Data!K674)","v":""},{"$f":"IF(Data!L674=\"\",\"\",Data!L674)","v":""},{"$f":"IF(Data!M674=\"\",\"\",Data!M674)","v":""},{"$f":"IF(Data!N674=\"\",\"\",Data!N674)","v":""},{"$f":"IF(Data!O674=\"\",\"\",Data!O674)","v":""},{"$f":"IF(Data!P674=\"\",\"\",Data!P674)","v":""},{"$f":"IF(Data!Q674=\"\",\"\",Data!Q674)","v":""},{"$f":"IF(Data!R674=\"\",\"\",Data!R674)","v":""},{"$f":"IF(Data!S674=\"\",\"\",Data!S674)","v":""},null,null,null,null,674]
[{"$f":"IF(Data!A675=\"\",\"\",Data!A675)","v":""},"",{"$f":"IF(Data!B675=\"\",\"\",Data!B675)","v":""},{"$f":"IF(Data!C675=\"\",\"\",Data!C675)","v":""},{"$f":"IF(Data!D675=\"\",\"\",Data!D675)","v":""},{"$f":"IF(Data!E675=\"\",\"\",Data!E675)","v":""},{"$f":"IF(Data!F675=\"\",\"\",Data!F675)","v":""},{"$f":"IF(Data!G675=\"\",\"\",Data!G675)","v":""},{"$f":"IF(Data!H675=\"\",\"\",Data!H675)","v":""},{"$f":"IF(Data!I675=\"\",\"\",Data!I675)","v":""},{"$f":"IF(Data!J675=\"\",\"\",Data!J675)","v":""},{"$f":"IF(Data!K675=\"\",\"\",Data!K675)","v":""},{"$f":"IF(Data!L675=\"\",\"\",Data!L675)","v":""},{"$f":"IF(Data!M675=\"\",\"\",Data!M675)","v":""},{"$f":"IF(Data!N675=\"\",\"\",Data!N675)","v":""},{"$f":"IF(Data!O675=\"\",\"\",Data!O675)","v":""},{"$f":"IF(Data!P675=\"\",\"\",Data!P675)","v":""},{"$f":"IF(Data!Q675=\"\",\"\",Data!Q675)","v":""},{"$f":"IF(Data!R675=\"\",\"\",Data!R675)","v":""},{"$f":"IF(Data!S675=\"\",\"\",Data!S675)","v":""},null,null,null,null,675]
[{"$f":"IF(Data!A676=\"\",\"\",Data!A676)","v":""},"",{"$f":"IF(Data!B676=\"\",\"\",Data!B676)","v":""},{"$f":"IF(Data!C676=\"\",\"\",Data!C676)","v":""},{"$f":"IF(Data!D676=\"\",\"\",Data!D676)","v":""},{"$f":"IF(Data!E676=\"\",\"\",Data!E676)","v":""},{"$f":"IF(Data!F676=\"\",\"\",Data!F676)","v":""},{"$f":"IF(Data!G676=\"\",\"\",Data!G676)","v":""},{"$f":"IF(Data!H676=\"\",\"\",Data!H676)","v":""},{"$f":"IF(Data!I676=\"\",\"\",Data!I676)","v":""},{"$f":"IF(Data!J676=\"\",\"\",Data!J676)","v":""},{"$f":"IF(Data!K676=\"\",\"\",Data!K676)","v":""},{"$f":"IF(Data!L676=\"\",\"\",Data!L676)","v":""},{"$f":"IF(Data!M676=\"\",\"\",Data!M676)","v":""},{"$f":"IF(Data!N676=\"\",\"\",Data!N676)","v":""},{"$f":"IF(Data!O676=\"\",\"\",Data!O676)","v":""},{"$f":"IF(Data!P676=\"\",\"\",Data!P676)","v":""},{"$f":"IF(Data!Q676=\"\",\"\",Data!Q676)","v":""},{"$f":"IF(Data!R676=\"\",\"\",Data!R676)","v":""},{"$f":"IF(Data!S676=\"\",\"\",Data!S676)","v":""},null,null,null,null,676]
[{"$f":"IF(Data!A677=\"\",\"\",Data!A677)","v":""},"",{"$f":"IF(Data!B677=\"\",\"\",Data!B677)","v":""},{"$f":"IF(Data!C677=\"\",\"\",Data!C677)","v":""},{"$f":"IF(Data!D677=\"\",\"\",Data!D677)","v":""},{"$f":"IF(Data!E677=\"\",\"\",Data!E677)","v":""},{"$f":"IF(Data!F677=\"\",\"\",Data!F677)","v":""},{"$f":"IF(Data!G677=\"\",\"\",Data!G677)","v":""},{"$f":"IF(Data!H677=\"\",\"\",Data!H677)","v":""},{"$f":"IF(Data!I677=\"\",\"\",Data!I677)","v":""},{"$f":"IF(Data!J677=\"\",\"\",Data!J677)","v":""},{"$f":"IF(Data!K677=\"\",\"\",Data!K677)","v":""},{"$f":"IF(Data!L677=\"\",\"\",Data!L677)","v":""},{"$f":"IF(Data!M677=\"\",\"\",Data!M677)","v":""},{"$f":"IF(Data!N677=\"\",\"\",Data!N677)","v":""},{"$f":"IF(Data!O677=\"\",\"\",Data!O677)","v":""},{"$f":"IF(Data!P677=\"\",\"\",Data!P677)","v":""},{"$f":"IF(Data!Q677=\"\",\"\",Data!Q677)","v":""},{"$f":"IF(Data!R677=\"\",\"\",Data!R677)","v":""},{"$f":"IF(Data!S677=\"\",\"\",Data!S677)","v":""},null,null,null,null,677]
[{"$f":"IF(Data!A678=\"\",\"\",Data!A678)","v":""},"",{"$f":"IF(Data!B678=\"\",\"\",Data!B678)","v":""},{"$f":"IF(Data!C678=\"\",\"\",Data!C678)","v":""},{"$f":"IF(Data!D678=\"\",\"\",Data!D678)","v":""},{"$f":"IF(Data!E678=\"\",\"\",Data!E678)","v":""},{"$f":"IF(Data!F678=\"\",\"\",Data!F678)","v":""},{"$f":"IF(Data!G678=\"\",\"\",Data!G678)","v":""},{"$f":"IF(Data!H678=\"\",\"\",Data!H678)","v":""},{"$f":"IF(Data!I678=\"\",\"\",Data!I678)","v":""},{"$f":"IF(Data!J678=\"\",\"\",Data!J678)","v":""},{"$f":"IF(Data!K678=\"\",\"\",Data!K678)","v":""},{"$f":"IF(Data!L678=\"\",\"\",Data!L678)","v":""},{"$f":"IF(Data!M678=\"\",\"\",Data!M678)","v":""},{"$f":"IF(Data!N678=\"\",\"\",Data!N678)","v":""},{"$f":"IF(Data!O678=\"\",\"\",Data!O678)","v":""},{"$f":"IF(Data!P678=\"\",\"\",Data!P678)","v":""},{"$f":"IF(Data!Q678=\"\",\"\",Data!Q678)","v":""},{"$f":"IF(Data!R678=\"\",\"\",Data!R678)","v":""},{"$f":"IF(Data!S678=\"\",\"\",Data!S678)","v":""},null,null,null,null,678]
[{"$f":"IF(Data!A679=\"\",\"\",Data!A679)","v":""},"",{"$f":"IF(Data!B679=\"\",\"\",Data!B679)","v":""},{"$f":"IF(Data!C679=\"\",\"\",Data!C679)","v":""},{"$f":"IF(Data!D679=\"\",\"\",Data!D679)","v":""},{"$f":"IF(Data!E679=\"\",\"\",Data!E679)","v":""},{"$f":"IF(Data!F679=\"\",\"\",Data!F679)","v":""},{"$f":"IF(Data!G679=\"\",\"\",Data!G679)","v":""},{"$f":"IF(Data!H679=\"\",\"\",Data!H679)","v":""},{"$f":"IF(Data!I679=\"\",\"\",Data!I679)","v":""},{"$f":"IF(Data!J679=\"\",\"\",Data!J679)","v":""},{"$f":"IF(Data!K679=\"\",\"\",Data!K679)","v":""},{"$f":"IF(Data!L679=\"\",\"\",Data!L679)","v":""},{"$f":"IF(Data!M679=\"\",\"\",Data!M679)","v":""},{"$f":"IF(Data!N679=\"\",\"\",Data!N679)","v":""},{"$f":"IF(Data!O679=\"\",\"\",Data!O679)","v":""},{"$f":"IF(Data!P679=\"\",\"\",Data!P679)","v":""},{"$f":"IF(Data!Q679=\"\",\"\",Data!Q679)","v":""},{"$f":"IF(Data!R679=\"\",\"\",Data!R679)","v":""},{"$f":"IF(Data!S679=\"\",\"\",Data!S679)","v":""},null,null,null,null,679]
[{"$f":"IF(Data!A680=\"\",\"\",Data!A680)","v":""},"",{"$f":"IF(Data!B680=\"\",\"\",Data!B680)","v":""},{"$f":"IF(Data!C680=\"\",\"\",Data!C680)","v":""},{"$f":"IF(Data!D680=\"\",\"\",Data!D680)","v":""},{"$f":"IF(Data!E680=\"\",\"\",Data!E680)","v":""},{"$f":"IF(Data!F680=\"\",\"\",Data!F680)","v":""},{"$f":"IF(Data!G680=\"\",\"\",Data!G680)","v":""},{"$f":"IF(Data!H680=\"\",\"\",Data!H680)","v":""},{"$f":"IF(Data!I680=\"\",\"\",Data!I680)","v":""},{"$f":"IF(Data!J680=\"\",\"\",Data!J680)","v":""},{"$f":"IF(Data!K680=\"\",\"\",Data!K680)","v":""},{"$f":"IF(Data!L680=\"\",\"\",Data!L680)","v":""},{"$f":"IF(Data!M680=\"\",\"\",Data!M680)","v":""},{"$f":"IF(Data!N680=\"\",\"\",Data!N680)","v":""},{"$f":"IF(Data!O680=\"\",\"\",Data!O680)","v":""},{"$f":"IF(Data!P680=\"\",\"\",Data!P680)","v":""},{"$f":"IF(Data!Q680=\"\",\"\",Data!Q680)","v":""},{"$f":"IF(Data!R680=\"\",\"\",Data!R680)","v":""},{"$f":"IF(Data!S680=\"\",\"\",Data!S680)","v":""},null,null,null,null,680]
[{"$f":"IF(Data!A681=\"\",\"\",Data!A681)","v":""},"",{"$f":"IF(Data!B681=\"\",\"\",Data!B681)","v":""},{"$f":"IF(Data!C681=\"\",\"\",Data!C681)","v":""},{"$f":"IF(Data!D681=\"\",\"\",Data!D681)","v":""},{"$f":"IF(Data!E681=\"\",\"\",Data!E681)","v":""},{"$f":"IF(Data!F681=\"\",\"\",Data!F681)","v":""},{"$f":"IF(Data!G681=\"\",\"\",Data!G681)","v":""},{"$f":"IF(Data!H681=\"\",\"\",Data!H681)","v":""},{"$f":"IF(Data!I681=\"\",\"\",Data!I681)","v":""},{"$f":"IF(Data!J681=\"\",\"\",Data!J681)","v":""},{"$f":"IF(Data!K681=\"\",\"\",Data!K681)","v":""},{"$f":"IF(Data!L681=\"\",\"\",Data!L681)","v":""},{"$f":"IF(Data!M681=\"\",\"\",Data!M681)","v":""},{"$f":"IF(Data!N681=\"\",\"\",Data!N681)","v":""},{"$f":"IF(Data!O681=\"\",\"\",Data!O681)","v":""},{"$f":"IF(Data!P681=\"\",\"\",Data!P681)","v":""},{"$f":"IF(Data!Q681=\"\",\"\",Data!Q681)","v":""},{"$f":"IF(Data!R681=\"\",\"\",Data!R681)","v":""},{"$f":"IF(Data!S681=\"\",\"\",Data!S681)","v":""},null,null,null,null,681]
[{"$f":"IF(Data!A682=\"\",\"\",Data!A682)","v":""},"",{"$f":"IF(Data!B682=\"\",\"\",Data!B682)","v":""},{"$f":"IF(Data!C682=\"\",\"\",Data!C682)","v":""},{"$f":"IF(Data!D682=\"\",\"\",Data!D682)","v":""},{"$f":"IF(Data!E682=\"\",\"\",Data!E682)","v":""},{"$f":"IF(Data!F682=\"\",\"\",Data!F682)","v":""},{"$f":"IF(Data!G682=\"\",\"\",Data!G682)","v":""},{"$f":"IF(Data!H682=\"\",\"\",Data!H682)","v":""},{"$f":"IF(Data!I682=\"\",\"\",Data!I682)","v":""},{"$f":"IF(Data!J682=\"\",\"\",Data!J682)","v":""},{"$f":"IF(Data!K682=\"\",\"\",Data!K682)","v":""},{"$f":"IF(Data!L682=\"\",\"\",Data!L682)","v":""},{"$f":"IF(Data!M682=\"\",\"\",Data!M682)","v":""},{"$f":"IF(Data!N682=\"\",\"\",Data!N682)","v":""},{"$f":"IF(Data!O682=\"\",\"\",Data!O682)","v":""},{"$f":"IF(Data!P682=\"\",\"\",Data!P682)","v":""},{"$f":"IF(Data!Q682=\"\",\"\",Data!Q682)","v":""},{"$f":"IF(Data!R682=\"\",\"\",Data!R682)","v":""},{"$f":"IF(Data!S682=\"\",\"\",Data!S682)","v":""},null,null,null,null,682]
[{"$f":"IF(Data!A683=\"\",\"\",Data!A683)","v":""},"",{"$f":"IF(Data!B683=\"\",\"\",Data!B683)","v":""},{"$f":"IF(Data!C683=\"\",\"\",Data!C683)","v":""},{"$f":"IF(Data!D683=\"\",\"\",Data!D683)","v":""},{"$f":"IF(Data!E683=\"\",\"\",Data!E683)","v":""},{"$f":"IF(Data!F683=\"\",\"\",Data!F683)","v":""},{"$f":"IF(Data!G683=\"\",\"\",Data!G683)","v":""},{"$f":"IF(Data!H683=\"\",\"\",Data!H683)","v":""},{"$f":"IF(Data!I683=\"\",\"\",Data!I683)","v":""},{"$f":"IF(Data!J683=\"\",\"\",Data!J683)","v":""},{"$f":"IF(Data!K683=\"\",\"\",Data!K683)","v":""},{"$f":"IF(Data!L683=\"\",\"\",Data!L683)","v":""},{"$f":"IF(Data!M683=\"\",\"\",Data!M683)","v":""},{"$f":"IF(Data!N683=\"\",\"\",Data!N683)","v":""},{"$f":"IF(Data!O683=\"\",\"\",Data!O683)","v":""},{"$f":"IF(Data!P683=\"\",\"\",Data!P683)","v":""},{"$f":"IF(Data!Q683=\"\",\"\",Data!Q683)","v":""},{"$f":"IF(Data!R683=\"\",\"\",Data!R683)","v":""},{"$f":"IF(Data!S683=\"\",\"\",Data!S683)","v":""},null,null,null,null,683]
[{"$f":"IF(Data!A684=\"\",\"\",Data!A684)","v":""},"",{"$f":"IF(Data!B684=\"\",\"\",Data!B684)","v":""},{"$f":"IF(Data!C684=\"\",\"\",Data!C684)","v":""},{"$f":"IF(Data!D684=\"\",\"\",Data!D684)","v":""},{"$f":"IF(Data!E684=\"\",\"\",Data!E684)","v":""},{"$f":"IF(Data!F684=\"\",\"\",Data!F684)","v":""},{"$f":"IF(Data!G684=\"\",\"\",Data!G684)","v":""},{"$f":"IF(Data!H684=\"\",\"\",Data!H684)","v":""},{"$f":"IF(Data!I684=\"\",\"\",Data!I684)","v":""},{"$f":"IF(Data!J684=\"\",\"\",Data!J684)","v":""},{"$f":"IF(Data!K684=\"\",\"\",Data!K684)","v":""},{"$f":"IF(Data!L684=\"\",\"\",Data!L684)","v":""},{"$f":"IF(Data!M684=\"\",\"\",Data!M684)","v":""},{"$f":"IF(Data!N684=\"\",\"\",Data!N684)","v":""},{"$f":"IF(Data!O684=\"\",\"\",Data!O684)","v":""},{"$f":"IF(Data!P684=\"\",\"\",Data!P684)","v":""},{"$f":"IF(Data!Q684=\"\",\"\",Data!Q684)","v":""},{"$f":"IF(Data!R684=\"\",\"\",Data!R684)","v":""},{"$f":"IF(Data!S684=\"\",\"\",Data!S684)","v":""},null,null,null,null,684]
[{"$f":"IF(Data!A685=\"\",\"\",Data!A685)","v":""},"",{"$f":"IF(Data!B685=\"\",\"\",Data!B685)","v":""},{"$f":"IF(Data!C685=\"\",\"\",Data!C685)","v":""},{"$f":"IF(Data!D685=\"\",\"\",Data!D685)","v":""},{"$f":"IF(Data!E685=\"\",\"\",Data!E685)","v":""},{"$f":"IF(Data!F685=\"\",\"\",Data!F685)","v":""},{"$f":"IF(Data!G685=\"\",\"\",Data!G685)","v":""},{"$f":"IF(Data!H685=\"\",\"\",Data!H685)","v":""},{"$f":"IF(Data!I685=\"\",\"\",Data!I685)","v":""},{"$f":"IF(Data!J685=\"\",\"\",Data!J685)","v":""},{"$f":"IF(Data!K685=\"\",\"\",Data!K685)","v":""},{"$f":"IF(Data!L685=\"\",\"\",Data!L685)","v":""},{"$f":"IF(Data!M685=\"\",\"\",Data!M685)","v":""},{"$f":"IF(Data!N685=\"\",\"\",Data!N685)","v":""},{"$f":"IF(Data!O685=\"\",\"\",Data!O685)","v":""},{"$f":"IF(Data!P685=\"\",\"\",Data!P685)","v":""},{"$f":"IF(Data!Q685=\"\",\"\",Data!Q685)","v":""},{"$f":"IF(Data!R685=\"\",\"\",Data!R685)","v":""},{"$f":"IF(Data!S685=\"\",\"\",Data!S685)","v":""},null,null,null,null,685]
[{"$f":"IF(Data!A686=\"\",\"\",Data!A686)","v":""},"",{"$f":"IF(Data!B686=\"\",\"\",Data!B686)","v":""},{"$f":"IF(Data!C686=\"\",\"\",Data!C686)","v":""},{"$f":"IF(Data!D686=\"\",\"\",Data!D686)","v":""},{"$f":"IF(Data!E686=\"\",\"\",Data!E686)","v":""},{"$f":"IF(Data!F686=\"\",\"\",Data!F686)","v":""},{"$f":"IF(Data!G686=\"\",\"\",Data!G686)","v":""},{"$f":"IF(Data!H686=\"\",\"\",Data!H686)","v":""},{"$f":"IF(Data!I686=\"\",\"\",Data!I686)","v":""},{"$f":"IF(Data!J686=\"\",\"\",Data!J686)","v":""},{"$f":"IF(Data!K686=\"\",\"\",Data!K686)","v":""},{"$f":"IF(Data!L686=\"\",\"\",Data!L686)","v":""},{"$f":"IF(Data!M686=\"\",\"\",Data!M686)","v":""},{"$f":"IF(Data!N686=\"\",\"\",Data!N686)","v":""},{"$f":"IF(Data!O686=\"\",\"\",Data!O686)","v":""},{"$f":"IF(Data!P686=\"\",\"\",Data!P686)","v":""},{"$f":"IF(Data!Q686=\"\",\"\",Data!Q686)","v":""},{"$f":"IF(Data!R686=\"\",\"\",Data!R686)","v":""},{"$f":"IF(Data!S686=\"\",\"\",Data!S686)","v":""},null,null,null,null,686]
[{"$f":"IF(Data!A687=\"\",\"\",Data!A687)","v":""},"",{"$f":"IF(Data!B687=\"\",\"\",Data!B687)","v":""},{"$f":"IF(Data!C687=\"\",\"\",Data!C687)","v":""},{"$f":"IF(Data!D687=\"\",\"\",Data!D687)","v":""},{"$f":"IF(Data!E687=\"\",\"\",Data!E687)","v":""},{"$f":"IF(Data!F687=\"\",\"\",Data!F687)","v":""},{"$f":"IF(Data!G687=\"\",\"\",Data!G687)","v":""},{"$f":"IF(Data!H687=\"\",\"\",Data!H687)","v":""},{"$f":"IF(Data!I687=\"\",\"\",Data!I687)","v":""},{"$f":"IF(Data!J687=\"\",\"\",Data!J687)","v":""},{"$f":"IF(Data!K687=\"\",\"\",Data!K687)","v":""},{"$f":"IF(Data!L687=\"\",\"\",Data!L687)","v":""},{"$f":"IF(Data!M687=\"\",\"\",Data!M687)","v":""},{"$f":"IF(Data!N687=\"\",\"\",Data!N687)","v":""},{"$f":"IF(Data!O687=\"\",\"\",Data!O687)","v":""},{"$f":"IF(Data!P687=\"\",\"\",Data!P687)","v":""},{"$f":"IF(Data!Q687=\"\",\"\",Data!Q687)","v":""},{"$f":"IF(Data!R687=\"\",\"\",Data!R687)","v":""},{"$f":"IF(Data!S687=\"\",\"\",Data!S687)","v":""},null,null,null,null,687]
[{"$f":"IF(Data!A688=\"\",\"\",Data!A688)","v":""},"",{"$f":"IF(Data!B688=\"\",\"\",Data!B688)","v":""},{"$f":"IF(Data!C688=\"\",\"\",Data!C688)","v":""},{"$f":"IF(Data!D688=\"\",\"\",Data!D688)","v":""},{"$f":"IF(Data!E688=\"\",\"\",Data!E688)","v":""},{"$f":"IF(Data!F688=\"\",\"\",Data!F688)","v":""},{"$f":"IF(Data!G688=\"\",\"\",Data!G688)","v":""},{"$f":"IF(Data!H688=\"\",\"\",Data!H688)","v":""},{"$f":"IF(Data!I688=\"\",\"\",Data!I688)","v":""},{"$f":"IF(Data!J688=\"\",\"\",Data!J688)","v":""},{"$f":"IF(Data!K688=\"\",\"\",Data!K688)","v":""},{"$f":"IF(Data!L688=\"\",\"\",Data!L688)","v":""},{"$f":"IF(Data!M688=\"\",\"\",Data!M688)","v":""},{"$f":"IF(Data!N688=\"\",\"\",Data!N688)","v":""},{"$f":"IF(Data!O688=\"\",\"\",Data!O688)","v":""},{"$f":"IF(Data!P688=\"\",\"\",Data!P688)","v":""},{"$f":"IF(Data!Q688=\"\",\"\",Data!Q688)","v":""},{"$f":"IF(Data!R688=\"\",\"\",Data!R688)","v":""},{"$f":"IF(Data!S688=\"\",\"\",Data!S688)","v":""},null,null,null,null,688]
[{"$f":"IF(Data!A689=\"\",\"\",Data!A689)","v":""},"",{"$f":"IF(Data!B689=\"\",\"\",Data!B689)","v":""},{"$f":"IF(Data!C689=\"\",\"\",Data!C689)","v":""},{"$f":"IF(Data!D689=\"\",\"\",Data!D689)","v":""},{"$f":"IF(Data!E689=\"\",\"\",Data!E689)","v":""},{"$f":"IF(Data!F689=\"\",\"\",Data!F689)","v":""},{"$f":"IF(Data!G689=\"\",\"\",Data!G689)","v":""},{"$f":"IF(Data!H689=\"\",\"\",Data!H689)","v":""},{"$f":"IF(Data!I689=\"\",\"\",Data!I689)","v":""},{"$f":"IF(Data!J689=\"\",\"\",Data!J689)","v":""},{"$f":"IF(Data!K689=\"\",\"\",Data!K689)","v":""},{"$f":"IF(Data!L689=\"\",\"\",Data!L689)","v":""},{"$f":"IF(Data!M689=\"\",\"\",Data!M689)","v":""},{"$f":"IF(Data!N689=\"\",\"\",Data!N689)","v":""},{"$f":"IF(Data!O689=\"\",\"\",Data!O689)","v":""},{"$f":"IF(Data!P689=\"\",\"\",Data!P689)","v":""},{"$f":"IF(Data!Q689=\"\",\"\",Data!Q689)","v":""},{"$f":"IF(Data!R689=\"\",\"\",Data!R689)","v":""},{"$f":"IF(Data!S689=\"\",\"\",Data!S689)","v":""},null,null,null,null,689]
[{"$f":"IF(Data!A690=\"\",\"\",Data!A690)","v":""},"",{"$f":"IF(Data!B690=\"\",\"\",Data!B690)","v":""},{"$f":"IF(Data!C690=\"\",\"\",Data!C690)","v":""},{"$f":"IF(Data!D690=\"\",\"\",Data!D690)","v":""},{"$f":"IF(Data!E690=\"\",\"\",Data!E690)","v":""},{"$f":"IF(Data!F690=\"\",\"\",Data!F690)","v":""},{"$f":"IF(Data!G690=\"\",\"\",Data!G690)","v":""},{"$f":"IF(Data!H690=\"\",\"\",Data!H690)","v":""},{"$f":"IF(Data!I690=\"\",\"\",Data!I690)","v":""},{"$f":"IF(Data!J690=\"\",\"\",Data!J690)","v":""},{"$f":"IF(Data!K690=\"\",\"\",Data!K690)","v":""},{"$f":"IF(Data!L690=\"\",\"\",Data!L690)","v":""},{"$f":"IF(Data!M690=\"\",\"\",Data!M690)","v":""},{"$f":"IF(Data!N690=\"\",\"\",Data!N690)","v":""},{"$f":"IF(Data!O690=\"\",\"\",Data!O690)","v":""},{"$f":"IF(Data!P690=\"\",\"\",Data!P690)","v":""},{"$f":"IF(Data!Q690=\"\",\"\",Data!Q690)","v":""},{"$f":"IF(Data!R690=\"\",\"\",Data!R690)","v":""},{"$f":"IF(Data!S690=\"\",\"\",Data!S690)","v":""},null,null,null,null,690]
[{"$f":"IF(Data!A691=\"\",\"\",Data!A691)","v":""},"",{"$f":"IF(Data!B691=\"\",\"\",Data!B691)","v":""},{"$f":"IF(Data!C691=\"\",\"\",Data!C691)","v":""},{"$f":"IF(Data!D691=\"\",\"\",Data!D691)","v":""},{"$f":"IF(Data!E691=\"\",\"\",Data!E691)","v":""},{"$f":"IF(Data!F691=\"\",\"\",Data!F691)","v":""},{"$f":"IF(Data!G691=\"\",\"\",Data!G691)","v":""},{"$f":"IF(Data!H691=\"\",\"\",Data!H691)","v":""},{"$f":"IF(Data!I691=\"\",\"\",Data!I691)","v":""},{"$f":"IF(Data!J691=\"\",\"\",Data!J691)","v":""},{"$f":"IF(Data!K691=\"\",\"\",Data!K691)","v":""},{"$f":"IF(Data!L691=\"\",\"\",Data!L691)","v":""},{"$f":"IF(Data!M691=\"\",\"\",Data!M691)","v":""},{"$f":"IF(Data!N691=\"\",\"\",Data!N691)","v":""},{"$f":"IF(Data!O691=\"\",\"\",Data!O691)","v":""},{"$f":"IF(Data!P691=\"\",\"\",Data!P691)","v":""},{"$f":"IF(Data!Q691=\"\",\"\",Data!Q691)","v":""},{"$f":"IF(Data!R691=\"\",\"\",Data!R691)","v":""},{"$f":"IF(Data!S691=\"\",\"\",Data!S691)","v":""},null,null,null,null,691]
[{"$f":"IF(Data!A692=\"\",\"\",Data!A692)","v":""},"",{"$f":"IF(Data!B692=\"\",\"\",Data!B692)","v":""},{"$f":"IF(Data!C692=\"\",\"\",Data!C692)","v":""},{"$f":"IF(Data!D692=\"\",\"\",Data!D692)","v":""},{"$f":"IF(Data!E692=\"\",\"\",Data!E692)","v":""},{"$f":"IF(Data!F692=\"\",\"\",Data!F692)","v":""},{"$f":"IF(Data!G692=\"\",\"\",Data!G692)","v":""},{"$f":"IF(Data!H692=\"\",\"\",Data!H692)","v":""},{"$f":"IF(Data!I692=\"\",\"\",Data!I692)","v":""},{"$f":"IF(Data!J692=\"\",\"\",Data!J692)","v":""},{"$f":"IF(Data!K692=\"\",\"\",Data!K692)","v":""},{"$f":"IF(Data!L692=\"\",\"\",Data!L692)","v":""},{"$f":"IF(Data!M692=\"\",\"\",Data!M692)","v":""},{"$f":"IF(Data!N692=\"\",\"\",Data!N692)","v":""},{"$f":"IF(Data!O692=\"\",\"\",Data!O692)","v":""},{"$f":"IF(Data!P692=\"\",\"\",Data!P692)","v":""},{"$f":"IF(Data!Q692=\"\",\"\",Data!Q692)","v":""},{"$f":"IF(Data!R692=\"\",\"\",Data!R692)","v":""},{"$f":"IF(Data!S692=\"\",\"\",Data!S692)","v":""},null,null,null,null,692]
[{"$f":"IF(Data!A693=\"\",\"\",Data!A693)","v":""},"",{"$f":"IF(Data!B693=\"\",\"\",Data!B693)","v":""},{"$f":"IF(Data!C693=\"\",\"\",Data!C693)","v":""},{"$f":"IF(Data!D693=\"\",\"\",Data!D693)","v":""},{"$f":"IF(Data!E693=\"\",\"\",Data!E693)","v":""},{"$f":"IF(Data!F693=\"\",\"\",Data!F693)","v":""},{"$f":"IF(Data!G693=\"\",\"\",Data!G693)","v":""},{"$f":"IF(Data!H693=\"\",\"\",Data!H693)","v":""},{"$f":"IF(Data!I693=\"\",\"\",Data!I693)","v":""},{"$f":"IF(Data!J693=\"\",\"\",Data!J693)","v":""},{"$f":"IF(Data!K693=\"\",\"\",Data!K693)","v":""},{"$f":"IF(Data!L693=\"\",\"\",Data!L693)","v":""},{"$f":"IF(Data!M693=\"\",\"\",Data!M693)","v":""},{"$f":"IF(Data!N693=\"\",\"\",Data!N693)","v":""},{"$f":"IF(Data!O693=\"\",\"\",Data!O693)","v":""},{"$f":"IF(Data!P693=\"\",\"\",Data!P693)","v":""},{"$f":"IF(Data!Q693=\"\",\"\",Data!Q693)","v":""},{"$f":"IF(Data!R693=\"\",\"\",Data!R693)","v":""},{"$f":"IF(Data!S693=\"\",\"\",Data!S693)","v":""},null,null,null,null,693]
[{"$f":"IF(Data!A694=\"\",\"\",Data!A694)","v":""},"",{"$f":"IF(Data!B694=\"\",\"\",Data!B694)","v":""},{"$f":"IF(Data!C694=\"\",\"\",Data!C694)","v":""},{"$f":"IF(Data!D694=\"\",\"\",Data!D694)","v":""},{"$f":"IF(Data!E694=\"\",\"\",Data!E694)","v":""},{"$f":"IF(Data!F694=\"\",\"\",Data!F694)","v":""},{"$f":"IF(Data!G694=\"\",\"\",Data!G694)","v":""},{"$f":"IF(Data!H694=\"\",\"\",Data!H694)","v":""},{"$f":"IF(Data!I694=\"\",\"\",Data!I694)","v":""},{"$f":"IF(Data!J694=\"\",\"\",Data!J694)","v":""},{"$f":"IF(Data!K694=\"\",\"\",Data!K694)","v":""},{"$f":"IF(Data!L694=\"\",\"\",Data!L694)","v":""},{"$f":"IF(Data!M694=\"\",\"\",Data!M694)","v":""},{"$f":"IF(Data!N694=\"\",\"\",Data!N694)","v":""},{"$f":"IF(Data!O694=\"\",\"\",Data!O694)","v":""},{"$f":"IF(Data!P694=\"\",\"\",Data!P694)","v":""},{"$f":"IF(Data!Q694=\"\",\"\",Data!Q694)","v":""},{"$f":"IF(Data!R694=\"\",\"\",Data!R694)","v":""},{"$f":"IF(Data!S694=\"\",\"\",Data!S694)","v":""},null,null,null,null,694]
[{"$f":"IF(Data!A695=\"\",\"\",Data!A695)","v":""},"",{"$f":"IF(Data!B695=\"\",\"\",Data!B695)","v":""},{"$f":"IF(Data!C695=\"\",\"\",Data!C695)","v":""},{"$f":"IF(Data!D695=\"\",\"\",Data!D695)","v":""},{"$f":"IF(Data!E695=\"\",\"\",Data!E695)","v":""},{"$f":"IF(Data!F695=\"\",\"\",Data!F695)","v":""},{"$f":"IF(Data!G695=\"\",\"\",Data!G695)","v":""},{"$f":"IF(Data!H695=\"\",\"\",Data!H695)","v":""},{"$f":"IF(Data!I695=\"\",\"\",Data!I695)","v":""},{"$f":"IF(Data!J695=\"\",\"\",Data!J695)","v":""},{"$f":"IF(Data!K695=\"\",\"\",Data!K695)","v":""},{"$f":"IF(Data!L695=\"\",\"\",Data!L695)","v":""},{"$f":"IF(Data!M695=\"\",\"\",Data!M695)","v":""},{"$f":"IF(Data!N695=\"\",\"\",Data!N695)","v":""},{"$f":"IF(Data!O695=\"\",\"\",Data!O695)","v":""},{"$f":"IF(Data!P695=\"\",\"\",Data!P695)","v":""},{"$f":"IF(Data!Q695=\"\",\"\",Data!Q695)","v":""},{"$f":"IF(Data!R695=\"\",\"\",Data!R695)","v":""},{"$f":"IF(Data!S695=\"\",\"\",Data!S695)","v":""},null,null,null,null,695]
[{"$f":"IF(Data!A696=\"\",\"\",Data!A696)","v":""},"",{"$f":"IF(Data!B696=\"\",\"\",Data!B696)","v":""},{"$f":"IF(Data!C696=\"\",\"\",Data!C696)","v":""},{"$f":"IF(Data!D696=\"\",\"\",Data!D696)","v":""},{"$f":"IF(Data!E696=\"\",\"\",Data!E696)","v":""},{"$f":"IF(Data!F696=\"\",\"\",Data!F696)","v":""},{"$f":"IF(Data!G696=\"\",\"\",Data!G696)","v":""},{"$f":"IF(Data!H696=\"\",\"\",Data!H696)","v":""},{"$f":"IF(Data!I696=\"\",\"\",Data!I696)","v":""},{"$f":"IF(Data!J696=\"\",\"\",Data!J696)","v":""},{"$f":"IF(Data!K696=\"\",\"\",Data!K696)","v":""},{"$f":"IF(Data!L696=\"\",\"\",Data!L696)","v":""},{"$f":"IF(Data!M696=\"\",\"\",Data!M696)","v":""},{"$f":"IF(Data!N696=\"\",\"\",Data!N696)","v":""},{"$f":"IF(Data!O696=\"\",\"\",Data!O696)","v":""},{"$f":"IF(Data!P696=\"\",\"\",Data!P696)","v":""},{"$f":"IF(Data!Q696=\"\",\"\",Data!Q696)","v":""},{"$f":"IF(Data!R696=\"\",\"\",Data!R696)","v":""},{"$f":"IF(Data!S696=\"\",\"\",Data!S696)","v":""},null,null,null,null,696]
[{"$f":"IF(Data!A697=\"\",\"\",Data!A697)","v":""},"",{"$f":"IF(Data!B697=\"\",\"\",Data!B697)","v":""},{"$f":"IF(Data!C697=\"\",\"\",Data!C697)","v":""},{"$f":"IF(Data!D697=\"\",\"\",Data!D697)","v":""},{"$f":"IF(Data!E697=\"\",\"\",Data!E697)","v":""},{"$f":"IF(Data!F697=\"\",\"\",Data!F697)","v":""},{"$f":"IF(Data!G697=\"\",\"\",Data!G697)","v":""},{"$f":"IF(Data!H697=\"\",\"\",Data!H697)","v":""},{"$f":"IF(Data!I697=\"\",\"\",Data!I697)","v":""},{"$f":"IF(Data!J697=\"\",\"\",Data!J697)","v":""},{"$f":"IF(Data!K697=\"\",\"\",Data!K697)","v":""},{"$f":"IF(Data!L697=\"\",\"\",Data!L697)","v":""},{"$f":"IF(Data!M697=\"\",\"\",Data!M697)","v":""},{"$f":"IF(Data!N697=\"\",\"\",Data!N697)","v":""},{"$f":"IF(Data!O697=\"\",\"\",Data!O697)","v":""},{"$f":"IF(Data!P697=\"\",\"\",Data!P697)","v":""},{"$f":"IF(Data!Q697=\"\",\"\",Data!Q697)","v":""},{"$f":"IF(Data!R697=\"\",\"\",Data!R697)","v":""},{"$f":"IF(Data!S697=\"\",\"\",Data!S697)","v":""},null,null,null,null,697]
[{"$f":"IF(Data!A698=\"\",\"\",Data!A698)","v":""},"",{"$f":"IF(Data!B698=\"\",\"\",Data!B698)","v":""},{"$f":"IF(Data!C698=\"\",\"\",Data!C698)","v":""},{"$f":"IF(Data!D698=\"\",\"\",Data!D698)","v":""},{"$f":"IF(Data!E698=\"\",\"\",Data!E698)","v":""},{"$f":"IF(Data!F698=\"\",\"\",Data!F698)","v":""},{"$f":"IF(Data!G698=\"\",\"\",Data!G698)","v":""},{"$f":"IF(Data!H698=\"\",\"\",Data!H698)","v":""},{"$f":"IF(Data!I698=\"\",\"\",Data!I698)","v":""},{"$f":"IF(Data!J698=\"\",\"\",Data!J698)","v":""},{"$f":"IF(Data!K698=\"\",\"\",Data!K698)","v":""},{"$f":"IF(Data!L698=\"\",\"\",Data!L698)","v":""},{"$f":"IF(Data!M698=\"\",\"\",Data!M698)","v":""},{"$f":"IF(Data!N698=\"\",\"\",Data!N698)","v":""},{"$f":"IF(Data!O698=\"\",\"\",Data!O698)","v":""},{"$f":"IF(Data!P698=\"\",\"\",Data!P698)","v":""},{"$f":"IF(Data!Q698=\"\",\"\",Data!Q698)","v":""},{"$f":"IF(Data!R698=\"\",\"\",Data!R698)","v":""},{"$f":"IF(Data!S698=\"\",\"\",Data!S698)","v":""},null,null,null,null,698]
[{"$f":"IF(Data!A699=\"\",\"\",Data!A699)","v":""},"",{"$f":"IF(Data!B699=\"\",\"\",Data!B699)","v":""},{"$f":"IF(Data!C699=\"\",\"\",Data!C699)","v":""},{"$f":"IF(Data!D699=\"\",\"\",Data!D699)","v":""},{"$f":"IF(Data!E699=\"\",\"\",Data!E699)","v":""},{"$f":"IF(Data!F699=\"\",\"\",Data!F699)","v":""},{"$f":"IF(Data!G699=\"\",\"\",Data!G699)","v":""},{"$f":"IF(Data!H699=\"\",\"\",Data!H699)","v":""},{"$f":"IF(Data!I699=\"\",\"\",Data!I699)","v":""},{"$f":"IF(Data!J699=\"\",\"\",Data!J699)","v":""},{"$f":"IF(Data!K699=\"\",\"\",Data!K699)","v":""},{"$f":"IF(Data!L699=\"\",\"\",Data!L699)","v":""},{"$f":"IF(Data!M699=\"\",\"\",Data!M699)","v":""},{"$f":"IF(Data!N699=\"\",\"\",Data!N699)","v":""},{"$f":"IF(Data!O699=\"\",\"\",Data!O699)","v":""},{"$f":"IF(Data!P699=\"\",\"\",Data!P699)","v":""},{"$f":"IF(Data!Q699=\"\",\"\",Data!Q699)","v":""},{"$f":"IF(Data!R699=\"\",\"\",Data!R699)","v":""},{"$f":"IF(Data!S699=\"\",\"\",Data!S699)","v":""},null,null,null,null,699]
[{"$f":"IF(Data!A700=\"\",\"\",Data!A700)","v":""},"",{"$f":"IF(Data!B700=\"\",\"\",Data!B700)","v":""},{"$f":"IF(Data!C700=\"\",\"\",Data!C700)","v":""},{"$f":"IF(Data!D700=\"\",\"\",Data!D700)","v":""},{"$f":"IF(Data!E700=\"\",\"\",Data!E700)","v":""},{"$f":"IF(Data!F700=\"\",\"\",Data!F700)","v":""},{"$f":"IF(Data!G700=\"\",\"\",Data!G700)","v":""},{"$f":"IF(Data!H700=\"\",\"\",Data!H700)","v":""},{"$f":"IF(Data!I700=\"\",\"\",Data!I700)","v":""},{"$f":"IF(Data!J700=\"\",\"\",Data!J700)","v":""},{"$f":"IF(Data!K700=\"\",\"\",Data!K700)","v":""},{"$f":"IF(Data!L700=\"\",\"\",Data!L700)","v":""},{"$f":"IF(Data!M700=\"\",\"\",Data!M700)","v":""},{"$f":"IF(Data!N700=\"\",\"\",Data!N700)","v":""},{"$f":"IF(Data!O700=\"\",\"\",Data!O700)","v":""},{"$f":"IF(Data!P700=\"\",\"\",Data!P700)","v":""},{"$f":"IF(Data!Q700=\"\",\"\",Data!Q700)","v":""},{"$f":"IF(Data!R700=\"\",\"\",Data!R700)","v":""},{"$f":"IF(Data!S700=\"\",\"\",Data!S700)","v":""},null,null,null,null,700]
[{"$f":"IF(Data!A701=\"\",\"\",Data!A701)","v":""},"",{"$f":"IF(Data!B701=\"\",\"\",Data!B701)","v":""},{"$f":"IF(Data!C701=\"\",\"\",Data!C701)","v":""},{"$f":"IF(Data!D701=\"\",\"\",Data!D701)","v":""},{"$f":"IF(Data!E701=\"\",\"\",Data!E701)","v":""},{"$f":"IF(Data!F701=\"\",\"\",Data!F701)","v":""},{"$f":"IF(Data!G701=\"\",\"\",Data!G701)","v":""},{"$f":"IF(Data!H701=\"\",\"\",Data!H701)","v":""},{"$f":"IF(Data!I701=\"\",\"\",Data!I701)","v":""},{"$f":"IF(Data!J701=\"\",\"\",Data!J701)","v":""},{"$f":"IF(Data!K701=\"\",\"\",Data!K701)","v":""},{"$f":"IF(Data!L701=\"\",\"\",Data!L701)","v":""},{"$f":"IF(Data!M701=\"\",\"\",Data!M701)","v":""},{"$f":"IF(Data!N701=\"\",\"\",Data!N701)","v":""},{"$f":"IF(Data!O701=\"\",\"\",Data!O701)","v":""},{"$f":"IF(Data!P701=\"\",\"\",Data!P701)","v":""},{"$f":"IF(Data!Q701=\"\",\"\",Data!Q701)","v":""},{"$f":"IF(Data!R701=\"\",\"\",Data!R701)","v":""},{"$f":"IF(Data!S701=\"\",\"\",Data!S701)","v":""},null,null,null,null,701]
[{"$f":"IF(Data!A702=\"\",\"\",Data!A702)","v":""},"",{"$f":"IF(Data!B702=\"\",\"\",Data!B702)","v":""},{"$f":"IF(Data!C702=\"\",\"\",Data!C702)","v":""},{"$f":"IF(Data!D702=\"\",\"\",Data!D702)","v":""},{"$f":"IF(Data!E702=\"\",\"\",Data!E702)","v":""},{"$f":"IF(Data!F702=\"\",\"\",Data!F702)","v":""},{"$f":"IF(Data!G702=\"\",\"\",Data!G702)","v":""},{"$f":"IF(Data!H702=\"\",\"\",Data!H702)","v":""},{"$f":"IF(Data!I702=\"\",\"\",Data!I702)","v":""},{"$f":"IF(Data!J702=\"\",\"\",Data!J702)","v":""},{"$f":"IF(Data!K702=\"\",\"\",Data!K702)","v":""},{"$f":"IF(Data!L702=\"\",\"\",Data!L702)","v":""},{"$f":"IF(Data!M702=\"\",\"\",Data!M702)","v":""},{"$f":"IF(Data!N702=\"\",\"\",Data!N702)","v":""},{"$f":"IF(Data!O702=\"\",\"\",Data!O702)","v":""},{"$f":"IF(Data!P702=\"\",\"\",Data!P702)","v":""},{"$f":"IF(Data!Q702=\"\",\"\",Data!Q702)","v":""},{"$f":"IF(Data!R702=\"\",\"\",Data!R702)","v":""},{"$f":"IF(Data!S702=\"\",\"\",Data!S702)","v":""},null,null,null,null,702]
[{"$f":"IF(Data!A703=\"\",\"\",Data!A703)","v":""},"",{"$f":"IF(Data!B703=\"\",\"\",Data!B703)","v":""},{"$f":"IF(Data!C703=\"\",\"\",Data!C703)","v":""},{"$f":"IF(Data!D703=\"\",\"\",Data!D703)","v":""},{"$f":"IF(Data!E703=\"\",\"\",Data!E703)","v":""},{"$f":"IF(Data!F703=\"\",\"\",Data!F703)","v":""},{"$f":"IF(Data!G703=\"\",\"\",Data!G703)","v":""},{"$f":"IF(Data!H703=\"\",\"\",Data!H703)","v":""},{"$f":"IF(Data!I703=\"\",\"\",Data!I703)","v":""},{"$f":"IF(Data!J703=\"\",\"\",Data!J703)","v":""},{"$f":"IF(Data!K703=\"\",\"\",Data!K703)","v":""},{"$f":"IF(Data!L703=\"\",\"\",Data!L703)","v":""},{"$f":"IF(Data!M703=\"\",\"\",Data!M703)","v":""},{"$f":"IF(Data!N703=\"\",\"\",Data!N703)","v":""},{"$f":"IF(Data!O703=\"\",\"\",Data!O703)","v":""},{"$f":"IF(Data!P703=\"\",\"\",Data!P703)","v":""},{"$f":"IF(Data!Q703=\"\",\"\",Data!Q703)","v":""},{"$f":"IF(Data!R703=\"\",\"\",Data!R703)","v":""},{"$f":"IF(Data!S703=\"\",\"\",Data!S703)","v":""},null,null,null,null,703]
[{"$f":"IF(Data!A704=\"\",\"\",Data!A704)","v":""},"",{"$f":"IF(Data!B704=\"\",\"\",Data!B704)","v":""},{"$f":"IF(Data!C704=\"\",\"\",Data!C704)","v":""},{"$f":"IF(Data!D704=\"\",\"\",Data!D704)","v":""},{"$f":"IF(Data!E704=\"\",\"\",Data!E704)","v":""},{"$f":"IF(Data!F704=\"\",\"\",Data!F704)","v":""},{"$f":"IF(Data!G704=\"\",\"\",Data!G704)","v":""},{"$f":"IF(Data!H704=\"\",\"\",Data!H704)","v":""},{"$f":"IF(Data!I704=\"\",\"\",Data!I704)","v":""},{"$f":"IF(Data!J704=\"\",\"\",Data!J704)","v":""},{"$f":"IF(Data!K704=\"\",\"\",Data!K704)","v":""},{"$f":"IF(Data!L704=\"\",\"\",Data!L704)","v":""},{"$f":"IF(Data!M704=\"\",\"\",Data!M704)","v":""},{"$f":"IF(Data!N704=\"\",\"\",Data!N704)","v":""},{"$f":"IF(Data!O704=\"\",\"\",Data!O704)","v":""},{"$f":"IF(Data!P704=\"\",\"\",Data!P704)","v":""},{"$f":"IF(Data!Q704=\"\",\"\",Data!Q704)","v":""},{"$f":"IF(Data!R704=\"\",\"\",Data!R704)","v":""},{"$f":"IF(Data!S704=\"\",\"\",Data!S704)","v":""},null,null,null,null,704]
[{"$f":"IF(Data!A705=\"\",\"\",Data!A705)","v":""},{"$f":"IF(A706=\"\",\"\",Y706)","v":""},{"$f":"IF(Data!B705=\"\",\"\",Data!B705)","v":""},{"$f":"IF(Data!C705=\"\",\"\",Data!C705)","v":""},{"$f":"IF(Data!D705=\"\",\"\",Data!D705)","v":""},{"$f":"IF(Data!E705=\"\",\"\",Data!E705)","v":""},{"$f":"IF(Data!F705=\"\",\"\",Data!F705)","v":""},{"$f":"IF(Data!G705=\"\",\"\",Data!G705)","v":""},{"$f":"IF(Data!H705=\"\",\"\",Data!H705)","v":""},{"$f":"IF(Data!I705=\"\",\"\",Data!I705)","v":""},{"$f":"IF(Data!J705=\"\",\"\",Data!J705)","v":""},{"$f":"IF(Data!K705=\"\",\"\",Data!K705)","v":""},{"$f":"IF(Data!L705=\"\",\"\",Data!L705)","v":""},{"$f":"IF(Data!M705=\"\",\"\",Data!M705)","v":""},{"$f":"IF(Data!N705=\"\",\"\",Data!N705)","v":""},{"$f":"IF(Data!O705=\"\",\"\",Data!O705)","v":""},{"$f":"IF(Data!P705=\"\",\"\",Data!P705)","v":""},{"$f":"IF(Data!Q705=\"\",\"\",Data!Q705)","v":""},{"$f":"IF(Data!R705=\"\",\"\",Data!R705)","v":""},{"$f":"IF(Data!S705=\"\",\"\",Data!S705)","v":""},null,null,null,null,705]
[{"$f":"IF(Data!A706=\"\",\"\",Data!A706)","v":""},"",{"$f":"IF(Data!B706=\"\",\"\",Data!B706)","v":""},{"$f":"IF(Data!C706=\"\",\"\",Data!C706)","v":""},{"$f":"IF(Data!D706=\"\",\"\",Data!D706)","v":""},{"$f":"IF(Data!E706=\"\",\"\",Data!E706)","v":""},{"$f":"IF(Data!F706=\"\",\"\",Data!F706)","v":""},{"$f":"IF(Data!G706=\"\",\"\",Data!G706)","v":""},{"$f":"IF(Data!H706=\"\",\"\",Data!H706)","v":""},{"$f":"IF(Data!I706=\"\",\"\",Data!I706)","v":""},{"$f":"IF(Data!J706=\"\",\"\",Data!J706)","v":""},{"$f":"IF(Data!K706=\"\",\"\",Data!K706)","v":""},{"$f":"IF(Data!L706=\"\",\"\",Data!L706)","v":""},{"$f":"IF(Data!M706=\"\",\"\",Data!M706)","v":""},{"$f":"IF(Data!N706=\"\",\"\",Data!N706)","v":""},{"$f":"IF(Data!O706=\"\",\"\",Data!O706)","v":""},{"$f":"IF(Data!P706=\"\",\"\",Data!P706)","v":""},{"$f":"IF(Data!Q706=\"\",\"\",Data!Q706)","v":""},{"$f":"IF(Data!R706=\"\",\"\",Data!R706)","v":""},{"$f":"IF(Data!S706=\"\",\"\",Data!S706)","v":""},null,null,null,null,706]
[{"$f":"IF(Data!A707=\"\",\"\",Data!A707)","v":""},"",{"$f":"IF(Data!B707=\"\",\"\",Data!B707)","v":""},{"$f":"IF(Data!C707=\"\",\"\",Data!C707)","v":""},{"$f":"IF(Data!D707=\"\",\"\",Data!D707)","v":""},{"$f":"IF(Data!E707=\"\",\"\",Data!E707)","v":""},{"$f":"IF(Data!F707=\"\",\"\",Data!F707)","v":""},{"$f":"IF(Data!G707=\"\",\"\",Data!G707)","v":""},{"$f":"IF(Data!H707=\"\",\"\",Data!H707)","v":""},{"$f":"IF(Data!I707=\"\",\"\",Data!I707)","v":""},{"$f":"IF(Data!J707=\"\",\"\",Data!J707)","v":""},{"$f":"IF(Data!K707=\"\",\"\",Data!K707)","v":""},{"$f":"IF(Data!L707=\"\",\"\",Data!L707)","v":""},{"$f":"IF(Data!M707=\"\",\"\",Data!M707)","v":""},{"$f":"IF(Data!N707=\"\",\"\",Data!N707)","v":""},{"$f":"IF(Data!O707=\"\",\"\",Data!O707)","v":""},{"$f":"IF(Data!P707=\"\",\"\",Data!P707)","v":""},{"$f":"IF(Data!Q707=\"\",\"\",Data!Q707)","v":""},{"$f":"IF(Data!R707=\"\",\"\",Data!R707)","v":""},{"$f":"IF(Data!S707=\"\",\"\",Data!S707)","v":""},null,null,null,null,707]
[{"$f":"IF(Data!A708=\"\",\"\",Data!A708)","v":""},"",{"$f":"IF(Data!B708=\"\",\"\",Data!B708)","v":""},{"$f":"IF(Data!C708=\"\",\"\",Data!C708)","v":""},{"$f":"IF(Data!D708=\"\",\"\",Data!D708)","v":""},{"$f":"IF(Data!E708=\"\",\"\",Data!E708)","v":""},{"$f":"IF(Data!F708=\"\",\"\",Data!F708)","v":""},{"$f":"IF(Data!G708=\"\",\"\",Data!G708)","v":""},{"$f":"IF(Data!H708=\"\",\"\",Data!H708)","v":""},{"$f":"IF(Data!I708=\"\",\"\",Data!I708)","v":""},{"$f":"IF(Data!J708=\"\",\"\",Data!J708)","v":""},{"$f":"IF(Data!K708=\"\",\"\",Data!K708)","v":""},{"$f":"IF(Data!L708=\"\",\"\",Data!L708)","v":""},{"$f":"IF(Data!M708=\"\",\"\",Data!M708)","v":""},{"$f":"IF(Data!N708=\"\",\"\",Data!N708)","v":""},{"$f":"IF(Data!O708=\"\",\"\",Data!O708)","v":""},{"$f":"IF(Data!P708=\"\",\"\",Data!P708)","v":""},{"$f":"IF(Data!Q708=\"\",\"\",Data!Q708)","v":""},{"$f":"IF(Data!R708=\"\",\"\",Data!R708)","v":""},{"$f":"IF(Data!S708=\"\",\"\",Data!S708)","v":""},null,null,null,null,708]
[{"$f":"IF(Data!A709=\"\",\"\",Data!A709)","v":""},"",{"$f":"IF(Data!B709=\"\",\"\",Data!B709)","v":""},{"$f":"IF(Data!C709=\"\",\"\",Data!C709)","v":""},{"$f":"IF(Data!D709=\"\",\"\",Data!D709)","v":""},{"$f":"IF(Data!E709=\"\",\"\",Data!E709)","v":""},{"$f":"IF(Data!F709=\"\",\"\",Data!F709)","v":""},{"$f":"IF(Data!G709=\"\",\"\",Data!G709)","v":""},{"$f":"IF(Data!H709=\"\",\"\",Data!H709)","v":""},{"$f":"IF(Data!I709=\"\",\"\",Data!I709)","v":""},{"$f":"IF(Data!J709=\"\",\"\",Data!J709)","v":""},{"$f":"IF(Data!K709=\"\",\"\",Data!K709)","v":""},{"$f":"IF(Data!L709=\"\",\"\",Data!L709)","v":""},{"$f":"IF(Data!M709=\"\",\"\",Data!M709)","v":""},{"$f":"IF(Data!N709=\"\",\"\",Data!N709)","v":""},{"$f":"IF(Data!O709=\"\",\"\",Data!O709)","v":""},{"$f":"IF(Data!P709=\"\",\"\",Data!P709)","v":""},{"$f":"IF(Data!Q709=\"\",\"\",Data!Q709)","v":""},{"$f":"IF(Data!R709=\"\",\"\",Data!R709)","v":""},{"$f":"IF(Data!S709=\"\",\"\",Data!S709)","v":""},null,null,null,null,709]
[{"$f":"IF(Data!A710=\"\",\"\",Data!A710)","v":""},"",{"$f":"IF(Data!B710=\"\",\"\",Data!B710)","v":""},{"$f":"IF(Data!C710=\"\",\"\",Data!C710)","v":""},{"$f":"IF(Data!D710=\"\",\"\",Data!D710)","v":""},{"$f":"IF(Data!E710=\"\",\"\",Data!E710)","v":""},{"$f":"IF(Data!F710=\"\",\"\",Data!F710)","v":""},{"$f":"IF(Data!G710=\"\",\"\",Data!G710)","v":""},{"$f":"IF(Data!H710=\"\",\"\",Data!H710)","v":""},{"$f":"IF(Data!I710=\"\",\"\",Data!I710)","v":""},{"$f":"IF(Data!J710=\"\",\"\",Data!J710)","v":""},{"$f":"IF(Data!K710=\"\",\"\",Data!K710)","v":""},{"$f":"IF(Data!L710=\"\",\"\",Data!L710)","v":""},{"$f":"IF(Data!M710=\"\",\"\",Data!M710)","v":""},{"$f":"IF(Data!N710=\"\",\"\",Data!N710)","v":""},{"$f":"IF(Data!O710=\"\",\"\",Data!O710)","v":""},{"$f":"IF(Data!P710=\"\",\"\",Data!P710)","v":""},{"$f":"IF(Data!Q710=\"\",\"\",Data!Q710)","v":""},{"$f":"IF(Data!R710=\"\",\"\",Data!R710)","v":""},{"$f":"IF(Data!S710=\"\",\"\",Data!S710)","v":""},null,null,null,null,710]
[{"$f":"IF(Data!A711=\"\",\"\",Data!A711)","v":""},"",{"$f":"IF(Data!B711=\"\",\"\",Data!B711)","v":""},{"$f":"IF(Data!C711=\"\",\"\",Data!C711)","v":""},{"$f":"IF(Data!D711=\"\",\"\",Data!D711)","v":""},{"$f":"IF(Data!E711=\"\",\"\",Data!E711)","v":""},{"$f":"IF(Data!F711=\"\",\"\",Data!F711)","v":""},{"$f":"IF(Data!G711=\"\",\"\",Data!G711)","v":""},{"$f":"IF(Data!H711=\"\",\"\",Data!H711)","v":""},{"$f":"IF(Data!I711=\"\",\"\",Data!I711)","v":""},{"$f":"IF(Data!J711=\"\",\"\",Data!J711)","v":""},{"$f":"IF(Data!K711=\"\",\"\",Data!K711)","v":""},{"$f":"IF(Data!L711=\"\",\"\",Data!L711)","v":""},{"$f":"IF(Data!M711=\"\",\"\",Data!M711)","v":""},{"$f":"IF(Data!N711=\"\",\"\",Data!N711)","v":""},{"$f":"IF(Data!O711=\"\",\"\",Data!O711)","v":""},{"$f":"IF(Data!P711=\"\",\"\",Data!P711)","v":""},{"$f":"IF(Data!Q711=\"\",\"\",Data!Q711)","v":""},{"$f":"IF(Data!R711=\"\",\"\",Data!R711)","v":""},{"$f":"IF(Data!S711=\"\",\"\",Data!S711)","v":""},null,null,null,null,711]
[{"$f":"IF(Data!A712=\"\",\"\",Data!A712)","v":""},"",{"$f":"IF(Data!B712=\"\",\"\",Data!B712)","v":""},{"$f":"IF(Data!C712=\"\",\"\",Data!C712)","v":""},{"$f":"IF(Data!D712=\"\",\"\",Data!D712)","v":""},{"$f":"IF(Data!E712=\"\",\"\",Data!E712)","v":""},{"$f":"IF(Data!F712=\"\",\"\",Data!F712)","v":""},{"$f":"IF(Data!G712=\"\",\"\",Data!G712)","v":""},{"$f":"IF(Data!H712=\"\",\"\",Data!H712)","v":""},{"$f":"IF(Data!I712=\"\",\"\",Data!I712)","v":""},{"$f":"IF(Data!J712=\"\",\"\",Data!J712)","v":""},{"$f":"IF(Data!K712=\"\",\"\",Data!K712)","v":""},{"$f":"IF(Data!L712=\"\",\"\",Data!L712)","v":""},{"$f":"IF(Data!M712=\"\",\"\",Data!M712)","v":""},{"$f":"IF(Data!N712=\"\",\"\",Data!N712)","v":""},{"$f":"IF(Data!O712=\"\",\"\",Data!O712)","v":""},{"$f":"IF(Data!P712=\"\",\"\",Data!P712)","v":""},{"$f":"IF(Data!Q712=\"\",\"\",Data!Q712)","v":""},{"$f":"IF(Data!R712=\"\",\"\",Data!R712)","v":""},{"$f":"IF(Data!S712=\"\",\"\",Data!S712)","v":""},null,null,null,null,712]
[{"$f":"IF(Data!A713=\"\",\"\",Data!A713)","v":""},"",{"$f":"IF(Data!B713=\"\",\"\",Data!B713)","v":""},{"$f":"IF(Data!C713=\"\",\"\",Data!C713)","v":""},{"$f":"IF(Data!D713=\"\",\"\",Data!D713)","v":""},{"$f":"IF(Data!E713=\"\",\"\",Data!E713)","v":""},{"$f":"IF(Data!F713=\"\",\"\",Data!F713)","v":""},{"$f":"IF(Data!G713=\"\",\"\",Data!G713)","v":""},{"$f":"IF(Data!H713=\"\",\"\",Data!H713)","v":""},{"$f":"IF(Data!I713=\"\",\"\",Data!I713)","v":""},{"$f":"IF(Data!J713=\"\",\"\",Data!J713)","v":""},{"$f":"IF(Data!K713=\"\",\"\",Data!K713)","v":""},{"$f":"IF(Data!L713=\"\",\"\",Data!L713)","v":""},{"$f":"IF(Data!M713=\"\",\"\",Data!M713)","v":""},{"$f":"IF(Data!N713=\"\",\"\",Data!N713)","v":""},{"$f":"IF(Data!O713=\"\",\"\",Data!O713)","v":""},{"$f":"IF(Data!P713=\"\",\"\",Data!P713)","v":""},{"$f":"IF(Data!Q713=\"\",\"\",Data!Q713)","v":""},{"$f":"IF(Data!R713=\"\",\"\",Data!R713)","v":""},{"$f":"IF(Data!S713=\"\",\"\",Data!S713)","v":""},null,null,null,null,713]
[{"$f":"IF(Data!A714=\"\",\"\",Data!A714)","v":""},"",{"$f":"IF(Data!B714=\"\",\"\",Data!B714)","v":""},{"$f":"IF(Data!C714=\"\",\"\",Data!C714)","v":""},{"$f":"IF(Data!D714=\"\",\"\",Data!D714)","v":""},{"$f":"IF(Data!E714=\"\",\"\",Data!E714)","v":""},{"$f":"IF(Data!F714=\"\",\"\",Data!F714)","v":""},{"$f":"IF(Data!G714=\"\",\"\",Data!G714)","v":""},{"$f":"IF(Data!H714=\"\",\"\",Data!H714)","v":""},{"$f":"IF(Data!I714=\"\",\"\",Data!I714)","v":""},{"$f":"IF(Data!J714=\"\",\"\",Data!J714)","v":""},{"$f":"IF(Data!K714=\"\",\"\",Data!K714)","v":""},{"$f":"IF(Data!L714=\"\",\"\",Data!L714)","v":""},{"$f":"IF(Data!M714=\"\",\"\",Data!M714)","v":""},{"$f":"IF(Data!N714=\"\",\"\",Data!N714)","v":""},{"$f":"IF(Data!O714=\"\",\"\",Data!O714)","v":""},{"$f":"IF(Data!P714=\"\",\"\",Data!P714)","v":""},{"$f":"IF(Data!Q714=\"\",\"\",Data!Q714)","v":""},{"$f":"IF(Data!R714=\"\",\"\",Data!R714)","v":""},{"$f":"IF(Data!S714=\"\",\"\",Data!S714)","v":""},null,null,null,null,714]
[{"$f":"IF(Data!A715=\"\",\"\",Data!A715)","v":""},"",{"$f":"IF(Data!B715=\"\",\"\",Data!B715)","v":""},{"$f":"IF(Data!C715=\"\",\"\",Data!C715)","v":""},{"$f":"IF(Data!D715=\"\",\"\",Data!D715)","v":""},{"$f":"IF(Data!E715=\"\",\"\",Data!E715)","v":""},{"$f":"IF(Data!F715=\"\",\"\",Data!F715)","v":""},{"$f":"IF(Data!G715=\"\",\"\",Data!G715)","v":""},{"$f":"IF(Data!H715=\"\",\"\",Data!H715)","v":""},{"$f":"IF(Data!I715=\"\",\"\",Data!I715)","v":""},{"$f":"IF(Data!J715=\"\",\"\",Data!J715)","v":""},{"$f":"IF(Data!K715=\"\",\"\",Data!K715)","v":""},{"$f":"IF(Data!L715=\"\",\"\",Data!L715)","v":""},{"$f":"IF(Data!M715=\"\",\"\",Data!M715)","v":""},{"$f":"IF(Data!N715=\"\",\"\",Data!N715)","v":""},{"$f":"IF(Data!O715=\"\",\"\",Data!O715)","v":""},{"$f":"IF(Data!P715=\"\",\"\",Data!P715)","v":""},{"$f":"IF(Data!Q715=\"\",\"\",Data!Q715)","v":""},{"$f":"IF(Data!R715=\"\",\"\",Data!R715)","v":""},{"$f":"IF(Data!S715=\"\",\"\",Data!S715)","v":""},null,null,null,null,715]
[{"$f":"IF(Data!A716=\"\",\"\",Data!A716)","v":""},"",{"$f":"IF(Data!B716=\"\",\"\",Data!B716)","v":""},{"$f":"IF(Data!C716=\"\",\"\",Data!C716)","v":""},{"$f":"IF(Data!D716=\"\",\"\",Data!D716)","v":""},{"$f":"IF(Data!E716=\"\",\"\",Data!E716)","v":""},{"$f":"IF(Data!F716=\"\",\"\",Data!F716)","v":""},{"$f":"IF(Data!G716=\"\",\"\",Data!G716)","v":""},{"$f":"IF(Data!H716=\"\",\"\",Data!H716)","v":""},{"$f":"IF(Data!I716=\"\",\"\",Data!I716)","v":""},{"$f":"IF(Data!J716=\"\",\"\",Data!J716)","v":""},{"$f":"IF(Data!K716=\"\",\"\",Data!K716)","v":""},{"$f":"IF(Data!L716=\"\",\"\",Data!L716)","v":""},{"$f":"IF(Data!M716=\"\",\"\",Data!M716)","v":""},{"$f":"IF(Data!N716=\"\",\"\",Data!N716)","v":""},{"$f":"IF(Data!O716=\"\",\"\",Data!O716)","v":""},{"$f":"IF(Data!P716=\"\",\"\",Data!P716)","v":""},{"$f":"IF(Data!Q716=\"\",\"\",Data!Q716)","v":""},{"$f":"IF(Data!R716=\"\",\"\",Data!R716)","v":""},{"$f":"IF(Data!S716=\"\",\"\",Data!S716)","v":""},null,null,null,null,716]
[{"$f":"IF(Data!A717=\"\",\"\",Data!A717)","v":""},"",{"$f":"IF(Data!B717=\"\",\"\",Data!B717)","v":""},{"$f":"IF(Data!C717=\"\",\"\",Data!C717)","v":""},{"$f":"IF(Data!D717=\"\",\"\",Data!D717)","v":""},{"$f":"IF(Data!E717=\"\",\"\",Data!E717)","v":""},{"$f":"IF(Data!F717=\"\",\"\",Data!F717)","v":""},{"$f":"IF(Data!G717=\"\",\"\",Data!G717)","v":""},{"$f":"IF(Data!H717=\"\",\"\",Data!H717)","v":""},{"$f":"IF(Data!I717=\"\",\"\",Data!I717)","v":""},{"$f":"IF(Data!J717=\"\",\"\",Data!J717)","v":""},{"$f":"IF(Data!K717=\"\",\"\",Data!K717)","v":""},{"$f":"IF(Data!L717=\"\",\"\",Data!L717)","v":""},{"$f":"IF(Data!M717=\"\",\"\",Data!M717)","v":""},{"$f":"IF(Data!N717=\"\",\"\",Data!N717)","v":""},{"$f":"IF(Data!O717=\"\",\"\",Data!O717)","v":""},{"$f":"IF(Data!P717=\"\",\"\",Data!P717)","v":""},{"$f":"IF(Data!Q717=\"\",\"\",Data!Q717)","v":""},{"$f":"IF(Data!R717=\"\",\"\",Data!R717)","v":""},{"$f":"IF(Data!S717=\"\",\"\",Data!S717)","v":""},null,null,null,null,717]
[{"$f":"IF(Data!A718=\"\",\"\",Data!A718)","v":""},"",{"$f":"IF(Data!B718=\"\",\"\",Data!B718)","v":""},{"$f":"IF(Data!C718=\"\",\"\",Data!C718)","v":""},{"$f":"IF(Data!D718=\"\",\"\",Data!D718)","v":""},{"$f":"IF(Data!E718=\"\",\"\",Data!E718)","v":""},{"$f":"IF(Data!F718=\"\",\"\",Data!F718)","v":""},{"$f":"IF(Data!G718=\"\",\"\",Data!G718)","v":""},{"$f":"IF(Data!H718=\"\",\"\",Data!H718)","v":""},{"$f":"IF(Data!I718=\"\",\"\",Data!I718)","v":""},{"$f":"IF(Data!J718=\"\",\"\",Data!J718)","v":""},{"$f":"IF(Data!K718=\"\",\"\",Data!K718)","v":""},{"$f":"IF(Data!L718=\"\",\"\",Data!L718)","v":""},{"$f":"IF(Data!M718=\"\",\"\",Data!M718)","v":""},{"$f":"IF(Data!N718=\"\",\"\",Data!N718)","v":""},{"$f":"IF(Data!O718=\"\",\"\",Data!O718)","v":""},{"$f":"IF(Data!P718=\"\",\"\",Data!P718)","v":""},{"$f":"IF(Data!Q718=\"\",\"\",Data!Q718)","v":""},{"$f":"IF(Data!R718=\"\",\"\",Data!R718)","v":""},{"$f":"IF(Data!S718=\"\",\"\",Data!S718)","v":""},null,null,null,null,718]
[{"$f":"IF(Data!A719=\"\",\"\",Data!A719)","v":""},"",{"$f":"IF(Data!B719=\"\",\"\",Data!B719)","v":""},{"$f":"IF(Data!C719=\"\",\"\",Data!C719)","v":""},{"$f":"IF(Data!D719=\"\",\"\",Data!D719)","v":""},{"$f":"IF(Data!E719=\"\",\"\",Data!E719)","v":""},{"$f":"IF(Data!F719=\"\",\"\",Data!F719)","v":""},{"$f":"IF(Data!G719=\"\",\"\",Data!G719)","v":""},{"$f":"IF(Data!H719=\"\",\"\",Data!H719)","v":""},{"$f":"IF(Data!I719=\"\",\"\",Data!I719)","v":""},{"$f":"IF(Data!J719=\"\",\"\",Data!J719)","v":""},{"$f":"IF(Data!K719=\"\",\"\",Data!K719)","v":""},{"$f":"IF(Data!L719=\"\",\"\",Data!L719)","v":""},{"$f":"IF(Data!M719=\"\",\"\",Data!M719)","v":""},{"$f":"IF(Data!N719=\"\",\"\",Data!N719)","v":""},{"$f":"IF(Data!O719=\"\",\"\",Data!O719)","v":""},{"$f":"IF(Data!P719=\"\",\"\",Data!P719)","v":""},{"$f":"IF(Data!Q719=\"\",\"\",Data!Q719)","v":""},{"$f":"IF(Data!R719=\"\",\"\",Data!R719)","v":""},{"$f":"IF(Data!S719=\"\",\"\",Data!S719)","v":""},null,null,null,null,719]
[{"$f":"IF(Data!A720=\"\",\"\",Data!A720)","v":""},"",{"$f":"IF(Data!B720=\"\",\"\",Data!B720)","v":""},{"$f":"IF(Data!C720=\"\",\"\",Data!C720)","v":""},{"$f":"IF(Data!D720=\"\",\"\",Data!D720)","v":""},{"$f":"IF(Data!E720=\"\",\"\",Data!E720)","v":""},{"$f":"IF(Data!F720=\"\",\"\",Data!F720)","v":""},{"$f":"IF(Data!G720=\"\",\"\",Data!G720)","v":""},{"$f":"IF(Data!H720=\"\",\"\",Data!H720)","v":""},{"$f":"IF(Data!I720=\"\",\"\",Data!I720)","v":""},{"$f":"IF(Data!J720=\"\",\"\",Data!J720)","v":""},{"$f":"IF(Data!K720=\"\",\"\",Data!K720)","v":""},{"$f":"IF(Data!L720=\"\",\"\",Data!L720)","v":""},{"$f":"IF(Data!M720=\"\",\"\",Data!M720)","v":""},{"$f":"IF(Data!N720=\"\",\"\",Data!N720)","v":""},{"$f":"IF(Data!O720=\"\",\"\",Data!O720)","v":""},{"$f":"IF(Data!P720=\"\",\"\",Data!P720)","v":""},{"$f":"IF(Data!Q720=\"\",\"\",Data!Q720)","v":""},{"$f":"IF(Data!R720=\"\",\"\",Data!R720)","v":""},{"$f":"IF(Data!S720=\"\",\"\",Data!S720)","v":""},null,null,null,null,720]
[{"$f":"IF(Data!A721=\"\",\"\",Data!A721)","v":""},"",{"$f":"IF(Data!B721=\"\",\"\",Data!B721)","v":""},{"$f":"IF(Data!C721=\"\",\"\",Data!C721)","v":""},{"$f":"IF(Data!D721=\"\",\"\",Data!D721)","v":""},{"$f":"IF(Data!E721=\"\",\"\",Data!E721)","v":""},{"$f":"IF(Data!F721=\"\",\"\",Data!F721)","v":""},{"$f":"IF(Data!G721=\"\",\"\",Data!G721)","v":""},{"$f":"IF(Data!H721=\"\",\"\",Data!H721)","v":""},{"$f":"IF(Data!I721=\"\",\"\",Data!I721)","v":""},{"$f":"IF(Data!J721=\"\",\"\",Data!J721)","v":""},{"$f":"IF(Data!K721=\"\",\"\",Data!K721)","v":""},{"$f":"IF(Data!L721=\"\",\"\",Data!L721)","v":""},{"$f":"IF(Data!M721=\"\",\"\",Data!M721)","v":""},{"$f":"IF(Data!N721=\"\",\"\",Data!N721)","v":""},{"$f":"IF(Data!O721=\"\",\"\",Data!O721)","v":""},{"$f":"IF(Data!P721=\"\",\"\",Data!P721)","v":""},{"$f":"IF(Data!Q721=\"\",\"\",Data!Q721)","v":""},{"$f":"IF(Data!R721=\"\",\"\",Data!R721)","v":""},{"$f":"IF(Data!S721=\"\",\"\",Data!S721)","v":""},null,null,null,null,721]
[{"$f":"IF(Data!A722=\"\",\"\",Data!A722)","v":""},"",{"$f":"IF(Data!B722=\"\",\"\",Data!B722)","v":""},{"$f":"IF(Data!C722=\"\",\"\",Data!C722)","v":""},{"$f":"IF(Data!D722=\"\",\"\",Data!D722)","v":""},{"$f":"IF(Data!E722=\"\",\"\",Data!E722)","v":""},{"$f":"IF(Data!F722=\"\",\"\",Data!F722)","v":""},{"$f":"IF(Data!G722=\"\",\"\",Data!G722)","v":""},{"$f":"IF(Data!H722=\"\",\"\",Data!H722)","v":""},{"$f":"IF(Data!I722=\"\",\"\",Data!I722)","v":""},{"$f":"IF(Data!J722=\"\",\"\",Data!J722)","v":""},{"$f":"IF(Data!K722=\"\",\"\",Data!K722)","v":""},{"$f":"IF(Data!L722=\"\",\"\",Data!L722)","v":""},{"$f":"IF(Data!M722=\"\",\"\",Data!M722)","v":""},{"$f":"IF(Data!N722=\"\",\"\",Data!N722)","v":""},{"$f":"IF(Data!O722=\"\",\"\",Data!O722)","v":""},{"$f":"IF(Data!P722=\"\",\"\",Data!P722)","v":""},{"$f":"IF(Data!Q722=\"\",\"\",Data!Q722)","v":""},{"$f":"IF(Data!R722=\"\",\"\",Data!R722)","v":""},{"$f":"IF(Data!S722=\"\",\"\",Data!S722)","v":""},null,null,null,null,722]
[{"$f":"IF(Data!A723=\"\",\"\",Data!A723)","v":""},"",{"$f":"IF(Data!B723=\"\",\"\",Data!B723)","v":""},{"$f":"IF(Data!C723=\"\",\"\",Data!C723)","v":""},{"$f":"IF(Data!D723=\"\",\"\",Data!D723)","v":""},{"$f":"IF(Data!E723=\"\",\"\",Data!E723)","v":""},{"$f":"IF(Data!F723=\"\",\"\",Data!F723)","v":""},{"$f":"IF(Data!G723=\"\",\"\",Data!G723)","v":""},{"$f":"IF(Data!H723=\"\",\"\",Data!H723)","v":""},{"$f":"IF(Data!I723=\"\",\"\",Data!I723)","v":""},{"$f":"IF(Data!J723=\"\",\"\",Data!J723)","v":""},{"$f":"IF(Data!K723=\"\",\"\",Data!K723)","v":""},{"$f":"IF(Data!L723=\"\",\"\",Data!L723)","v":""},{"$f":"IF(Data!M723=\"\",\"\",Data!M723)","v":""},{"$f":"IF(Data!N723=\"\",\"\",Data!N723)","v":""},{"$f":"IF(Data!O723=\"\",\"\",Data!O723)","v":""},{"$f":"IF(Data!P723=\"\",\"\",Data!P723)","v":""},{"$f":"IF(Data!Q723=\"\",\"\",Data!Q723)","v":""},{"$f":"IF(Data!R723=\"\",\"\",Data!R723)","v":""},{"$f":"IF(Data!S723=\"\",\"\",Data!S723)","v":""},null,null,null,null,723]
[{"$f":"IF(Data!A724=\"\",\"\",Data!A724)","v":""},"",{"$f":"IF(Data!B724=\"\",\"\",Data!B724)","v":""},{"$f":"IF(Data!C724=\"\",\"\",Data!C724)","v":""},{"$f":"IF(Data!D724=\"\",\"\",Data!D724)","v":""},{"$f":"IF(Data!E724=\"\",\"\",Data!E724)","v":""},{"$f":"IF(Data!F724=\"\",\"\",Data!F724)","v":""},{"$f":"IF(Data!G724=\"\",\"\",Data!G724)","v":""},{"$f":"IF(Data!H724=\"\",\"\",Data!H724)","v":""},{"$f":"IF(Data!I724=\"\",\"\",Data!I724)","v":""},{"$f":"IF(Data!J724=\"\",\"\",Data!J724)","v":""},{"$f":"IF(Data!K724=\"\",\"\",Data!K724)","v":""},{"$f":"IF(Data!L724=\"\",\"\",Data!L724)","v":""},{"$f":"IF(Data!M724=\"\",\"\",Data!M724)","v":""},{"$f":"IF(Data!N724=\"\",\"\",Data!N724)","v":""},{"$f":"IF(Data!O724=\"\",\"\",Data!O724)","v":""},{"$f":"IF(Data!P724=\"\",\"\",Data!P724)","v":""},{"$f":"IF(Data!Q724=\"\",\"\",Data!Q724)","v":""},{"$f":"IF(Data!R724=\"\",\"\",Data!R724)","v":""},{"$f":"IF(Data!S724=\"\",\"\",Data!S724)","v":""},null,null,null,null,724]
[{"$f":"IF(Data!A725=\"\",\"\",Data!A725)","v":""},"",{"$f":"IF(Data!B725=\"\",\"\",Data!B725)","v":""},{"$f":"IF(Data!C725=\"\",\"\",Data!C725)","v":""},{"$f":"IF(Data!D725=\"\",\"\",Data!D725)","v":""},{"$f":"IF(Data!E725=\"\",\"\",Data!E725)","v":""},{"$f":"IF(Data!F725=\"\",\"\",Data!F725)","v":""},{"$f":"IF(Data!G725=\"\",\"\",Data!G725)","v":""},{"$f":"IF(Data!H725=\"\",\"\",Data!H725)","v":""},{"$f":"IF(Data!I725=\"\",\"\",Data!I725)","v":""},{"$f":"IF(Data!J725=\"\",\"\",Data!J725)","v":""},{"$f":"IF(Data!K725=\"\",\"\",Data!K725)","v":""},{"$f":"IF(Data!L725=\"\",\"\",Data!L725)","v":""},{"$f":"IF(Data!M725=\"\",\"\",Data!M725)","v":""},{"$f":"IF(Data!N725=\"\",\"\",Data!N725)","v":""},{"$f":"IF(Data!O725=\"\",\"\",Data!O725)","v":""},{"$f":"IF(Data!P725=\"\",\"\",Data!P725)","v":""},{"$f":"IF(Data!Q725=\"\",\"\",Data!Q725)","v":""},{"$f":"IF(Data!R725=\"\",\"\",Data!R725)","v":""},{"$f":"IF(Data!S725=\"\",\"\",Data!S725)","v":""},null,null,null,null,725]
[{"$f":"IF(Data!A726=\"\",\"\",Data!A726)","v":""},"",{"$f":"IF(Data!B726=\"\",\"\",Data!B726)","v":""},{"$f":"IF(Data!C726=\"\",\"\",Data!C726)","v":""},{"$f":"IF(Data!D726=\"\",\"\",Data!D726)","v":""},{"$f":"IF(Data!E726=\"\",\"\",Data!E726)","v":""},{"$f":"IF(Data!F726=\"\",\"\",Data!F726)","v":""},{"$f":"IF(Data!G726=\"\",\"\",Data!G726)","v":""},{"$f":"IF(Data!H726=\"\",\"\",Data!H726)","v":""},{"$f":"IF(Data!I726=\"\",\"\",Data!I726)","v":""},{"$f":"IF(Data!J726=\"\",\"\",Data!J726)","v":""},{"$f":"IF(Data!K726=\"\",\"\",Data!K726)","v":""},{"$f":"IF(Data!L726=\"\",\"\",Data!L726)","v":""},{"$f":"IF(Data!M726=\"\",\"\",Data!M726)","v":""},{"$f":"IF(Data!N726=\"\",\"\",Data!N726)","v":""},{"$f":"IF(Data!O726=\"\",\"\",Data!O726)","v":""},{"$f":"IF(Data!P726=\"\",\"\",Data!P726)","v":""},{"$f":"IF(Data!Q726=\"\",\"\",Data!Q726)","v":""},{"$f":"IF(Data!R726=\"\",\"\",Data!R726)","v":""},{"$f":"IF(Data!S726=\"\",\"\",Data!S726)","v":""},null,null,null,null,726]
[{"$f":"IF(Data!A727=\"\",\"\",Data!A727)","v":""},"",{"$f":"IF(Data!B727=\"\",\"\",Data!B727)","v":""},{"$f":"IF(Data!C727=\"\",\"\",Data!C727)","v":""},{"$f":"IF(Data!D727=\"\",\"\",Data!D727)","v":""},{"$f":"IF(Data!E727=\"\",\"\",Data!E727)","v":""},{"$f":"IF(Data!F727=\"\",\"\",Data!F727)","v":""},{"$f":"IF(Data!G727=\"\",\"\",Data!G727)","v":""},{"$f":"IF(Data!H727=\"\",\"\",Data!H727)","v":""},{"$f":"IF(Data!I727=\"\",\"\",Data!I727)","v":""},{"$f":"IF(Data!J727=\"\",\"\",Data!J727)","v":""},{"$f":"IF(Data!K727=\"\",\"\",Data!K727)","v":""},{"$f":"IF(Data!L727=\"\",\"\",Data!L727)","v":""},{"$f":"IF(Data!M727=\"\",\"\",Data!M727)","v":""},{"$f":"IF(Data!N727=\"\",\"\",Data!N727)","v":""},{"$f":"IF(Data!O727=\"\",\"\",Data!O727)","v":""},{"$f":"IF(Data!P727=\"\",\"\",Data!P727)","v":""},{"$f":"IF(Data!Q727=\"\",\"\",Data!Q727)","v":""},{"$f":"IF(Data!R727=\"\",\"\",Data!R727)","v":""},{"$f":"IF(Data!S727=\"\",\"\",Data!S727)","v":""},null,null,null,null,727]
[{"$f":"IF(Data!A728=\"\",\"\",Data!A728)","v":""},"",{"$f":"IF(Data!B728=\"\",\"\",Data!B728)","v":""},{"$f":"IF(Data!C728=\"\",\"\",Data!C728)","v":""},{"$f":"IF(Data!D728=\"\",\"\",Data!D728)","v":""},{"$f":"IF(Data!E728=\"\",\"\",Data!E728)","v":""},{"$f":"IF(Data!F728=\"\",\"\",Data!F728)","v":""},{"$f":"IF(Data!G728=\"\",\"\",Data!G728)","v":""},{"$f":"IF(Data!H728=\"\",\"\",Data!H728)","v":""},{"$f":"IF(Data!I728=\"\",\"\",Data!I728)","v":""},{"$f":"IF(Data!J728=\"\",\"\",Data!J728)","v":""},{"$f":"IF(Data!K728=\"\",\"\",Data!K728)","v":""},{"$f":"IF(Data!L728=\"\",\"\",Data!L728)","v":""},{"$f":"IF(Data!M728=\"\",\"\",Data!M728)","v":""},{"$f":"IF(Data!N728=\"\",\"\",Data!N728)","v":""},{"$f":"IF(Data!O728=\"\",\"\",Data!O728)","v":""},{"$f":"IF(Data!P728=\"\",\"\",Data!P728)","v":""},{"$f":"IF(Data!Q728=\"\",\"\",Data!Q728)","v":""},{"$f":"IF(Data!R728=\"\",\"\",Data!R728)","v":""},{"$f":"IF(Data!S728=\"\",\"\",Data!S728)","v":""},null,null,null,null,728]
[{"$f":"IF(Data!A729=\"\",\"\",Data!A729)","v":""},"",{"$f":"IF(Data!B729=\"\",\"\",Data!B729)","v":""},{"$f":"IF(Data!C729=\"\",\"\",Data!C729)","v":""},{"$f":"IF(Data!D729=\"\",\"\",Data!D729)","v":""},{"$f":"IF(Data!E729=\"\",\"\",Data!E729)","v":""},{"$f":"IF(Data!F729=\"\",\"\",Data!F729)","v":""},{"$f":"IF(Data!G729=\"\",\"\",Data!G729)","v":""},{"$f":"IF(Data!H729=\"\",\"\",Data!H729)","v":""},{"$f":"IF(Data!I729=\"\",\"\",Data!I729)","v":""},{"$f":"IF(Data!J729=\"\",\"\",Data!J729)","v":""},{"$f":"IF(Data!K729=\"\",\"\",Data!K729)","v":""},{"$f":"IF(Data!L729=\"\",\"\",Data!L729)","v":""},{"$f":"IF(Data!M729=\"\",\"\",Data!M729)","v":""},{"$f":"IF(Data!N729=\"\",\"\",Data!N729)","v":""},{"$f":"IF(Data!O729=\"\",\"\",Data!O729)","v":""},{"$f":"IF(Data!P729=\"\",\"\",Data!P729)","v":""},{"$f":"IF(Data!Q729=\"\",\"\",Data!Q729)","v":""},{"$f":"IF(Data!R729=\"\",\"\",Data!R729)","v":""},{"$f":"IF(Data!S729=\"\",\"\",Data!S729)","v":""},null,null,null,null,729]
[{"$f":"IF(Data!A730=\"\",\"\",Data!A730)","v":""},"",{"$f":"IF(Data!B730=\"\",\"\",Data!B730)","v":""},{"$f":"IF(Data!C730=\"\",\"\",Data!C730)","v":""},{"$f":"IF(Data!D730=\"\",\"\",Data!D730)","v":""},{"$f":"IF(Data!E730=\"\",\"\",Data!E730)","v":""},{"$f":"IF(Data!F730=\"\",\"\",Data!F730)","v":""},{"$f":"IF(Data!G730=\"\",\"\",Data!G730)","v":""},{"$f":"IF(Data!H730=\"\",\"\",Data!H730)","v":""},{"$f":"IF(Data!I730=\"\",\"\",Data!I730)","v":""},{"$f":"IF(Data!J730=\"\",\"\",Data!J730)","v":""},{"$f":"IF(Data!K730=\"\",\"\",Data!K730)","v":""},{"$f":"IF(Data!L730=\"\",\"\",Data!L730)","v":""},{"$f":"IF(Data!M730=\"\",\"\",Data!M730)","v":""},{"$f":"IF(Data!N730=\"\",\"\",Data!N730)","v":""},{"$f":"IF(Data!O730=\"\",\"\",Data!O730)","v":""},{"$f":"IF(Data!P730=\"\",\"\",Data!P730)","v":""},{"$f":"IF(Data!Q730=\"\",\"\",Data!Q730)","v":""},{"$f":"IF(Data!R730=\"\",\"\",Data!R730)","v":""},{"$f":"IF(Data!S730=\"\",\"\",Data!S730)","v":""},null,null,null,null,730]
[{"$f":"IF(Data!A731=\"\",\"\",Data!A731)","v":""},"",{"$f":"IF(Data!B731=\"\",\"\",Data!B731)","v":""},{"$f":"IF(Data!C731=\"\",\"\",Data!C731)","v":""},{"$f":"IF(Data!D731=\"\",\"\",Data!D731)","v":""},{"$f":"IF(Data!E731=\"\",\"\",Data!E731)","v":""},{"$f":"IF(Data!F731=\"\",\"\",Data!F731)","v":""},{"$f":"IF(Data!G731=\"\",\"\",Data!G731)","v":""},{"$f":"IF(Data!H731=\"\",\"\",Data!H731)","v":""},{"$f":"IF(Data!I731=\"\",\"\",Data!I731)","v":""},{"$f":"IF(Data!J731=\"\",\"\",Data!J731)","v":""},{"$f":"IF(Data!K731=\"\",\"\",Data!K731)","v":""},{"$f":"IF(Data!L731=\"\",\"\",Data!L731)","v":""},{"$f":"IF(Data!M731=\"\",\"\",Data!M731)","v":""},{"$f":"IF(Data!N731=\"\",\"\",Data!N731)","v":""},{"$f":"IF(Data!O731=\"\",\"\",Data!O731)","v":""},{"$f":"IF(Data!P731=\"\",\"\",Data!P731)","v":""},{"$f":"IF(Data!Q731=\"\",\"\",Data!Q731)","v":""},{"$f":"IF(Data!R731=\"\",\"\",Data!R731)","v":""},{"$f":"IF(Data!S731=\"\",\"\",Data!S731)","v":""},null,null,null,null,731]
[{"$f":"IF(Data!A732=\"\",\"\",Data!A732)","v":""},"",{"$f":"IF(Data!B732=\"\",\"\",Data!B732)","v":""},{"$f":"IF(Data!C732=\"\",\"\",Data!C732)","v":""},{"$f":"IF(Data!D732=\"\",\"\",Data!D732)","v":""},{"$f":"IF(Data!E732=\"\",\"\",Data!E732)","v":""},{"$f":"IF(Data!F732=\"\",\"\",Data!F732)","v":""},{"$f":"IF(Data!G732=\"\",\"\",Data!G732)","v":""},{"$f":"IF(Data!H732=\"\",\"\",Data!H732)","v":""},{"$f":"IF(Data!I732=\"\",\"\",Data!I732)","v":""},{"$f":"IF(Data!J732=\"\",\"\",Data!J732)","v":""},{"$f":"IF(Data!K732=\"\",\"\",Data!K732)","v":""},{"$f":"IF(Data!L732=\"\",\"\",Data!L732)","v":""},{"$f":"IF(Data!M732=\"\",\"\",Data!M732)","v":""},{"$f":"IF(Data!N732=\"\",\"\",Data!N732)","v":""},{"$f":"IF(Data!O732=\"\",\"\",Data!O732)","v":""},{"$f":"IF(Data!P732=\"\",\"\",Data!P732)","v":""},{"$f":"IF(Data!Q732=\"\",\"\",Data!Q732)","v":""},{"$f":"IF(Data!R732=\"\",\"\",Data!R732)","v":""},{"$f":"IF(Data!S732=\"\",\"\",Data!S732)","v":""},null,null,null,null,732]
[{"$f":"IF(Data!A733=\"\",\"\",Data!A733)","v":""},"",{"$f":"IF(Data!B733=\"\",\"\",Data!B733)","v":""},{"$f":"IF(Data!C733=\"\",\"\",Data!C733)","v":""},{"$f":"IF(Data!D733=\"\",\"\",Data!D733)","v":""},{"$f":"IF(Data!E733=\"\",\"\",Data!E733)","v":""},{"$f":"IF(Data!F733=\"\",\"\",Data!F733)","v":""},{"$f":"IF(Data!G733=\"\",\"\",Data!G733)","v":""},{"$f":"IF(Data!H733=\"\",\"\",Data!H733)","v":""},{"$f":"IF(Data!I733=\"\",\"\",Data!I733)","v":""},{"$f":"IF(Data!J733=\"\",\"\",Data!J733)","v":""},{"$f":"IF(Data!K733=\"\",\"\",Data!K733)","v":""},{"$f":"IF(Data!L733=\"\",\"\",Data!L733)","v":""},{"$f":"IF(Data!M733=\"\",\"\",Data!M733)","v":""},{"$f":"IF(Data!N733=\"\",\"\",Data!N733)","v":""},{"$f":"IF(Data!O733=\"\",\"\",Data!O733)","v":""},{"$f":"IF(Data!P733=\"\",\"\",Data!P733)","v":""},{"$f":"IF(Data!Q733=\"\",\"\",Data!Q733)","v":""},{"$f":"IF(Data!R733=\"\",\"\",Data!R733)","v":""},{"$f":"IF(Data!S733=\"\",\"\",Data!S733)","v":""},null,null,null,null,733]
[{"$f":"IF(Data!A734=\"\",\"\",Data!A734)","v":""},"",{"$f":"IF(Data!B734=\"\",\"\",Data!B734)","v":""},{"$f":"IF(Data!C734=\"\",\"\",Data!C734)","v":""},{"$f":"IF(Data!D734=\"\",\"\",Data!D734)","v":""},{"$f":"IF(Data!E734=\"\",\"\",Data!E734)","v":""},{"$f":"IF(Data!F734=\"\",\"\",Data!F734)","v":""},{"$f":"IF(Data!G734=\"\",\"\",Data!G734)","v":""},{"$f":"IF(Data!H734=\"\",\"\",Data!H734)","v":""},{"$f":"IF(Data!I734=\"\",\"\",Data!I734)","v":""},{"$f":"IF(Data!J734=\"\",\"\",Data!J734)","v":""},{"$f":"IF(Data!K734=\"\",\"\",Data!K734)","v":""},{"$f":"IF(Data!L734=\"\",\"\",Data!L734)","v":""},{"$f":"IF(Data!M734=\"\",\"\",Data!M734)","v":""},{"$f":"IF(Data!N734=\"\",\"\",Data!N734)","v":""},{"$f":"IF(Data!O734=\"\",\"\",Data!O734)","v":""},{"$f":"IF(Data!P734=\"\",\"\",Data!P734)","v":""},{"$f":"IF(Data!Q734=\"\",\"\",Data!Q734)","v":""},{"$f":"IF(Data!R734=\"\",\"\",Data!R734)","v":""},{"$f":"IF(Data!S734=\"\",\"\",Data!S734)","v":""},null,null,null,null,734]
[{"$f":"IF(Data!A735=\"\",\"\",Data!A735)","v":""},"",{"$f":"IF(Data!B735=\"\",\"\",Data!B735)","v":""},{"$f":"IF(Data!C735=\"\",\"\",Data!C735)","v":""},{"$f":"IF(Data!D735=\"\",\"\",Data!D735)","v":""},{"$f":"IF(Data!E735=\"\",\"\",Data!E735)","v":""},{"$f":"IF(Data!F735=\"\",\"\",Data!F735)","v":""},{"$f":"IF(Data!G735=\"\",\"\",Data!G735)","v":""},{"$f":"IF(Data!H735=\"\",\"\",Data!H735)","v":""},{"$f":"IF(Data!I735=\"\",\"\",Data!I735)","v":""},{"$f":"IF(Data!J735=\"\",\"\",Data!J735)","v":""},{"$f":"IF(Data!K735=\"\",\"\",Data!K735)","v":""},{"$f":"IF(Data!L735=\"\",\"\",Data!L735)","v":""},{"$f":"IF(Data!M735=\"\",\"\",Data!M735)","v":""},{"$f":"IF(Data!N735=\"\",\"\",Data!N735)","v":""},{"$f":"IF(Data!O735=\"\",\"\",Data!O735)","v":""},{"$f":"IF(Data!P735=\"\",\"\",Data!P735)","v":""},{"$f":"IF(Data!Q735=\"\",\"\",Data!Q735)","v":""},{"$f":"IF(Data!R735=\"\",\"\",Data!R735)","v":""},{"$f":"IF(Data!S735=\"\",\"\",Data!S735)","v":""},null,null,null,null,735]
[{"$f":"IF(Data!A736=\"\",\"\",Data!A736)","v":""},"",{"$f":"IF(Data!B736=\"\",\"\",Data!B736)","v":""},{"$f":"IF(Data!C736=\"\",\"\",Data!C736)","v":""},{"$f":"IF(Data!D736=\"\",\"\",Data!D736)","v":""},{"$f":"IF(Data!E736=\"\",\"\",Data!E736)","v":""},{"$f":"IF(Data!F736=\"\",\"\",Data!F736)","v":""},{"$f":"IF(Data!G736=\"\",\"\",Data!G736)","v":""},{"$f":"IF(Data!H736=\"\",\"\",Data!H736)","v":""},{"$f":"IF(Data!I736=\"\",\"\",Data!I736)","v":""},{"$f":"IF(Data!J736=\"\",\"\",Data!J736)","v":""},{"$f":"IF(Data!K736=\"\",\"\",Data!K736)","v":""},{"$f":"IF(Data!L736=\"\",\"\",Data!L736)","v":""},{"$f":"IF(Data!M736=\"\",\"\",Data!M736)","v":""},{"$f":"IF(Data!N736=\"\",\"\",Data!N736)","v":""},{"$f":"IF(Data!O736=\"\",\"\",Data!O736)","v":""},{"$f":"IF(Data!P736=\"\",\"\",Data!P736)","v":""},{"$f":"IF(Data!Q736=\"\",\"\",Data!Q736)","v":""},{"$f":"IF(Data!R736=\"\",\"\",Data!R736)","v":""},{"$f":"IF(Data!S736=\"\",\"\",Data!S736)","v":""},null,null,null,null,736]
[{"$f":"IF(Data!A737=\"\",\"\",Data!A737)","v":""},"",{"$f":"IF(Data!B737=\"\",\"\",Data!B737)","v":""},{"$f":"IF(Data!C737=\"\",\"\",Data!C737)","v":""},{"$f":"IF(Data!D737=\"\",\"\",Data!D737)","v":""},{"$f":"IF(Data!E737=\"\",\"\",Data!E737)","v":""},{"$f":"IF(Data!F737=\"\",\"\",Data!F737)","v":""},{"$f":"IF(Data!G737=\"\",\"\",Data!G737)","v":""},{"$f":"IF(Data!H737=\"\",\"\",Data!H737)","v":""},{"$f":"IF(Data!I737=\"\",\"\",Data!I737)","v":""},{"$f":"IF(Data!J737=\"\",\"\",Data!J737)","v":""},{"$f":"IF(Data!K737=\"\",\"\",Data!K737)","v":""},{"$f":"IF(Data!L737=\"\",\"\",Data!L737)","v":""},{"$f":"IF(Data!M737=\"\",\"\",Data!M737)","v":""},{"$f":"IF(Data!N737=\"\",\"\",Data!N737)","v":""},{"$f":"IF(Data!O737=\"\",\"\",Data!O737)","v":""},{"$f":"IF(Data!P737=\"\",\"\",Data!P737)","v":""},{"$f":"IF(Data!Q737=\"\",\"\",Data!Q737)","v":""},{"$f":"IF(Data!R737=\"\",\"\",Data!R737)","v":""},{"$f":"IF(Data!S737=\"\",\"\",Data!S737)","v":""},null,null,null,null,737]
[{"$f":"IF(Data!A738=\"\",\"\",Data!A738)","v":""},"",{"$f":"IF(Data!B738=\"\",\"\",Data!B738)","v":""},{"$f":"IF(Data!C738=\"\",\"\",Data!C738)","v":""},{"$f":"IF(Data!D738=\"\",\"\",Data!D738)","v":""},{"$f":"IF(Data!E738=\"\",\"\",Data!E738)","v":""},{"$f":"IF(Data!F738=\"\",\"\",Data!F738)","v":""},{"$f":"IF(Data!G738=\"\",\"\",Data!G738)","v":""},{"$f":"IF(Data!H738=\"\",\"\",Data!H738)","v":""},{"$f":"IF(Data!I738=\"\",\"\",Data!I738)","v":""},{"$f":"IF(Data!J738=\"\",\"\",Data!J738)","v":""},{"$f":"IF(Data!K738=\"\",\"\",Data!K738)","v":""},{"$f":"IF(Data!L738=\"\",\"\",Data!L738)","v":""},{"$f":"IF(Data!M738=\"\",\"\",Data!M738)","v":""},{"$f":"IF(Data!N738=\"\",\"\",Data!N738)","v":""},{"$f":"IF(Data!O738=\"\",\"\",Data!O738)","v":""},{"$f":"IF(Data!P738=\"\",\"\",Data!P738)","v":""},{"$f":"IF(Data!Q738=\"\",\"\",Data!Q738)","v":""},{"$f":"IF(Data!R738=\"\",\"\",Data!R738)","v":""},{"$f":"IF(Data!S738=\"\",\"\",Data!S738)","v":""},null,null,null,null,738]
[{"$f":"IF(Data!A739=\"\",\"\",Data!A739)","v":""},"",{"$f":"IF(Data!B739=\"\",\"\",Data!B739)","v":""},{"$f":"IF(Data!C739=\"\",\"\",Data!C739)","v":""},{"$f":"IF(Data!D739=\"\",\"\",Data!D739)","v":""},{"$f":"IF(Data!E739=\"\",\"\",Data!E739)","v":""},{"$f":"IF(Data!F739=\"\",\"\",Data!F739)","v":""},{"$f":"IF(Data!G739=\"\",\"\",Data!G739)","v":""},{"$f":"IF(Data!H739=\"\",\"\",Data!H739)","v":""},{"$f":"IF(Data!I739=\"\",\"\",Data!I739)","v":""},{"$f":"IF(Data!J739=\"\",\"\",Data!J739)","v":""},{"$f":"IF(Data!K739=\"\",\"\",Data!K739)","v":""},{"$f":"IF(Data!L739=\"\",\"\",Data!L739)","v":""},{"$f":"IF(Data!M739=\"\",\"\",Data!M739)","v":""},{"$f":"IF(Data!N739=\"\",\"\",Data!N739)","v":""},{"$f":"IF(Data!O739=\"\",\"\",Data!O739)","v":""},{"$f":"IF(Data!P739=\"\",\"\",Data!P739)","v":""},{"$f":"IF(Data!Q739=\"\",\"\",Data!Q739)","v":""},{"$f":"IF(Data!R739=\"\",\"\",Data!R739)","v":""},{"$f":"IF(Data!S739=\"\",\"\",Data!S739)","v":""},null,null,null,null,739]
[{"$f":"IF(Data!A740=\"\",\"\",Data!A740)","v":""},"",{"$f":"IF(Data!B740=\"\",\"\",Data!B740)","v":""},{"$f":"IF(Data!C740=\"\",\"\",Data!C740)","v":""},{"$f":"IF(Data!D740=\"\",\"\",Data!D740)","v":""},{"$f":"IF(Data!E740=\"\",\"\",Data!E740)","v":""},{"$f":"IF(Data!F740=\"\",\"\",Data!F740)","v":""},{"$f":"IF(Data!G740=\"\",\"\",Data!G740)","v":""},{"$f":"IF(Data!H740=\"\",\"\",Data!H740)","v":""},{"$f":"IF(Data!I740=\"\",\"\",Data!I740)","v":""},{"$f":"IF(Data!J740=\"\",\"\",Data!J740)","v":""},{"$f":"IF(Data!K740=\"\",\"\",Data!K740)","v":""},{"$f":"IF(Data!L740=\"\",\"\",Data!L740)","v":""},{"$f":"IF(Data!M740=\"\",\"\",Data!M740)","v":""},{"$f":"IF(Data!N740=\"\",\"\",Data!N740)","v":""},{"$f":"IF(Data!O740=\"\",\"\",Data!O740)","v":""},{"$f":"IF(Data!P740=\"\",\"\",Data!P740)","v":""},{"$f":"IF(Data!Q740=\"\",\"\",Data!Q740)","v":""},{"$f":"IF(Data!R740=\"\",\"\",Data!R740)","v":""},{"$f":"IF(Data!S740=\"\",\"\",Data!S740)","v":""},null,null,null,null,740]
[{"$f":"IF(Data!A741=\"\",\"\",Data!A741)","v":""},"",{"$f":"IF(Data!B741=\"\",\"\",Data!B741)","v":""},{"$f":"IF(Data!C741=\"\",\"\",Data!C741)","v":""},{"$f":"IF(Data!D741=\"\",\"\",Data!D741)","v":""},{"$f":"IF(Data!E741=\"\",\"\",Data!E741)","v":""},{"$f":"IF(Data!F741=\"\",\"\",Data!F741)","v":""},{"$f":"IF(Data!G741=\"\",\"\",Data!G741)","v":""},{"$f":"IF(Data!H741=\"\",\"\",Data!H741)","v":""},{"$f":"IF(Data!I741=\"\",\"\",Data!I741)","v":""},{"$f":"IF(Data!J741=\"\",\"\",Data!J741)","v":""},{"$f":"IF(Data!K741=\"\",\"\",Data!K741)","v":""},{"$f":"IF(Data!L741=\"\",\"\",Data!L741)","v":""},{"$f":"IF(Data!M741=\"\",\"\",Data!M741)","v":""},{"$f":"IF(Data!N741=\"\",\"\",Data!N741)","v":""},{"$f":"IF(Data!O741=\"\",\"\",Data!O741)","v":""},{"$f":"IF(Data!P741=\"\",\"\",Data!P741)","v":""},{"$f":"IF(Data!Q741=\"\",\"\",Data!Q741)","v":""},{"$f":"IF(Data!R741=\"\",\"\",Data!R741)","v":""},{"$f":"IF(Data!S741=\"\",\"\",Data!S741)","v":""},null,null,null,null,741]
[{"$f":"IF(Data!A742=\"\",\"\",Data!A742)","v":""},"",{"$f":"IF(Data!B742=\"\",\"\",Data!B742)","v":""},{"$f":"IF(Data!C742=\"\",\"\",Data!C742)","v":""},{"$f":"IF(Data!D742=\"\",\"\",Data!D742)","v":""},{"$f":"IF(Data!E742=\"\",\"\",Data!E742)","v":""},{"$f":"IF(Data!F742=\"\",\"\",Data!F742)","v":""},{"$f":"IF(Data!G742=\"\",\"\",Data!G742)","v":""},{"$f":"IF(Data!H742=\"\",\"\",Data!H742)","v":""},{"$f":"IF(Data!I742=\"\",\"\",Data!I742)","v":""},{"$f":"IF(Data!J742=\"\",\"\",Data!J742)","v":""},{"$f":"IF(Data!K742=\"\",\"\",Data!K742)","v":""},{"$f":"IF(Data!L742=\"\",\"\",Data!L742)","v":""},{"$f":"IF(Data!M742=\"\",\"\",Data!M742)","v":""},{"$f":"IF(Data!N742=\"\",\"\",Data!N742)","v":""},{"$f":"IF(Data!O742=\"\",\"\",Data!O742)","v":""},{"$f":"IF(Data!P742=\"\",\"\",Data!P742)","v":""},{"$f":"IF(Data!Q742=\"\",\"\",Data!Q742)","v":""},{"$f":"IF(Data!R742=\"\",\"\",Data!R742)","v":""},{"$f":"IF(Data!S742=\"\",\"\",Data!S742)","v":""},null,null,null,null,742]
[{"$f":"IF(Data!A743=\"\",\"\",Data!A743)","v":""},"",{"$f":"IF(Data!B743=\"\",\"\",Data!B743)","v":""},{"$f":"IF(Data!C743=\"\",\"\",Data!C743)","v":""},{"$f":"IF(Data!D743=\"\",\"\",Data!D743)","v":""},{"$f":"IF(Data!E743=\"\",\"\",Data!E743)","v":""},{"$f":"IF(Data!F743=\"\",\"\",Data!F743)","v":""},{"$f":"IF(Data!G743=\"\",\"\",Data!G743)","v":""},{"$f":"IF(Data!H743=\"\",\"\",Data!H743)","v":""},{"$f":"IF(Data!I743=\"\",\"\",Data!I743)","v":""},{"$f":"IF(Data!J743=\"\",\"\",Data!J743)","v":""},{"$f":"IF(Data!K743=\"\",\"\",Data!K743)","v":""},{"$f":"IF(Data!L743=\"\",\"\",Data!L743)","v":""},{"$f":"IF(Data!M743=\"\",\"\",Data!M743)","v":""},{"$f":"IF(Data!N743=\"\",\"\",Data!N743)","v":""},{"$f":"IF(Data!O743=\"\",\"\",Data!O743)","v":""},{"$f":"IF(Data!P743=\"\",\"\",Data!P743)","v":""},{"$f":"IF(Data!Q743=\"\",\"\",Data!Q743)","v":""},{"$f":"IF(Data!R743=\"\",\"\",Data!R743)","v":""},{"$f":"IF(Data!S743=\"\",\"\",Data!S743)","v":""},null,null,null,null,743]
[{"$f":"IF(Data!A744=\"\",\"\",Data!A744)","v":""},"",{"$f":"IF(Data!B744=\"\",\"\",Data!B744)","v":""},{"$f":"IF(Data!C744=\"\",\"\",Data!C744)","v":""},{"$f":"IF(Data!D744=\"\",\"\",Data!D744)","v":""},{"$f":"IF(Data!E744=\"\",\"\",Data!E744)","v":""},{"$f":"IF(Data!F744=\"\",\"\",Data!F744)","v":""},{"$f":"IF(Data!G744=\"\",\"\",Data!G744)","v":""},{"$f":"IF(Data!H744=\"\",\"\",Data!H744)","v":""},{"$f":"IF(Data!I744=\"\",\"\",Data!I744)","v":""},{"$f":"IF(Data!J744=\"\",\"\",Data!J744)","v":""},{"$f":"IF(Data!K744=\"\",\"\",Data!K744)","v":""},{"$f":"IF(Data!L744=\"\",\"\",Data!L744)","v":""},{"$f":"IF(Data!M744=\"\",\"\",Data!M744)","v":""},{"$f":"IF(Data!N744=\"\",\"\",Data!N744)","v":""},{"$f":"IF(Data!O744=\"\",\"\",Data!O744)","v":""},{"$f":"IF(Data!P744=\"\",\"\",Data!P744)","v":""},{"$f":"IF(Data!Q744=\"\",\"\",Data!Q744)","v":""},{"$f":"IF(Data!R744=\"\",\"\",Data!R744)","v":""},{"$f":"IF(Data!S744=\"\",\"\",Data!S744)","v":""},null,null,null,null,744]
[{"$f":"IF(Data!A745=\"\",\"\",Data!A745)","v":""},"",{"$f":"IF(Data!B745=\"\",\"\",Data!B745)","v":""},{"$f":"IF(Data!C745=\"\",\"\",Data!C745)","v":""},{"$f":"IF(Data!D745=\"\",\"\",Data!D745)","v":""},{"$f":"IF(Data!E745=\"\",\"\",Data!E745)","v":""},{"$f":"IF(Data!F745=\"\",\"\",Data!F745)","v":""},{"$f":"IF(Data!G745=\"\",\"\",Data!G745)","v":""},{"$f":"IF(Data!H745=\"\",\"\",Data!H745)","v":""},{"$f":"IF(Data!I745=\"\",\"\",Data!I745)","v":""},{"$f":"IF(Data!J745=\"\",\"\",Data!J745)","v":""},{"$f":"IF(Data!K745=\"\",\"\",Data!K745)","v":""},{"$f":"IF(Data!L745=\"\",\"\",Data!L745)","v":""},{"$f":"IF(Data!M745=\"\",\"\",Data!M745)","v":""},{"$f":"IF(Data!N745=\"\",\"\",Data!N745)","v":""},{"$f":"IF(Data!O745=\"\",\"\",Data!O745)","v":""},{"$f":"IF(Data!P745=\"\",\"\",Data!P745)","v":""},{"$f":"IF(Data!Q745=\"\",\"\",Data!Q745)","v":""},{"$f":"IF(Data!R745=\"\",\"\",Data!R745)","v":""},{"$f":"IF(Data!S745=\"\",\"\",Data!S745)","v":""},null,null,null,null,745]
[{"$f":"IF(Data!A746=\"\",\"\",Data!A746)","v":""},"",{"$f":"IF(Data!B746=\"\",\"\",Data!B746)","v":""},{"$f":"IF(Data!C746=\"\",\"\",Data!C746)","v":""},{"$f":"IF(Data!D746=\"\",\"\",Data!D746)","v":""},{"$f":"IF(Data!E746=\"\",\"\",Data!E746)","v":""},{"$f":"IF(Data!F746=\"\",\"\",Data!F746)","v":""},{"$f":"IF(Data!G746=\"\",\"\",Data!G746)","v":""},{"$f":"IF(Data!H746=\"\",\"\",Data!H746)","v":""},{"$f":"IF(Data!I746=\"\",\"\",Data!I746)","v":""},{"$f":"IF(Data!J746=\"\",\"\",Data!J746)","v":""},{"$f":"IF(Data!K746=\"\",\"\",Data!K746)","v":""},{"$f":"IF(Data!L746=\"\",\"\",Data!L746)","v":""},{"$f":"IF(Data!M746=\"\",\"\",Data!M746)","v":""},{"$f":"IF(Data!N746=\"\",\"\",Data!N746)","v":""},{"$f":"IF(Data!O746=\"\",\"\",Data!O746)","v":""},{"$f":"IF(Data!P746=\"\",\"\",Data!P746)","v":""},{"$f":"IF(Data!Q746=\"\",\"\",Data!Q746)","v":""},{"$f":"IF(Data!R746=\"\",\"\",Data!R746)","v":""},{"$f":"IF(Data!S746=\"\",\"\",Data!S746)","v":""},null,null,null,null,746]
[{"$f":"IF(Data!A747=\"\",\"\",Data!A747)","v":""},"",{"$f":"IF(Data!B747=\"\",\"\",Data!B747)","v":""},{"$f":"IF(Data!C747=\"\",\"\",Data!C747)","v":""},{"$f":"IF(Data!D747=\"\",\"\",Data!D747)","v":""},{"$f":"IF(Data!E747=\"\",\"\",Data!E747)","v":""},{"$f":"IF(Data!F747=\"\",\"\",Data!F747)","v":""},{"$f":"IF(Data!G747=\"\",\"\",Data!G747)","v":""},{"$f":"IF(Data!H747=\"\",\"\",Data!H747)","v":""},{"$f":"IF(Data!I747=\"\",\"\",Data!I747)","v":""},{"$f":"IF(Data!J747=\"\",\"\",Data!J747)","v":""},{"$f":"IF(Data!K747=\"\",\"\",Data!K747)","v":""},{"$f":"IF(Data!L747=\"\",\"\",Data!L747)","v":""},{"$f":"IF(Data!M747=\"\",\"\",Data!M747)","v":""},{"$f":"IF(Data!N747=\"\",\"\",Data!N747)","v":""},{"$f":"IF(Data!O747=\"\",\"\",Data!O747)","v":""},{"$f":"IF(Data!P747=\"\",\"\",Data!P747)","v":""},{"$f":"IF(Data!Q747=\"\",\"\",Data!Q747)","v":""},{"$f":"IF(Data!R747=\"\",\"\",Data!R747)","v":""},{"$f":"IF(Data!S747=\"\",\"\",Data!S747)","v":""},null,null,null,null,747]
[{"$f":"IF(Data!A748=\"\",\"\",Data!A748)","v":""},"",{"$f":"IF(Data!B748=\"\",\"\",Data!B748)","v":""},{"$f":"IF(Data!C748=\"\",\"\",Data!C748)","v":""},{"$f":"IF(Data!D748=\"\",\"\",Data!D748)","v":""},{"$f":"IF(Data!E748=\"\",\"\",Data!E748)","v":""},{"$f":"IF(Data!F748=\"\",\"\",Data!F748)","v":""},{"$f":"IF(Data!G748=\"\",\"\",Data!G748)","v":""},{"$f":"IF(Data!H748=\"\",\"\",Data!H748)","v":""},{"$f":"IF(Data!I748=\"\",\"\",Data!I748)","v":""},{"$f":"IF(Data!J748=\"\",\"\",Data!J748)","v":""},{"$f":"IF(Data!K748=\"\",\"\",Data!K748)","v":""},{"$f":"IF(Data!L748=\"\",\"\",Data!L748)","v":""},{"$f":"IF(Data!M748=\"\",\"\",Data!M748)","v":""},{"$f":"IF(Data!N748=\"\",\"\",Data!N748)","v":""},{"$f":"IF(Data!O748=\"\",\"\",Data!O748)","v":""},{"$f":"IF(Data!P748=\"\",\"\",Data!P748)","v":""},{"$f":"IF(Data!Q748=\"\",\"\",Data!Q748)","v":""},{"$f":"IF(Data!R748=\"\",\"\",Data!R748)","v":""},{"$f":"IF(Data!S748=\"\",\"\",Data!S748)","v":""},null,null,null,null,748]
[{"$f":"IF(Data!A749=\"\",\"\",Data!A749)","v":""},"",{"$f":"IF(Data!B749=\"\",\"\",Data!B749)","v":""},{"$f":"IF(Data!C749=\"\",\"\",Data!C749)","v":""},{"$f":"IF(Data!D749=\"\",\"\",Data!D749)","v":""},{"$f":"IF(Data!E749=\"\",\"\",Data!E749)","v":""},{"$f":"IF(Data!F749=\"\",\"\",Data!F749)","v":""},{"$f":"IF(Data!G749=\"\",\"\",Data!G749)","v":""},{"$f":"IF(Data!H749=\"\",\"\",Data!H749)","v":""},{"$f":"IF(Data!I749=\"\",\"\",Data!I749)","v":""},{"$f":"IF(Data!J749=\"\",\"\",Data!J749)","v":""},{"$f":"IF(Data!K749=\"\",\"\",Data!K749)","v":""},{"$f":"IF(Data!L749=\"\",\"\",Data!L749)","v":""},{"$f":"IF(Data!M749=\"\",\"\",Data!M749)","v":""},{"$f":"IF(Data!N749=\"\",\"\",Data!N749)","v":""},{"$f":"IF(Data!O749=\"\",\"\",Data!O749)","v":""},{"$f":"IF(Data!P749=\"\",\"\",Data!P749)","v":""},{"$f":"IF(Data!Q749=\"\",\"\",Data!Q749)","v":""},{"$f":"IF(Data!R749=\"\",\"\",Data!R749)","v":""},{"$f":"IF(Data!S749=\"\",\"\",Data!S749)","v":""},null,null,null,null,749]
[{"$f":"IF(Data!A750=\"\",\"\",Data!A750)","v":""},"",{"$f":"IF(Data!B750=\"\",\"\",Data!B750)","v":""},{"$f":"IF(Data!C750=\"\",\"\",Data!C750)","v":""},{"$f":"IF(Data!D750=\"\",\"\",Data!D750)","v":""},{"$f":"IF(Data!E750=\"\",\"\",Data!E750)","v":""},{"$f":"IF(Data!F750=\"\",\"\",Data!F750)","v":""},{"$f":"IF(Data!G750=\"\",\"\",Data!G750)","v":""},{"$f":"IF(Data!H750=\"\",\"\",Data!H750)","v":""},{"$f":"IF(Data!I750=\"\",\"\",Data!I750)","v":""},{"$f":"IF(Data!J750=\"\",\"\",Data!J750)","v":""},{"$f":"IF(Data!K750=\"\",\"\",Data!K750)","v":""},{"$f":"IF(Data!L750=\"\",\"\",Data!L750)","v":""},{"$f":"IF(Data!M750=\"\",\"\",Data!M750)","v":""},{"$f":"IF(Data!N750=\"\",\"\",Data!N750)","v":""},{"$f":"IF(Data!O750=\"\",\"\",Data!O750)","v":""},{"$f":"IF(Data!P750=\"\",\"\",Data!P750)","v":""},{"$f":"IF(Data!Q750=\"\",\"\",Data!Q750)","v":""},{"$f":"IF(Data!R750=\"\",\"\",Data!R750)","v":""},{"$f":"IF(Data!S750=\"\",\"\",Data!S750)","v":""},null,null,null,null,750]
[{"$f":"IF(Data!A751=\"\",\"\",Data!A751)","v":""},"",{"$f":"IF(Data!B751=\"\",\"\",Data!B751)","v":""},{"$f":"IF(Data!C751=\"\",\"\",Data!C751)","v":""},{"$f":"IF(Data!D751=\"\",\"\",Data!D751)","v":""},{"$f":"IF(Data!E751=\"\",\"\",Data!E751)","v":""},{"$f":"IF(Data!F751=\"\",\"\",Data!F751)","v":""},{"$f":"IF(Data!G751=\"\",\"\",Data!G751)","v":""},{"$f":"IF(Data!H751=\"\",\"\",Data!H751)","v":""},{"$f":"IF(Data!I751=\"\",\"\",Data!I751)","v":""},{"$f":"IF(Data!J751=\"\",\"\",Data!J751)","v":""},{"$f":"IF(Data!K751=\"\",\"\",Data!K751)","v":""},{"$f":"IF(Data!L751=\"\",\"\",Data!L751)","v":""},{"$f":"IF(Data!M751=\"\",\"\",Data!M751)","v":""},{"$f":"IF(Data!N751=\"\",\"\",Data!N751)","v":""},{"$f":"IF(Data!O751=\"\",\"\",Data!O751)","v":""},{"$f":"IF(Data!P751=\"\",\"\",Data!P751)","v":""},{"$f":"IF(Data!Q751=\"\",\"\",Data!Q751)","v":""},{"$f":"IF(Data!R751=\"\",\"\",Data!R751)","v":""},{"$f":"IF(Data!S751=\"\",\"\",Data!S751)","v":""},null,null,null,null,751]
[{"$f":"IF(Data!A752=\"\",\"\",Data!A752)","v":""},"",{"$f":"IF(Data!B752=\"\",\"\",Data!B752)","v":""},{"$f":"IF(Data!C752=\"\",\"\",Data!C752)","v":""},{"$f":"IF(Data!D752=\"\",\"\",Data!D752)","v":""},{"$f":"IF(Data!E752=\"\",\"\",Data!E752)","v":""},{"$f":"IF(Data!F752=\"\",\"\",Data!F752)","v":""},{"$f":"IF(Data!G752=\"\",\"\",Data!G752)","v":""},{"$f":"IF(Data!H752=\"\",\"\",Data!H752)","v":""},{"$f":"IF(Data!I752=\"\",\"\",Data!I752)","v":""},{"$f":"IF(Data!J752=\"\",\"\",Data!J752)","v":""},{"$f":"IF(Data!K752=\"\",\"\",Data!K752)","v":""},{"$f":"IF(Data!L752=\"\",\"\",Data!L752)","v":""},{"$f":"IF(Data!M752=\"\",\"\",Data!M752)","v":""},{"$f":"IF(Data!N752=\"\",\"\",Data!N752)","v":""},{"$f":"IF(Data!O752=\"\",\"\",Data!O752)","v":""},{"$f":"IF(Data!P752=\"\",\"\",Data!P752)","v":""},{"$f":"IF(Data!Q752=\"\",\"\",Data!Q752)","v":""},{"$f":"IF(Data!R752=\"\",\"\",Data!R752)","v":""},{"$f":"IF(Data!S752=\"\",\"\",Data!S752)","v":""},null,null,null,null,752]
[{"$f":"IF(Data!A753=\"\",\"\",Data!A753)","v":""},"",{"$f":"IF(Data!B753=\"\",\"\",Data!B753)","v":""},{"$f":"IF(Data!C753=\"\",\"\",Data!C753)","v":""},{"$f":"IF(Data!D753=\"\",\"\",Data!D753)","v":""},{"$f":"IF(Data!E753=\"\",\"\",Data!E753)","v":""},{"$f":"IF(Data!F753=\"\",\"\",Data!F753)","v":""},{"$f":"IF(Data!G753=\"\",\"\",Data!G753)","v":""},{"$f":"IF(Data!H753=\"\",\"\",Data!H753)","v":""},{"$f":"IF(Data!I753=\"\",\"\",Data!I753)","v":""},{"$f":"IF(Data!J753=\"\",\"\",Data!J753)","v":""},{"$f":"IF(Data!K753=\"\",\"\",Data!K753)","v":""},{"$f":"IF(Data!L753=\"\",\"\",Data!L753)","v":""},{"$f":"IF(Data!M753=\"\",\"\",Data!M753)","v":""},{"$f":"IF(Data!N753=\"\",\"\",Data!N753)","v":""},{"$f":"IF(Data!O753=\"\",\"\",Data!O753)","v":""},{"$f":"IF(Data!P753=\"\",\"\",Data!P753)","v":""},{"$f":"IF(Data!Q753=\"\",\"\",Data!Q753)","v":""},{"$f":"IF(Data!R753=\"\",\"\",Data!R753)","v":""},{"$f":"IF(Data!S753=\"\",\"\",Data!S753)","v":""},null,null,null,null,753]
[{"$f":"IF(Data!A754=\"\",\"\",Data!A754)","v":""},"",{"$f":"IF(Data!B754=\"\",\"\",Data!B754)","v":""},{"$f":"IF(Data!C754=\"\",\"\",Data!C754)","v":""},{"$f":"IF(Data!D754=\"\",\"\",Data!D754)","v":""},{"$f":"IF(Data!E754=\"\",\"\",Data!E754)","v":""},{"$f":"IF(Data!F754=\"\",\"\",Data!F754)","v":""},{"$f":"IF(Data!G754=\"\",\"\",Data!G754)","v":""},{"$f":"IF(Data!H754=\"\",\"\",Data!H754)","v":""},{"$f":"IF(Data!I754=\"\",\"\",Data!I754)","v":""},{"$f":"IF(Data!J754=\"\",\"\",Data!J754)","v":""},{"$f":"IF(Data!K754=\"\",\"\",Data!K754)","v":""},{"$f":"IF(Data!L754=\"\",\"\",Data!L754)","v":""},{"$f":"IF(Data!M754=\"\",\"\",Data!M754)","v":""},{"$f":"IF(Data!N754=\"\",\"\",Data!N754)","v":""},{"$f":"IF(Data!O754=\"\",\"\",Data!O754)","v":""},{"$f":"IF(Data!P754=\"\",\"\",Data!P754)","v":""},{"$f":"IF(Data!Q754=\"\",\"\",Data!Q754)","v":""},{"$f":"IF(Data!R754=\"\",\"\",Data!R754)","v":""},{"$f":"IF(Data!S754=\"\",\"\",Data!S754)","v":""},null,null,null,null,754]
[{"$f":"IF(Data!A755=\"\",\"\",Data!A755)","v":""},"",{"$f":"IF(Data!B755=\"\",\"\",Data!B755)","v":""},{"$f":"IF(Data!C755=\"\",\"\",Data!C755)","v":""},{"$f":"IF(Data!D755=\"\",\"\",Data!D755)","v":""},{"$f":"IF(Data!E755=\"\",\"\",Data!E755)","v":""},{"$f":"IF(Data!F755=\"\",\"\",Data!F755)","v":""},{"$f":"IF(Data!G755=\"\",\"\",Data!G755)","v":""},{"$f":"IF(Data!H755=\"\",\"\",Data!H755)","v":""},{"$f":"IF(Data!I755=\"\",\"\",Data!I755)","v":""},{"$f":"IF(Data!J755=\"\",\"\",Data!J755)","v":""},{"$f":"IF(Data!K755=\"\",\"\",Data!K755)","v":""},{"$f":"IF(Data!L755=\"\",\"\",Data!L755)","v":""},{"$f":"IF(Data!M755=\"\",\"\",Data!M755)","v":""},{"$f":"IF(Data!N755=\"\",\"\",Data!N755)","v":""},{"$f":"IF(Data!O755=\"\",\"\",Data!O755)","v":""},{"$f":"IF(Data!P755=\"\",\"\",Data!P755)","v":""},{"$f":"IF(Data!Q755=\"\",\"\",Data!Q755)","v":""},{"$f":"IF(Data!R755=\"\",\"\",Data!R755)","v":""},{"$f":"IF(Data!S755=\"\",\"\",Data!S755)","v":""},null,null,null,null,755]
[{"$f":"IF(Data!A756=\"\",\"\",Data!A756)","v":""},"",{"$f":"IF(Data!B756=\"\",\"\",Data!B756)","v":""},{"$f":"IF(Data!C756=\"\",\"\",Data!C756)","v":""},{"$f":"IF(Data!D756=\"\",\"\",Data!D756)","v":""},{"$f":"IF(Data!E756=\"\",\"\",Data!E756)","v":""},{"$f":"IF(Data!F756=\"\",\"\",Data!F756)","v":""},{"$f":"IF(Data!G756=\"\",\"\",Data!G756)","v":""},{"$f":"IF(Data!H756=\"\",\"\",Data!H756)","v":""},{"$f":"IF(Data!I756=\"\",\"\",Data!I756)","v":""},{"$f":"IF(Data!J756=\"\",\"\",Data!J756)","v":""},{"$f":"IF(Data!K756=\"\",\"\",Data!K756)","v":""},{"$f":"IF(Data!L756=\"\",\"\",Data!L756)","v":""},{"$f":"IF(Data!M756=\"\",\"\",Data!M756)","v":""},{"$f":"IF(Data!N756=\"\",\"\",Data!N756)","v":""},{"$f":"IF(Data!O756=\"\",\"\",Data!O756)","v":""},{"$f":"IF(Data!P756=\"\",\"\",Data!P756)","v":""},{"$f":"IF(Data!Q756=\"\",\"\",Data!Q756)","v":""},{"$f":"IF(Data!R756=\"\",\"\",Data!R756)","v":""},{"$f":"IF(Data!S756=\"\",\"\",Data!S756)","v":""},null,null,null,null,756]
[{"$f":"IF(Data!A757=\"\",\"\",Data!A757)","v":""},"",{"$f":"IF(Data!B757=\"\",\"\",Data!B757)","v":""},{"$f":"IF(Data!C757=\"\",\"\",Data!C757)","v":""},{"$f":"IF(Data!D757=\"\",\"\",Data!D757)","v":""},{"$f":"IF(Data!E757=\"\",\"\",Data!E757)","v":""},{"$f":"IF(Data!F757=\"\",\"\",Data!F757)","v":""},{"$f":"IF(Data!G757=\"\",\"\",Data!G757)","v":""},{"$f":"IF(Data!H757=\"\",\"\",Data!H757)","v":""},{"$f":"IF(Data!I757=\"\",\"\",Data!I757)","v":""},{"$f":"IF(Data!J757=\"\",\"\",Data!J757)","v":""},{"$f":"IF(Data!K757=\"\",\"\",Data!K757)","v":""},{"$f":"IF(Data!L757=\"\",\"\",Data!L757)","v":""},{"$f":"IF(Data!M757=\"\",\"\",Data!M757)","v":""},{"$f":"IF(Data!N757=\"\",\"\",Data!N757)","v":""},{"$f":"IF(Data!O757=\"\",\"\",Data!O757)","v":""},{"$f":"IF(Data!P757=\"\",\"\",Data!P757)","v":""},{"$f":"IF(Data!Q757=\"\",\"\",Data!Q757)","v":""},{"$f":"IF(Data!R757=\"\",\"\",Data!R757)","v":""},{"$f":"IF(Data!S757=\"\",\"\",Data!S757)","v":""},null,null,null,null,757]
[{"$f":"IF(Data!A758=\"\",\"\",Data!A758)","v":""},"",{"$f":"IF(Data!B758=\"\",\"\",Data!B758)","v":""},{"$f":"IF(Data!C758=\"\",\"\",Data!C758)","v":""},{"$f":"IF(Data!D758=\"\",\"\",Data!D758)","v":""},{"$f":"IF(Data!E758=\"\",\"\",Data!E758)","v":""},{"$f":"IF(Data!F758=\"\",\"\",Data!F758)","v":""},{"$f":"IF(Data!G758=\"\",\"\",Data!G758)","v":""},{"$f":"IF(Data!H758=\"\",\"\",Data!H758)","v":""},{"$f":"IF(Data!I758=\"\",\"\",Data!I758)","v":""},{"$f":"IF(Data!J758=\"\",\"\",Data!J758)","v":""},{"$f":"IF(Data!K758=\"\",\"\",Data!K758)","v":""},{"$f":"IF(Data!L758=\"\",\"\",Data!L758)","v":""},{"$f":"IF(Data!M758=\"\",\"\",Data!M758)","v":""},{"$f":"IF(Data!N758=\"\",\"\",Data!N758)","v":""},{"$f":"IF(Data!O758=\"\",\"\",Data!O758)","v":""},{"$f":"IF(Data!P758=\"\",\"\",Data!P758)","v":""},{"$f":"IF(Data!Q758=\"\",\"\",Data!Q758)","v":""},{"$f":"IF(Data!R758=\"\",\"\",Data!R758)","v":""},{"$f":"IF(Data!S758=\"\",\"\",Data!S758)","v":""},null,null,null,null,758]
[{"$f":"IF(Data!A759=\"\",\"\",Data!A759)","v":""},"",{"$f":"IF(Data!B759=\"\",\"\",Data!B759)","v":""},{"$f":"IF(Data!C759=\"\",\"\",Data!C759)","v":""},{"$f":"IF(Data!D759=\"\",\"\",Data!D759)","v":""},{"$f":"IF(Data!E759=\"\",\"\",Data!E759)","v":""},{"$f":"IF(Data!F759=\"\",\"\",Data!F759)","v":""},{"$f":"IF(Data!G759=\"\",\"\",Data!G759)","v":""},{"$f":"IF(Data!H759=\"\",\"\",Data!H759)","v":""},{"$f":"IF(Data!I759=\"\",\"\",Data!I759)","v":""},{"$f":"IF(Data!J759=\"\",\"\",Data!J759)","v":""},{"$f":"IF(Data!K759=\"\",\"\",Data!K759)","v":""},{"$f":"IF(Data!L759=\"\",\"\",Data!L759)","v":""},{"$f":"IF(Data!M759=\"\",\"\",Data!M759)","v":""},{"$f":"IF(Data!N759=\"\",\"\",Data!N759)","v":""},{"$f":"IF(Data!O759=\"\",\"\",Data!O759)","v":""},{"$f":"IF(Data!P759=\"\",\"\",Data!P759)","v":""},{"$f":"IF(Data!Q759=\"\",\"\",Data!Q759)","v":""},{"$f":"IF(Data!R759=\"\",\"\",Data!R759)","v":""},{"$f":"IF(Data!S759=\"\",\"\",Data!S759)","v":""},null,null,null,null,759]
[{"$f":"IF(Data!A760=\"\",\"\",Data!A760)","v":""},"",{"$f":"IF(Data!B760=\"\",\"\",Data!B760)","v":""},{"$f":"IF(Data!C760=\"\",\"\",Data!C760)","v":""},{"$f":"IF(Data!D760=\"\",\"\",Data!D760)","v":""},{"$f":"IF(Data!E760=\"\",\"\",Data!E760)","v":""},{"$f":"IF(Data!F760=\"\",\"\",Data!F760)","v":""},{"$f":"IF(Data!G760=\"\",\"\",Data!G760)","v":""},{"$f":"IF(Data!H760=\"\",\"\",Data!H760)","v":""},{"$f":"IF(Data!I760=\"\",\"\",Data!I760)","v":""},{"$f":"IF(Data!J760=\"\",\"\",Data!J760)","v":""},{"$f":"IF(Data!K760=\"\",\"\",Data!K760)","v":""},{"$f":"IF(Data!L760=\"\",\"\",Data!L760)","v":""},{"$f":"IF(Data!M760=\"\",\"\",Data!M760)","v":""},{"$f":"IF(Data!N760=\"\",\"\",Data!N760)","v":""},{"$f":"IF(Data!O760=\"\",\"\",Data!O760)","v":""},{"$f":"IF(Data!P760=\"\",\"\",Data!P760)","v":""},{"$f":"IF(Data!Q760=\"\",\"\",Data!Q760)","v":""},{"$f":"IF(Data!R760=\"\",\"\",Data!R760)","v":""},{"$f":"IF(Data!S760=\"\",\"\",Data!S760)","v":""},null,null,null,null,760]
[{"$f":"IF(Data!A761=\"\",\"\",Data!A761)","v":""},"",{"$f":"IF(Data!B761=\"\",\"\",Data!B761)","v":""},{"$f":"IF(Data!C761=\"\",\"\",Data!C761)","v":""},{"$f":"IF(Data!D761=\"\",\"\",Data!D761)","v":""},{"$f":"IF(Data!E761=\"\",\"\",Data!E761)","v":""},{"$f":"IF(Data!F761=\"\",\"\",Data!F761)","v":""},{"$f":"IF(Data!G761=\"\",\"\",Data!G761)","v":""},{"$f":"IF(Data!H761=\"\",\"\",Data!H761)","v":""},{"$f":"IF(Data!I761=\"\",\"\",Data!I761)","v":""},{"$f":"IF(Data!J761=\"\",\"\",Data!J761)","v":""},{"$f":"IF(Data!K761=\"\",\"\",Data!K761)","v":""},{"$f":"IF(Data!L761=\"\",\"\",Data!L761)","v":""},{"$f":"IF(Data!M761=\"\",\"\",Data!M761)","v":""},{"$f":"IF(Data!N761=\"\",\"\",Data!N761)","v":""},{"$f":"IF(Data!O761=\"\",\"\",Data!O761)","v":""},{"$f":"IF(Data!P761=\"\",\"\",Data!P761)","v":""},{"$f":"IF(Data!Q761=\"\",\"\",Data!Q761)","v":""},{"$f":"IF(Data!R761=\"\",\"\",Data!R761)","v":""},{"$f":"IF(Data!S761=\"\",\"\",Data!S761)","v":""},null,null,null,null,761]
[{"$f":"IF(Data!A762=\"\",\"\",Data!A762)","v":""},"",{"$f":"IF(Data!B762=\"\",\"\",Data!B762)","v":""},{"$f":"IF(Data!C762=\"\",\"\",Data!C762)","v":""},{"$f":"IF(Data!D762=\"\",\"\",Data!D762)","v":""},{"$f":"IF(Data!E762=\"\",\"\",Data!E762)","v":""},{"$f":"IF(Data!F762=\"\",\"\",Data!F762)","v":""},{"$f":"IF(Data!G762=\"\",\"\",Data!G762)","v":""},{"$f":"IF(Data!H762=\"\",\"\",Data!H762)","v":""},{"$f":"IF(Data!I762=\"\",\"\",Data!I762)","v":""},{"$f":"IF(Data!J762=\"\",\"\",Data!J762)","v":""},{"$f":"IF(Data!K762=\"\",\"\",Data!K762)","v":""},{"$f":"IF(Data!L762=\"\",\"\",Data!L762)","v":""},{"$f":"IF(Data!M762=\"\",\"\",Data!M762)","v":""},{"$f":"IF(Data!N762=\"\",\"\",Data!N762)","v":""},{"$f":"IF(Data!O762=\"\",\"\",Data!O762)","v":""},{"$f":"IF(Data!P762=\"\",\"\",Data!P762)","v":""},{"$f":"IF(Data!Q762=\"\",\"\",Data!Q762)","v":""},{"$f":"IF(Data!R762=\"\",\"\",Data!R762)","v":""},{"$f":"IF(Data!S762=\"\",\"\",Data!S762)","v":""},null,null,null,null,762]
[{"$f":"IF(Data!A763=\"\",\"\",Data!A763)","v":""},"",{"$f":"IF(Data!B763=\"\",\"\",Data!B763)","v":""},{"$f":"IF(Data!C763=\"\",\"\",Data!C763)","v":""},{"$f":"IF(Data!D763=\"\",\"\",Data!D763)","v":""},{"$f":"IF(Data!E763=\"\",\"\",Data!E763)","v":""},{"$f":"IF(Data!F763=\"\",\"\",Data!F763)","v":""},{"$f":"IF(Data!G763=\"\",\"\",Data!G763)","v":""},{"$f":"IF(Data!H763=\"\",\"\",Data!H763)","v":""},{"$f":"IF(Data!I763=\"\",\"\",Data!I763)","v":""},{"$f":"IF(Data!J763=\"\",\"\",Data!J763)","v":""},{"$f":"IF(Data!K763=\"\",\"\",Data!K763)","v":""},{"$f":"IF(Data!L763=\"\",\"\",Data!L763)","v":""},{"$f":"IF(Data!M763=\"\",\"\",Data!M763)","v":""},{"$f":"IF(Data!N763=\"\",\"\",Data!N763)","v":""},{"$f":"IF(Data!O763=\"\",\"\",Data!O763)","v":""},{"$f":"IF(Data!P763=\"\",\"\",Data!P763)","v":""},{"$f":"IF(Data!Q763=\"\",\"\",Data!Q763)","v":""},{"$f":"IF(Data!R763=\"\",\"\",Data!R763)","v":""},{"$f":"IF(Data!S763=\"\",\"\",Data!S763)","v":""},null,null,null,null,763]
[{"$f":"IF(Data!A764=\"\",\"\",Data!A764)","v":""},"",{"$f":"IF(Data!B764=\"\",\"\",Data!B764)","v":""},{"$f":"IF(Data!C764=\"\",\"\",Data!C764)","v":""},{"$f":"IF(Data!D764=\"\",\"\",Data!D764)","v":""},{"$f":"IF(Data!E764=\"\",\"\",Data!E764)","v":""},{"$f":"IF(Data!F764=\"\",\"\",Data!F764)","v":""},{"$f":"IF(Data!G764=\"\",\"\",Data!G764)","v":""},{"$f":"IF(Data!H764=\"\",\"\",Data!H764)","v":""},{"$f":"IF(Data!I764=\"\",\"\",Data!I764)","v":""},{"$f":"IF(Data!J764=\"\",\"\",Data!J764)","v":""},{"$f":"IF(Data!K764=\"\",\"\",Data!K764)","v":""},{"$f":"IF(Data!L764=\"\",\"\",Data!L764)","v":""},{"$f":"IF(Data!M764=\"\",\"\",Data!M764)","v":""},{"$f":"IF(Data!N764=\"\",\"\",Data!N764)","v":""},{"$f":"IF(Data!O764=\"\",\"\",Data!O764)","v":""},{"$f":"IF(Data!P764=\"\",\"\",Data!P764)","v":""},{"$f":"IF(Data!Q764=\"\",\"\",Data!Q764)","v":""},{"$f":"IF(Data!R764=\"\",\"\",Data!R764)","v":""},{"$f":"IF(Data!S764=\"\",\"\",Data!S764)","v":""},null,null,null,null,764]
[{"$f":"IF(Data!A765=\"\",\"\",Data!A765)","v":""},"",{"$f":"IF(Data!B765=\"\",\"\",Data!B765)","v":""},{"$f":"IF(Data!C765=\"\",\"\",Data!C765)","v":""},{"$f":"IF(Data!D765=\"\",\"\",Data!D765)","v":""},{"$f":"IF(Data!E765=\"\",\"\",Data!E765)","v":""},{"$f":"IF(Data!F765=\"\",\"\",Data!F765)","v":""},{"$f":"IF(Data!G765=\"\",\"\",Data!G765)","v":""},{"$f":"IF(Data!H765=\"\",\"\",Data!H765)","v":""},{"$f":"IF(Data!I765=\"\",\"\",Data!I765)","v":""},{"$f":"IF(Data!J765=\"\",\"\",Data!J765)","v":""},{"$f":"IF(Data!K765=\"\",\"\",Data!K765)","v":""},{"$f":"IF(Data!L765=\"\",\"\",Data!L765)","v":""},{"$f":"IF(Data!M765=\"\",\"\",Data!M765)","v":""},{"$f":"IF(Data!N765=\"\",\"\",Data!N765)","v":""},{"$f":"IF(Data!O765=\"\",\"\",Data!O765)","v":""},{"$f":"IF(Data!P765=\"\",\"\",Data!P765)","v":""},{"$f":"IF(Data!Q765=\"\",\"\",Data!Q765)","v":""},{"$f":"IF(Data!R765=\"\",\"\",Data!R765)","v":""},{"$f":"IF(Data!S765=\"\",\"\",Data!S765)","v":""},null,null,null,null,765]
[{"$f":"IF(Data!A766=\"\",\"\",Data!A766)","v":""},"",{"$f":"IF(Data!B766=\"\",\"\",Data!B766)","v":""},{"$f":"IF(Data!C766=\"\",\"\",Data!C766)","v":""},{"$f":"IF(Data!D766=\"\",\"\",Data!D766)","v":""},{"$f":"IF(Data!E766=\"\",\"\",Data!E766)","v":""},{"$f":"IF(Data!F766=\"\",\"\",Data!F766)","v":""},{"$f":"IF(Data!G766=\"\",\"\",Data!G766)","v":""},{"$f":"IF(Data!H766=\"\",\"\",Data!H766)","v":""},{"$f":"IF(Data!I766=\"\",\"\",Data!I766)","v":""},{"$f":"IF(Data!J766=\"\",\"\",Data!J766)","v":""},{"$f":"IF(Data!K766=\"\",\"\",Data!K766)","v":""},{"$f":"IF(Data!L766=\"\",\"\",Data!L766)","v":""},{"$f":"IF(Data!M766=\"\",\"\",Data!M766)","v":""},{"$f":"IF(Data!N766=\"\",\"\",Data!N766)","v":""},{"$f":"IF(Data!O766=\"\",\"\",Data!O766)","v":""},{"$f":"IF(Data!P766=\"\",\"\",Data!P766)","v":""},{"$f":"IF(Data!Q766=\"\",\"\",Data!Q766)","v":""},{"$f":"IF(Data!R766=\"\",\"\",Data!R766)","v":""},{"$f":"IF(Data!S766=\"\",\"\",Data!S766)","v":""},null,null,null,null,766]
[{"$f":"IF(Data!A767=\"\",\"\",Data!A767)","v":""},"",{"$f":"IF(Data!B767=\"\",\"\",Data!B767)","v":""},{"$f":"IF(Data!C767=\"\",\"\",Data!C767)","v":""},{"$f":"IF(Data!D767=\"\",\"\",Data!D767)","v":""},{"$f":"IF(Data!E767=\"\",\"\",Data!E767)","v":""},{"$f":"IF(Data!F767=\"\",\"\",Data!F767)","v":""},{"$f":"IF(Data!G767=\"\",\"\",Data!G767)","v":""},{"$f":"IF(Data!H767=\"\",\"\",Data!H767)","v":""},{"$f":"IF(Data!I767=\"\",\"\",Data!I767)","v":""},{"$f":"IF(Data!J767=\"\",\"\",Data!J767)","v":""},{"$f":"IF(Data!K767=\"\",\"\",Data!K767)","v":""},{"$f":"IF(Data!L767=\"\",\"\",Data!L767)","v":""},{"$f":"IF(Data!M767=\"\",\"\",Data!M767)","v":""},{"$f":"IF(Data!N767=\"\",\"\",Data!N767)","v":""},{"$f":"IF(Data!O767=\"\",\"\",Data!O767)","v":""},{"$f":"IF(Data!P767=\"\",\"\",Data!P767)","v":""},{"$f":"IF(Data!Q767=\"\",\"\",Data!Q767)","v":""},{"$f":"IF(Data!R767=\"\",\"\",Data!R767)","v":""},{"$f":"IF(Data!S767=\"\",\"\",Data!S767)","v":""},null,null,null,null,767]
[{"$f":"IF(Data!A768=\"\",\"\",Data!A768)","v":""},"",{"$f":"IF(Data!B768=\"\",\"\",Data!B768)","v":""},{"$f":"IF(Data!C768=\"\",\"\",Data!C768)","v":""},{"$f":"IF(Data!D768=\"\",\"\",Data!D768)","v":""},{"$f":"IF(Data!E768=\"\",\"\",Data!E768)","v":""},{"$f":"IF(Data!F768=\"\",\"\",Data!F768)","v":""},{"$f":"IF(Data!G768=\"\",\"\",Data!G768)","v":""},{"$f":"IF(Data!H768=\"\",\"\",Data!H768)","v":""},{"$f":"IF(Data!I768=\"\",\"\",Data!I768)","v":""},{"$f":"IF(Data!J768=\"\",\"\",Data!J768)","v":""},{"$f":"IF(Data!K768=\"\",\"\",Data!K768)","v":""},{"$f":"IF(Data!L768=\"\",\"\",Data!L768)","v":""},{"$f":"IF(Data!M768=\"\",\"\",Data!M768)","v":""},{"$f":"IF(Data!N768=\"\",\"\",Data!N768)","v":""},{"$f":"IF(Data!O768=\"\",\"\",Data!O768)","v":""},{"$f":"IF(Data!P768=\"\",\"\",Data!P768)","v":""},{"$f":"IF(Data!Q768=\"\",\"\",Data!Q768)","v":""},{"$f":"IF(Data!R768=\"\",\"\",Data!R768)","v":""},{"$f":"IF(Data!S768=\"\",\"\",Data!S768)","v":""},null,null,null,null,768]
[{"$f":"IF(Data!A769=\"\",\"\",Data!A769)","v":""},{"$f":"IF(A770=\"\",\"\",Y770)","v":""},{"$f":"IF(Data!B769=\"\",\"\",Data!B769)","v":""},{"$f":"IF(Data!C769=\"\",\"\",Data!C769)","v":""},{"$f":"IF(Data!D769=\"\",\"\",Data!D769)","v":""},{"$f":"IF(Data!E769=\"\",\"\",Data!E769)","v":""},{"$f":"IF(Data!F769=\"\",\"\",Data!F769)","v":""},{"$f":"IF(Data!G769=\"\",\"\",Data!G769)","v":""},{"$f":"IF(Data!H769=\"\",\"\",Data!H769)","v":""},{"$f":"IF(Data!I769=\"\",\"\",Data!I769)","v":""},{"$f":"IF(Data!J769=\"\",\"\",Data!J769)","v":""},{"$f":"IF(Data!K769=\"\",\"\",Data!K769)","v":""},{"$f":"IF(Data!L769=\"\",\"\",Data!L769)","v":""},{"$f":"IF(Data!M769=\"\",\"\",Data!M769)","v":""},{"$f":"IF(Data!N769=\"\",\"\",Data!N769)","v":""},{"$f":"IF(Data!O769=\"\",\"\",Data!O769)","v":""},{"$f":"IF(Data!P769=\"\",\"\",Data!P769)","v":""},{"$f":"IF(Data!Q769=\"\",\"\",Data!Q769)","v":""},{"$f":"IF(Data!R769=\"\",\"\",Data!R769)","v":""},{"$f":"IF(Data!S769=\"\",\"\",Data!S769)","v":""},null,null,null,null,769]
[{"$f":"IF(Data!A770=\"\",\"\",Data!A770)","v":""},"",{"$f":"IF(Data!B770=\"\",\"\",Data!B770)","v":""},{"$f":"IF(Data!C770=\"\",\"\",Data!C770)","v":""},{"$f":"IF(Data!D770=\"\",\"\",Data!D770)","v":""},{"$f":"IF(Data!E770=\"\",\"\",Data!E770)","v":""},{"$f":"IF(Data!F770=\"\",\"\",Data!F770)","v":""},{"$f":"IF(Data!G770=\"\",\"\",Data!G770)","v":""},{"$f":"IF(Data!H770=\"\",\"\",Data!H770)","v":""},{"$f":"IF(Data!I770=\"\",\"\",Data!I770)","v":""},{"$f":"IF(Data!J770=\"\",\"\",Data!J770)","v":""},{"$f":"IF(Data!K770=\"\",\"\",Data!K770)","v":""},{"$f":"IF(Data!L770=\"\",\"\",Data!L770)","v":""},{"$f":"IF(Data!M770=\"\",\"\",Data!M770)","v":""},{"$f":"IF(Data!N770=\"\",\"\",Data!N770)","v":""},{"$f":"IF(Data!O770=\"\",\"\",Data!O770)","v":""},{"$f":"IF(Data!P770=\"\",\"\",Data!P770)","v":""},{"$f":"IF(Data!Q770=\"\",\"\",Data!Q770)","v":""},{"$f":"IF(Data!R770=\"\",\"\",Data!R770)","v":""},{"$f":"IF(Data!S770=\"\",\"\",Data!S770)","v":""},null,null,null,null,770]
[{"$f":"IF(Data!A771=\"\",\"\",Data!A771)","v":""},"",{"$f":"IF(Data!B771=\"\",\"\",Data!B771)","v":""},{"$f":"IF(Data!C771=\"\",\"\",Data!C771)","v":""},{"$f":"IF(Data!D771=\"\",\"\",Data!D771)","v":""},{"$f":"IF(Data!E771=\"\",\"\",Data!E771)","v":""},{"$f":"IF(Data!F771=\"\",\"\",Data!F771)","v":""},{"$f":"IF(Data!G771=\"\",\"\",Data!G771)","v":""},{"$f":"IF(Data!H771=\"\",\"\",Data!H771)","v":""},{"$f":"IF(Data!I771=\"\",\"\",Data!I771)","v":""},{"$f":"IF(Data!J771=\"\",\"\",Data!J771)","v":""},{"$f":"IF(Data!K771=\"\",\"\",Data!K771)","v":""},{"$f":"IF(Data!L771=\"\",\"\",Data!L771)","v":""},{"$f":"IF(Data!M771=\"\",\"\",Data!M771)","v":""},{"$f":"IF(Data!N771=\"\",\"\",Data!N771)","v":""},{"$f":"IF(Data!O771=\"\",\"\",Data!O771)","v":""},{"$f":"IF(Data!P771=\"\",\"\",Data!P771)","v":""},{"$f":"IF(Data!Q771=\"\",\"\",Data!Q771)","v":""},{"$f":"IF(Data!R771=\"\",\"\",Data!R771)","v":""},{"$f":"IF(Data!S771=\"\",\"\",Data!S771)","v":""},null,null,null,null,771]
[{"$f":"IF(Data!A772=\"\",\"\",Data!A772)","v":""},"",{"$f":"IF(Data!B772=\"\",\"\",Data!B772)","v":""},{"$f":"IF(Data!C772=\"\",\"\",Data!C772)","v":""},{"$f":"IF(Data!D772=\"\",\"\",Data!D772)","v":""},{"$f":"IF(Data!E772=\"\",\"\",Data!E772)","v":""},{"$f":"IF(Data!F772=\"\",\"\",Data!F772)","v":""},{"$f":"IF(Data!G772=\"\",\"\",Data!G772)","v":""},{"$f":"IF(Data!H772=\"\",\"\",Data!H772)","v":""},{"$f":"IF(Data!I772=\"\",\"\",Data!I772)","v":""},{"$f":"IF(Data!J772=\"\",\"\",Data!J772)","v":""},{"$f":"IF(Data!K772=\"\",\"\",Data!K772)","v":""},{"$f":"IF(Data!L772=\"\",\"\",Data!L772)","v":""},{"$f":"IF(Data!M772=\"\",\"\",Data!M772)","v":""},{"$f":"IF(Data!N772=\"\",\"\",Data!N772)","v":""},{"$f":"IF(Data!O772=\"\",\"\",Data!O772)","v":""},{"$f":"IF(Data!P772=\"\",\"\",Data!P772)","v":""},{"$f":"IF(Data!Q772=\"\",\"\",Data!Q772)","v":""},{"$f":"IF(Data!R772=\"\",\"\",Data!R772)","v":""},{"$f":"IF(Data!S772=\"\",\"\",Data!S772)","v":""},null,null,null,null,772]
[{"$f":"IF(Data!A773=\"\",\"\",Data!A773)","v":""},"",{"$f":"IF(Data!B773=\"\",\"\",Data!B773)","v":""},{"$f":"IF(Data!C773=\"\",\"\",Data!C773)","v":""},{"$f":"IF(Data!D773=\"\",\"\",Data!D773)","v":""},{"$f":"IF(Data!E773=\"\",\"\",Data!E773)","v":""},{"$f":"IF(Data!F773=\"\",\"\",Data!F773)","v":""},{"$f":"IF(Data!G773=\"\",\"\",Data!G773)","v":""},{"$f":"IF(Data!H773=\"\",\"\",Data!H773)","v":""},{"$f":"IF(Data!I773=\"\",\"\",Data!I773)","v":""},{"$f":"IF(Data!J773=\"\",\"\",Data!J773)","v":""},{"$f":"IF(Data!K773=\"\",\"\",Data!K773)","v":""},{"$f":"IF(Data!L773=\"\",\"\",Data!L773)","v":""},{"$f":"IF(Data!M773=\"\",\"\",Data!M773)","v":""},{"$f":"IF(Data!N773=\"\",\"\",Data!N773)","v":""},{"$f":"IF(Data!O773=\"\",\"\",Data!O773)","v":""},{"$f":"IF(Data!P773=\"\",\"\",Data!P773)","v":""},{"$f":"IF(Data!Q773=\"\",\"\",Data!Q773)","v":""},{"$f":"IF(Data!R773=\"\",\"\",Data!R773)","v":""},{"$f":"IF(Data!S773=\"\",\"\",Data!S773)","v":""},null,null,null,null,773]
[{"$f":"IF(Data!A774=\"\",\"\",Data!A774)","v":""},"",{"$f":"IF(Data!B774=\"\",\"\",Data!B774)","v":""},{"$f":"IF(Data!C774=\"\",\"\",Data!C774)","v":""},{"$f":"IF(Data!D774=\"\",\"\",Data!D774)","v":""},{"$f":"IF(Data!E774=\"\",\"\",Data!E774)","v":""},{"$f":"IF(Data!F774=\"\",\"\",Data!F774)","v":""},{"$f":"IF(Data!G774=\"\",\"\",Data!G774)","v":""},{"$f":"IF(Data!H774=\"\",\"\",Data!H774)","v":""},{"$f":"IF(Data!I774=\"\",\"\",Data!I774)","v":""},{"$f":"IF(Data!J774=\"\",\"\",Data!J774)","v":""},{"$f":"IF(Data!K774=\"\",\"\",Data!K774)","v":""},{"$f":"IF(Data!L774=\"\",\"\",Data!L774)","v":""},{"$f":"IF(Data!M774=\"\",\"\",Data!M774)","v":""},{"$f":"IF(Data!N774=\"\",\"\",Data!N774)","v":""},{"$f":"IF(Data!O774=\"\",\"\",Data!O774)","v":""},{"$f":"IF(Data!P774=\"\",\"\",Data!P774)","v":""},{"$f":"IF(Data!Q774=\"\",\"\",Data!Q774)","v":""},{"$f":"IF(Data!R774=\"\",\"\",Data!R774)","v":""},{"$f":"IF(Data!S774=\"\",\"\",Data!S774)","v":""},null,null,null,null,774]
[{"$f":"IF(Data!A775=\"\",\"\",Data!A775)","v":""},"",{"$f":"IF(Data!B775=\"\",\"\",Data!B775)","v":""},{"$f":"IF(Data!C775=\"\",\"\",Data!C775)","v":""},{"$f":"IF(Data!D775=\"\",\"\",Data!D775)","v":""},{"$f":"IF(Data!E775=\"\",\"\",Data!E775)","v":""},{"$f":"IF(Data!F775=\"\",\"\",Data!F775)","v":""},{"$f":"IF(Data!G775=\"\",\"\",Data!G775)","v":""},{"$f":"IF(Data!H775=\"\",\"\",Data!H775)","v":""},{"$f":"IF(Data!I775=\"\",\"\",Data!I775)","v":""},{"$f":"IF(Data!J775=\"\",\"\",Data!J775)","v":""},{"$f":"IF(Data!K775=\"\",\"\",Data!K775)","v":""},{"$f":"IF(Data!L775=\"\",\"\",Data!L775)","v":""},{"$f":"IF(Data!M775=\"\",\"\",Data!M775)","v":""},{"$f":"IF(Data!N775=\"\",\"\",Data!N775)","v":""},{"$f":"IF(Data!O775=\"\",\"\",Data!O775)","v":""},{"$f":"IF(Data!P775=\"\",\"\",Data!P775)","v":""},{"$f":"IF(Data!Q775=\"\",\"\",Data!Q775)","v":""},{"$f":"IF(Data!R775=\"\",\"\",Data!R775)","v":""},{"$f":"IF(Data!S775=\"\",\"\",Data!S775)","v":""},null,null,null,null,775]
[{"$f":"IF(Data!A776=\"\",\"\",Data!A776)","v":""},"",{"$f":"IF(Data!B776=\"\",\"\",Data!B776)","v":""},{"$f":"IF(Data!C776=\"\",\"\",Data!C776)","v":""},{"$f":"IF(Data!D776=\"\",\"\",Data!D776)","v":""},{"$f":"IF(Data!E776=\"\",\"\",Data!E776)","v":""},{"$f":"IF(Data!F776=\"\",\"\",Data!F776)","v":""},{"$f":"IF(Data!G776=\"\",\"\",Data!G776)","v":""},{"$f":"IF(Data!H776=\"\",\"\",Data!H776)","v":""},{"$f":"IF(Data!I776=\"\",\"\",Data!I776)","v":""},{"$f":"IF(Data!J776=\"\",\"\",Data!J776)","v":""},{"$f":"IF(Data!K776=\"\",\"\",Data!K776)","v":""},{"$f":"IF(Data!L776=\"\",\"\",Data!L776)","v":""},{"$f":"IF(Data!M776=\"\",\"\",Data!M776)","v":""},{"$f":"IF(Data!N776=\"\",\"\",Data!N776)","v":""},{"$f":"IF(Data!O776=\"\",\"\",Data!O776)","v":""},{"$f":"IF(Data!P776=\"\",\"\",Data!P776)","v":""},{"$f":"IF(Data!Q776=\"\",\"\",Data!Q776)","v":""},{"$f":"IF(Data!R776=\"\",\"\",Data!R776)","v":""},{"$f":"IF(Data!S776=\"\",\"\",Data!S776)","v":""},null,null,null,null,776]
[{"$f":"IF(Data!A777=\"\",\"\",Data!A777)","v":""},"",{"$f":"IF(Data!B777=\"\",\"\",Data!B777)","v":""},{"$f":"IF(Data!C777=\"\",\"\",Data!C777)","v":""},{"$f":"IF(Data!D777=\"\",\"\",Data!D777)","v":""},{"$f":"IF(Data!E777=\"\",\"\",Data!E777)","v":""},{"$f":"IF(Data!F777=\"\",\"\",Data!F777)","v":""},{"$f":"IF(Data!G777=\"\",\"\",Data!G777)","v":""},{"$f":"IF(Data!H777=\"\",\"\",Data!H777)","v":""},{"$f":"IF(Data!I777=\"\",\"\",Data!I777)","v":""},{"$f":"IF(Data!J777=\"\",\"\",Data!J777)","v":""},{"$f":"IF(Data!K777=\"\",\"\",Data!K777)","v":""},{"$f":"IF(Data!L777=\"\",\"\",Data!L777)","v":""},{"$f":"IF(Data!M777=\"\",\"\",Data!M777)","v":""},{"$f":"IF(Data!N777=\"\",\"\",Data!N777)","v":""},{"$f":"IF(Data!O777=\"\",\"\",Data!O777)","v":""},{"$f":"IF(Data!P777=\"\",\"\",Data!P777)","v":""},{"$f":"IF(Data!Q777=\"\",\"\",Data!Q777)","v":""},{"$f":"IF(Data!R777=\"\",\"\",Data!R777)","v":""},{"$f":"IF(Data!S777=\"\",\"\",Data!S777)","v":""},null,null,null,null,777]
[{"$f":"IF(Data!A778=\"\",\"\",Data!A778)","v":""},"",{"$f":"IF(Data!B778=\"\",\"\",Data!B778)","v":""},{"$f":"IF(Data!C778=\"\",\"\",Data!C778)","v":""},{"$f":"IF(Data!D778=\"\",\"\",Data!D778)","v":""},{"$f":"IF(Data!E778=\"\",\"\",Data!E778)","v":""},{"$f":"IF(Data!F778=\"\",\"\",Data!F778)","v":""},{"$f":"IF(Data!G778=\"\",\"\",Data!G778)","v":""},{"$f":"IF(Data!H778=\"\",\"\",Data!H778)","v":""},{"$f":"IF(Data!I778=\"\",\"\",Data!I778)","v":""},{"$f":"IF(Data!J778=\"\",\"\",Data!J778)","v":""},{"$f":"IF(Data!K778=\"\",\"\",Data!K778)","v":""},{"$f":"IF(Data!L778=\"\",\"\",Data!L778)","v":""},{"$f":"IF(Data!M778=\"\",\"\",Data!M778)","v":""},{"$f":"IF(Data!N778=\"\",\"\",Data!N778)","v":""},{"$f":"IF(Data!O778=\"\",\"\",Data!O778)","v":""},{"$f":"IF(Data!P778=\"\",\"\",Data!P778)","v":""},{"$f":"IF(Data!Q778=\"\",\"\",Data!Q778)","v":""},{"$f":"IF(Data!R778=\"\",\"\",Data!R778)","v":""},{"$f":"IF(Data!S778=\"\",\"\",Data!S778)","v":""},null,null,null,null,778]
[{"$f":"IF(Data!A779=\"\",\"\",Data!A779)","v":""},"",{"$f":"IF(Data!B779=\"\",\"\",Data!B779)","v":""},{"$f":"IF(Data!C779=\"\",\"\",Data!C779)","v":""},{"$f":"IF(Data!D779=\"\",\"\",Data!D779)","v":""},{"$f":"IF(Data!E779=\"\",\"\",Data!E779)","v":""},{"$f":"IF(Data!F779=\"\",\"\",Data!F779)","v":""},{"$f":"IF(Data!G779=\"\",\"\",Data!G779)","v":""},{"$f":"IF(Data!H779=\"\",\"\",Data!H779)","v":""},{"$f":"IF(Data!I779=\"\",\"\",Data!I779)","v":""},{"$f":"IF(Data!J779=\"\",\"\",Data!J779)","v":""},{"$f":"IF(Data!K779=\"\",\"\",Data!K779)","v":""},{"$f":"IF(Data!L779=\"\",\"\",Data!L779)","v":""},{"$f":"IF(Data!M779=\"\",\"\",Data!M779)","v":""},{"$f":"IF(Data!N779=\"\",\"\",Data!N779)","v":""},{"$f":"IF(Data!O779=\"\",\"\",Data!O779)","v":""},{"$f":"IF(Data!P779=\"\",\"\",Data!P779)","v":""},{"$f":"IF(Data!Q779=\"\",\"\",Data!Q779)","v":""},{"$f":"IF(Data!R779=\"\",\"\",Data!R779)","v":""},{"$f":"IF(Data!S779=\"\",\"\",Data!S779)","v":""},null,null,null,null,779]
[{"$f":"IF(Data!A780=\"\",\"\",Data!A780)","v":""},"",{"$f":"IF(Data!B780=\"\",\"\",Data!B780)","v":""},{"$f":"IF(Data!C780=\"\",\"\",Data!C780)","v":""},{"$f":"IF(Data!D780=\"\",\"\",Data!D780)","v":""},{"$f":"IF(Data!E780=\"\",\"\",Data!E780)","v":""},{"$f":"IF(Data!F780=\"\",\"\",Data!F780)","v":""},{"$f":"IF(Data!G780=\"\",\"\",Data!G780)","v":""},{"$f":"IF(Data!H780=\"\",\"\",Data!H780)","v":""},{"$f":"IF(Data!I780=\"\",\"\",Data!I780)","v":""},{"$f":"IF(Data!J780=\"\",\"\",Data!J780)","v":""},{"$f":"IF(Data!K780=\"\",\"\",Data!K780)","v":""},{"$f":"IF(Data!L780=\"\",\"\",Data!L780)","v":""},{"$f":"IF(Data!M780=\"\",\"\",Data!M780)","v":""},{"$f":"IF(Data!N780=\"\",\"\",Data!N780)","v":""},{"$f":"IF(Data!O780=\"\",\"\",Data!O780)","v":""},{"$f":"IF(Data!P780=\"\",\"\",Data!P780)","v":""},{"$f":"IF(Data!Q780=\"\",\"\",Data!Q780)","v":""},{"$f":"IF(Data!R780=\"\",\"\",Data!R780)","v":""},{"$f":"IF(Data!S780=\"\",\"\",Data!S780)","v":""},null,null,null,null,780]
[{"$f":"IF(Data!A781=\"\",\"\",Data!A781)","v":""},"",{"$f":"IF(Data!B781=\"\",\"\",Data!B781)","v":""},{"$f":"IF(Data!C781=\"\",\"\",Data!C781)","v":""},{"$f":"IF(Data!D781=\"\",\"\",Data!D781)","v":""},{"$f":"IF(Data!E781=\"\",\"\",Data!E781)","v":""},{"$f":"IF(Data!F781=\"\",\"\",Data!F781)","v":""},{"$f":"IF(Data!G781=\"\",\"\",Data!G781)","v":""},{"$f":"IF(Data!H781=\"\",\"\",Data!H781)","v":""},{"$f":"IF(Data!I781=\"\",\"\",Data!I781)","v":""},{"$f":"IF(Data!J781=\"\",\"\",Data!J781)","v":""},{"$f":"IF(Data!K781=\"\",\"\",Data!K781)","v":""},{"$f":"IF(Data!L781=\"\",\"\",Data!L781)","v":""},{"$f":"IF(Data!M781=\"\",\"\",Data!M781)","v":""},{"$f":"IF(Data!N781=\"\",\"\",Data!N781)","v":""},{"$f":"IF(Data!O781=\"\",\"\",Data!O781)","v":""},{"$f":"IF(Data!P781=\"\",\"\",Data!P781)","v":""},{"$f":"IF(Data!Q781=\"\",\"\",Data!Q781)","v":""},{"$f":"IF(Data!R781=\"\",\"\",Data!R781)","v":""},{"$f":"IF(Data!S781=\"\",\"\",Data!S781)","v":""},null,null,null,null,781]
[{"$f":"IF(Data!A782=\"\",\"\",Data!A782)","v":""},"",{"$f":"IF(Data!B782=\"\",\"\",Data!B782)","v":""},{"$f":"IF(Data!C782=\"\",\"\",Data!C782)","v":""},{"$f":"IF(Data!D782=\"\",\"\",Data!D782)","v":""},{"$f":"IF(Data!E782=\"\",\"\",Data!E782)","v":""},{"$f":"IF(Data!F782=\"\",\"\",Data!F782)","v":""},{"$f":"IF(Data!G782=\"\",\"\",Data!G782)","v":""},{"$f":"IF(Data!H782=\"\",\"\",Data!H782)","v":""},{"$f":"IF(Data!I782=\"\",\"\",Data!I782)","v":""},{"$f":"IF(Data!J782=\"\",\"\",Data!J782)","v":""},{"$f":"IF(Data!K782=\"\",\"\",Data!K782)","v":""},{"$f":"IF(Data!L782=\"\",\"\",Data!L782)","v":""},{"$f":"IF(Data!M782=\"\",\"\",Data!M782)","v":""},{"$f":"IF(Data!N782=\"\",\"\",Data!N782)","v":""},{"$f":"IF(Data!O782=\"\",\"\",Data!O782)","v":""},{"$f":"IF(Data!P782=\"\",\"\",Data!P782)","v":""},{"$f":"IF(Data!Q782=\"\",\"\",Data!Q782)","v":""},{"$f":"IF(Data!R782=\"\",\"\",Data!R782)","v":""},{"$f":"IF(Data!S782=\"\",\"\",Data!S782)","v":""},null,null,null,null,782]
[{"$f":"IF(Data!A783=\"\",\"\",Data!A783)","v":""},"",{"$f":"IF(Data!B783=\"\",\"\",Data!B783)","v":""},{"$f":"IF(Data!C783=\"\",\"\",Data!C783)","v":""},{"$f":"IF(Data!D783=\"\",\"\",Data!D783)","v":""},{"$f":"IF(Data!E783=\"\",\"\",Data!E783)","v":""},{"$f":"IF(Data!F783=\"\",\"\",Data!F783)","v":""},{"$f":"IF(Data!G783=\"\",\"\",Data!G783)","v":""},{"$f":"IF(Data!H783=\"\",\"\",Data!H783)","v":""},{"$f":"IF(Data!I783=\"\",\"\",Data!I783)","v":""},{"$f":"IF(Data!J783=\"\",\"\",Data!J783)","v":""},{"$f":"IF(Data!K783=\"\",\"\",Data!K783)","v":""},{"$f":"IF(Data!L783=\"\",\"\",Data!L783)","v":""},{"$f":"IF(Data!M783=\"\",\"\",Data!M783)","v":""},{"$f":"IF(Data!N783=\"\",\"\",Data!N783)","v":""},{"$f":"IF(Data!O783=\"\",\"\",Data!O783)","v":""},{"$f":"IF(Data!P783=\"\",\"\",Data!P783)","v":""},{"$f":"IF(Data!Q783=\"\",\"\",Data!Q783)","v":""},{"$f":"IF(Data!R783=\"\",\"\",Data!R783)","v":""},{"$f":"IF(Data!S783=\"\",\"\",Data!S783)","v":""},null,null,null,null,783]
[{"$f":"IF(Data!A784=\"\",\"\",Data!A784)","v":""},"",{"$f":"IF(Data!B784=\"\",\"\",Data!B784)","v":""},{"$f":"IF(Data!C784=\"\",\"\",Data!C784)","v":""},{"$f":"IF(Data!D784=\"\",\"\",Data!D784)","v":""},{"$f":"IF(Data!E784=\"\",\"\",Data!E784)","v":""},{"$f":"IF(Data!F784=\"\",\"\",Data!F784)","v":""},{"$f":"IF(Data!G784=\"\",\"\",Data!G784)","v":""},{"$f":"IF(Data!H784=\"\",\"\",Data!H784)","v":""},{"$f":"IF(Data!I784=\"\",\"\",Data!I784)","v":""},{"$f":"IF(Data!J784=\"\",\"\",Data!J784)","v":""},{"$f":"IF(Data!K784=\"\",\"\",Data!K784)","v":""},{"$f":"IF(Data!L784=\"\",\"\",Data!L784)","v":""},{"$f":"IF(Data!M784=\"\",\"\",Data!M784)","v":""},{"$f":"IF(Data!N784=\"\",\"\",Data!N784)","v":""},{"$f":"IF(Data!O784=\"\",\"\",Data!O784)","v":""},{"$f":"IF(Data!P784=\"\",\"\",Data!P784)","v":""},{"$f":"IF(Data!Q784=\"\",\"\",Data!Q784)","v":""},{"$f":"IF(Data!R784=\"\",\"\",Data!R784)","v":""},{"$f":"IF(Data!S784=\"\",\"\",Data!S784)","v":""},null,null,null,null,784]
[{"$f":"IF(Data!A785=\"\",\"\",Data!A785)","v":""},"",{"$f":"IF(Data!B785=\"\",\"\",Data!B785)","v":""},{"$f":"IF(Data!C785=\"\",\"\",Data!C785)","v":""},{"$f":"IF(Data!D785=\"\",\"\",Data!D785)","v":""},{"$f":"IF(Data!E785=\"\",\"\",Data!E785)","v":""},{"$f":"IF(Data!F785=\"\",\"\",Data!F785)","v":""},{"$f":"IF(Data!G785=\"\",\"\",Data!G785)","v":""},{"$f":"IF(Data!H785=\"\",\"\",Data!H785)","v":""},{"$f":"IF(Data!I785=\"\",\"\",Data!I785)","v":""},{"$f":"IF(Data!J785=\"\",\"\",Data!J785)","v":""},{"$f":"IF(Data!K785=\"\",\"\",Data!K785)","v":""},{"$f":"IF(Data!L785=\"\",\"\",Data!L785)","v":""},{"$f":"IF(Data!M785=\"\",\"\",Data!M785)","v":""},{"$f":"IF(Data!N785=\"\",\"\",Data!N785)","v":""},{"$f":"IF(Data!O785=\"\",\"\",Data!O785)","v":""},{"$f":"IF(Data!P785=\"\",\"\",Data!P785)","v":""},{"$f":"IF(Data!Q785=\"\",\"\",Data!Q785)","v":""},{"$f":"IF(Data!R785=\"\",\"\",Data!R785)","v":""},{"$f":"IF(Data!S785=\"\",\"\",Data!S785)","v":""},null,null,null,null,785]
[{"$f":"IF(Data!A786=\"\",\"\",Data!A786)","v":""},"",{"$f":"IF(Data!B786=\"\",\"\",Data!B786)","v":""},{"$f":"IF(Data!C786=\"\",\"\",Data!C786)","v":""},{"$f":"IF(Data!D786=\"\",\"\",Data!D786)","v":""},{"$f":"IF(Data!E786=\"\",\"\",Data!E786)","v":""},{"$f":"IF(Data!F786=\"\",\"\",Data!F786)","v":""},{"$f":"IF(Data!G786=\"\",\"\",Data!G786)","v":""},{"$f":"IF(Data!H786=\"\",\"\",Data!H786)","v":""},{"$f":"IF(Data!I786=\"\",\"\",Data!I786)","v":""},{"$f":"IF(Data!J786=\"\",\"\",Data!J786)","v":""},{"$f":"IF(Data!K786=\"\",\"\",Data!K786)","v":""},{"$f":"IF(Data!L786=\"\",\"\",Data!L786)","v":""},{"$f":"IF(Data!M786=\"\",\"\",Data!M786)","v":""},{"$f":"IF(Data!N786=\"\",\"\",Data!N786)","v":""},{"$f":"IF(Data!O786=\"\",\"\",Data!O786)","v":""},{"$f":"IF(Data!P786=\"\",\"\",Data!P786)","v":""},{"$f":"IF(Data!Q786=\"\",\"\",Data!Q786)","v":""},{"$f":"IF(Data!R786=\"\",\"\",Data!R786)","v":""},{"$f":"IF(Data!S786=\"\",\"\",Data!S786)","v":""},null,null,null,null,786]
[{"$f":"IF(Data!A787=\"\",\"\",Data!A787)","v":""},"",{"$f":"IF(Data!B787=\"\",\"\",Data!B787)","v":""},{"$f":"IF(Data!C787=\"\",\"\",Data!C787)","v":""},{"$f":"IF(Data!D787=\"\",\"\",Data!D787)","v":""},{"$f":"IF(Data!E787=\"\",\"\",Data!E787)","v":""},{"$f":"IF(Data!F787=\"\",\"\",Data!F787)","v":""},{"$f":"IF(Data!G787=\"\",\"\",Data!G787)","v":""},{"$f":"IF(Data!H787=\"\",\"\",Data!H787)","v":""},{"$f":"IF(Data!I787=\"\",\"\",Data!I787)","v":""},{"$f":"IF(Data!J787=\"\",\"\",Data!J787)","v":""},{"$f":"IF(Data!K787=\"\",\"\",Data!K787)","v":""},{"$f":"IF(Data!L787=\"\",\"\",Data!L787)","v":""},{"$f":"IF(Data!M787=\"\",\"\",Data!M787)","v":""},{"$f":"IF(Data!N787=\"\",\"\",Data!N787)","v":""},{"$f":"IF(Data!O787=\"\",\"\",Data!O787)","v":""},{"$f":"IF(Data!P787=\"\",\"\",Data!P787)","v":""},{"$f":"IF(Data!Q787=\"\",\"\",Data!Q787)","v":""},{"$f":"IF(Data!R787=\"\",\"\",Data!R787)","v":""},{"$f":"IF(Data!S787=\"\",\"\",Data!S787)","v":""},null,null,null,null,787]
[{"$f":"IF(Data!A788=\"\",\"\",Data!A788)","v":""},"",{"$f":"IF(Data!B788=\"\",\"\",Data!B788)","v":""},{"$f":"IF(Data!C788=\"\",\"\",Data!C788)","v":""},{"$f":"IF(Data!D788=\"\",\"\",Data!D788)","v":""},{"$f":"IF(Data!E788=\"\",\"\",Data!E788)","v":""},{"$f":"IF(Data!F788=\"\",\"\",Data!F788)","v":""},{"$f":"IF(Data!G788=\"\",\"\",Data!G788)","v":""},{"$f":"IF(Data!H788=\"\",\"\",Data!H788)","v":""},{"$f":"IF(Data!I788=\"\",\"\",Data!I788)","v":""},{"$f":"IF(Data!J788=\"\",\"\",Data!J788)","v":""},{"$f":"IF(Data!K788=\"\",\"\",Data!K788)","v":""},{"$f":"IF(Data!L788=\"\",\"\",Data!L788)","v":""},{"$f":"IF(Data!M788=\"\",\"\",Data!M788)","v":""},{"$f":"IF(Data!N788=\"\",\"\",Data!N788)","v":""},{"$f":"IF(Data!O788=\"\",\"\",Data!O788)","v":""},{"$f":"IF(Data!P788=\"\",\"\",Data!P788)","v":""},{"$f":"IF(Data!Q788=\"\",\"\",Data!Q788)","v":""},{"$f":"IF(Data!R788=\"\",\"\",Data!R788)","v":""},{"$f":"IF(Data!S788=\"\",\"\",Data!S788)","v":""},null,null,null,null,788]
[{"$f":"IF(Data!A789=\"\",\"\",Data!A789)","v":""},"",{"$f":"IF(Data!B789=\"\",\"\",Data!B789)","v":""},{"$f":"IF(Data!C789=\"\",\"\",Data!C789)","v":""},{"$f":"IF(Data!D789=\"\",\"\",Data!D789)","v":""},{"$f":"IF(Data!E789=\"\",\"\",Data!E789)","v":""},{"$f":"IF(Data!F789=\"\",\"\",Data!F789)","v":""},{"$f":"IF(Data!G789=\"\",\"\",Data!G789)","v":""},{"$f":"IF(Data!H789=\"\",\"\",Data!H789)","v":""},{"$f":"IF(Data!I789=\"\",\"\",Data!I789)","v":""},{"$f":"IF(Data!J789=\"\",\"\",Data!J789)","v":""},{"$f":"IF(Data!K789=\"\",\"\",Data!K789)","v":""},{"$f":"IF(Data!L789=\"\",\"\",Data!L789)","v":""},{"$f":"IF(Data!M789=\"\",\"\",Data!M789)","v":""},{"$f":"IF(Data!N789=\"\",\"\",Data!N789)","v":""},{"$f":"IF(Data!O789=\"\",\"\",Data!O789)","v":""},{"$f":"IF(Data!P789=\"\",\"\",Data!P789)","v":""},{"$f":"IF(Data!Q789=\"\",\"\",Data!Q789)","v":""},{"$f":"IF(Data!R789=\"\",\"\",Data!R789)","v":""},{"$f":"IF(Data!S789=\"\",\"\",Data!S789)","v":""},null,null,null,null,789]
[{"$f":"IF(Data!A790=\"\",\"\",Data!A790)","v":""},"",{"$f":"IF(Data!B790=\"\",\"\",Data!B790)","v":""},{"$f":"IF(Data!C790=\"\",\"\",Data!C790)","v":""},{"$f":"IF(Data!D790=\"\",\"\",Data!D790)","v":""},{"$f":"IF(Data!E790=\"\",\"\",Data!E790)","v":""},{"$f":"IF(Data!F790=\"\",\"\",Data!F790)","v":""},{"$f":"IF(Data!G790=\"\",\"\",Data!G790)","v":""},{"$f":"IF(Data!H790=\"\",\"\",Data!H790)","v":""},{"$f":"IF(Data!I790=\"\",\"\",Data!I790)","v":""},{"$f":"IF(Data!J790=\"\",\"\",Data!J790)","v":""},{"$f":"IF(Data!K790=\"\",\"\",Data!K790)","v":""},{"$f":"IF(Data!L790=\"\",\"\",Data!L790)","v":""},{"$f":"IF(Data!M790=\"\",\"\",Data!M790)","v":""},{"$f":"IF(Data!N790=\"\",\"\",Data!N790)","v":""},{"$f":"IF(Data!O790=\"\",\"\",Data!O790)","v":""},{"$f":"IF(Data!P790=\"\",\"\",Data!P790)","v":""},{"$f":"IF(Data!Q790=\"\",\"\",Data!Q790)","v":""},{"$f":"IF(Data!R790=\"\",\"\",Data!R790)","v":""},{"$f":"IF(Data!S790=\"\",\"\",Data!S790)","v":""},null,null,null,null,790]
[{"$f":"IF(Data!A791=\"\",\"\",Data!A791)","v":""},"",{"$f":"IF(Data!B791=\"\",\"\",Data!B791)","v":""},{"$f":"IF(Data!C791=\"\",\"\",Data!C791)","v":""},{"$f":"IF(Data!D791=\"\",\"\",Data!D791)","v":""},{"$f":"IF(Data!E791=\"\",\"\",Data!E791)","v":""},{"$f":"IF(Data!F791=\"\",\"\",Data!F791)","v":""},{"$f":"IF(Data!G791=\"\",\"\",Data!G791)","v":""},{"$f":"IF(Data!H791=\"\",\"\",Data!H791)","v":""},{"$f":"IF(Data!I791=\"\",\"\",Data!I791)","v":""},{"$f":"IF(Data!J791=\"\",\"\",Data!J791)","v":""},{"$f":"IF(Data!K791=\"\",\"\",Data!K791)","v":""},{"$f":"IF(Data!L791=\"\",\"\",Data!L791)","v":""},{"$f":"IF(Data!M791=\"\",\"\",Data!M791)","v":""},{"$f":"IF(Data!N791=\"\",\"\",Data!N791)","v":""},{"$f":"IF(Data!O791=\"\",\"\",Data!O791)","v":""},{"$f":"IF(Data!P791=\"\",\"\",Data!P791)","v":""},{"$f":"IF(Data!Q791=\"\",\"\",Data!Q791)","v":""},{"$f":"IF(Data!R791=\"\",\"\",Data!R791)","v":""},{"$f":"IF(Data!S791=\"\",\"\",Data!S791)","v":""},null,null,null,null,791]
[{"$f":"IF(Data!A792=\"\",\"\",Data!A792)","v":""},"",{"$f":"IF(Data!B792=\"\",\"\",Data!B792)","v":""},{"$f":"IF(Data!C792=\"\",\"\",Data!C792)","v":""},{"$f":"IF(Data!D792=\"\",\"\",Data!D792)","v":""},{"$f":"IF(Data!E792=\"\",\"\",Data!E792)","v":""},{"$f":"IF(Data!F792=\"\",\"\",Data!F792)","v":""},{"$f":"IF(Data!G792=\"\",\"\",Data!G792)","v":""},{"$f":"IF(Data!H792=\"\",\"\",Data!H792)","v":""},{"$f":"IF(Data!I792=\"\",\"\",Data!I792)","v":""},{"$f":"IF(Data!J792=\"\",\"\",Data!J792)","v":""},{"$f":"IF(Data!K792=\"\",\"\",Data!K792)","v":""},{"$f":"IF(Data!L792=\"\",\"\",Data!L792)","v":""},{"$f":"IF(Data!M792=\"\",\"\",Data!M792)","v":""},{"$f":"IF(Data!N792=\"\",\"\",Data!N792)","v":""},{"$f":"IF(Data!O792=\"\",\"\",Data!O792)","v":""},{"$f":"IF(Data!P792=\"\",\"\",Data!P792)","v":""},{"$f":"IF(Data!Q792=\"\",\"\",Data!Q792)","v":""},{"$f":"IF(Data!R792=\"\",\"\",Data!R792)","v":""},{"$f":"IF(Data!S792=\"\",\"\",Data!S792)","v":""},null,null,null,null,792]
[{"$f":"IF(Data!A793=\"\",\"\",Data!A793)","v":""},"",{"$f":"IF(Data!B793=\"\",\"\",Data!B793)","v":""},{"$f":"IF(Data!C793=\"\",\"\",Data!C793)","v":""},{"$f":"IF(Data!D793=\"\",\"\",Data!D793)","v":""},{"$f":"IF(Data!E793=\"\",\"\",Data!E793)","v":""},{"$f":"IF(Data!F793=\"\",\"\",Data!F793)","v":""},{"$f":"IF(Data!G793=\"\",\"\",Data!G793)","v":""},{"$f":"IF(Data!H793=\"\",\"\",Data!H793)","v":""},{"$f":"IF(Data!I793=\"\",\"\",Data!I793)","v":""},{"$f":"IF(Data!J793=\"\",\"\",Data!J793)","v":""},{"$f":"IF(Data!K793=\"\",\"\",Data!K793)","v":""},{"$f":"IF(Data!L793=\"\",\"\",Data!L793)","v":""},{"$f":"IF(Data!M793=\"\",\"\",Data!M793)","v":""},{"$f":"IF(Data!N793=\"\",\"\",Data!N793)","v":""},{"$f":"IF(Data!O793=\"\",\"\",Data!O793)","v":""},{"$f":"IF(Data!P793=\"\",\"\",Data!P793)","v":""},{"$f":"IF(Data!Q793=\"\",\"\",Data!Q793)","v":""},{"$f":"IF(Data!R793=\"\",\"\",Data!R793)","v":""},{"$f":"IF(Data!S793=\"\",\"\",Data!S793)","v":""},null,null,null,null,793]
[{"$f":"IF(Data!A794=\"\",\"\",Data!A794)","v":""},"",{"$f":"IF(Data!B794=\"\",\"\",Data!B794)","v":""},{"$f":"IF(Data!C794=\"\",\"\",Data!C794)","v":""},{"$f":"IF(Data!D794=\"\",\"\",Data!D794)","v":""},{"$f":"IF(Data!E794=\"\",\"\",Data!E794)","v":""},{"$f":"IF(Data!F794=\"\",\"\",Data!F794)","v":""},{"$f":"IF(Data!G794=\"\",\"\",Data!G794)","v":""},{"$f":"IF(Data!H794=\"\",\"\",Data!H794)","v":""},{"$f":"IF(Data!I794=\"\",\"\",Data!I794)","v":""},{"$f":"IF(Data!J794=\"\",\"\",Data!J794)","v":""},{"$f":"IF(Data!K794=\"\",\"\",Data!K794)","v":""},{"$f":"IF(Data!L794=\"\",\"\",Data!L794)","v":""},{"$f":"IF(Data!M794=\"\",\"\",Data!M794)","v":""},{"$f":"IF(Data!N794=\"\",\"\",Data!N794)","v":""},{"$f":"IF(Data!O794=\"\",\"\",Data!O794)","v":""},{"$f":"IF(Data!P794=\"\",\"\",Data!P794)","v":""},{"$f":"IF(Data!Q794=\"\",\"\",Data!Q794)","v":""},{"$f":"IF(Data!R794=\"\",\"\",Data!R794)","v":""},{"$f":"IF(Data!S794=\"\",\"\",Data!S794)","v":""},null,null,null,null,794]
[{"$f":"IF(Data!A795=\"\",\"\",Data!A795)","v":""},"",{"$f":"IF(Data!B795=\"\",\"\",Data!B795)","v":""},{"$f":"IF(Data!C795=\"\",\"\",Data!C795)","v":""},{"$f":"IF(Data!D795=\"\",\"\",Data!D795)","v":""},{"$f":"IF(Data!E795=\"\",\"\",Data!E795)","v":""},{"$f":"IF(Data!F795=\"\",\"\",Data!F795)","v":""},{"$f":"IF(Data!G795=\"\",\"\",Data!G795)","v":""},{"$f":"IF(Data!H795=\"\",\"\",Data!H795)","v":""},{"$f":"IF(Data!I795=\"\",\"\",Data!I795)","v":""},{"$f":"IF(Data!J795=\"\",\"\",Data!J795)","v":""},{"$f":"IF(Data!K795=\"\",\"\",Data!K795)","v":""},{"$f":"IF(Data!L795=\"\",\"\",Data!L795)","v":""},{"$f":"IF(Data!M795=\"\",\"\",Data!M795)","v":""},{"$f":"IF(Data!N795=\"\",\"\",Data!N795)","v":""},{"$f":"IF(Data!O795=\"\",\"\",Data!O795)","v":""},{"$f":"IF(Data!P795=\"\",\"\",Data!P795)","v":""},{"$f":"IF(Data!Q795=\"\",\"\",Data!Q795)","v":""},{"$f":"IF(Data!R795=\"\",\"\",Data!R795)","v":""},{"$f":"IF(Data!S795=\"\",\"\",Data!S795)","v":""},null,null,null,null,795]
[{"$f":"IF(Data!A796=\"\",\"\",Data!A796)","v":""},"",{"$f":"IF(Data!B796=\"\",\"\",Data!B796)","v":""},{"$f":"IF(Data!C796=\"\",\"\",Data!C796)","v":""},{"$f":"IF(Data!D796=\"\",\"\",Data!D796)","v":""},{"$f":"IF(Data!E796=\"\",\"\",Data!E796)","v":""},{"$f":"IF(Data!F796=\"\",\"\",Data!F796)","v":""},{"$f":"IF(Data!G796=\"\",\"\",Data!G796)","v":""},{"$f":"IF(Data!H796=\"\",\"\",Data!H796)","v":""},{"$f":"IF(Data!I796=\"\",\"\",Data!I796)","v":""},{"$f":"IF(Data!J796=\"\",\"\",Data!J796)","v":""},{"$f":"IF(Data!K796=\"\",\"\",Data!K796)","v":""},{"$f":"IF(Data!L796=\"\",\"\",Data!L796)","v":""},{"$f":"IF(Data!M796=\"\",\"\",Data!M796)","v":""},{"$f":"IF(Data!N796=\"\",\"\",Data!N796)","v":""},{"$f":"IF(Data!O796=\"\",\"\",Data!O796)","v":""},{"$f":"IF(Data!P796=\"\",\"\",Data!P796)","v":""},{"$f":"IF(Data!Q796=\"\",\"\",Data!Q796)","v":""},{"$f":"IF(Data!R796=\"\",\"\",Data!R796)","v":""},{"$f":"IF(Data!S796=\"\",\"\",Data!S796)","v":""},null,null,null,null,796]
[{"$f":"IF(Data!A797=\"\",\"\",Data!A797)","v":""},"",{"$f":"IF(Data!B797=\"\",\"\",Data!B797)","v":""},{"$f":"IF(Data!C797=\"\",\"\",Data!C797)","v":""},{"$f":"IF(Data!D797=\"\",\"\",Data!D797)","v":""},{"$f":"IF(Data!E797=\"\",\"\",Data!E797)","v":""},{"$f":"IF(Data!F797=\"\",\"\",Data!F797)","v":""},{"$f":"IF(Data!G797=\"\",\"\",Data!G797)","v":""},{"$f":"IF(Data!H797=\"\",\"\",Data!H797)","v":""},{"$f":"IF(Data!I797=\"\",\"\",Data!I797)","v":""},{"$f":"IF(Data!J797=\"\",\"\",Data!J797)","v":""},{"$f":"IF(Data!K797=\"\",\"\",Data!K797)","v":""},{"$f":"IF(Data!L797=\"\",\"\",Data!L797)","v":""},{"$f":"IF(Data!M797=\"\",\"\",Data!M797)","v":""},{"$f":"IF(Data!N797=\"\",\"\",Data!N797)","v":""},{"$f":"IF(Data!O797=\"\",\"\",Data!O797)","v":""},{"$f":"IF(Data!P797=\"\",\"\",Data!P797)","v":""},{"$f":"IF(Data!Q797=\"\",\"\",Data!Q797)","v":""},{"$f":"IF(Data!R797=\"\",\"\",Data!R797)","v":""},{"$f":"IF(Data!S797=\"\",\"\",Data!S797)","v":""},null,null,null,null,797]
[{"$f":"IF(Data!A798=\"\",\"\",Data!A798)","v":""},"",{"$f":"IF(Data!B798=\"\",\"\",Data!B798)","v":""},{"$f":"IF(Data!C798=\"\",\"\",Data!C798)","v":""},{"$f":"IF(Data!D798=\"\",\"\",Data!D798)","v":""},{"$f":"IF(Data!E798=\"\",\"\",Data!E798)","v":""},{"$f":"IF(Data!F798=\"\",\"\",Data!F798)","v":""},{"$f":"IF(Data!G798=\"\",\"\",Data!G798)","v":""},{"$f":"IF(Data!H798=\"\",\"\",Data!H798)","v":""},{"$f":"IF(Data!I798=\"\",\"\",Data!I798)","v":""},{"$f":"IF(Data!J798=\"\",\"\",Data!J798)","v":""},{"$f":"IF(Data!K798=\"\",\"\",Data!K798)","v":""},{"$f":"IF(Data!L798=\"\",\"\",Data!L798)","v":""},{"$f":"IF(Data!M798=\"\",\"\",Data!M798)","v":""},{"$f":"IF(Data!N798=\"\",\"\",Data!N798)","v":""},{"$f":"IF(Data!O798=\"\",\"\",Data!O798)","v":""},{"$f":"IF(Data!P798=\"\",\"\",Data!P798)","v":""},{"$f":"IF(Data!Q798=\"\",\"\",Data!Q798)","v":""},{"$f":"IF(Data!R798=\"\",\"\",Data!R798)","v":""},{"$f":"IF(Data!S798=\"\",\"\",Data!S798)","v":""},null,null,null,null,798]
[{"$f":"IF(Data!A799=\"\",\"\",Data!A799)","v":""},"",{"$f":"IF(Data!B799=\"\",\"\",Data!B799)","v":""},{"$f":"IF(Data!C799=\"\",\"\",Data!C799)","v":""},{"$f":"IF(Data!D799=\"\",\"\",Data!D799)","v":""},{"$f":"IF(Data!E799=\"\",\"\",Data!E799)","v":""},{"$f":"IF(Data!F799=\"\",\"\",Data!F799)","v":""},{"$f":"IF(Data!G799=\"\",\"\",Data!G799)","v":""},{"$f":"IF(Data!H799=\"\",\"\",Data!H799)","v":""},{"$f":"IF(Data!I799=\"\",\"\",Data!I799)","v":""},{"$f":"IF(Data!J799=\"\",\"\",Data!J799)","v":""},{"$f":"IF(Data!K799=\"\",\"\",Data!K799)","v":""},{"$f":"IF(Data!L799=\"\",\"\",Data!L799)","v":""},{"$f":"IF(Data!M799=\"\",\"\",Data!M799)","v":""},{"$f":"IF(Data!N799=\"\",\"\",Data!N799)","v":""},{"$f":"IF(Data!O799=\"\",\"\",Data!O799)","v":""},{"$f":"IF(Data!P799=\"\",\"\",Data!P799)","v":""},{"$f":"IF(Data!Q799=\"\",\"\",Data!Q799)","v":""},{"$f":"IF(Data!R799=\"\",\"\",Data!R799)","v":""},{"$f":"IF(Data!S799=\"\",\"\",Data!S799)","v":""},null,null,null,null,799]
[{"$f":"IF(Data!A800=\"\",\"\",Data!A800)","v":""},"",{"$f":"IF(Data!B800=\"\",\"\",Data!B800)","v":""},{"$f":"IF(Data!C800=\"\",\"\",Data!C800)","v":""},{"$f":"IF(Data!D800=\"\",\"\",Data!D800)","v":""},{"$f":"IF(Data!E800=\"\",\"\",Data!E800)","v":""},{"$f":"IF(Data!F800=\"\",\"\",Data!F800)","v":""},{"$f":"IF(Data!G800=\"\",\"\",Data!G800)","v":""},{"$f":"IF(Data!H800=\"\",\"\",Data!H800)","v":""},{"$f":"IF(Data!I800=\"\",\"\",Data!I800)","v":""},{"$f":"IF(Data!J800=\"\",\"\",Data!J800)","v":""},{"$f":"IF(Data!K800=\"\",\"\",Data!K800)","v":""},{"$f":"IF(Data!L800=\"\",\"\",Data!L800)","v":""},{"$f":"IF(Data!M800=\"\",\"\",Data!M800)","v":""},{"$f":"IF(Data!N800=\"\",\"\",Data!N800)","v":""},{"$f":"IF(Data!O800=\"\",\"\",Data!O800)","v":""},{"$f":"IF(Data!P800=\"\",\"\",Data!P800)","v":""},{"$f":"IF(Data!Q800=\"\",\"\",Data!Q800)","v":""},{"$f":"IF(Data!R800=\"\",\"\",Data!R800)","v":""},{"$f":"IF(Data!S800=\"\",\"\",Data!S800)","v":""},null,null,null,null,800]
[{"$f":"IF(Data!A801=\"\",\"\",Data!A801)","v":""},"",{"$f":"IF(Data!B801=\"\",\"\",Data!B801)","v":""},{"$f":"IF(Data!C801=\"\",\"\",Data!C801)","v":""},{"$f":"IF(Data!D801=\"\",\"\",Data!D801)","v":""},{"$f":"IF(Data!E801=\"\",\"\",Data!E801)","v":""},{"$f":"IF(Data!F801=\"\",\"\",Data!F801)","v":""},{"$f":"IF(Data!G801=\"\",\"\",Data!G801)","v":""},{"$f":"IF(Data!H801=\"\",\"\",Data!H801)","v":""},{"$f":"IF(Data!I801=\"\",\"\",Data!I801)","v":""},{"$f":"IF(Data!J801=\"\",\"\",Data!J801)","v":""},{"$f":"IF(Data!K801=\"\",\"\",Data!K801)","v":""},{"$f":"IF(Data!L801=\"\",\"\",Data!L801)","v":""},{"$f":"IF(Data!M801=\"\",\"\",Data!M801)","v":""},{"$f":"IF(Data!N801=\"\",\"\",Data!N801)","v":""},{"$f":"IF(Data!O801=\"\",\"\",Data!O801)","v":""},{"$f":"IF(Data!P801=\"\",\"\",Data!P801)","v":""},{"$f":"IF(Data!Q801=\"\",\"\",Data!Q801)","v":""},{"$f":"IF(Data!R801=\"\",\"\",Data!R801)","v":""},{"$f":"IF(Data!S801=\"\",\"\",Data!S801)","v":""},null,null,null,null,801]
[{"$f":"IF(Data!A802=\"\",\"\",Data!A802)","v":""},"",{"$f":"IF(Data!B802=\"\",\"\",Data!B802)","v":""},{"$f":"IF(Data!C802=\"\",\"\",Data!C802)","v":""},{"$f":"IF(Data!D802=\"\",\"\",Data!D802)","v":""},{"$f":"IF(Data!E802=\"\",\"\",Data!E802)","v":""},{"$f":"IF(Data!F802=\"\",\"\",Data!F802)","v":""},{"$f":"IF(Data!G802=\"\",\"\",Data!G802)","v":""},{"$f":"IF(Data!H802=\"\",\"\",Data!H802)","v":""},{"$f":"IF(Data!I802=\"\",\"\",Data!I802)","v":""},{"$f":"IF(Data!J802=\"\",\"\",Data!J802)","v":""},{"$f":"IF(Data!K802=\"\",\"\",Data!K802)","v":""},{"$f":"IF(Data!L802=\"\",\"\",Data!L802)","v":""},{"$f":"IF(Data!M802=\"\",\"\",Data!M802)","v":""},{"$f":"IF(Data!N802=\"\",\"\",Data!N802)","v":""},{"$f":"IF(Data!O802=\"\",\"\",Data!O802)","v":""},{"$f":"IF(Data!P802=\"\",\"\",Data!P802)","v":""},{"$f":"IF(Data!Q802=\"\",\"\",Data!Q802)","v":""},{"$f":"IF(Data!R802=\"\",\"\",Data!R802)","v":""},{"$f":"IF(Data!S802=\"\",\"\",Data!S802)","v":""},null,null,null,null,802]
[{"$f":"IF(Data!A803=\"\",\"\",Data!A803)","v":""},"",{"$f":"IF(Data!B803=\"\",\"\",Data!B803)","v":""},{"$f":"IF(Data!C803=\"\",\"\",Data!C803)","v":""},{"$f":"IF(Data!D803=\"\",\"\",Data!D803)","v":""},{"$f":"IF(Data!E803=\"\",\"\",Data!E803)","v":""},{"$f":"IF(Data!F803=\"\",\"\",Data!F803)","v":""},{"$f":"IF(Data!G803=\"\",\"\",Data!G803)","v":""},{"$f":"IF(Data!H803=\"\",\"\",Data!H803)","v":""},{"$f":"IF(Data!I803=\"\",\"\",Data!I803)","v":""},{"$f":"IF(Data!J803=\"\",\"\",Data!J803)","v":""},{"$f":"IF(Data!K803=\"\",\"\",Data!K803)","v":""},{"$f":"IF(Data!L803=\"\",\"\",Data!L803)","v":""},{"$f":"IF(Data!M803=\"\",\"\",Data!M803)","v":""},{"$f":"IF(Data!N803=\"\",\"\",Data!N803)","v":""},{"$f":"IF(Data!O803=\"\",\"\",Data!O803)","v":""},{"$f":"IF(Data!P803=\"\",\"\",Data!P803)","v":""},{"$f":"IF(Data!Q803=\"\",\"\",Data!Q803)","v":""},{"$f":"IF(Data!R803=\"\",\"\",Data!R803)","v":""},{"$f":"IF(Data!S803=\"\",\"\",Data!S803)","v":""},null,null,null,null,803]
[{"$f":"IF(Data!A804=\"\",\"\",Data!A804)","v":""},"",{"$f":"IF(Data!B804=\"\",\"\",Data!B804)","v":""},{"$f":"IF(Data!C804=\"\",\"\",Data!C804)","v":""},{"$f":"IF(Data!D804=\"\",\"\",Data!D804)","v":""},{"$f":"IF(Data!E804=\"\",\"\",Data!E804)","v":""},{"$f":"IF(Data!F804=\"\",\"\",Data!F804)","v":""},{"$f":"IF(Data!G804=\"\",\"\",Data!G804)","v":""},{"$f":"IF(Data!H804=\"\",\"\",Data!H804)","v":""},{"$f":"IF(Data!I804=\"\",\"\",Data!I804)","v":""},{"$f":"IF(Data!J804=\"\",\"\",Data!J804)","v":""},{"$f":"IF(Data!K804=\"\",\"\",Data!K804)","v":""},{"$f":"IF(Data!L804=\"\",\"\",Data!L804)","v":""},{"$f":"IF(Data!M804=\"\",\"\",Data!M804)","v":""},{"$f":"IF(Data!N804=\"\",\"\",Data!N804)","v":""},{"$f":"IF(Data!O804=\"\",\"\",Data!O804)","v":""},{"$f":"IF(Data!P804=\"\",\"\",Data!P804)","v":""},{"$f":"IF(Data!Q804=\"\",\"\",Data!Q804)","v":""},{"$f":"IF(Data!R804=\"\",\"\",Data!R804)","v":""},{"$f":"IF(Data!S804=\"\",\"\",Data!S804)","v":""},null,null,null,null,804]
[{"$f":"IF(Data!A805=\"\",\"\",Data!A805)","v":""},"",{"$f":"IF(Data!B805=\"\",\"\",Data!B805)","v":""},{"$f":"IF(Data!C805=\"\",\"\",Data!C805)","v":""},{"$f":"IF(Data!D805=\"\",\"\",Data!D805)","v":""},{"$f":"IF(Data!E805=\"\",\"\",Data!E805)","v":""},{"$f":"IF(Data!F805=\"\",\"\",Data!F805)","v":""},{"$f":"IF(Data!G805=\"\",\"\",Data!G805)","v":""},{"$f":"IF(Data!H805=\"\",\"\",Data!H805)","v":""},{"$f":"IF(Data!I805=\"\",\"\",Data!I805)","v":""},{"$f":"IF(Data!J805=\"\",\"\",Data!J805)","v":""},{"$f":"IF(Data!K805=\"\",\"\",Data!K805)","v":""},{"$f":"IF(Data!L805=\"\",\"\",Data!L805)","v":""},{"$f":"IF(Data!M805=\"\",\"\",Data!M805)","v":""},{"$f":"IF(Data!N805=\"\",\"\",Data!N805)","v":""},{"$f":"IF(Data!O805=\"\",\"\",Data!O805)","v":""},{"$f":"IF(Data!P805=\"\",\"\",Data!P805)","v":""},{"$f":"IF(Data!Q805=\"\",\"\",Data!Q805)","v":""},{"$f":"IF(Data!R805=\"\",\"\",Data!R805)","v":""},{"$f":"IF(Data!S805=\"\",\"\",Data!S805)","v":""},null,null,null,null,805]
[{"$f":"IF(Data!A806=\"\",\"\",Data!A806)","v":""},"",{"$f":"IF(Data!B806=\"\",\"\",Data!B806)","v":""},{"$f":"IF(Data!C806=\"\",\"\",Data!C806)","v":""},{"$f":"IF(Data!D806=\"\",\"\",Data!D806)","v":""},{"$f":"IF(Data!E806=\"\",\"\",Data!E806)","v":""},{"$f":"IF(Data!F806=\"\",\"\",Data!F806)","v":""},{"$f":"IF(Data!G806=\"\",\"\",Data!G806)","v":""},{"$f":"IF(Data!H806=\"\",\"\",Data!H806)","v":""},{"$f":"IF(Data!I806=\"\",\"\",Data!I806)","v":""},{"$f":"IF(Data!J806=\"\",\"\",Data!J806)","v":""},{"$f":"IF(Data!K806=\"\",\"\",Data!K806)","v":""},{"$f":"IF(Data!L806=\"\",\"\",Data!L806)","v":""},{"$f":"IF(Data!M806=\"\",\"\",Data!M806)","v":""},{"$f":"IF(Data!N806=\"\",\"\",Data!N806)","v":""},{"$f":"IF(Data!O806=\"\",\"\",Data!O806)","v":""},{"$f":"IF(Data!P806=\"\",\"\",Data!P806)","v":""},{"$f":"IF(Data!Q806=\"\",\"\",Data!Q806)","v":""},{"$f":"IF(Data!R806=\"\",\"\",Data!R806)","v":""},{"$f":"IF(Data!S806=\"\",\"\",Data!S806)","v":""},null,null,null,null,806]
[{"$f":"IF(Data!A807=\"\",\"\",Data!A807)","v":""},"",{"$f":"IF(Data!B807=\"\",\"\",Data!B807)","v":""},{"$f":"IF(Data!C807=\"\",\"\",Data!C807)","v":""},{"$f":"IF(Data!D807=\"\",\"\",Data!D807)","v":""},{"$f":"IF(Data!E807=\"\",\"\",Data!E807)","v":""},{"$f":"IF(Data!F807=\"\",\"\",Data!F807)","v":""},{"$f":"IF(Data!G807=\"\",\"\",Data!G807)","v":""},{"$f":"IF(Data!H807=\"\",\"\",Data!H807)","v":""},{"$f":"IF(Data!I807=\"\",\"\",Data!I807)","v":""},{"$f":"IF(Data!J807=\"\",\"\",Data!J807)","v":""},{"$f":"IF(Data!K807=\"\",\"\",Data!K807)","v":""},{"$f":"IF(Data!L807=\"\",\"\",Data!L807)","v":""},{"$f":"IF(Data!M807=\"\",\"\",Data!M807)","v":""},{"$f":"IF(Data!N807=\"\",\"\",Data!N807)","v":""},{"$f":"IF(Data!O807=\"\",\"\",Data!O807)","v":""},{"$f":"IF(Data!P807=\"\",\"\",Data!P807)","v":""},{"$f":"IF(Data!Q807=\"\",\"\",Data!Q807)","v":""},{"$f":"IF(Data!R807=\"\",\"\",Data!R807)","v":""},{"$f":"IF(Data!S807=\"\",\"\",Data!S807)","v":""},null,null,null,null,807]
[{"$f":"IF(Data!A808=\"\",\"\",Data!A808)","v":""},"",{"$f":"IF(Data!B808=\"\",\"\",Data!B808)","v":""},{"$f":"IF(Data!C808=\"\",\"\",Data!C808)","v":""},{"$f":"IF(Data!D808=\"\",\"\",Data!D808)","v":""},{"$f":"IF(Data!E808=\"\",\"\",Data!E808)","v":""},{"$f":"IF(Data!F808=\"\",\"\",Data!F808)","v":""},{"$f":"IF(Data!G808=\"\",\"\",Data!G808)","v":""},{"$f":"IF(Data!H808=\"\",\"\",Data!H808)","v":""},{"$f":"IF(Data!I808=\"\",\"\",Data!I808)","v":""},{"$f":"IF(Data!J808=\"\",\"\",Data!J808)","v":""},{"$f":"IF(Data!K808=\"\",\"\",Data!K808)","v":""},{"$f":"IF(Data!L808=\"\",\"\",Data!L808)","v":""},{"$f":"IF(Data!M808=\"\",\"\",Data!M808)","v":""},{"$f":"IF(Data!N808=\"\",\"\",Data!N808)","v":""},{"$f":"IF(Data!O808=\"\",\"\",Data!O808)","v":""},{"$f":"IF(Data!P808=\"\",\"\",Data!P808)","v":""},{"$f":"IF(Data!Q808=\"\",\"\",Data!Q808)","v":""},{"$f":"IF(Data!R808=\"\",\"\",Data!R808)","v":""},{"$f":"IF(Data!S808=\"\",\"\",Data!S808)","v":""},null,null,null,null,808]
[{"$f":"IF(Data!A809=\"\",\"\",Data!A809)","v":""},"",{"$f":"IF(Data!B809=\"\",\"\",Data!B809)","v":""},{"$f":"IF(Data!C809=\"\",\"\",Data!C809)","v":""},{"$f":"IF(Data!D809=\"\",\"\",Data!D809)","v":""},{"$f":"IF(Data!E809=\"\",\"\",Data!E809)","v":""},{"$f":"IF(Data!F809=\"\",\"\",Data!F809)","v":""},{"$f":"IF(Data!G809=\"\",\"\",Data!G809)","v":""},{"$f":"IF(Data!H809=\"\",\"\",Data!H809)","v":""},{"$f":"IF(Data!I809=\"\",\"\",Data!I809)","v":""},{"$f":"IF(Data!J809=\"\",\"\",Data!J809)","v":""},{"$f":"IF(Data!K809=\"\",\"\",Data!K809)","v":""},{"$f":"IF(Data!L809=\"\",\"\",Data!L809)","v":""},{"$f":"IF(Data!M809=\"\",\"\",Data!M809)","v":""},{"$f":"IF(Data!N809=\"\",\"\",Data!N809)","v":""},{"$f":"IF(Data!O809=\"\",\"\",Data!O809)","v":""},{"$f":"IF(Data!P809=\"\",\"\",Data!P809)","v":""},{"$f":"IF(Data!Q809=\"\",\"\",Data!Q809)","v":""},{"$f":"IF(Data!R809=\"\",\"\",Data!R809)","v":""},{"$f":"IF(Data!S809=\"\",\"\",Data!S809)","v":""},null,null,null,null,809]
[{"$f":"IF(Data!A810=\"\",\"\",Data!A810)","v":""},"",{"$f":"IF(Data!B810=\"\",\"\",Data!B810)","v":""},{"$f":"IF(Data!C810=\"\",\"\",Data!C810)","v":""},{"$f":"IF(Data!D810=\"\",\"\",Data!D810)","v":""},{"$f":"IF(Data!E810=\"\",\"\",Data!E810)","v":""},{"$f":"IF(Data!F810=\"\",\"\",Data!F810)","v":""},{"$f":"IF(Data!G810=\"\",\"\",Data!G810)","v":""},{"$f":"IF(Data!H810=\"\",\"\",Data!H810)","v":""},{"$f":"IF(Data!I810=\"\",\"\",Data!I810)","v":""},{"$f":"IF(Data!J810=\"\",\"\",Data!J810)","v":""},{"$f":"IF(Data!K810=\"\",\"\",Data!K810)","v":""},{"$f":"IF(Data!L810=\"\",\"\",Data!L810)","v":""},{"$f":"IF(Data!M810=\"\",\"\",Data!M810)","v":""},{"$f":"IF(Data!N810=\"\",\"\",Data!N810)","v":""},{"$f":"IF(Data!O810=\"\",\"\",Data!O810)","v":""},{"$f":"IF(Data!P810=\"\",\"\",Data!P810)","v":""},{"$f":"IF(Data!Q810=\"\",\"\",Data!Q810)","v":""},{"$f":"IF(Data!R810=\"\",\"\",Data!R810)","v":""},{"$f":"IF(Data!S810=\"\",\"\",Data!S810)","v":""},null,null,null,null,810]
[{"$f":"IF(Data!A811=\"\",\"\",Data!A811)","v":""},"",{"$f":"IF(Data!B811=\"\",\"\",Data!B811)","v":""},{"$f":"IF(Data!C811=\"\",\"\",Data!C811)","v":""},{"$f":"IF(Data!D811=\"\",\"\",Data!D811)","v":""},{"$f":"IF(Data!E811=\"\",\"\",Data!E811)","v":""},{"$f":"IF(Data!F811=\"\",\"\",Data!F811)","v":""},{"$f":"IF(Data!G811=\"\",\"\",Data!G811)","v":""},{"$f":"IF(Data!H811=\"\",\"\",Data!H811)","v":""},{"$f":"IF(Data!I811=\"\",\"\",Data!I811)","v":""},{"$f":"IF(Data!J811=\"\",\"\",Data!J811)","v":""},{"$f":"IF(Data!K811=\"\",\"\",Data!K811)","v":""},{"$f":"IF(Data!L811=\"\",\"\",Data!L811)","v":""},{"$f":"IF(Data!M811=\"\",\"\",Data!M811)","v":""},{"$f":"IF(Data!N811=\"\",\"\",Data!N811)","v":""},{"$f":"IF(Data!O811=\"\",\"\",Data!O811)","v":""},{"$f":"IF(Data!P811=\"\",\"\",Data!P811)","v":""},{"$f":"IF(Data!Q811=\"\",\"\",Data!Q811)","v":""},{"$f":"IF(Data!R811=\"\",\"\",Data!R811)","v":""},{"$f":"IF(Data!S811=\"\",\"\",Data!S811)","v":""},null,null,null,null,811]
[{"$f":"IF(Data!A812=\"\",\"\",Data!A812)","v":""},"",{"$f":"IF(Data!B812=\"\",\"\",Data!B812)","v":""},{"$f":"IF(Data!C812=\"\",\"\",Data!C812)","v":""},{"$f":"IF(Data!D812=\"\",\"\",Data!D812)","v":""},{"$f":"IF(Data!E812=\"\",\"\",Data!E812)","v":""},{"$f":"IF(Data!F812=\"\",\"\",Data!F812)","v":""},{"$f":"IF(Data!G812=\"\",\"\",Data!G812)","v":""},{"$f":"IF(Data!H812=\"\",\"\",Data!H812)","v":""},{"$f":"IF(Data!I812=\"\",\"\",Data!I812)","v":""},{"$f":"IF(Data!J812=\"\",\"\",Data!J812)","v":""},{"$f":"IF(Data!K812=\"\",\"\",Data!K812)","v":""},{"$f":"IF(Data!L812=\"\",\"\",Data!L812)","v":""},{"$f":"IF(Data!M812=\"\",\"\",Data!M812)","v":""},{"$f":"IF(Data!N812=\"\",\"\",Data!N812)","v":""},{"$f":"IF(Data!O812=\"\",\"\",Data!O812)","v":""},{"$f":"IF(Data!P812=\"\",\"\",Data!P812)","v":""},{"$f":"IF(Data!Q812=\"\",\"\",Data!Q812)","v":""},{"$f":"IF(Data!R812=\"\",\"\",Data!R812)","v":""},{"$f":"IF(Data!S812=\"\",\"\",Data!S812)","v":""},null,null,null,null,812]
[{"$f":"IF(Data!A813=\"\",\"\",Data!A813)","v":""},"",{"$f":"IF(Data!B813=\"\",\"\",Data!B813)","v":""},{"$f":"IF(Data!C813=\"\",\"\",Data!C813)","v":""},{"$f":"IF(Data!D813=\"\",\"\",Data!D813)","v":""},{"$f":"IF(Data!E813=\"\",\"\",Data!E813)","v":""},{"$f":"IF(Data!F813=\"\",\"\",Data!F813)","v":""},{"$f":"IF(Data!G813=\"\",\"\",Data!G813)","v":""},{"$f":"IF(Data!H813=\"\",\"\",Data!H813)","v":""},{"$f":"IF(Data!I813=\"\",\"\",Data!I813)","v":""},{"$f":"IF(Data!J813=\"\",\"\",Data!J813)","v":""},{"$f":"IF(Data!K813=\"\",\"\",Data!K813)","v":""},{"$f":"IF(Data!L813=\"\",\"\",Data!L813)","v":""},{"$f":"IF(Data!M813=\"\",\"\",Data!M813)","v":""},{"$f":"IF(Data!N813=\"\",\"\",Data!N813)","v":""},{"$f":"IF(Data!O813=\"\",\"\",Data!O813)","v":""},{"$f":"IF(Data!P813=\"\",\"\",Data!P813)","v":""},{"$f":"IF(Data!Q813=\"\",\"\",Data!Q813)","v":""},{"$f":"IF(Data!R813=\"\",\"\",Data!R813)","v":""},{"$f":"IF(Data!S813=\"\",\"\",Data!S813)","v":""},null,null,null,null,813]
[{"$f":"IF(Data!A814=\"\",\"\",Data!A814)","v":""},"",{"$f":"IF(Data!B814=\"\",\"\",Data!B814)","v":""},{"$f":"IF(Data!C814=\"\",\"\",Data!C814)","v":""},{"$f":"IF(Data!D814=\"\",\"\",Data!D814)","v":""},{"$f":"IF(Data!E814=\"\",\"\",Data!E814)","v":""},{"$f":"IF(Data!F814=\"\",\"\",Data!F814)","v":""},{"$f":"IF(Data!G814=\"\",\"\",Data!G814)","v":""},{"$f":"IF(Data!H814=\"\",\"\",Data!H814)","v":""},{"$f":"IF(Data!I814=\"\",\"\",Data!I814)","v":""},{"$f":"IF(Data!J814=\"\",\"\",Data!J814)","v":""},{"$f":"IF(Data!K814=\"\",\"\",Data!K814)","v":""},{"$f":"IF(Data!L814=\"\",\"\",Data!L814)","v":""},{"$f":"IF(Data!M814=\"\",\"\",Data!M814)","v":""},{"$f":"IF(Data!N814=\"\",\"\",Data!N814)","v":""},{"$f":"IF(Data!O814=\"\",\"\",Data!O814)","v":""},{"$f":"IF(Data!P814=\"\",\"\",Data!P814)","v":""},{"$f":"IF(Data!Q814=\"\",\"\",Data!Q814)","v":""},{"$f":"IF(Data!R814=\"\",\"\",Data!R814)","v":""},{"$f":"IF(Data!S814=\"\",\"\",Data!S814)","v":""},null,null,null,null,814]
[{"$f":"IF(Data!A815=\"\",\"\",Data!A815)","v":""},"",{"$f":"IF(Data!B815=\"\",\"\",Data!B815)","v":""},{"$f":"IF(Data!C815=\"\",\"\",Data!C815)","v":""},{"$f":"IF(Data!D815=\"\",\"\",Data!D815)","v":""},{"$f":"IF(Data!E815=\"\",\"\",Data!E815)","v":""},{"$f":"IF(Data!F815=\"\",\"\",Data!F815)","v":""},{"$f":"IF(Data!G815=\"\",\"\",Data!G815)","v":""},{"$f":"IF(Data!H815=\"\",\"\",Data!H815)","v":""},{"$f":"IF(Data!I815=\"\",\"\",Data!I815)","v":""},{"$f":"IF(Data!J815=\"\",\"\",Data!J815)","v":""},{"$f":"IF(Data!K815=\"\",\"\",Data!K815)","v":""},{"$f":"IF(Data!L815=\"\",\"\",Data!L815)","v":""},{"$f":"IF(Data!M815=\"\",\"\",Data!M815)","v":""},{"$f":"IF(Data!N815=\"\",\"\",Data!N815)","v":""},{"$f":"IF(Data!O815=\"\",\"\",Data!O815)","v":""},{"$f":"IF(Data!P815=\"\",\"\",Data!P815)","v":""},{"$f":"IF(Data!Q815=\"\",\"\",Data!Q815)","v":""},{"$f":"IF(Data!R815=\"\",\"\",Data!R815)","v":""},{"$f":"IF(Data!S815=\"\",\"\",Data!S815)","v":""},null,null,null,null,815]
[{"$f":"IF(Data!A816=\"\",\"\",Data!A816)","v":""},"",{"$f":"IF(Data!B816=\"\",\"\",Data!B816)","v":""},{"$f":"IF(Data!C816=\"\",\"\",Data!C816)","v":""},{"$f":"IF(Data!D816=\"\",\"\",Data!D816)","v":""},{"$f":"IF(Data!E816=\"\",\"\",Data!E816)","v":""},{"$f":"IF(Data!F816=\"\",\"\",Data!F816)","v":""},{"$f":"IF(Data!G816=\"\",\"\",Data!G816)","v":""},{"$f":"IF(Data!H816=\"\",\"\",Data!H816)","v":""},{"$f":"IF(Data!I816=\"\",\"\",Data!I816)","v":""},{"$f":"IF(Data!J816=\"\",\"\",Data!J816)","v":""},{"$f":"IF(Data!K816=\"\",\"\",Data!K816)","v":""},{"$f":"IF(Data!L816=\"\",\"\",Data!L816)","v":""},{"$f":"IF(Data!M816=\"\",\"\",Data!M816)","v":""},{"$f":"IF(Data!N816=\"\",\"\",Data!N816)","v":""},{"$f":"IF(Data!O816=\"\",\"\",Data!O816)","v":""},{"$f":"IF(Data!P816=\"\",\"\",Data!P816)","v":""},{"$f":"IF(Data!Q816=\"\",\"\",Data!Q816)","v":""},{"$f":"IF(Data!R816=\"\",\"\",Data!R816)","v":""},{"$f":"IF(Data!S816=\"\",\"\",Data!S816)","v":""},null,null,null,null,816]
[{"$f":"IF(Data!A817=\"\",\"\",Data!A817)","v":""},"",{"$f":"IF(Data!B817=\"\",\"\",Data!B817)","v":""},{"$f":"IF(Data!C817=\"\",\"\",Data!C817)","v":""},{"$f":"IF(Data!D817=\"\",\"\",Data!D817)","v":""},{"$f":"IF(Data!E817=\"\",\"\",Data!E817)","v":""},{"$f":"IF(Data!F817=\"\",\"\",Data!F817)","v":""},{"$f":"IF(Data!G817=\"\",\"\",Data!G817)","v":""},{"$f":"IF(Data!H817=\"\",\"\",Data!H817)","v":""},{"$f":"IF(Data!I817=\"\",\"\",Data!I817)","v":""},{"$f":"IF(Data!J817=\"\",\"\",Data!J817)","v":""},{"$f":"IF(Data!K817=\"\",\"\",Data!K817)","v":""},{"$f":"IF(Data!L817=\"\",\"\",Data!L817)","v":""},{"$f":"IF(Data!M817=\"\",\"\",Data!M817)","v":""},{"$f":"IF(Data!N817=\"\",\"\",Data!N817)","v":""},{"$f":"IF(Data!O817=\"\",\"\",Data!O817)","v":""},{"$f":"IF(Data!P817=\"\",\"\",Data!P817)","v":""},{"$f":"IF(Data!Q817=\"\",\"\",Data!Q817)","v":""},{"$f":"IF(Data!R817=\"\",\"\",Data!R817)","v":""},{"$f":"IF(Data!S817=\"\",\"\",Data!S817)","v":""},null,null,null,null,817]
[{"$f":"IF(Data!A818=\"\",\"\",Data!A818)","v":""},"",{"$f":"IF(Data!B818=\"\",\"\",Data!B818)","v":""},{"$f":"IF(Data!C818=\"\",\"\",Data!C818)","v":""},{"$f":"IF(Data!D818=\"\",\"\",Data!D818)","v":""},{"$f":"IF(Data!E818=\"\",\"\",Data!E818)","v":""},{"$f":"IF(Data!F818=\"\",\"\",Data!F818)","v":""},{"$f":"IF(Data!G818=\"\",\"\",Data!G818)","v":""},{"$f":"IF(Data!H818=\"\",\"\",Data!H818)","v":""},{"$f":"IF(Data!I818=\"\",\"\",Data!I818)","v":""},{"$f":"IF(Data!J818=\"\",\"\",Data!J818)","v":""},{"$f":"IF(Data!K818=\"\",\"\",Data!K818)","v":""},{"$f":"IF(Data!L818=\"\",\"\",Data!L818)","v":""},{"$f":"IF(Data!M818=\"\",\"\",Data!M818)","v":""},{"$f":"IF(Data!N818=\"\",\"\",Data!N818)","v":""},{"$f":"IF(Data!O818=\"\",\"\",Data!O818)","v":""},{"$f":"IF(Data!P818=\"\",\"\",Data!P818)","v":""},{"$f":"IF(Data!Q818=\"\",\"\",Data!Q818)","v":""},{"$f":"IF(Data!R818=\"\",\"\",Data!R818)","v":""},{"$f":"IF(Data!S818=\"\",\"\",Data!S818)","v":""},null,null,null,null,818]
[{"$f":"IF(Data!A819=\"\",\"\",Data!A819)","v":""},"",{"$f":"IF(Data!B819=\"\",\"\",Data!B819)","v":""},{"$f":"IF(Data!C819=\"\",\"\",Data!C819)","v":""},{"$f":"IF(Data!D819=\"\",\"\",Data!D819)","v":""},{"$f":"IF(Data!E819=\"\",\"\",Data!E819)","v":""},{"$f":"IF(Data!F819=\"\",\"\",Data!F819)","v":""},{"$f":"IF(Data!G819=\"\",\"\",Data!G819)","v":""},{"$f":"IF(Data!H819=\"\",\"\",Data!H819)","v":""},{"$f":"IF(Data!I819=\"\",\"\",Data!I819)","v":""},{"$f":"IF(Data!J819=\"\",\"\",Data!J819)","v":""},{"$f":"IF(Data!K819=\"\",\"\",Data!K819)","v":""},{"$f":"IF(Data!L819=\"\",\"\",Data!L819)","v":""},{"$f":"IF(Data!M819=\"\",\"\",Data!M819)","v":""},{"$f":"IF(Data!N819=\"\",\"\",Data!N819)","v":""},{"$f":"IF(Data!O819=\"\",\"\",Data!O819)","v":""},{"$f":"IF(Data!P819=\"\",\"\",Data!P819)","v":""},{"$f":"IF(Data!Q819=\"\",\"\",Data!Q819)","v":""},{"$f":"IF(Data!R819=\"\",\"\",Data!R819)","v":""},{"$f":"IF(Data!S819=\"\",\"\",Data!S819)","v":""},null,null,null,null,819]
[{"$f":"IF(Data!A820=\"\",\"\",Data!A820)","v":""},"",{"$f":"IF(Data!B820=\"\",\"\",Data!B820)","v":""},{"$f":"IF(Data!C820=\"\",\"\",Data!C820)","v":""},{"$f":"IF(Data!D820=\"\",\"\",Data!D820)","v":""},{"$f":"IF(Data!E820=\"\",\"\",Data!E820)","v":""},{"$f":"IF(Data!F820=\"\",\"\",Data!F820)","v":""},{"$f":"IF(Data!G820=\"\",\"\",Data!G820)","v":""},{"$f":"IF(Data!H820=\"\",\"\",Data!H820)","v":""},{"$f":"IF(Data!I820=\"\",\"\",Data!I820)","v":""},{"$f":"IF(Data!J820=\"\",\"\",Data!J820)","v":""},{"$f":"IF(Data!K820=\"\",\"\",Data!K820)","v":""},{"$f":"IF(Data!L820=\"\",\"\",Data!L820)","v":""},{"$f":"IF(Data!M820=\"\",\"\",Data!M820)","v":""},{"$f":"IF(Data!N820=\"\",\"\",Data!N820)","v":""},{"$f":"IF(Data!O820=\"\",\"\",Data!O820)","v":""},{"$f":"IF(Data!P820=\"\",\"\",Data!P820)","v":""},{"$f":"IF(Data!Q820=\"\",\"\",Data!Q820)","v":""},{"$f":"IF(Data!R820=\"\",\"\",Data!R820)","v":""},{"$f":"IF(Data!S820=\"\",\"\",Data!S820)","v":""},null,null,null,null,820]
[{"$f":"IF(Data!A821=\"\",\"\",Data!A821)","v":""},"",{"$f":"IF(Data!B821=\"\",\"\",Data!B821)","v":""},{"$f":"IF(Data!C821=\"\",\"\",Data!C821)","v":""},{"$f":"IF(Data!D821=\"\",\"\",Data!D821)","v":""},{"$f":"IF(Data!E821=\"\",\"\",Data!E821)","v":""},{"$f":"IF(Data!F821=\"\",\"\",Data!F821)","v":""},{"$f":"IF(Data!G821=\"\",\"\",Data!G821)","v":""},{"$f":"IF(Data!H821=\"\",\"\",Data!H821)","v":""},{"$f":"IF(Data!I821=\"\",\"\",Data!I821)","v":""},{"$f":"IF(Data!J821=\"\",\"\",Data!J821)","v":""},{"$f":"IF(Data!K821=\"\",\"\",Data!K821)","v":""},{"$f":"IF(Data!L821=\"\",\"\",Data!L821)","v":""},{"$f":"IF(Data!M821=\"\",\"\",Data!M821)","v":""},{"$f":"IF(Data!N821=\"\",\"\",Data!N821)","v":""},{"$f":"IF(Data!O821=\"\",\"\",Data!O821)","v":""},{"$f":"IF(Data!P821=\"\",\"\",Data!P821)","v":""},{"$f":"IF(Data!Q821=\"\",\"\",Data!Q821)","v":""},{"$f":"IF(Data!R821=\"\",\"\",Data!R821)","v":""},{"$f":"IF(Data!S821=\"\",\"\",Data!S821)","v":""},null,null,null,null,821]
[{"$f":"IF(Data!A822=\"\",\"\",Data!A822)","v":""},"",{"$f":"IF(Data!B822=\"\",\"\",Data!B822)","v":""},{"$f":"IF(Data!C822=\"\",\"\",Data!C822)","v":""},{"$f":"IF(Data!D822=\"\",\"\",Data!D822)","v":""},{"$f":"IF(Data!E822=\"\",\"\",Data!E822)","v":""},{"$f":"IF(Data!F822=\"\",\"\",Data!F822)","v":""},{"$f":"IF(Data!G822=\"\",\"\",Data!G822)","v":""},{"$f":"IF(Data!H822=\"\",\"\",Data!H822)","v":""},{"$f":"IF(Data!I822=\"\",\"\",Data!I822)","v":""},{"$f":"IF(Data!J822=\"\",\"\",Data!J822)","v":""},{"$f":"IF(Data!K822=\"\",\"\",Data!K822)","v":""},{"$f":"IF(Data!L822=\"\",\"\",Data!L822)","v":""},{"$f":"IF(Data!M822=\"\",\"\",Data!M822)","v":""},{"$f":"IF(Data!N822=\"\",\"\",Data!N822)","v":""},{"$f":"IF(Data!O822=\"\",\"\",Data!O822)","v":""},{"$f":"IF(Data!P822=\"\",\"\",Data!P822)","v":""},{"$f":"IF(Data!Q822=\"\",\"\",Data!Q822)","v":""},{"$f":"IF(Data!R822=\"\",\"\",Data!R822)","v":""},{"$f":"IF(Data!S822=\"\",\"\",Data!S822)","v":""},null,null,null,null,822]
[{"$f":"IF(Data!A823=\"\",\"\",Data!A823)","v":""},"",{"$f":"IF(Data!B823=\"\",\"\",Data!B823)","v":""},{"$f":"IF(Data!C823=\"\",\"\",Data!C823)","v":""},{"$f":"IF(Data!D823=\"\",\"\",Data!D823)","v":""},{"$f":"IF(Data!E823=\"\",\"\",Data!E823)","v":""},{"$f":"IF(Data!F823=\"\",\"\",Data!F823)","v":""},{"$f":"IF(Data!G823=\"\",\"\",Data!G823)","v":""},{"$f":"IF(Data!H823=\"\",\"\",Data!H823)","v":""},{"$f":"IF(Data!I823=\"\",\"\",Data!I823)","v":""},{"$f":"IF(Data!J823=\"\",\"\",Data!J823)","v":""},{"$f":"IF(Data!K823=\"\",\"\",Data!K823)","v":""},{"$f":"IF(Data!L823=\"\",\"\",Data!L823)","v":""},{"$f":"IF(Data!M823=\"\",\"\",Data!M823)","v":""},{"$f":"IF(Data!N823=\"\",\"\",Data!N823)","v":""},{"$f":"IF(Data!O823=\"\",\"\",Data!O823)","v":""},{"$f":"IF(Data!P823=\"\",\"\",Data!P823)","v":""},{"$f":"IF(Data!Q823=\"\",\"\",Data!Q823)","v":""},{"$f":"IF(Data!R823=\"\",\"\",Data!R823)","v":""},{"$f":"IF(Data!S823=\"\",\"\",Data!S823)","v":""},null,null,null,null,823]
[{"$f":"IF(Data!A824=\"\",\"\",Data!A824)","v":""},"",{"$f":"IF(Data!B824=\"\",\"\",Data!B824)","v":""},{"$f":"IF(Data!C824=\"\",\"\",Data!C824)","v":""},{"$f":"IF(Data!D824=\"\",\"\",Data!D824)","v":""},{"$f":"IF(Data!E824=\"\",\"\",Data!E824)","v":""},{"$f":"IF(Data!F824=\"\",\"\",Data!F824)","v":""},{"$f":"IF(Data!G824=\"\",\"\",Data!G824)","v":""},{"$f":"IF(Data!H824=\"\",\"\",Data!H824)","v":""},{"$f":"IF(Data!I824=\"\",\"\",Data!I824)","v":""},{"$f":"IF(Data!J824=\"\",\"\",Data!J824)","v":""},{"$f":"IF(Data!K824=\"\",\"\",Data!K824)","v":""},{"$f":"IF(Data!L824=\"\",\"\",Data!L824)","v":""},{"$f":"IF(Data!M824=\"\",\"\",Data!M824)","v":""},{"$f":"IF(Data!N824=\"\",\"\",Data!N824)","v":""},{"$f":"IF(Data!O824=\"\",\"\",Data!O824)","v":""},{"$f":"IF(Data!P824=\"\",\"\",Data!P824)","v":""},{"$f":"IF(Data!Q824=\"\",\"\",Data!Q824)","v":""},{"$f":"IF(Data!R824=\"\",\"\",Data!R824)","v":""},{"$f":"IF(Data!S824=\"\",\"\",Data!S824)","v":""},null,null,null,null,824]
[{"$f":"IF(Data!A825=\"\",\"\",Data!A825)","v":""},"",{"$f":"IF(Data!B825=\"\",\"\",Data!B825)","v":""},{"$f":"IF(Data!C825=\"\",\"\",Data!C825)","v":""},{"$f":"IF(Data!D825=\"\",\"\",Data!D825)","v":""},{"$f":"IF(Data!E825=\"\",\"\",Data!E825)","v":""},{"$f":"IF(Data!F825=\"\",\"\",Data!F825)","v":""},{"$f":"IF(Data!G825=\"\",\"\",Data!G825)","v":""},{"$f":"IF(Data!H825=\"\",\"\",Data!H825)","v":""},{"$f":"IF(Data!I825=\"\",\"\",Data!I825)","v":""},{"$f":"IF(Data!J825=\"\",\"\",Data!J825)","v":""},{"$f":"IF(Data!K825=\"\",\"\",Data!K825)","v":""},{"$f":"IF(Data!L825=\"\",\"\",Data!L825)","v":""},{"$f":"IF(Data!M825=\"\",\"\",Data!M825)","v":""},{"$f":"IF(Data!N825=\"\",\"\",Data!N825)","v":""},{"$f":"IF(Data!O825=\"\",\"\",Data!O825)","v":""},{"$f":"IF(Data!P825=\"\",\"\",Data!P825)","v":""},{"$f":"IF(Data!Q825=\"\",\"\",Data!Q825)","v":""},{"$f":"IF(Data!R825=\"\",\"\",Data!R825)","v":""},{"$f":"IF(Data!S825=\"\",\"\",Data!S825)","v":""},null,null,null,null,825]
[{"$f":"IF(Data!A826=\"\",\"\",Data!A826)","v":""},"",{"$f":"IF(Data!B826=\"\",\"\",Data!B826)","v":""},{"$f":"IF(Data!C826=\"\",\"\",Data!C826)","v":""},{"$f":"IF(Data!D826=\"\",\"\",Data!D826)","v":""},{"$f":"IF(Data!E826=\"\",\"\",Data!E826)","v":""},{"$f":"IF(Data!F826=\"\",\"\",Data!F826)","v":""},{"$f":"IF(Data!G826=\"\",\"\",Data!G826)","v":""},{"$f":"IF(Data!H826=\"\",\"\",Data!H826)","v":""},{"$f":"IF(Data!I826=\"\",\"\",Data!I826)","v":""},{"$f":"IF(Data!J826=\"\",\"\",Data!J826)","v":""},{"$f":"IF(Data!K826=\"\",\"\",Data!K826)","v":""},{"$f":"IF(Data!L826=\"\",\"\",Data!L826)","v":""},{"$f":"IF(Data!M826=\"\",\"\",Data!M826)","v":""},{"$f":"IF(Data!N826=\"\",\"\",Data!N826)","v":""},{"$f":"IF(Data!O826=\"\",\"\",Data!O826)","v":""},{"$f":"IF(Data!P826=\"\",\"\",Data!P826)","v":""},{"$f":"IF(Data!Q826=\"\",\"\",Data!Q826)","v":""},{"$f":"IF(Data!R826=\"\",\"\",Data!R826)","v":""},{"$f":"IF(Data!S826=\"\",\"\",Data!S826)","v":""},null,null,null,null,826]
[{"$f":"IF(Data!A827=\"\",\"\",Data!A827)","v":""},"",{"$f":"IF(Data!B827=\"\",\"\",Data!B827)","v":""},{"$f":"IF(Data!C827=\"\",\"\",Data!C827)","v":""},{"$f":"IF(Data!D827=\"\",\"\",Data!D827)","v":""},{"$f":"IF(Data!E827=\"\",\"\",Data!E827)","v":""},{"$f":"IF(Data!F827=\"\",\"\",Data!F827)","v":""},{"$f":"IF(Data!G827=\"\",\"\",Data!G827)","v":""},{"$f":"IF(Data!H827=\"\",\"\",Data!H827)","v":""},{"$f":"IF(Data!I827=\"\",\"\",Data!I827)","v":""},{"$f":"IF(Data!J827=\"\",\"\",Data!J827)","v":""},{"$f":"IF(Data!K827=\"\",\"\",Data!K827)","v":""},{"$f":"IF(Data!L827=\"\",\"\",Data!L827)","v":""},{"$f":"IF(Data!M827=\"\",\"\",Data!M827)","v":""},{"$f":"IF(Data!N827=\"\",\"\",Data!N827)","v":""},{"$f":"IF(Data!O827=\"\",\"\",Data!O827)","v":""},{"$f":"IF(Data!P827=\"\",\"\",Data!P827)","v":""},{"$f":"IF(Data!Q827=\"\",\"\",Data!Q827)","v":""},{"$f":"IF(Data!R827=\"\",\"\",Data!R827)","v":""},{"$f":"IF(Data!S827=\"\",\"\",Data!S827)","v":""},null,null,null,null,827]
[{"$f":"IF(Data!A828=\"\",\"\",Data!A828)","v":""},"",{"$f":"IF(Data!B828=\"\",\"\",Data!B828)","v":""},{"$f":"IF(Data!C828=\"\",\"\",Data!C828)","v":""},{"$f":"IF(Data!D828=\"\",\"\",Data!D828)","v":""},{"$f":"IF(Data!E828=\"\",\"\",Data!E828)","v":""},{"$f":"IF(Data!F828=\"\",\"\",Data!F828)","v":""},{"$f":"IF(Data!G828=\"\",\"\",Data!G828)","v":""},{"$f":"IF(Data!H828=\"\",\"\",Data!H828)","v":""},{"$f":"IF(Data!I828=\"\",\"\",Data!I828)","v":""},{"$f":"IF(Data!J828=\"\",\"\",Data!J828)","v":""},{"$f":"IF(Data!K828=\"\",\"\",Data!K828)","v":""},{"$f":"IF(Data!L828=\"\",\"\",Data!L828)","v":""},{"$f":"IF(Data!M828=\"\",\"\",Data!M828)","v":""},{"$f":"IF(Data!N828=\"\",\"\",Data!N828)","v":""},{"$f":"IF(Data!O828=\"\",\"\",Data!O828)","v":""},{"$f":"IF(Data!P828=\"\",\"\",Data!P828)","v":""},{"$f":"IF(Data!Q828=\"\",\"\",Data!Q828)","v":""},{"$f":"IF(Data!R828=\"\",\"\",Data!R828)","v":""},{"$f":"IF(Data!S828=\"\",\"\",Data!S828)","v":""},null,null,null,null,828]
[{"$f":"IF(Data!A829=\"\",\"\",Data!A829)","v":""},"",{"$f":"IF(Data!B829=\"\",\"\",Data!B829)","v":""},{"$f":"IF(Data!C829=\"\",\"\",Data!C829)","v":""},{"$f":"IF(Data!D829=\"\",\"\",Data!D829)","v":""},{"$f":"IF(Data!E829=\"\",\"\",Data!E829)","v":""},{"$f":"IF(Data!F829=\"\",\"\",Data!F829)","v":""},{"$f":"IF(Data!G829=\"\",\"\",Data!G829)","v":""},{"$f":"IF(Data!H829=\"\",\"\",Data!H829)","v":""},{"$f":"IF(Data!I829=\"\",\"\",Data!I829)","v":""},{"$f":"IF(Data!J829=\"\",\"\",Data!J829)","v":""},{"$f":"IF(Data!K829=\"\",\"\",Data!K829)","v":""},{"$f":"IF(Data!L829=\"\",\"\",Data!L829)","v":""},{"$f":"IF(Data!M829=\"\",\"\",Data!M829)","v":""},{"$f":"IF(Data!N829=\"\",\"\",Data!N829)","v":""},{"$f":"IF(Data!O829=\"\",\"\",Data!O829)","v":""},{"$f":"IF(Data!P829=\"\",\"\",Data!P829)","v":""},{"$f":"IF(Data!Q829=\"\",\"\",Data!Q829)","v":""},{"$f":"IF(Data!R829=\"\",\"\",Data!R829)","v":""},{"$f":"IF(Data!S829=\"\",\"\",Data!S829)","v":""},null,null,null,null,829]
[{"$f":"IF(Data!A830=\"\",\"\",Data!A830)","v":""},"",{"$f":"IF(Data!B830=\"\",\"\",Data!B830)","v":""},{"$f":"IF(Data!C830=\"\",\"\",Data!C830)","v":""},{"$f":"IF(Data!D830=\"\",\"\",Data!D830)","v":""},{"$f":"IF(Data!E830=\"\",\"\",Data!E830)","v":""},{"$f":"IF(Data!F830=\"\",\"\",Data!F830)","v":""},{"$f":"IF(Data!G830=\"\",\"\",Data!G830)","v":""},{"$f":"IF(Data!H830=\"\",\"\",Data!H830)","v":""},{"$f":"IF(Data!I830=\"\",\"\",Data!I830)","v":""},{"$f":"IF(Data!J830=\"\",\"\",Data!J830)","v":""},{"$f":"IF(Data!K830=\"\",\"\",Data!K830)","v":""},{"$f":"IF(Data!L830=\"\",\"\",Data!L830)","v":""},{"$f":"IF(Data!M830=\"\",\"\",Data!M830)","v":""},{"$f":"IF(Data!N830=\"\",\"\",Data!N830)","v":""},{"$f":"IF(Data!O830=\"\",\"\",Data!O830)","v":""},{"$f":"IF(Data!P830=\"\",\"\",Data!P830)","v":""},{"$f":"IF(Data!Q830=\"\",\"\",Data!Q830)","v":""},{"$f":"IF(Data!R830=\"\",\"\",Data!R830)","v":""},{"$f":"IF(Data!S830=\"\",\"\",Data!S830)","v":""},null,null,null,null,830]
[{"$f":"IF(Data!A831=\"\",\"\",Data!A831)","v":""},"",{"$f":"IF(Data!B831=\"\",\"\",Data!B831)","v":""},{"$f":"IF(Data!C831=\"\",\"\",Data!C831)","v":""},{"$f":"IF(Data!D831=\"\",\"\",Data!D831)","v":""},{"$f":"IF(Data!E831=\"\",\"\",Data!E831)","v":""},{"$f":"IF(Data!F831=\"\",\"\",Data!F831)","v":""},{"$f":"IF(Data!G831=\"\",\"\",Data!G831)","v":""},{"$f":"IF(Data!H831=\"\",\"\",Data!H831)","v":""},{"$f":"IF(Data!I831=\"\",\"\",Data!I831)","v":""},{"$f":"IF(Data!J831=\"\",\"\",Data!J831)","v":""},{"$f":"IF(Data!K831=\"\",\"\",Data!K831)","v":""},{"$f":"IF(Data!L831=\"\",\"\",Data!L831)","v":""},{"$f":"IF(Data!M831=\"\",\"\",Data!M831)","v":""},{"$f":"IF(Data!N831=\"\",\"\",Data!N831)","v":""},{"$f":"IF(Data!O831=\"\",\"\",Data!O831)","v":""},{"$f":"IF(Data!P831=\"\",\"\",Data!P831)","v":""},{"$f":"IF(Data!Q831=\"\",\"\",Data!Q831)","v":""},{"$f":"IF(Data!R831=\"\",\"\",Data!R831)","v":""},{"$f":"IF(Data!S831=\"\",\"\",Data!S831)","v":""},null,null,null,null,831]
[{"$f":"IF(Data!A832=\"\",\"\",Data!A832)","v":""},"",{"$f":"IF(Data!B832=\"\",\"\",Data!B832)","v":""},{"$f":"IF(Data!C832=\"\",\"\",Data!C832)","v":""},{"$f":"IF(Data!D832=\"\",\"\",Data!D832)","v":""},{"$f":"IF(Data!E832=\"\",\"\",Data!E832)","v":""},{"$f":"IF(Data!F832=\"\",\"\",Data!F832)","v":""},{"$f":"IF(Data!G832=\"\",\"\",Data!G832)","v":""},{"$f":"IF(Data!H832=\"\",\"\",Data!H832)","v":""},{"$f":"IF(Data!I832=\"\",\"\",Data!I832)","v":""},{"$f":"IF(Data!J832=\"\",\"\",Data!J832)","v":""},{"$f":"IF(Data!K832=\"\",\"\",Data!K832)","v":""},{"$f":"IF(Data!L832=\"\",\"\",Data!L832)","v":""},{"$f":"IF(Data!M832=\"\",\"\",Data!M832)","v":""},{"$f":"IF(Data!N832=\"\",\"\",Data!N832)","v":""},{"$f":"IF(Data!O832=\"\",\"\",Data!O832)","v":""},{"$f":"IF(Data!P832=\"\",\"\",Data!P832)","v":""},{"$f":"IF(Data!Q832=\"\",\"\",Data!Q832)","v":""},{"$f":"IF(Data!R832=\"\",\"\",Data!R832)","v":""},{"$f":"IF(Data!S832=\"\",\"\",Data!S832)","v":""},null,null,null,null,832]
[{"$f":"IF(Data!A833=\"\",\"\",Data!A833)","v":""},{"$f":"IF(A834=\"\",\"\",Y834)","v":""},{"$f":"IF(Data!B833=\"\",\"\",Data!B833)","v":""},{"$f":"IF(Data!C833=\"\",\"\",Data!C833)","v":""},{"$f":"IF(Data!D833=\"\",\"\",Data!D833)","v":""},{"$f":"IF(Data!E833=\"\",\"\",Data!E833)","v":""},{"$f":"IF(Data!F833=\"\",\"\",Data!F833)","v":""},{"$f":"IF(Data!G833=\"\",\"\",Data!G833)","v":""},{"$f":"IF(Data!H833=\"\",\"\",Data!H833)","v":""},{"$f":"IF(Data!I833=\"\",\"\",Data!I833)","v":""},{"$f":"IF(Data!J833=\"\",\"\",Data!J833)","v":""},{"$f":"IF(Data!K833=\"\",\"\",Data!K833)","v":""},{"$f":"IF(Data!L833=\"\",\"\",Data!L833)","v":""},{"$f":"IF(Data!M833=\"\",\"\",Data!M833)","v":""},{"$f":"IF(Data!N833=\"\",\"\",Data!N833)","v":""},{"$f":"IF(Data!O833=\"\",\"\",Data!O833)","v":""},{"$f":"IF(Data!P833=\"\",\"\",Data!P833)","v":""},{"$f":"IF(Data!Q833=\"\",\"\",Data!Q833)","v":""},{"$f":"IF(Data!R833=\"\",\"\",Data!R833)","v":""},{"$f":"IF(Data!S833=\"\",\"\",Data!S833)","v":""},null,null,null,null,833]
[{"$f":"IF(Data!A834=\"\",\"\",Data!A834)","v":""},"",{"$f":"IF(Data!B834=\"\",\"\",Data!B834)","v":""},{"$f":"IF(Data!C834=\"\",\"\",Data!C834)","v":""},{"$f":"IF(Data!D834=\"\",\"\",Data!D834)","v":""},{"$f":"IF(Data!E834=\"\",\"\",Data!E834)","v":""},{"$f":"IF(Data!F834=\"\",\"\",Data!F834)","v":""},{"$f":"IF(Data!G834=\"\",\"\",Data!G834)","v":""},{"$f":"IF(Data!H834=\"\",\"\",Data!H834)","v":""},{"$f":"IF(Data!I834=\"\",\"\",Data!I834)","v":""},{"$f":"IF(Data!J834=\"\",\"\",Data!J834)","v":""},{"$f":"IF(Data!K834=\"\",\"\",Data!K834)","v":""},{"$f":"IF(Data!L834=\"\",\"\",Data!L834)","v":""},{"$f":"IF(Data!M834=\"\",\"\",Data!M834)","v":""},{"$f":"IF(Data!N834=\"\",\"\",Data!N834)","v":""},{"$f":"IF(Data!O834=\"\",\"\",Data!O834)","v":""},{"$f":"IF(Data!P834=\"\",\"\",Data!P834)","v":""},{"$f":"IF(Data!Q834=\"\",\"\",Data!Q834)","v":""},{"$f":"IF(Data!R834=\"\",\"\",Data!R834)","v":""},{"$f":"IF(Data!S834=\"\",\"\",Data!S834)","v":""},null,null,null,null,834]
[{"$f":"IF(Data!A835=\"\",\"\",Data!A835)","v":""},"",{"$f":"IF(Data!B835=\"\",\"\",Data!B835)","v":""},{"$f":"IF(Data!C835=\"\",\"\",Data!C835)","v":""},{"$f":"IF(Data!D835=\"\",\"\",Data!D835)","v":""},{"$f":"IF(Data!E835=\"\",\"\",Data!E835)","v":""},{"$f":"IF(Data!F835=\"\",\"\",Data!F835)","v":""},{"$f":"IF(Data!G835=\"\",\"\",Data!G835)","v":""},{"$f":"IF(Data!H835=\"\",\"\",Data!H835)","v":""},{"$f":"IF(Data!I835=\"\",\"\",Data!I835)","v":""},{"$f":"IF(Data!J835=\"\",\"\",Data!J835)","v":""},{"$f":"IF(Data!K835=\"\",\"\",Data!K835)","v":""},{"$f":"IF(Data!L835=\"\",\"\",Data!L835)","v":""},{"$f":"IF(Data!M835=\"\",\"\",Data!M835)","v":""},{"$f":"IF(Data!N835=\"\",\"\",Data!N835)","v":""},{"$f":"IF(Data!O835=\"\",\"\",Data!O835)","v":""},{"$f":"IF(Data!P835=\"\",\"\",Data!P835)","v":""},{"$f":"IF(Data!Q835=\"\",\"\",Data!Q835)","v":""},{"$f":"IF(Data!R835=\"\",\"\",Data!R835)","v":""},{"$f":"IF(Data!S835=\"\",\"\",Data!S835)","v":""},null,null,null,null,835]
[{"$f":"IF(Data!A836=\"\",\"\",Data!A836)","v":""},"",{"$f":"IF(Data!B836=\"\",\"\",Data!B836)","v":""},{"$f":"IF(Data!C836=\"\",\"\",Data!C836)","v":""},{"$f":"IF(Data!D836=\"\",\"\",Data!D836)","v":""},{"$f":"IF(Data!E836=\"\",\"\",Data!E836)","v":""},{"$f":"IF(Data!F836=\"\",\"\",Data!F836)","v":""},{"$f":"IF(Data!G836=\"\",\"\",Data!G836)","v":""},{"$f":"IF(Data!H836=\"\",\"\",Data!H836)","v":""},{"$f":"IF(Data!I836=\"\",\"\",Data!I836)","v":""},{"$f":"IF(Data!J836=\"\",\"\",Data!J836)","v":""},{"$f":"IF(Data!K836=\"\",\"\",Data!K836)","v":""},{"$f":"IF(Data!L836=\"\",\"\",Data!L836)","v":""},{"$f":"IF(Data!M836=\"\",\"\",Data!M836)","v":""},{"$f":"IF(Data!N836=\"\",\"\",Data!N836)","v":""},{"$f":"IF(Data!O836=\"\",\"\",Data!O836)","v":""},{"$f":"IF(Data!P836=\"\",\"\",Data!P836)","v":""},{"$f":"IF(Data!Q836=\"\",\"\",Data!Q836)","v":""},{"$f":"IF(Data!R836=\"\",\"\",Data!R836)","v":""},{"$f":"IF(Data!S836=\"\",\"\",Data!S836)","v":""},null,null,null,null,836]
[{"$f":"IF(Data!A837=\"\",\"\",Data!A837)","v":""},"",{"$f":"IF(Data!B837=\"\",\"\",Data!B837)","v":""},{"$f":"IF(Data!C837=\"\",\"\",Data!C837)","v":""},{"$f":"IF(Data!D837=\"\",\"\",Data!D837)","v":""},{"$f":"IF(Data!E837=\"\",\"\",Data!E837)","v":""},{"$f":"IF(Data!F837=\"\",\"\",Data!F837)","v":""},{"$f":"IF(Data!G837=\"\",\"\",Data!G837)","v":""},{"$f":"IF(Data!H837=\"\",\"\",Data!H837)","v":""},{"$f":"IF(Data!I837=\"\",\"\",Data!I837)","v":""},{"$f":"IF(Data!J837=\"\",\"\",Data!J837)","v":""},{"$f":"IF(Data!K837=\"\",\"\",Data!K837)","v":""},{"$f":"IF(Data!L837=\"\",\"\",Data!L837)","v":""},{"$f":"IF(Data!M837=\"\",\"\",Data!M837)","v":""},{"$f":"IF(Data!N837=\"\",\"\",Data!N837)","v":""},{"$f":"IF(Data!O837=\"\",\"\",Data!O837)","v":""},{"$f":"IF(Data!P837=\"\",\"\",Data!P837)","v":""},{"$f":"IF(Data!Q837=\"\",\"\",Data!Q837)","v":""},{"$f":"IF(Data!R837=\"\",\"\",Data!R837)","v":""},{"$f":"IF(Data!S837=\"\",\"\",Data!S837)","v":""},null,null,null,null,837]
[{"$f":"IF(Data!A838=\"\",\"\",Data!A838)","v":""},"",{"$f":"IF(Data!B838=\"\",\"\",Data!B838)","v":""},{"$f":"IF(Data!C838=\"\",\"\",Data!C838)","v":""},{"$f":"IF(Data!D838=\"\",\"\",Data!D838)","v":""},{"$f":"IF(Data!E838=\"\",\"\",Data!E838)","v":""},{"$f":"IF(Data!F838=\"\",\"\",Data!F838)","v":""},{"$f":"IF(Data!G838=\"\",\"\",Data!G838)","v":""},{"$f":"IF(Data!H838=\"\",\"\",Data!H838)","v":""},{"$f":"IF(Data!I838=\"\",\"\",Data!I838)","v":""},{"$f":"IF(Data!J838=\"\",\"\",Data!J838)","v":""},{"$f":"IF(Data!K838=\"\",\"\",Data!K838)","v":""},{"$f":"IF(Data!L838=\"\",\"\",Data!L838)","v":""},{"$f":"IF(Data!M838=\"\",\"\",Data!M838)","v":""},{"$f":"IF(Data!N838=\"\",\"\",Data!N838)","v":""},{"$f":"IF(Data!O838=\"\",\"\",Data!O838)","v":""},{"$f":"IF(Data!P838=\"\",\"\",Data!P838)","v":""},{"$f":"IF(Data!Q838=\"\",\"\",Data!Q838)","v":""},{"$f":"IF(Data!R838=\"\",\"\",Data!R838)","v":""},{"$f":"IF(Data!S838=\"\",\"\",Data!S838)","v":""},null,null,null,null,838]
[{"$f":"IF(Data!A839=\"\",\"\",Data!A839)","v":""},"",{"$f":"IF(Data!B839=\"\",\"\",Data!B839)","v":""},{"$f":"IF(Data!C839=\"\",\"\",Data!C839)","v":""},{"$f":"IF(Data!D839=\"\",\"\",Data!D839)","v":""},{"$f":"IF(Data!E839=\"\",\"\",Data!E839)","v":""},{"$f":"IF(Data!F839=\"\",\"\",Data!F839)","v":""},{"$f":"IF(Data!G839=\"\",\"\",Data!G839)","v":""},{"$f":"IF(Data!H839=\"\",\"\",Data!H839)","v":""},{"$f":"IF(Data!I839=\"\",\"\",Data!I839)","v":""},{"$f":"IF(Data!J839=\"\",\"\",Data!J839)","v":""},{"$f":"IF(Data!K839=\"\",\"\",Data!K839)","v":""},{"$f":"IF(Data!L839=\"\",\"\",Data!L839)","v":""},{"$f":"IF(Data!M839=\"\",\"\",Data!M839)","v":""},{"$f":"IF(Data!N839=\"\",\"\",Data!N839)","v":""},{"$f":"IF(Data!O839=\"\",\"\",Data!O839)","v":""},{"$f":"IF(Data!P839=\"\",\"\",Data!P839)","v":""},{"$f":"IF(Data!Q839=\"\",\"\",Data!Q839)","v":""},{"$f":"IF(Data!R839=\"\",\"\",Data!R839)","v":""},{"$f":"IF(Data!S839=\"\",\"\",Data!S839)","v":""},null,null,null,null,839]
[{"$f":"IF(Data!A840=\"\",\"\",Data!A840)","v":""},"",{"$f":"IF(Data!B840=\"\",\"\",Data!B840)","v":""},{"$f":"IF(Data!C840=\"\",\"\",Data!C840)","v":""},{"$f":"IF(Data!D840=\"\",\"\",Data!D840)","v":""},{"$f":"IF(Data!E840=\"\",\"\",Data!E840)","v":""},{"$f":"IF(Data!F840=\"\",\"\",Data!F840)","v":""},{"$f":"IF(Data!G840=\"\",\"\",Data!G840)","v":""},{"$f":"IF(Data!H840=\"\",\"\",Data!H840)","v":""},{"$f":"IF(Data!I840=\"\",\"\",Data!I840)","v":""},{"$f":"IF(Data!J840=\"\",\"\",Data!J840)","v":""},{"$f":"IF(Data!K840=\"\",\"\",Data!K840)","v":""},{"$f":"IF(Data!L840=\"\",\"\",Data!L840)","v":""},{"$f":"IF(Data!M840=\"\",\"\",Data!M840)","v":""},{"$f":"IF(Data!N840=\"\",\"\",Data!N840)","v":""},{"$f":"IF(Data!O840=\"\",\"\",Data!O840)","v":""},{"$f":"IF(Data!P840=\"\",\"\",Data!P840)","v":""},{"$f":"IF(Data!Q840=\"\",\"\",Data!Q840)","v":""},{"$f":"IF(Data!R840=\"\",\"\",Data!R840)","v":""},{"$f":"IF(Data!S840=\"\",\"\",Data!S840)","v":""},null,null,null,null,840]
[{"$f":"IF(Data!A841=\"\",\"\",Data!A841)","v":""},"",{"$f":"IF(Data!B841=\"\",\"\",Data!B841)","v":""},{"$f":"IF(Data!C841=\"\",\"\",Data!C841)","v":""},{"$f":"IF(Data!D841=\"\",\"\",Data!D841)","v":""},{"$f":"IF(Data!E841=\"\",\"\",Data!E841)","v":""},{"$f":"IF(Data!F841=\"\",\"\",Data!F841)","v":""},{"$f":"IF(Data!G841=\"\",\"\",Data!G841)","v":""},{"$f":"IF(Data!H841=\"\",\"\",Data!H841)","v":""},{"$f":"IF(Data!I841=\"\",\"\",Data!I841)","v":""},{"$f":"IF(Data!J841=\"\",\"\",Data!J841)","v":""},{"$f":"IF(Data!K841=\"\",\"\",Data!K841)","v":""},{"$f":"IF(Data!L841=\"\",\"\",Data!L841)","v":""},{"$f":"IF(Data!M841=\"\",\"\",Data!M841)","v":""},{"$f":"IF(Data!N841=\"\",\"\",Data!N841)","v":""},{"$f":"IF(Data!O841=\"\",\"\",Data!O841)","v":""},{"$f":"IF(Data!P841=\"\",\"\",Data!P841)","v":""},{"$f":"IF(Data!Q841=\"\",\"\",Data!Q841)","v":""},{"$f":"IF(Data!R841=\"\",\"\",Data!R841)","v":""},{"$f":"IF(Data!S841=\"\",\"\",Data!S841)","v":""},null,null,null,null,841]
[{"$f":"IF(Data!A842=\"\",\"\",Data!A842)","v":""},"",{"$f":"IF(Data!B842=\"\",\"\",Data!B842)","v":""},{"$f":"IF(Data!C842=\"\",\"\",Data!C842)","v":""},{"$f":"IF(Data!D842=\"\",\"\",Data!D842)","v":""},{"$f":"IF(Data!E842=\"\",\"\",Data!E842)","v":""},{"$f":"IF(Data!F842=\"\",\"\",Data!F842)","v":""},{"$f":"IF(Data!G842=\"\",\"\",Data!G842)","v":""},{"$f":"IF(Data!H842=\"\",\"\",Data!H842)","v":""},{"$f":"IF(Data!I842=\"\",\"\",Data!I842)","v":""},{"$f":"IF(Data!J842=\"\",\"\",Data!J842)","v":""},{"$f":"IF(Data!K842=\"\",\"\",Data!K842)","v":""},{"$f":"IF(Data!L842=\"\",\"\",Data!L842)","v":""},{"$f":"IF(Data!M842=\"\",\"\",Data!M842)","v":""},{"$f":"IF(Data!N842=\"\",\"\",Data!N842)","v":""},{"$f":"IF(Data!O842=\"\",\"\",Data!O842)","v":""},{"$f":"IF(Data!P842=\"\",\"\",Data!P842)","v":""},{"$f":"IF(Data!Q842=\"\",\"\",Data!Q842)","v":""},{"$f":"IF(Data!R842=\"\",\"\",Data!R842)","v":""},{"$f":"IF(Data!S842=\"\",\"\",Data!S842)","v":""},null,null,null,null,842]
[{"$f":"IF(Data!A843=\"\",\"\",Data!A843)","v":""},"",{"$f":"IF(Data!B843=\"\",\"\",Data!B843)","v":""},{"$f":"IF(Data!C843=\"\",\"\",Data!C843)","v":""},{"$f":"IF(Data!D843=\"\",\"\",Data!D843)","v":""},{"$f":"IF(Data!E843=\"\",\"\",Data!E843)","v":""},{"$f":"IF(Data!F843=\"\",\"\",Data!F843)","v":""},{"$f":"IF(Data!G843=\"\",\"\",Data!G843)","v":""},{"$f":"IF(Data!H843=\"\",\"\",Data!H843)","v":""},{"$f":"IF(Data!I843=\"\",\"\",Data!I843)","v":""},{"$f":"IF(Data!J843=\"\",\"\",Data!J843)","v":""},{"$f":"IF(Data!K843=\"\",\"\",Data!K843)","v":""},{"$f":"IF(Data!L843=\"\",\"\",Data!L843)","v":""},{"$f":"IF(Data!M843=\"\",\"\",Data!M843)","v":""},{"$f":"IF(Data!N843=\"\",\"\",Data!N843)","v":""},{"$f":"IF(Data!O843=\"\",\"\",Data!O843)","v":""},{"$f":"IF(Data!P843=\"\",\"\",Data!P843)","v":""},{"$f":"IF(Data!Q843=\"\",\"\",Data!Q843)","v":""},{"$f":"IF(Data!R843=\"\",\"\",Data!R843)","v":""},{"$f":"IF(Data!S843=\"\",\"\",Data!S843)","v":""},null,null,null,null,843]
[{"$f":"IF(Data!A844=\"\",\"\",Data!A844)","v":""},"",{"$f":"IF(Data!B844=\"\",\"\",Data!B844)","v":""},{"$f":"IF(Data!C844=\"\",\"\",Data!C844)","v":""},{"$f":"IF(Data!D844=\"\",\"\",Data!D844)","v":""},{"$f":"IF(Data!E844=\"\",\"\",Data!E844)","v":""},{"$f":"IF(Data!F844=\"\",\"\",Data!F844)","v":""},{"$f":"IF(Data!G844=\"\",\"\",Data!G844)","v":""},{"$f":"IF(Data!H844=\"\",\"\",Data!H844)","v":""},{"$f":"IF(Data!I844=\"\",\"\",Data!I844)","v":""},{"$f":"IF(Data!J844=\"\",\"\",Data!J844)","v":""},{"$f":"IF(Data!K844=\"\",\"\",Data!K844)","v":""},{"$f":"IF(Data!L844=\"\",\"\",Data!L844)","v":""},{"$f":"IF(Data!M844=\"\",\"\",Data!M844)","v":""},{"$f":"IF(Data!N844=\"\",\"\",Data!N844)","v":""},{"$f":"IF(Data!O844=\"\",\"\",Data!O844)","v":""},{"$f":"IF(Data!P844=\"\",\"\",Data!P844)","v":""},{"$f":"IF(Data!Q844=\"\",\"\",Data!Q844)","v":""},{"$f":"IF(Data!R844=\"\",\"\",Data!R844)","v":""},{"$f":"IF(Data!S844=\"\",\"\",Data!S844)","v":""},null,null,null,null,844]
[{"$f":"IF(Data!A845=\"\",\"\",Data!A845)","v":""},"",{"$f":"IF(Data!B845=\"\",\"\",Data!B845)","v":""},{"$f":"IF(Data!C845=\"\",\"\",Data!C845)","v":""},{"$f":"IF(Data!D845=\"\",\"\",Data!D845)","v":""},{"$f":"IF(Data!E845=\"\",\"\",Data!E845)","v":""},{"$f":"IF(Data!F845=\"\",\"\",Data!F845)","v":""},{"$f":"IF(Data!G845=\"\",\"\",Data!G845)","v":""},{"$f":"IF(Data!H845=\"\",\"\",Data!H845)","v":""},{"$f":"IF(Data!I845=\"\",\"\",Data!I845)","v":""},{"$f":"IF(Data!J845=\"\",\"\",Data!J845)","v":""},{"$f":"IF(Data!K845=\"\",\"\",Data!K845)","v":""},{"$f":"IF(Data!L845=\"\",\"\",Data!L845)","v":""},{"$f":"IF(Data!M845=\"\",\"\",Data!M845)","v":""},{"$f":"IF(Data!N845=\"\",\"\",Data!N845)","v":""},{"$f":"IF(Data!O845=\"\",\"\",Data!O845)","v":""},{"$f":"IF(Data!P845=\"\",\"\",Data!P845)","v":""},{"$f":"IF(Data!Q845=\"\",\"\",Data!Q845)","v":""},{"$f":"IF(Data!R845=\"\",\"\",Data!R845)","v":""},{"$f":"IF(Data!S845=\"\",\"\",Data!S845)","v":""},null,null,null,null,845]
[{"$f":"IF(Data!A846=\"\",\"\",Data!A846)","v":""},"",{"$f":"IF(Data!B846=\"\",\"\",Data!B846)","v":""},{"$f":"IF(Data!C846=\"\",\"\",Data!C846)","v":""},{"$f":"IF(Data!D846=\"\",\"\",Data!D846)","v":""},{"$f":"IF(Data!E846=\"\",\"\",Data!E846)","v":""},{"$f":"IF(Data!F846=\"\",\"\",Data!F846)","v":""},{"$f":"IF(Data!G846=\"\",\"\",Data!G846)","v":""},{"$f":"IF(Data!H846=\"\",\"\",Data!H846)","v":""},{"$f":"IF(Data!I846=\"\",\"\",Data!I846)","v":""},{"$f":"IF(Data!J846=\"\",\"\",Data!J846)","v":""},{"$f":"IF(Data!K846=\"\",\"\",Data!K846)","v":""},{"$f":"IF(Data!L846=\"\",\"\",Data!L846)","v":""},{"$f":"IF(Data!M846=\"\",\"\",Data!M846)","v":""},{"$f":"IF(Data!N846=\"\",\"\",Data!N846)","v":""},{"$f":"IF(Data!O846=\"\",\"\",Data!O846)","v":""},{"$f":"IF(Data!P846=\"\",\"\",Data!P846)","v":""},{"$f":"IF(Data!Q846=\"\",\"\",Data!Q846)","v":""},{"$f":"IF(Data!R846=\"\",\"\",Data!R846)","v":""},{"$f":"IF(Data!S846=\"\",\"\",Data!S846)","v":""},null,null,null,null,846]
[{"$f":"IF(Data!A847=\"\",\"\",Data!A847)","v":""},"",{"$f":"IF(Data!B847=\"\",\"\",Data!B847)","v":""},{"$f":"IF(Data!C847=\"\",\"\",Data!C847)","v":""},{"$f":"IF(Data!D847=\"\",\"\",Data!D847)","v":""},{"$f":"IF(Data!E847=\"\",\"\",Data!E847)","v":""},{"$f":"IF(Data!F847=\"\",\"\",Data!F847)","v":""},{"$f":"IF(Data!G847=\"\",\"\",Data!G847)","v":""},{"$f":"IF(Data!H847=\"\",\"\",Data!H847)","v":""},{"$f":"IF(Data!I847=\"\",\"\",Data!I847)","v":""},{"$f":"IF(Data!J847=\"\",\"\",Data!J847)","v":""},{"$f":"IF(Data!K847=\"\",\"\",Data!K847)","v":""},{"$f":"IF(Data!L847=\"\",\"\",Data!L847)","v":""},{"$f":"IF(Data!M847=\"\",\"\",Data!M847)","v":""},{"$f":"IF(Data!N847=\"\",\"\",Data!N847)","v":""},{"$f":"IF(Data!O847=\"\",\"\",Data!O847)","v":""},{"$f":"IF(Data!P847=\"\",\"\",Data!P847)","v":""},{"$f":"IF(Data!Q847=\"\",\"\",Data!Q847)","v":""},{"$f":"IF(Data!R847=\"\",\"\",Data!R847)","v":""},{"$f":"IF(Data!S847=\"\",\"\",Data!S847)","v":""},null,null,null,null,847]
[{"$f":"IF(Data!A848=\"\",\"\",Data!A848)","v":""},"",{"$f":"IF(Data!B848=\"\",\"\",Data!B848)","v":""},{"$f":"IF(Data!C848=\"\",\"\",Data!C848)","v":""},{"$f":"IF(Data!D848=\"\",\"\",Data!D848)","v":""},{"$f":"IF(Data!E848=\"\",\"\",Data!E848)","v":""},{"$f":"IF(Data!F848=\"\",\"\",Data!F848)","v":""},{"$f":"IF(Data!G848=\"\",\"\",Data!G848)","v":""},{"$f":"IF(Data!H848=\"\",\"\",Data!H848)","v":""},{"$f":"IF(Data!I848=\"\",\"\",Data!I848)","v":""},{"$f":"IF(Data!J848=\"\",\"\",Data!J848)","v":""},{"$f":"IF(Data!K848=\"\",\"\",Data!K848)","v":""},{"$f":"IF(Data!L848=\"\",\"\",Data!L848)","v":""},{"$f":"IF(Data!M848=\"\",\"\",Data!M848)","v":""},{"$f":"IF(Data!N848=\"\",\"\",Data!N848)","v":""},{"$f":"IF(Data!O848=\"\",\"\",Data!O848)","v":""},{"$f":"IF(Data!P848=\"\",\"\",Data!P848)","v":""},{"$f":"IF(Data!Q848=\"\",\"\",Data!Q848)","v":""},{"$f":"IF(Data!R848=\"\",\"\",Data!R848)","v":""},{"$f":"IF(Data!S848=\"\",\"\",Data!S848)","v":""},null,null,null,null,848]
[{"$f":"IF(Data!A849=\"\",\"\",Data!A849)","v":""},"",{"$f":"IF(Data!B849=\"\",\"\",Data!B849)","v":""},{"$f":"IF(Data!C849=\"\",\"\",Data!C849)","v":""},{"$f":"IF(Data!D849=\"\",\"\",Data!D849)","v":""},{"$f":"IF(Data!E849=\"\",\"\",Data!E849)","v":""},{"$f":"IF(Data!F849=\"\",\"\",Data!F849)","v":""},{"$f":"IF(Data!G849=\"\",\"\",Data!G849)","v":""},{"$f":"IF(Data!H849=\"\",\"\",Data!H849)","v":""},{"$f":"IF(Data!I849=\"\",\"\",Data!I849)","v":""},{"$f":"IF(Data!J849=\"\",\"\",Data!J849)","v":""},{"$f":"IF(Data!K849=\"\",\"\",Data!K849)","v":""},{"$f":"IF(Data!L849=\"\",\"\",Data!L849)","v":""},{"$f":"IF(Data!M849=\"\",\"\",Data!M849)","v":""},{"$f":"IF(Data!N849=\"\",\"\",Data!N849)","v":""},{"$f":"IF(Data!O849=\"\",\"\",Data!O849)","v":""},{"$f":"IF(Data!P849=\"\",\"\",Data!P849)","v":""},{"$f":"IF(Data!Q849=\"\",\"\",Data!Q849)","v":""},{"$f":"IF(Data!R849=\"\",\"\",Data!R849)","v":""},{"$f":"IF(Data!S849=\"\",\"\",Data!S849)","v":""},null,null,null,null,849]
[{"$f":"IF(Data!A850=\"\",\"\",Data!A850)","v":""},"",{"$f":"IF(Data!B850=\"\",\"\",Data!B850)","v":""},{"$f":"IF(Data!C850=\"\",\"\",Data!C850)","v":""},{"$f":"IF(Data!D850=\"\",\"\",Data!D850)","v":""},{"$f":"IF(Data!E850=\"\",\"\",Data!E850)","v":""},{"$f":"IF(Data!F850=\"\",\"\",Data!F850)","v":""},{"$f":"IF(Data!G850=\"\",\"\",Data!G850)","v":""},{"$f":"IF(Data!H850=\"\",\"\",Data!H850)","v":""},{"$f":"IF(Data!I850=\"\",\"\",Data!I850)","v":""},{"$f":"IF(Data!J850=\"\",\"\",Data!J850)","v":""},{"$f":"IF(Data!K850=\"\",\"\",Data!K850)","v":""},{"$f":"IF(Data!L850=\"\",\"\",Data!L850)","v":""},{"$f":"IF(Data!M850=\"\",\"\",Data!M850)","v":""},{"$f":"IF(Data!N850=\"\",\"\",Data!N850)","v":""},{"$f":"IF(Data!O850=\"\",\"\",Data!O850)","v":""},{"$f":"IF(Data!P850=\"\",\"\",Data!P850)","v":""},{"$f":"IF(Data!Q850=\"\",\"\",Data!Q850)","v":""},{"$f":"IF(Data!R850=\"\",\"\",Data!R850)","v":""},{"$f":"IF(Data!S850=\"\",\"\",Data!S850)","v":""},null,null,null,null,850]
[{"$f":"IF(Data!A851=\"\",\"\",Data!A851)","v":""},"",{"$f":"IF(Data!B851=\"\",\"\",Data!B851)","v":""},{"$f":"IF(Data!C851=\"\",\"\",Data!C851)","v":""},{"$f":"IF(Data!D851=\"\",\"\",Data!D851)","v":""},{"$f":"IF(Data!E851=\"\",\"\",Data!E851)","v":""},{"$f":"IF(Data!F851=\"\",\"\",Data!F851)","v":""},{"$f":"IF(Data!G851=\"\",\"\",Data!G851)","v":""},{"$f":"IF(Data!H851=\"\",\"\",Data!H851)","v":""},{"$f":"IF(Data!I851=\"\",\"\",Data!I851)","v":""},{"$f":"IF(Data!J851=\"\",\"\",Data!J851)","v":""},{"$f":"IF(Data!K851=\"\",\"\",Data!K851)","v":""},{"$f":"IF(Data!L851=\"\",\"\",Data!L851)","v":""},{"$f":"IF(Data!M851=\"\",\"\",Data!M851)","v":""},{"$f":"IF(Data!N851=\"\",\"\",Data!N851)","v":""},{"$f":"IF(Data!O851=\"\",\"\",Data!O851)","v":""},{"$f":"IF(Data!P851=\"\",\"\",Data!P851)","v":""},{"$f":"IF(Data!Q851=\"\",\"\",Data!Q851)","v":""},{"$f":"IF(Data!R851=\"\",\"\",Data!R851)","v":""},{"$f":"IF(Data!S851=\"\",\"\",Data!S851)","v":""},null,null,null,null,851]
[{"$f":"IF(Data!A852=\"\",\"\",Data!A852)","v":""},"",{"$f":"IF(Data!B852=\"\",\"\",Data!B852)","v":""},{"$f":"IF(Data!C852=\"\",\"\",Data!C852)","v":""},{"$f":"IF(Data!D852=\"\",\"\",Data!D852)","v":""},{"$f":"IF(Data!E852=\"\",\"\",Data!E852)","v":""},{"$f":"IF(Data!F852=\"\",\"\",Data!F852)","v":""},{"$f":"IF(Data!G852=\"\",\"\",Data!G852)","v":""},{"$f":"IF(Data!H852=\"\",\"\",Data!H852)","v":""},{"$f":"IF(Data!I852=\"\",\"\",Data!I852)","v":""},{"$f":"IF(Data!J852=\"\",\"\",Data!J852)","v":""},{"$f":"IF(Data!K852=\"\",\"\",Data!K852)","v":""},{"$f":"IF(Data!L852=\"\",\"\",Data!L852)","v":""},{"$f":"IF(Data!M852=\"\",\"\",Data!M852)","v":""},{"$f":"IF(Data!N852=\"\",\"\",Data!N852)","v":""},{"$f":"IF(Data!O852=\"\",\"\",Data!O852)","v":""},{"$f":"IF(Data!P852=\"\",\"\",Data!P852)","v":""},{"$f":"IF(Data!Q852=\"\",\"\",Data!Q852)","v":""},{"$f":"IF(Data!R852=\"\",\"\",Data!R852)","v":""},{"$f":"IF(Data!S852=\"\",\"\",Data!S852)","v":""},null,null,null,null,852]
[{"$f":"IF(Data!A853=\"\",\"\",Data!A853)","v":""},"",{"$f":"IF(Data!B853=\"\",\"\",Data!B853)","v":""},{"$f":"IF(Data!C853=\"\",\"\",Data!C853)","v":""},{"$f":"IF(Data!D853=\"\",\"\",Data!D853)","v":""},{"$f":"IF(Data!E853=\"\",\"\",Data!E853)","v":""},{"$f":"IF(Data!F853=\"\",\"\",Data!F853)","v":""},{"$f":"IF(Data!G853=\"\",\"\",Data!G853)","v":""},{"$f":"IF(Data!H853=\"\",\"\",Data!H853)","v":""},{"$f":"IF(Data!I853=\"\",\"\",Data!I853)","v":""},{"$f":"IF(Data!J853=\"\",\"\",Data!J853)","v":""},{"$f":"IF(Data!K853=\"\",\"\",Data!K853)","v":""},{"$f":"IF(Data!L853=\"\",\"\",Data!L853)","v":""},{"$f":"IF(Data!M853=\"\",\"\",Data!M853)","v":""},{"$f":"IF(Data!N853=\"\",\"\",Data!N853)","v":""},{"$f":"IF(Data!O853=\"\",\"\",Data!O853)","v":""},{"$f":"IF(Data!P853=\"\",\"\",Data!P853)","v":""},{"$f":"IF(Data!Q853=\"\",\"\",Data!Q853)","v":""},{"$f":"IF(Data!R853=\"\",\"\",Data!R853)","v":""},{"$f":"IF(Data!S853=\"\",\"\",Data!S853)","v":""},null,null,null,null,853]
[{"$f":"IF(Data!A854=\"\",\"\",Data!A854)","v":""},"",{"$f":"IF(Data!B854=\"\",\"\",Data!B854)","v":""},{"$f":"IF(Data!C854=\"\",\"\",Data!C854)","v":""},{"$f":"IF(Data!D854=\"\",\"\",Data!D854)","v":""},{"$f":"IF(Data!E854=\"\",\"\",Data!E854)","v":""},{"$f":"IF(Data!F854=\"\",\"\",Data!F854)","v":""},{"$f":"IF(Data!G854=\"\",\"\",Data!G854)","v":""},{"$f":"IF(Data!H854=\"\",\"\",Data!H854)","v":""},{"$f":"IF(Data!I854=\"\",\"\",Data!I854)","v":""},{"$f":"IF(Data!J854=\"\",\"\",Data!J854)","v":""},{"$f":"IF(Data!K854=\"\",\"\",Data!K854)","v":""},{"$f":"IF(Data!L854=\"\",\"\",Data!L854)","v":""},{"$f":"IF(Data!M854=\"\",\"\",Data!M854)","v":""},{"$f":"IF(Data!N854=\"\",\"\",Data!N854)","v":""},{"$f":"IF(Data!O854=\"\",\"\",Data!O854)","v":""},{"$f":"IF(Data!P854=\"\",\"\",Data!P854)","v":""},{"$f":"IF(Data!Q854=\"\",\"\",Data!Q854)","v":""},{"$f":"IF(Data!R854=\"\",\"\",Data!R854)","v":""},{"$f":"IF(Data!S854=\"\",\"\",Data!S854)","v":""},null,null,null,null,854]
[{"$f":"IF(Data!A855=\"\",\"\",Data!A855)","v":""},"",{"$f":"IF(Data!B855=\"\",\"\",Data!B855)","v":""},{"$f":"IF(Data!C855=\"\",\"\",Data!C855)","v":""},{"$f":"IF(Data!D855=\"\",\"\",Data!D855)","v":""},{"$f":"IF(Data!E855=\"\",\"\",Data!E855)","v":""},{"$f":"IF(Data!F855=\"\",\"\",Data!F855)","v":""},{"$f":"IF(Data!G855=\"\",\"\",Data!G855)","v":""},{"$f":"IF(Data!H855=\"\",\"\",Data!H855)","v":""},{"$f":"IF(Data!I855=\"\",\"\",Data!I855)","v":""},{"$f":"IF(Data!J855=\"\",\"\",Data!J855)","v":""},{"$f":"IF(Data!K855=\"\",\"\",Data!K855)","v":""},{"$f":"IF(Data!L855=\"\",\"\",Data!L855)","v":""},{"$f":"IF(Data!M855=\"\",\"\",Data!M855)","v":""},{"$f":"IF(Data!N855=\"\",\"\",Data!N855)","v":""},{"$f":"IF(Data!O855=\"\",\"\",Data!O855)","v":""},{"$f":"IF(Data!P855=\"\",\"\",Data!P855)","v":""},{"$f":"IF(Data!Q855=\"\",\"\",Data!Q855)","v":""},{"$f":"IF(Data!R855=\"\",\"\",Data!R855)","v":""},{"$f":"IF(Data!S855=\"\",\"\",Data!S855)","v":""},null,null,null,null,855]
[{"$f":"IF(Data!A856=\"\",\"\",Data!A856)","v":""},"",{"$f":"IF(Data!B856=\"\",\"\",Data!B856)","v":""},{"$f":"IF(Data!C856=\"\",\"\",Data!C856)","v":""},{"$f":"IF(Data!D856=\"\",\"\",Data!D856)","v":""},{"$f":"IF(Data!E856=\"\",\"\",Data!E856)","v":""},{"$f":"IF(Data!F856=\"\",\"\",Data!F856)","v":""},{"$f":"IF(Data!G856=\"\",\"\",Data!G856)","v":""},{"$f":"IF(Data!H856=\"\",\"\",Data!H856)","v":""},{"$f":"IF(Data!I856=\"\",\"\",Data!I856)","v":""},{"$f":"IF(Data!J856=\"\",\"\",Data!J856)","v":""},{"$f":"IF(Data!K856=\"\",\"\",Data!K856)","v":""},{"$f":"IF(Data!L856=\"\",\"\",Data!L856)","v":""},{"$f":"IF(Data!M856=\"\",\"\",Data!M856)","v":""},{"$f":"IF(Data!N856=\"\",\"\",Data!N856)","v":""},{"$f":"IF(Data!O856=\"\",\"\",Data!O856)","v":""},{"$f":"IF(Data!P856=\"\",\"\",Data!P856)","v":""},{"$f":"IF(Data!Q856=\"\",\"\",Data!Q856)","v":""},{"$f":"IF(Data!R856=\"\",\"\",Data!R856)","v":""},{"$f":"IF(Data!S856=\"\",\"\",Data!S856)","v":""},null,null,null,null,856]
[{"$f":"IF(Data!A857=\"\",\"\",Data!A857)","v":""},"",{"$f":"IF(Data!B857=\"\",\"\",Data!B857)","v":""},{"$f":"IF(Data!C857=\"\",\"\",Data!C857)","v":""},{"$f":"IF(Data!D857=\"\",\"\",Data!D857)","v":""},{"$f":"IF(Data!E857=\"\",\"\",Data!E857)","v":""},{"$f":"IF(Data!F857=\"\",\"\",Data!F857)","v":""},{"$f":"IF(Data!G857=\"\",\"\",Data!G857)","v":""},{"$f":"IF(Data!H857=\"\",\"\",Data!H857)","v":""},{"$f":"IF(Data!I857=\"\",\"\",Data!I857)","v":""},{"$f":"IF(Data!J857=\"\",\"\",Data!J857)","v":""},{"$f":"IF(Data!K857=\"\",\"\",Data!K857)","v":""},{"$f":"IF(Data!L857=\"\",\"\",Data!L857)","v":""},{"$f":"IF(Data!M857=\"\",\"\",Data!M857)","v":""},{"$f":"IF(Data!N857=\"\",\"\",Data!N857)","v":""},{"$f":"IF(Data!O857=\"\",\"\",Data!O857)","v":""},{"$f":"IF(Data!P857=\"\",\"\",Data!P857)","v":""},{"$f":"IF(Data!Q857=\"\",\"\",Data!Q857)","v":""},{"$f":"IF(Data!R857=\"\",\"\",Data!R857)","v":""},{"$f":"IF(Data!S857=\"\",\"\",Data!S857)","v":""},null,null,null,null,857]
[{"$f":"IF(Data!A858=\"\",\"\",Data!A858)","v":""},"",{"$f":"IF(Data!B858=\"\",\"\",Data!B858)","v":""},{"$f":"IF(Data!C858=\"\",\"\",Data!C858)","v":""},{"$f":"IF(Data!D858=\"\",\"\",Data!D858)","v":""},{"$f":"IF(Data!E858=\"\",\"\",Data!E858)","v":""},{"$f":"IF(Data!F858=\"\",\"\",Data!F858)","v":""},{"$f":"IF(Data!G858=\"\",\"\",Data!G858)","v":""},{"$f":"IF(Data!H858=\"\",\"\",Data!H858)","v":""},{"$f":"IF(Data!I858=\"\",\"\",Data!I858)","v":""},{"$f":"IF(Data!J858=\"\",\"\",Data!J858)","v":""},{"$f":"IF(Data!K858=\"\",\"\",Data!K858)","v":""},{"$f":"IF(Data!L858=\"\",\"\",Data!L858)","v":""},{"$f":"IF(Data!M858=\"\",\"\",Data!M858)","v":""},{"$f":"IF(Data!N858=\"\",\"\",Data!N858)","v":""},{"$f":"IF(Data!O858=\"\",\"\",Data!O858)","v":""},{"$f":"IF(Data!P858=\"\",\"\",Data!P858)","v":""},{"$f":"IF(Data!Q858=\"\",\"\",Data!Q858)","v":""},{"$f":"IF(Data!R858=\"\",\"\",Data!R858)","v":""},{"$f":"IF(Data!S858=\"\",\"\",Data!S858)","v":""},null,null,null,null,858]
[{"$f":"IF(Data!A859=\"\",\"\",Data!A859)","v":""},"",{"$f":"IF(Data!B859=\"\",\"\",Data!B859)","v":""},{"$f":"IF(Data!C859=\"\",\"\",Data!C859)","v":""},{"$f":"IF(Data!D859=\"\",\"\",Data!D859)","v":""},{"$f":"IF(Data!E859=\"\",\"\",Data!E859)","v":""},{"$f":"IF(Data!F859=\"\",\"\",Data!F859)","v":""},{"$f":"IF(Data!G859=\"\",\"\",Data!G859)","v":""},{"$f":"IF(Data!H859=\"\",\"\",Data!H859)","v":""},{"$f":"IF(Data!I859=\"\",\"\",Data!I859)","v":""},{"$f":"IF(Data!J859=\"\",\"\",Data!J859)","v":""},{"$f":"IF(Data!K859=\"\",\"\",Data!K859)","v":""},{"$f":"IF(Data!L859=\"\",\"\",Data!L859)","v":""},{"$f":"IF(Data!M859=\"\",\"\",Data!M859)","v":""},{"$f":"IF(Data!N859=\"\",\"\",Data!N859)","v":""},{"$f":"IF(Data!O859=\"\",\"\",Data!O859)","v":""},{"$f":"IF(Data!P859=\"\",\"\",Data!P859)","v":""},{"$f":"IF(Data!Q859=\"\",\"\",Data!Q859)","v":""},{"$f":"IF(Data!R859=\"\",\"\",Data!R859)","v":""},{"$f":"IF(Data!S859=\"\",\"\",Data!S859)","v":""},null,null,null,null,859]
[{"$f":"IF(Data!A860=\"\",\"\",Data!A860)","v":""},"",{"$f":"IF(Data!B860=\"\",\"\",Data!B860)","v":""},{"$f":"IF(Data!C860=\"\",\"\",Data!C860)","v":""},{"$f":"IF(Data!D860=\"\",\"\",Data!D860)","v":""},{"$f":"IF(Data!E860=\"\",\"\",Data!E860)","v":""},{"$f":"IF(Data!F860=\"\",\"\",Data!F860)","v":""},{"$f":"IF(Data!G860=\"\",\"\",Data!G860)","v":""},{"$f":"IF(Data!H860=\"\",\"\",Data!H860)","v":""},{"$f":"IF(Data!I860=\"\",\"\",Data!I860)","v":""},{"$f":"IF(Data!J860=\"\",\"\",Data!J860)","v":""},{"$f":"IF(Data!K860=\"\",\"\",Data!K860)","v":""},{"$f":"IF(Data!L860=\"\",\"\",Data!L860)","v":""},{"$f":"IF(Data!M860=\"\",\"\",Data!M860)","v":""},{"$f":"IF(Data!N860=\"\",\"\",Data!N860)","v":""},{"$f":"IF(Data!O860=\"\",\"\",Data!O860)","v":""},{"$f":"IF(Data!P860=\"\",\"\",Data!P860)","v":""},{"$f":"IF(Data!Q860=\"\",\"\",Data!Q860)","v":""},{"$f":"IF(Data!R860=\"\",\"\",Data!R860)","v":""},{"$f":"IF(Data!S860=\"\",\"\",Data!S860)","v":""},null,null,null,null,860]
[{"$f":"IF(Data!A861=\"\",\"\",Data!A861)","v":""},"",{"$f":"IF(Data!B861=\"\",\"\",Data!B861)","v":""},{"$f":"IF(Data!C861=\"\",\"\",Data!C861)","v":""},{"$f":"IF(Data!D861=\"\",\"\",Data!D861)","v":""},{"$f":"IF(Data!E861=\"\",\"\",Data!E861)","v":""},{"$f":"IF(Data!F861=\"\",\"\",Data!F861)","v":""},{"$f":"IF(Data!G861=\"\",\"\",Data!G861)","v":""},{"$f":"IF(Data!H861=\"\",\"\",Data!H861)","v":""},{"$f":"IF(Data!I861=\"\",\"\",Data!I861)","v":""},{"$f":"IF(Data!J861=\"\",\"\",Data!J861)","v":""},{"$f":"IF(Data!K861=\"\",\"\",Data!K861)","v":""},{"$f":"IF(Data!L861=\"\",\"\",Data!L861)","v":""},{"$f":"IF(Data!M861=\"\",\"\",Data!M861)","v":""},{"$f":"IF(Data!N861=\"\",\"\",Data!N861)","v":""},{"$f":"IF(Data!O861=\"\",\"\",Data!O861)","v":""},{"$f":"IF(Data!P861=\"\",\"\",Data!P861)","v":""},{"$f":"IF(Data!Q861=\"\",\"\",Data!Q861)","v":""},{"$f":"IF(Data!R861=\"\",\"\",Data!R861)","v":""},{"$f":"IF(Data!S861=\"\",\"\",Data!S861)","v":""},null,null,null,null,861]
[{"$f":"IF(Data!A862=\"\",\"\",Data!A862)","v":""},"",{"$f":"IF(Data!B862=\"\",\"\",Data!B862)","v":""},{"$f":"IF(Data!C862=\"\",\"\",Data!C862)","v":""},{"$f":"IF(Data!D862=\"\",\"\",Data!D862)","v":""},{"$f":"IF(Data!E862=\"\",\"\",Data!E862)","v":""},{"$f":"IF(Data!F862=\"\",\"\",Data!F862)","v":""},{"$f":"IF(Data!G862=\"\",\"\",Data!G862)","v":""},{"$f":"IF(Data!H862=\"\",\"\",Data!H862)","v":""},{"$f":"IF(Data!I862=\"\",\"\",Data!I862)","v":""},{"$f":"IF(Data!J862=\"\",\"\",Data!J862)","v":""},{"$f":"IF(Data!K862=\"\",\"\",Data!K862)","v":""},{"$f":"IF(Data!L862=\"\",\"\",Data!L862)","v":""},{"$f":"IF(Data!M862=\"\",\"\",Data!M862)","v":""},{"$f":"IF(Data!N862=\"\",\"\",Data!N862)","v":""},{"$f":"IF(Data!O862=\"\",\"\",Data!O862)","v":""},{"$f":"IF(Data!P862=\"\",\"\",Data!P862)","v":""},{"$f":"IF(Data!Q862=\"\",\"\",Data!Q862)","v":""},{"$f":"IF(Data!R862=\"\",\"\",Data!R862)","v":""},{"$f":"IF(Data!S862=\"\",\"\",Data!S862)","v":""},null,null,null,null,862]
[{"$f":"IF(Data!A863=\"\",\"\",Data!A863)","v":""},"",{"$f":"IF(Data!B863=\"\",\"\",Data!B863)","v":""},{"$f":"IF(Data!C863=\"\",\"\",Data!C863)","v":""},{"$f":"IF(Data!D863=\"\",\"\",Data!D863)","v":""},{"$f":"IF(Data!E863=\"\",\"\",Data!E863)","v":""},{"$f":"IF(Data!F863=\"\",\"\",Data!F863)","v":""},{"$f":"IF(Data!G863=\"\",\"\",Data!G863)","v":""},{"$f":"IF(Data!H863=\"\",\"\",Data!H863)","v":""},{"$f":"IF(Data!I863=\"\",\"\",Data!I863)","v":""},{"$f":"IF(Data!J863=\"\",\"\",Data!J863)","v":""},{"$f":"IF(Data!K863=\"\",\"\",Data!K863)","v":""},{"$f":"IF(Data!L863=\"\",\"\",Data!L863)","v":""},{"$f":"IF(Data!M863=\"\",\"\",Data!M863)","v":""},{"$f":"IF(Data!N863=\"\",\"\",Data!N863)","v":""},{"$f":"IF(Data!O863=\"\",\"\",Data!O863)","v":""},{"$f":"IF(Data!P863=\"\",\"\",Data!P863)","v":""},{"$f":"IF(Data!Q863=\"\",\"\",Data!Q863)","v":""},{"$f":"IF(Data!R863=\"\",\"\",Data!R863)","v":""},{"$f":"IF(Data!S863=\"\",\"\",Data!S863)","v":""},null,null,null,null,863]
[{"$f":"IF(Data!A864=\"\",\"\",Data!A864)","v":""},"",{"$f":"IF(Data!B864=\"\",\"\",Data!B864)","v":""},{"$f":"IF(Data!C864=\"\",\"\",Data!C864)","v":""},{"$f":"IF(Data!D864=\"\",\"\",Data!D864)","v":""},{"$f":"IF(Data!E864=\"\",\"\",Data!E864)","v":""},{"$f":"IF(Data!F864=\"\",\"\",Data!F864)","v":""},{"$f":"IF(Data!G864=\"\",\"\",Data!G864)","v":""},{"$f":"IF(Data!H864=\"\",\"\",Data!H864)","v":""},{"$f":"IF(Data!I864=\"\",\"\",Data!I864)","v":""},{"$f":"IF(Data!J864=\"\",\"\",Data!J864)","v":""},{"$f":"IF(Data!K864=\"\",\"\",Data!K864)","v":""},{"$f":"IF(Data!L864=\"\",\"\",Data!L864)","v":""},{"$f":"IF(Data!M864=\"\",\"\",Data!M864)","v":""},{"$f":"IF(Data!N864=\"\",\"\",Data!N864)","v":""},{"$f":"IF(Data!O864=\"\",\"\",Data!O864)","v":""},{"$f":"IF(Data!P864=\"\",\"\",Data!P864)","v":""},{"$f":"IF(Data!Q864=\"\",\"\",Data!Q864)","v":""},{"$f":"IF(Data!R864=\"\",\"\",Data!R864)","v":""},{"$f":"IF(Data!S864=\"\",\"\",Data!S864)","v":""},null,null,null,null,864]
[{"$f":"IF(Data!A865=\"\",\"\",Data!A865)","v":""},"",{"$f":"IF(Data!B865=\"\",\"\",Data!B865)","v":""},{"$f":"IF(Data!C865=\"\",\"\",Data!C865)","v":""},{"$f":"IF(Data!D865=\"\",\"\",Data!D865)","v":""},{"$f":"IF(Data!E865=\"\",\"\",Data!E865)","v":""},{"$f":"IF(Data!F865=\"\",\"\",Data!F865)","v":""},{"$f":"IF(Data!G865=\"\",\"\",Data!G865)","v":""},{"$f":"IF(Data!H865=\"\",\"\",Data!H865)","v":""},{"$f":"IF(Data!I865=\"\",\"\",Data!I865)","v":""},{"$f":"IF(Data!J865=\"\",\"\",Data!J865)","v":""},{"$f":"IF(Data!K865=\"\",\"\",Data!K865)","v":""},{"$f":"IF(Data!L865=\"\",\"\",Data!L865)","v":""},{"$f":"IF(Data!M865=\"\",\"\",Data!M865)","v":""},{"$f":"IF(Data!N865=\"\",\"\",Data!N865)","v":""},{"$f":"IF(Data!O865=\"\",\"\",Data!O865)","v":""},{"$f":"IF(Data!P865=\"\",\"\",Data!P865)","v":""},{"$f":"IF(Data!Q865=\"\",\"\",Data!Q865)","v":""},{"$f":"IF(Data!R865=\"\",\"\",Data!R865)","v":""},{"$f":"IF(Data!S865=\"\",\"\",Data!S865)","v":""},null,null,null,null,865]
[{"$f":"IF(Data!A866=\"\",\"\",Data!A866)","v":""},"",{"$f":"IF(Data!B866=\"\",\"\",Data!B866)","v":""},{"$f":"IF(Data!C866=\"\",\"\",Data!C866)","v":""},{"$f":"IF(Data!D866=\"\",\"\",Data!D866)","v":""},{"$f":"IF(Data!E866=\"\",\"\",Data!E866)","v":""},{"$f":"IF(Data!F866=\"\",\"\",Data!F866)","v":""},{"$f":"IF(Data!G866=\"\",\"\",Data!G866)","v":""},{"$f":"IF(Data!H866=\"\",\"\",Data!H866)","v":""},{"$f":"IF(Data!I866=\"\",\"\",Data!I866)","v":""},{"$f":"IF(Data!J866=\"\",\"\",Data!J866)","v":""},{"$f":"IF(Data!K866=\"\",\"\",Data!K866)","v":""},{"$f":"IF(Data!L866=\"\",\"\",Data!L866)","v":""},{"$f":"IF(Data!M866=\"\",\"\",Data!M866)","v":""},{"$f":"IF(Data!N866=\"\",\"\",Data!N866)","v":""},{"$f":"IF(Data!O866=\"\",\"\",Data!O866)","v":""},{"$f":"IF(Data!P866=\"\",\"\",Data!P866)","v":""},{"$f":"IF(Data!Q866=\"\",\"\",Data!Q866)","v":""},{"$f":"IF(Data!R866=\"\",\"\",Data!R866)","v":""},{"$f":"IF(Data!S866=\"\",\"\",Data!S866)","v":""},null,null,null,null,866]
[{"$f":"IF(Data!A867=\"\",\"\",Data!A867)","v":""},"",{"$f":"IF(Data!B867=\"\",\"\",Data!B867)","v":""},{"$f":"IF(Data!C867=\"\",\"\",Data!C867)","v":""},{"$f":"IF(Data!D867=\"\",\"\",Data!D867)","v":""},{"$f":"IF(Data!E867=\"\",\"\",Data!E867)","v":""},{"$f":"IF(Data!F867=\"\",\"\",Data!F867)","v":""},{"$f":"IF(Data!G867=\"\",\"\",Data!G867)","v":""},{"$f":"IF(Data!H867=\"\",\"\",Data!H867)","v":""},{"$f":"IF(Data!I867=\"\",\"\",Data!I867)","v":""},{"$f":"IF(Data!J867=\"\",\"\",Data!J867)","v":""},{"$f":"IF(Data!K867=\"\",\"\",Data!K867)","v":""},{"$f":"IF(Data!L867=\"\",\"\",Data!L867)","v":""},{"$f":"IF(Data!M867=\"\",\"\",Data!M867)","v":""},{"$f":"IF(Data!N867=\"\",\"\",Data!N867)","v":""},{"$f":"IF(Data!O867=\"\",\"\",Data!O867)","v":""},{"$f":"IF(Data!P867=\"\",\"\",Data!P867)","v":""},{"$f":"IF(Data!Q867=\"\",\"\",Data!Q867)","v":""},{"$f":"IF(Data!R867=\"\",\"\",Data!R867)","v":""},{"$f":"IF(Data!S867=\"\",\"\",Data!S867)","v":""},null,null,null,null,867]
[{"$f":"IF(Data!A868=\"\",\"\",Data!A868)","v":""},"",{"$f":"IF(Data!B868=\"\",\"\",Data!B868)","v":""},{"$f":"IF(Data!C868=\"\",\"\",Data!C868)","v":""},{"$f":"IF(Data!D868=\"\",\"\",Data!D868)","v":""},{"$f":"IF(Data!E868=\"\",\"\",Data!E868)","v":""},{"$f":"IF(Data!F868=\"\",\"\",Data!F868)","v":""},{"$f":"IF(Data!G868=\"\",\"\",Data!G868)","v":""},{"$f":"IF(Data!H868=\"\",\"\",Data!H868)","v":""},{"$f":"IF(Data!I868=\"\",\"\",Data!I868)","v":""},{"$f":"IF(Data!J868=\"\",\"\",Data!J868)","v":""},{"$f":"IF(Data!K868=\"\",\"\",Data!K868)","v":""},{"$f":"IF(Data!L868=\"\",\"\",Data!L868)","v":""},{"$f":"IF(Data!M868=\"\",\"\",Data!M868)","v":""},{"$f":"IF(Data!N868=\"\",\"\",Data!N868)","v":""},{"$f":"IF(Data!O868=\"\",\"\",Data!O868)","v":""},{"$f":"IF(Data!P868=\"\",\"\",Data!P868)","v":""},{"$f":"IF(Data!Q868=\"\",\"\",Data!Q868)","v":""},{"$f":"IF(Data!R868=\"\",\"\",Data!R868)","v":""},{"$f":"IF(Data!S868=\"\",\"\",Data!S868)","v":""},null,null,null,null,868]
[{"$f":"IF(Data!A869=\"\",\"\",Data!A869)","v":""},"",{"$f":"IF(Data!B869=\"\",\"\",Data!B869)","v":""},{"$f":"IF(Data!C869=\"\",\"\",Data!C869)","v":""},{"$f":"IF(Data!D869=\"\",\"\",Data!D869)","v":""},{"$f":"IF(Data!E869=\"\",\"\",Data!E869)","v":""},{"$f":"IF(Data!F869=\"\",\"\",Data!F869)","v":""},{"$f":"IF(Data!G869=\"\",\"\",Data!G869)","v":""},{"$f":"IF(Data!H869=\"\",\"\",Data!H869)","v":""},{"$f":"IF(Data!I869=\"\",\"\",Data!I869)","v":""},{"$f":"IF(Data!J869=\"\",\"\",Data!J869)","v":""},{"$f":"IF(Data!K869=\"\",\"\",Data!K869)","v":""},{"$f":"IF(Data!L869=\"\",\"\",Data!L869)","v":""},{"$f":"IF(Data!M869=\"\",\"\",Data!M869)","v":""},{"$f":"IF(Data!N869=\"\",\"\",Data!N869)","v":""},{"$f":"IF(Data!O869=\"\",\"\",Data!O869)","v":""},{"$f":"IF(Data!P869=\"\",\"\",Data!P869)","v":""},{"$f":"IF(Data!Q869=\"\",\"\",Data!Q869)","v":""},{"$f":"IF(Data!R869=\"\",\"\",Data!R869)","v":""},{"$f":"IF(Data!S869=\"\",\"\",Data!S869)","v":""},null,null,null,null,869]
[{"$f":"IF(Data!A870=\"\",\"\",Data!A870)","v":""},"",{"$f":"IF(Data!B870=\"\",\"\",Data!B870)","v":""},{"$f":"IF(Data!C870=\"\",\"\",Data!C870)","v":""},{"$f":"IF(Data!D870=\"\",\"\",Data!D870)","v":""},{"$f":"IF(Data!E870=\"\",\"\",Data!E870)","v":""},{"$f":"IF(Data!F870=\"\",\"\",Data!F870)","v":""},{"$f":"IF(Data!G870=\"\",\"\",Data!G870)","v":""},{"$f":"IF(Data!H870=\"\",\"\",Data!H870)","v":""},{"$f":"IF(Data!I870=\"\",\"\",Data!I870)","v":""},{"$f":"IF(Data!J870=\"\",\"\",Data!J870)","v":""},{"$f":"IF(Data!K870=\"\",\"\",Data!K870)","v":""},{"$f":"IF(Data!L870=\"\",\"\",Data!L870)","v":""},{"$f":"IF(Data!M870=\"\",\"\",Data!M870)","v":""},{"$f":"IF(Data!N870=\"\",\"\",Data!N870)","v":""},{"$f":"IF(Data!O870=\"\",\"\",Data!O870)","v":""},{"$f":"IF(Data!P870=\"\",\"\",Data!P870)","v":""},{"$f":"IF(Data!Q870=\"\",\"\",Data!Q870)","v":""},{"$f":"IF(Data!R870=\"\",\"\",Data!R870)","v":""},{"$f":"IF(Data!S870=\"\",\"\",Data!S870)","v":""},null,null,null,null,870]
[{"$f":"IF(Data!A871=\"\",\"\",Data!A871)","v":""},"",{"$f":"IF(Data!B871=\"\",\"\",Data!B871)","v":""},{"$f":"IF(Data!C871=\"\",\"\",Data!C871)","v":""},{"$f":"IF(Data!D871=\"\",\"\",Data!D871)","v":""},{"$f":"IF(Data!E871=\"\",\"\",Data!E871)","v":""},{"$f":"IF(Data!F871=\"\",\"\",Data!F871)","v":""},{"$f":"IF(Data!G871=\"\",\"\",Data!G871)","v":""},{"$f":"IF(Data!H871=\"\",\"\",Data!H871)","v":""},{"$f":"IF(Data!I871=\"\",\"\",Data!I871)","v":""},{"$f":"IF(Data!J871=\"\",\"\",Data!J871)","v":""},{"$f":"IF(Data!K871=\"\",\"\",Data!K871)","v":""},{"$f":"IF(Data!L871=\"\",\"\",Data!L871)","v":""},{"$f":"IF(Data!M871=\"\",\"\",Data!M871)","v":""},{"$f":"IF(Data!N871=\"\",\"\",Data!N871)","v":""},{"$f":"IF(Data!O871=\"\",\"\",Data!O871)","v":""},{"$f":"IF(Data!P871=\"\",\"\",Data!P871)","v":""},{"$f":"IF(Data!Q871=\"\",\"\",Data!Q871)","v":""},{"$f":"IF(Data!R871=\"\",\"\",Data!R871)","v":""},{"$f":"IF(Data!S871=\"\",\"\",Data!S871)","v":""},null,null,null,null,871]
[{"$f":"IF(Data!A872=\"\",\"\",Data!A872)","v":""},"",{"$f":"IF(Data!B872=\"\",\"\",Data!B872)","v":""},{"$f":"IF(Data!C872=\"\",\"\",Data!C872)","v":""},{"$f":"IF(Data!D872=\"\",\"\",Data!D872)","v":""},{"$f":"IF(Data!E872=\"\",\"\",Data!E872)","v":""},{"$f":"IF(Data!F872=\"\",\"\",Data!F872)","v":""},{"$f":"IF(Data!G872=\"\",\"\",Data!G872)","v":""},{"$f":"IF(Data!H872=\"\",\"\",Data!H872)","v":""},{"$f":"IF(Data!I872=\"\",\"\",Data!I872)","v":""},{"$f":"IF(Data!J872=\"\",\"\",Data!J872)","v":""},{"$f":"IF(Data!K872=\"\",\"\",Data!K872)","v":""},{"$f":"IF(Data!L872=\"\",\"\",Data!L872)","v":""},{"$f":"IF(Data!M872=\"\",\"\",Data!M872)","v":""},{"$f":"IF(Data!N872=\"\",\"\",Data!N872)","v":""},{"$f":"IF(Data!O872=\"\",\"\",Data!O872)","v":""},{"$f":"IF(Data!P872=\"\",\"\",Data!P872)","v":""},{"$f":"IF(Data!Q872=\"\",\"\",Data!Q872)","v":""},{"$f":"IF(Data!R872=\"\",\"\",Data!R872)","v":""},{"$f":"IF(Data!S872=\"\",\"\",Data!S872)","v":""},null,null,null,null,872]
[{"$f":"IF(Data!A873=\"\",\"\",Data!A873)","v":""},"",{"$f":"IF(Data!B873=\"\",\"\",Data!B873)","v":""},{"$f":"IF(Data!C873=\"\",\"\",Data!C873)","v":""},{"$f":"IF(Data!D873=\"\",\"\",Data!D873)","v":""},{"$f":"IF(Data!E873=\"\",\"\",Data!E873)","v":""},{"$f":"IF(Data!F873=\"\",\"\",Data!F873)","v":""},{"$f":"IF(Data!G873=\"\",\"\",Data!G873)","v":""},{"$f":"IF(Data!H873=\"\",\"\",Data!H873)","v":""},{"$f":"IF(Data!I873=\"\",\"\",Data!I873)","v":""},{"$f":"IF(Data!J873=\"\",\"\",Data!J873)","v":""},{"$f":"IF(Data!K873=\"\",\"\",Data!K873)","v":""},{"$f":"IF(Data!L873=\"\",\"\",Data!L873)","v":""},{"$f":"IF(Data!M873=\"\",\"\",Data!M873)","v":""},{"$f":"IF(Data!N873=\"\",\"\",Data!N873)","v":""},{"$f":"IF(Data!O873=\"\",\"\",Data!O873)","v":""},{"$f":"IF(Data!P873=\"\",\"\",Data!P873)","v":""},{"$f":"IF(Data!Q873=\"\",\"\",Data!Q873)","v":""},{"$f":"IF(Data!R873=\"\",\"\",Data!R873)","v":""},{"$f":"IF(Data!S873=\"\",\"\",Data!S873)","v":""},null,null,null,null,873]
[{"$f":"IF(Data!A874=\"\",\"\",Data!A874)","v":""},"",{"$f":"IF(Data!B874=\"\",\"\",Data!B874)","v":""},{"$f":"IF(Data!C874=\"\",\"\",Data!C874)","v":""},{"$f":"IF(Data!D874=\"\",\"\",Data!D874)","v":""},{"$f":"IF(Data!E874=\"\",\"\",Data!E874)","v":""},{"$f":"IF(Data!F874=\"\",\"\",Data!F874)","v":""},{"$f":"IF(Data!G874=\"\",\"\",Data!G874)","v":""},{"$f":"IF(Data!H874=\"\",\"\",Data!H874)","v":""},{"$f":"IF(Data!I874=\"\",\"\",Data!I874)","v":""},{"$f":"IF(Data!J874=\"\",\"\",Data!J874)","v":""},{"$f":"IF(Data!K874=\"\",\"\",Data!K874)","v":""},{"$f":"IF(Data!L874=\"\",\"\",Data!L874)","v":""},{"$f":"IF(Data!M874=\"\",\"\",Data!M874)","v":""},{"$f":"IF(Data!N874=\"\",\"\",Data!N874)","v":""},{"$f":"IF(Data!O874=\"\",\"\",Data!O874)","v":""},{"$f":"IF(Data!P874=\"\",\"\",Data!P874)","v":""},{"$f":"IF(Data!Q874=\"\",\"\",Data!Q874)","v":""},{"$f":"IF(Data!R874=\"\",\"\",Data!R874)","v":""},{"$f":"IF(Data!S874=\"\",\"\",Data!S874)","v":""},null,null,null,null,874]
[{"$f":"IF(Data!A875=\"\",\"\",Data!A875)","v":""},"",{"$f":"IF(Data!B875=\"\",\"\",Data!B875)","v":""},{"$f":"IF(Data!C875=\"\",\"\",Data!C875)","v":""},{"$f":"IF(Data!D875=\"\",\"\",Data!D875)","v":""},{"$f":"IF(Data!E875=\"\",\"\",Data!E875)","v":""},{"$f":"IF(Data!F875=\"\",\"\",Data!F875)","v":""},{"$f":"IF(Data!G875=\"\",\"\",Data!G875)","v":""},{"$f":"IF(Data!H875=\"\",\"\",Data!H875)","v":""},{"$f":"IF(Data!I875=\"\",\"\",Data!I875)","v":""},{"$f":"IF(Data!J875=\"\",\"\",Data!J875)","v":""},{"$f":"IF(Data!K875=\"\",\"\",Data!K875)","v":""},{"$f":"IF(Data!L875=\"\",\"\",Data!L875)","v":""},{"$f":"IF(Data!M875=\"\",\"\",Data!M875)","v":""},{"$f":"IF(Data!N875=\"\",\"\",Data!N875)","v":""},{"$f":"IF(Data!O875=\"\",\"\",Data!O875)","v":""},{"$f":"IF(Data!P875=\"\",\"\",Data!P875)","v":""},{"$f":"IF(Data!Q875=\"\",\"\",Data!Q875)","v":""},{"$f":"IF(Data!R875=\"\",\"\",Data!R875)","v":""},{"$f":"IF(Data!S875=\"\",\"\",Data!S875)","v":""},null,null,null,null,875]
[{"$f":"IF(Data!A876=\"\",\"\",Data!A876)","v":""},"",{"$f":"IF(Data!B876=\"\",\"\",Data!B876)","v":""},{"$f":"IF(Data!C876=\"\",\"\",Data!C876)","v":""},{"$f":"IF(Data!D876=\"\",\"\",Data!D876)","v":""},{"$f":"IF(Data!E876=\"\",\"\",Data!E876)","v":""},{"$f":"IF(Data!F876=\"\",\"\",Data!F876)","v":""},{"$f":"IF(Data!G876=\"\",\"\",Data!G876)","v":""},{"$f":"IF(Data!H876=\"\",\"\",Data!H876)","v":""},{"$f":"IF(Data!I876=\"\",\"\",Data!I876)","v":""},{"$f":"IF(Data!J876=\"\",\"\",Data!J876)","v":""},{"$f":"IF(Data!K876=\"\",\"\",Data!K876)","v":""},{"$f":"IF(Data!L876=\"\",\"\",Data!L876)","v":""},{"$f":"IF(Data!M876=\"\",\"\",Data!M876)","v":""},{"$f":"IF(Data!N876=\"\",\"\",Data!N876)","v":""},{"$f":"IF(Data!O876=\"\",\"\",Data!O876)","v":""},{"$f":"IF(Data!P876=\"\",\"\",Data!P876)","v":""},{"$f":"IF(Data!Q876=\"\",\"\",Data!Q876)","v":""},{"$f":"IF(Data!R876=\"\",\"\",Data!R876)","v":""},{"$f":"IF(Data!S876=\"\",\"\",Data!S876)","v":""},null,null,null,null,876]
[{"$f":"IF(Data!A877=\"\",\"\",Data!A877)","v":""},"",{"$f":"IF(Data!B877=\"\",\"\",Data!B877)","v":""},{"$f":"IF(Data!C877=\"\",\"\",Data!C877)","v":""},{"$f":"IF(Data!D877=\"\",\"\",Data!D877)","v":""},{"$f":"IF(Data!E877=\"\",\"\",Data!E877)","v":""},{"$f":"IF(Data!F877=\"\",\"\",Data!F877)","v":""},{"$f":"IF(Data!G877=\"\",\"\",Data!G877)","v":""},{"$f":"IF(Data!H877=\"\",\"\",Data!H877)","v":""},{"$f":"IF(Data!I877=\"\",\"\",Data!I877)","v":""},{"$f":"IF(Data!J877=\"\",\"\",Data!J877)","v":""},{"$f":"IF(Data!K877=\"\",\"\",Data!K877)","v":""},{"$f":"IF(Data!L877=\"\",\"\",Data!L877)","v":""},{"$f":"IF(Data!M877=\"\",\"\",Data!M877)","v":""},{"$f":"IF(Data!N877=\"\",\"\",Data!N877)","v":""},{"$f":"IF(Data!O877=\"\",\"\",Data!O877)","v":""},{"$f":"IF(Data!P877=\"\",\"\",Data!P877)","v":""},{"$f":"IF(Data!Q877=\"\",\"\",Data!Q877)","v":""},{"$f":"IF(Data!R877=\"\",\"\",Data!R877)","v":""},{"$f":"IF(Data!S877=\"\",\"\",Data!S877)","v":""},null,null,null,null,877]
[{"$f":"IF(Data!A878=\"\",\"\",Data!A878)","v":""},"",{"$f":"IF(Data!B878=\"\",\"\",Data!B878)","v":""},{"$f":"IF(Data!C878=\"\",\"\",Data!C878)","v":""},{"$f":"IF(Data!D878=\"\",\"\",Data!D878)","v":""},{"$f":"IF(Data!E878=\"\",\"\",Data!E878)","v":""},{"$f":"IF(Data!F878=\"\",\"\",Data!F878)","v":""},{"$f":"IF(Data!G878=\"\",\"\",Data!G878)","v":""},{"$f":"IF(Data!H878=\"\",\"\",Data!H878)","v":""},{"$f":"IF(Data!I878=\"\",\"\",Data!I878)","v":""},{"$f":"IF(Data!J878=\"\",\"\",Data!J878)","v":""},{"$f":"IF(Data!K878=\"\",\"\",Data!K878)","v":""},{"$f":"IF(Data!L878=\"\",\"\",Data!L878)","v":""},{"$f":"IF(Data!M878=\"\",\"\",Data!M878)","v":""},{"$f":"IF(Data!N878=\"\",\"\",Data!N878)","v":""},{"$f":"IF(Data!O878=\"\",\"\",Data!O878)","v":""},{"$f":"IF(Data!P878=\"\",\"\",Data!P878)","v":""},{"$f":"IF(Data!Q878=\"\",\"\",Data!Q878)","v":""},{"$f":"IF(Data!R878=\"\",\"\",Data!R878)","v":""},{"$f":"IF(Data!S878=\"\",\"\",Data!S878)","v":""},null,null,null,null,878]
[{"$f":"IF(Data!A879=\"\",\"\",Data!A879)","v":""},"",{"$f":"IF(Data!B879=\"\",\"\",Data!B879)","v":""},{"$f":"IF(Data!C879=\"\",\"\",Data!C879)","v":""},{"$f":"IF(Data!D879=\"\",\"\",Data!D879)","v":""},{"$f":"IF(Data!E879=\"\",\"\",Data!E879)","v":""},{"$f":"IF(Data!F879=\"\",\"\",Data!F879)","v":""},{"$f":"IF(Data!G879=\"\",\"\",Data!G879)","v":""},{"$f":"IF(Data!H879=\"\",\"\",Data!H879)","v":""},{"$f":"IF(Data!I879=\"\",\"\",Data!I879)","v":""},{"$f":"IF(Data!J879=\"\",\"\",Data!J879)","v":""},{"$f":"IF(Data!K879=\"\",\"\",Data!K879)","v":""},{"$f":"IF(Data!L879=\"\",\"\",Data!L879)","v":""},{"$f":"IF(Data!M879=\"\",\"\",Data!M879)","v":""},{"$f":"IF(Data!N879=\"\",\"\",Data!N879)","v":""},{"$f":"IF(Data!O879=\"\",\"\",Data!O879)","v":""},{"$f":"IF(Data!P879=\"\",\"\",Data!P879)","v":""},{"$f":"IF(Data!Q879=\"\",\"\",Data!Q879)","v":""},{"$f":"IF(Data!R879=\"\",\"\",Data!R879)","v":""},{"$f":"IF(Data!S879=\"\",\"\",Data!S879)","v":""},null,null,null,null,879]
[{"$f":"IF(Data!A880=\"\",\"\",Data!A880)","v":""},"",{"$f":"IF(Data!B880=\"\",\"\",Data!B880)","v":""},{"$f":"IF(Data!C880=\"\",\"\",Data!C880)","v":""},{"$f":"IF(Data!D880=\"\",\"\",Data!D880)","v":""},{"$f":"IF(Data!E880=\"\",\"\",Data!E880)","v":""},{"$f":"IF(Data!F880=\"\",\"\",Data!F880)","v":""},{"$f":"IF(Data!G880=\"\",\"\",Data!G880)","v":""},{"$f":"IF(Data!H880=\"\",\"\",Data!H880)","v":""},{"$f":"IF(Data!I880=\"\",\"\",Data!I880)","v":""},{"$f":"IF(Data!J880=\"\",\"\",Data!J880)","v":""},{"$f":"IF(Data!K880=\"\",\"\",Data!K880)","v":""},{"$f":"IF(Data!L880=\"\",\"\",Data!L880)","v":""},{"$f":"IF(Data!M880=\"\",\"\",Data!M880)","v":""},{"$f":"IF(Data!N880=\"\",\"\",Data!N880)","v":""},{"$f":"IF(Data!O880=\"\",\"\",Data!O880)","v":""},{"$f":"IF(Data!P880=\"\",\"\",Data!P880)","v":""},{"$f":"IF(Data!Q880=\"\",\"\",Data!Q880)","v":""},{"$f":"IF(Data!R880=\"\",\"\",Data!R880)","v":""},{"$f":"IF(Data!S880=\"\",\"\",Data!S880)","v":""},null,null,null,null,880]
[{"$f":"IF(Data!A881=\"\",\"\",Data!A881)","v":""},"",{"$f":"IF(Data!B881=\"\",\"\",Data!B881)","v":""},{"$f":"IF(Data!C881=\"\",\"\",Data!C881)","v":""},{"$f":"IF(Data!D881=\"\",\"\",Data!D881)","v":""},{"$f":"IF(Data!E881=\"\",\"\",Data!E881)","v":""},{"$f":"IF(Data!F881=\"\",\"\",Data!F881)","v":""},{"$f":"IF(Data!G881=\"\",\"\",Data!G881)","v":""},{"$f":"IF(Data!H881=\"\",\"\",Data!H881)","v":""},{"$f":"IF(Data!I881=\"\",\"\",Data!I881)","v":""},{"$f":"IF(Data!J881=\"\",\"\",Data!J881)","v":""},{"$f":"IF(Data!K881=\"\",\"\",Data!K881)","v":""},{"$f":"IF(Data!L881=\"\",\"\",Data!L881)","v":""},{"$f":"IF(Data!M881=\"\",\"\",Data!M881)","v":""},{"$f":"IF(Data!N881=\"\",\"\",Data!N881)","v":""},{"$f":"IF(Data!O881=\"\",\"\",Data!O881)","v":""},{"$f":"IF(Data!P881=\"\",\"\",Data!P881)","v":""},{"$f":"IF(Data!Q881=\"\",\"\",Data!Q881)","v":""},{"$f":"IF(Data!R881=\"\",\"\",Data!R881)","v":""},{"$f":"IF(Data!S881=\"\",\"\",Data!S881)","v":""},null,null,null,null,881]
[{"$f":"IF(Data!A882=\"\",\"\",Data!A882)","v":""},"",{"$f":"IF(Data!B882=\"\",\"\",Data!B882)","v":""},{"$f":"IF(Data!C882=\"\",\"\",Data!C882)","v":""},{"$f":"IF(Data!D882=\"\",\"\",Data!D882)","v":""},{"$f":"IF(Data!E882=\"\",\"\",Data!E882)","v":""},{"$f":"IF(Data!F882=\"\",\"\",Data!F882)","v":""},{"$f":"IF(Data!G882=\"\",\"\",Data!G882)","v":""},{"$f":"IF(Data!H882=\"\",\"\",Data!H882)","v":""},{"$f":"IF(Data!I882=\"\",\"\",Data!I882)","v":""},{"$f":"IF(Data!J882=\"\",\"\",Data!J882)","v":""},{"$f":"IF(Data!K882=\"\",\"\",Data!K882)","v":""},{"$f":"IF(Data!L882=\"\",\"\",Data!L882)","v":""},{"$f":"IF(Data!M882=\"\",\"\",Data!M882)","v":""},{"$f":"IF(Data!N882=\"\",\"\",Data!N882)","v":""},{"$f":"IF(Data!O882=\"\",\"\",Data!O882)","v":""},{"$f":"IF(Data!P882=\"\",\"\",Data!P882)","v":""},{"$f":"IF(Data!Q882=\"\",\"\",Data!Q882)","v":""},{"$f":"IF(Data!R882=\"\",\"\",Data!R882)","v":""},{"$f":"IF(Data!S882=\"\",\"\",Data!S882)","v":""},null,null,null,null,882]
[{"$f":"IF(Data!A883=\"\",\"\",Data!A883)","v":""},"",{"$f":"IF(Data!B883=\"\",\"\",Data!B883)","v":""},{"$f":"IF(Data!C883=\"\",\"\",Data!C883)","v":""},{"$f":"IF(Data!D883=\"\",\"\",Data!D883)","v":""},{"$f":"IF(Data!E883=\"\",\"\",Data!E883)","v":""},{"$f":"IF(Data!F883=\"\",\"\",Data!F883)","v":""},{"$f":"IF(Data!G883=\"\",\"\",Data!G883)","v":""},{"$f":"IF(Data!H883=\"\",\"\",Data!H883)","v":""},{"$f":"IF(Data!I883=\"\",\"\",Data!I883)","v":""},{"$f":"IF(Data!J883=\"\",\"\",Data!J883)","v":""},{"$f":"IF(Data!K883=\"\",\"\",Data!K883)","v":""},{"$f":"IF(Data!L883=\"\",\"\",Data!L883)","v":""},{"$f":"IF(Data!M883=\"\",\"\",Data!M883)","v":""},{"$f":"IF(Data!N883=\"\",\"\",Data!N883)","v":""},{"$f":"IF(Data!O883=\"\",\"\",Data!O883)","v":""},{"$f":"IF(Data!P883=\"\",\"\",Data!P883)","v":""},{"$f":"IF(Data!Q883=\"\",\"\",Data!Q883)","v":""},{"$f":"IF(Data!R883=\"\",\"\",Data!R883)","v":""},{"$f":"IF(Data!S883=\"\",\"\",Data!S883)","v":""},null,null,null,null,883]
[{"$f":"IF(Data!A884=\"\",\"\",Data!A884)","v":""},"",{"$f":"IF(Data!B884=\"\",\"\",Data!B884)","v":""},{"$f":"IF(Data!C884=\"\",\"\",Data!C884)","v":""},{"$f":"IF(Data!D884=\"\",\"\",Data!D884)","v":""},{"$f":"IF(Data!E884=\"\",\"\",Data!E884)","v":""},{"$f":"IF(Data!F884=\"\",\"\",Data!F884)","v":""},{"$f":"IF(Data!G884=\"\",\"\",Data!G884)","v":""},{"$f":"IF(Data!H884=\"\",\"\",Data!H884)","v":""},{"$f":"IF(Data!I884=\"\",\"\",Data!I884)","v":""},{"$f":"IF(Data!J884=\"\",\"\",Data!J884)","v":""},{"$f":"IF(Data!K884=\"\",\"\",Data!K884)","v":""},{"$f":"IF(Data!L884=\"\",\"\",Data!L884)","v":""},{"$f":"IF(Data!M884=\"\",\"\",Data!M884)","v":""},{"$f":"IF(Data!N884=\"\",\"\",Data!N884)","v":""},{"$f":"IF(Data!O884=\"\",\"\",Data!O884)","v":""},{"$f":"IF(Data!P884=\"\",\"\",Data!P884)","v":""},{"$f":"IF(Data!Q884=\"\",\"\",Data!Q884)","v":""},{"$f":"IF(Data!R884=\"\",\"\",Data!R884)","v":""},{"$f":"IF(Data!S884=\"\",\"\",Data!S884)","v":""},null,null,null,null,884]
[{"$f":"IF(Data!A885=\"\",\"\",Data!A885)","v":""},"",{"$f":"IF(Data!B885=\"\",\"\",Data!B885)","v":""},{"$f":"IF(Data!C885=\"\",\"\",Data!C885)","v":""},{"$f":"IF(Data!D885=\"\",\"\",Data!D885)","v":""},{"$f":"IF(Data!E885=\"\",\"\",Data!E885)","v":""},{"$f":"IF(Data!F885=\"\",\"\",Data!F885)","v":""},{"$f":"IF(Data!G885=\"\",\"\",Data!G885)","v":""},{"$f":"IF(Data!H885=\"\",\"\",Data!H885)","v":""},{"$f":"IF(Data!I885=\"\",\"\",Data!I885)","v":""},{"$f":"IF(Data!J885=\"\",\"\",Data!J885)","v":""},{"$f":"IF(Data!K885=\"\",\"\",Data!K885)","v":""},{"$f":"IF(Data!L885=\"\",\"\",Data!L885)","v":""},{"$f":"IF(Data!M885=\"\",\"\",Data!M885)","v":""},{"$f":"IF(Data!N885=\"\",\"\",Data!N885)","v":""},{"$f":"IF(Data!O885=\"\",\"\",Data!O885)","v":""},{"$f":"IF(Data!P885=\"\",\"\",Data!P885)","v":""},{"$f":"IF(Data!Q885=\"\",\"\",Data!Q885)","v":""},{"$f":"IF(Data!R885=\"\",\"\",Data!R885)","v":""},{"$f":"IF(Data!S885=\"\",\"\",Data!S885)","v":""},null,null,null,null,885]
[{"$f":"IF(Data!A886=\"\",\"\",Data!A886)","v":""},"",{"$f":"IF(Data!B886=\"\",\"\",Data!B886)","v":""},{"$f":"IF(Data!C886=\"\",\"\",Data!C886)","v":""},{"$f":"IF(Data!D886=\"\",\"\",Data!D886)","v":""},{"$f":"IF(Data!E886=\"\",\"\",Data!E886)","v":""},{"$f":"IF(Data!F886=\"\",\"\",Data!F886)","v":""},{"$f":"IF(Data!G886=\"\",\"\",Data!G886)","v":""},{"$f":"IF(Data!H886=\"\",\"\",Data!H886)","v":""},{"$f":"IF(Data!I886=\"\",\"\",Data!I886)","v":""},{"$f":"IF(Data!J886=\"\",\"\",Data!J886)","v":""},{"$f":"IF(Data!K886=\"\",\"\",Data!K886)","v":""},{"$f":"IF(Data!L886=\"\",\"\",Data!L886)","v":""},{"$f":"IF(Data!M886=\"\",\"\",Data!M886)","v":""},{"$f":"IF(Data!N886=\"\",\"\",Data!N886)","v":""},{"$f":"IF(Data!O886=\"\",\"\",Data!O886)","v":""},{"$f":"IF(Data!P886=\"\",\"\",Data!P886)","v":""},{"$f":"IF(Data!Q886=\"\",\"\",Data!Q886)","v":""},{"$f":"IF(Data!R886=\"\",\"\",Data!R886)","v":""},{"$f":"IF(Data!S886=\"\",\"\",Data!S886)","v":""},null,null,null,null,886]
[{"$f":"IF(Data!A887=\"\",\"\",Data!A887)","v":""},"",{"$f":"IF(Data!B887=\"\",\"\",Data!B887)","v":""},{"$f":"IF(Data!C887=\"\",\"\",Data!C887)","v":""},{"$f":"IF(Data!D887=\"\",\"\",Data!D887)","v":""},{"$f":"IF(Data!E887=\"\",\"\",Data!E887)","v":""},{"$f":"IF(Data!F887=\"\",\"\",Data!F887)","v":""},{"$f":"IF(Data!G887=\"\",\"\",Data!G887)","v":""},{"$f":"IF(Data!H887=\"\",\"\",Data!H887)","v":""},{"$f":"IF(Data!I887=\"\",\"\",Data!I887)","v":""},{"$f":"IF(Data!J887=\"\",\"\",Data!J887)","v":""},{"$f":"IF(Data!K887=\"\",\"\",Data!K887)","v":""},{"$f":"IF(Data!L887=\"\",\"\",Data!L887)","v":""},{"$f":"IF(Data!M887=\"\",\"\",Data!M887)","v":""},{"$f":"IF(Data!N887=\"\",\"\",Data!N887)","v":""},{"$f":"IF(Data!O887=\"\",\"\",Data!O887)","v":""},{"$f":"IF(Data!P887=\"\",\"\",Data!P887)","v":""},{"$f":"IF(Data!Q887=\"\",\"\",Data!Q887)","v":""},{"$f":"IF(Data!R887=\"\",\"\",Data!R887)","v":""},{"$f":"IF(Data!S887=\"\",\"\",Data!S887)","v":""},null,null,null,null,887]
[{"$f":"IF(Data!A888=\"\",\"\",Data!A888)","v":""},"",{"$f":"IF(Data!B888=\"\",\"\",Data!B888)","v":""},{"$f":"IF(Data!C888=\"\",\"\",Data!C888)","v":""},{"$f":"IF(Data!D888=\"\",\"\",Data!D888)","v":""},{"$f":"IF(Data!E888=\"\",\"\",Data!E888)","v":""},{"$f":"IF(Data!F888=\"\",\"\",Data!F888)","v":""},{"$f":"IF(Data!G888=\"\",\"\",Data!G888)","v":""},{"$f":"IF(Data!H888=\"\",\"\",Data!H888)","v":""},{"$f":"IF(Data!I888=\"\",\"\",Data!I888)","v":""},{"$f":"IF(Data!J888=\"\",\"\",Data!J888)","v":""},{"$f":"IF(Data!K888=\"\",\"\",Data!K888)","v":""},{"$f":"IF(Data!L888=\"\",\"\",Data!L888)","v":""},{"$f":"IF(Data!M888=\"\",\"\",Data!M888)","v":""},{"$f":"IF(Data!N888=\"\",\"\",Data!N888)","v":""},{"$f":"IF(Data!O888=\"\",\"\",Data!O888)","v":""},{"$f":"IF(Data!P888=\"\",\"\",Data!P888)","v":""},{"$f":"IF(Data!Q888=\"\",\"\",Data!Q888)","v":""},{"$f":"IF(Data!R888=\"\",\"\",Data!R888)","v":""},{"$f":"IF(Data!S888=\"\",\"\",Data!S888)","v":""},null,null,null,null,888]
[{"$f":"IF(Data!A889=\"\",\"\",Data!A889)","v":""},"",{"$f":"IF(Data!B889=\"\",\"\",Data!B889)","v":""},{"$f":"IF(Data!C889=\"\",\"\",Data!C889)","v":""},{"$f":"IF(Data!D889=\"\",\"\",Data!D889)","v":""},{"$f":"IF(Data!E889=\"\",\"\",Data!E889)","v":""},{"$f":"IF(Data!F889=\"\",\"\",Data!F889)","v":""},{"$f":"IF(Data!G889=\"\",\"\",Data!G889)","v":""},{"$f":"IF(Data!H889=\"\",\"\",Data!H889)","v":""},{"$f":"IF(Data!I889=\"\",\"\",Data!I889)","v":""},{"$f":"IF(Data!J889=\"\",\"\",Data!J889)","v":""},{"$f":"IF(Data!K889=\"\",\"\",Data!K889)","v":""},{"$f":"IF(Data!L889=\"\",\"\",Data!L889)","v":""},{"$f":"IF(Data!M889=\"\",\"\",Data!M889)","v":""},{"$f":"IF(Data!N889=\"\",\"\",Data!N889)","v":""},{"$f":"IF(Data!O889=\"\",\"\",Data!O889)","v":""},{"$f":"IF(Data!P889=\"\",\"\",Data!P889)","v":""},{"$f":"IF(Data!Q889=\"\",\"\",Data!Q889)","v":""},{"$f":"IF(Data!R889=\"\",\"\",Data!R889)","v":""},{"$f":"IF(Data!S889=\"\",\"\",Data!S889)","v":""},null,null,null,null,889]
[{"$f":"IF(Data!A890=\"\",\"\",Data!A890)","v":""},"",{"$f":"IF(Data!B890=\"\",\"\",Data!B890)","v":""},{"$f":"IF(Data!C890=\"\",\"\",Data!C890)","v":""},{"$f":"IF(Data!D890=\"\",\"\",Data!D890)","v":""},{"$f":"IF(Data!E890=\"\",\"\",Data!E890)","v":""},{"$f":"IF(Data!F890=\"\",\"\",Data!F890)","v":""},{"$f":"IF(Data!G890=\"\",\"\",Data!G890)","v":""},{"$f":"IF(Data!H890=\"\",\"\",Data!H890)","v":""},{"$f":"IF(Data!I890=\"\",\"\",Data!I890)","v":""},{"$f":"IF(Data!J890=\"\",\"\",Data!J890)","v":""},{"$f":"IF(Data!K890=\"\",\"\",Data!K890)","v":""},{"$f":"IF(Data!L890=\"\",\"\",Data!L890)","v":""},{"$f":"IF(Data!M890=\"\",\"\",Data!M890)","v":""},{"$f":"IF(Data!N890=\"\",\"\",Data!N890)","v":""},{"$f":"IF(Data!O890=\"\",\"\",Data!O890)","v":""},{"$f":"IF(Data!P890=\"\",\"\",Data!P890)","v":""},{"$f":"IF(Data!Q890=\"\",\"\",Data!Q890)","v":""},{"$f":"IF(Data!R890=\"\",\"\",Data!R890)","v":""},{"$f":"IF(Data!S890=\"\",\"\",Data!S890)","v":""},null,null,null,null,890]
[{"$f":"IF(Data!A891=\"\",\"\",Data!A891)","v":""},"",{"$f":"IF(Data!B891=\"\",\"\",Data!B891)","v":""},{"$f":"IF(Data!C891=\"\",\"\",Data!C891)","v":""},{"$f":"IF(Data!D891=\"\",\"\",Data!D891)","v":""},{"$f":"IF(Data!E891=\"\",\"\",Data!E891)","v":""},{"$f":"IF(Data!F891=\"\",\"\",Data!F891)","v":""},{"$f":"IF(Data!G891=\"\",\"\",Data!G891)","v":""},{"$f":"IF(Data!H891=\"\",\"\",Data!H891)","v":""},{"$f":"IF(Data!I891=\"\",\"\",Data!I891)","v":""},{"$f":"IF(Data!J891=\"\",\"\",Data!J891)","v":""},{"$f":"IF(Data!K891=\"\",\"\",Data!K891)","v":""},{"$f":"IF(Data!L891=\"\",\"\",Data!L891)","v":""},{"$f":"IF(Data!M891=\"\",\"\",Data!M891)","v":""},{"$f":"IF(Data!N891=\"\",\"\",Data!N891)","v":""},{"$f":"IF(Data!O891=\"\",\"\",Data!O891)","v":""},{"$f":"IF(Data!P891=\"\",\"\",Data!P891)","v":""},{"$f":"IF(Data!Q891=\"\",\"\",Data!Q891)","v":""},{"$f":"IF(Data!R891=\"\",\"\",Data!R891)","v":""},{"$f":"IF(Data!S891=\"\",\"\",Data!S891)","v":""},null,null,null,null,891]
[{"$f":"IF(Data!A892=\"\",\"\",Data!A892)","v":""},"",{"$f":"IF(Data!B892=\"\",\"\",Data!B892)","v":""},{"$f":"IF(Data!C892=\"\",\"\",Data!C892)","v":""},{"$f":"IF(Data!D892=\"\",\"\",Data!D892)","v":""},{"$f":"IF(Data!E892=\"\",\"\",Data!E892)","v":""},{"$f":"IF(Data!F892=\"\",\"\",Data!F892)","v":""},{"$f":"IF(Data!G892=\"\",\"\",Data!G892)","v":""},{"$f":"IF(Data!H892=\"\",\"\",Data!H892)","v":""},{"$f":"IF(Data!I892=\"\",\"\",Data!I892)","v":""},{"$f":"IF(Data!J892=\"\",\"\",Data!J892)","v":""},{"$f":"IF(Data!K892=\"\",\"\",Data!K892)","v":""},{"$f":"IF(Data!L892=\"\",\"\",Data!L892)","v":""},{"$f":"IF(Data!M892=\"\",\"\",Data!M892)","v":""},{"$f":"IF(Data!N892=\"\",\"\",Data!N892)","v":""},{"$f":"IF(Data!O892=\"\",\"\",Data!O892)","v":""},{"$f":"IF(Data!P892=\"\",\"\",Data!P892)","v":""},{"$f":"IF(Data!Q892=\"\",\"\",Data!Q892)","v":""},{"$f":"IF(Data!R892=\"\",\"\",Data!R892)","v":""},{"$f":"IF(Data!S892=\"\",\"\",Data!S892)","v":""},null,null,null,null,892]
[{"$f":"IF(Data!A893=\"\",\"\",Data!A893)","v":""},"",{"$f":"IF(Data!B893=\"\",\"\",Data!B893)","v":""},{"$f":"IF(Data!C893=\"\",\"\",Data!C893)","v":""},{"$f":"IF(Data!D893=\"\",\"\",Data!D893)","v":""},{"$f":"IF(Data!E893=\"\",\"\",Data!E893)","v":""},{"$f":"IF(Data!F893=\"\",\"\",Data!F893)","v":""},{"$f":"IF(Data!G893=\"\",\"\",Data!G893)","v":""},{"$f":"IF(Data!H893=\"\",\"\",Data!H893)","v":""},{"$f":"IF(Data!I893=\"\",\"\",Data!I893)","v":""},{"$f":"IF(Data!J893=\"\",\"\",Data!J893)","v":""},{"$f":"IF(Data!K893=\"\",\"\",Data!K893)","v":""},{"$f":"IF(Data!L893=\"\",\"\",Data!L893)","v":""},{"$f":"IF(Data!M893=\"\",\"\",Data!M893)","v":""},{"$f":"IF(Data!N893=\"\",\"\",Data!N893)","v":""},{"$f":"IF(Data!O893=\"\",\"\",Data!O893)","v":""},{"$f":"IF(Data!P893=\"\",\"\",Data!P893)","v":""},{"$f":"IF(Data!Q893=\"\",\"\",Data!Q893)","v":""},{"$f":"IF(Data!R893=\"\",\"\",Data!R893)","v":""},{"$f":"IF(Data!S893=\"\",\"\",Data!S893)","v":""},null,null,null,null,893]
[{"$f":"IF(Data!A894=\"\",\"\",Data!A894)","v":""},"",{"$f":"IF(Data!B894=\"\",\"\",Data!B894)","v":""},{"$f":"IF(Data!C894=\"\",\"\",Data!C894)","v":""},{"$f":"IF(Data!D894=\"\",\"\",Data!D894)","v":""},{"$f":"IF(Data!E894=\"\",\"\",Data!E894)","v":""},{"$f":"IF(Data!F894=\"\",\"\",Data!F894)","v":""},{"$f":"IF(Data!G894=\"\",\"\",Data!G894)","v":""},{"$f":"IF(Data!H894=\"\",\"\",Data!H894)","v":""},{"$f":"IF(Data!I894=\"\",\"\",Data!I894)","v":""},{"$f":"IF(Data!J894=\"\",\"\",Data!J894)","v":""},{"$f":"IF(Data!K894=\"\",\"\",Data!K894)","v":""},{"$f":"IF(Data!L894=\"\",\"\",Data!L894)","v":""},{"$f":"IF(Data!M894=\"\",\"\",Data!M894)","v":""},{"$f":"IF(Data!N894=\"\",\"\",Data!N894)","v":""},{"$f":"IF(Data!O894=\"\",\"\",Data!O894)","v":""},{"$f":"IF(Data!P894=\"\",\"\",Data!P894)","v":""},{"$f":"IF(Data!Q894=\"\",\"\",Data!Q894)","v":""},{"$f":"IF(Data!R894=\"\",\"\",Data!R894)","v":""},{"$f":"IF(Data!S894=\"\",\"\",Data!S894)","v":""},null,null,null,null,894]
[{"$f":"IF(Data!A895=\"\",\"\",Data!A895)","v":""},"",{"$f":"IF(Data!B895=\"\",\"\",Data!B895)","v":""},{"$f":"IF(Data!C895=\"\",\"\",Data!C895)","v":""},{"$f":"IF(Data!D895=\"\",\"\",Data!D895)","v":""},{"$f":"IF(Data!E895=\"\",\"\",Data!E895)","v":""},{"$f":"IF(Data!F895=\"\",\"\",Data!F895)","v":""},{"$f":"IF(Data!G895=\"\",\"\",Data!G895)","v":""},{"$f":"IF(Data!H895=\"\",\"\",Data!H895)","v":""},{"$f":"IF(Data!I895=\"\",\"\",Data!I895)","v":""},{"$f":"IF(Data!J895=\"\",\"\",Data!J895)","v":""},{"$f":"IF(Data!K895=\"\",\"\",Data!K895)","v":""},{"$f":"IF(Data!L895=\"\",\"\",Data!L895)","v":""},{"$f":"IF(Data!M895=\"\",\"\",Data!M895)","v":""},{"$f":"IF(Data!N895=\"\",\"\",Data!N895)","v":""},{"$f":"IF(Data!O895=\"\",\"\",Data!O895)","v":""},{"$f":"IF(Data!P895=\"\",\"\",Data!P895)","v":""},{"$f":"IF(Data!Q895=\"\",\"\",Data!Q895)","v":""},{"$f":"IF(Data!R895=\"\",\"\",Data!R895)","v":""},{"$f":"IF(Data!S895=\"\",\"\",Data!S895)","v":""},null,null,null,null,895]
[{"$f":"IF(Data!A896=\"\",\"\",Data!A896)","v":""},"",{"$f":"IF(Data!B896=\"\",\"\",Data!B896)","v":""},{"$f":"IF(Data!C896=\"\",\"\",Data!C896)","v":""},{"$f":"IF(Data!D896=\"\",\"\",Data!D896)","v":""},{"$f":"IF(Data!E896=\"\",\"\",Data!E896)","v":""},{"$f":"IF(Data!F896=\"\",\"\",Data!F896)","v":""},{"$f":"IF(Data!G896=\"\",\"\",Data!G896)","v":""},{"$f":"IF(Data!H896=\"\",\"\",Data!H896)","v":""},{"$f":"IF(Data!I896=\"\",\"\",Data!I896)","v":""},{"$f":"IF(Data!J896=\"\",\"\",Data!J896)","v":""},{"$f":"IF(Data!K896=\"\",\"\",Data!K896)","v":""},{"$f":"IF(Data!L896=\"\",\"\",Data!L896)","v":""},{"$f":"IF(Data!M896=\"\",\"\",Data!M896)","v":""},{"$f":"IF(Data!N896=\"\",\"\",Data!N896)","v":""},{"$f":"IF(Data!O896=\"\",\"\",Data!O896)","v":""},{"$f":"IF(Data!P896=\"\",\"\",Data!P896)","v":""},{"$f":"IF(Data!Q896=\"\",\"\",Data!Q896)","v":""},{"$f":"IF(Data!R896=\"\",\"\",Data!R896)","v":""},{"$f":"IF(Data!S896=\"\",\"\",Data!S896)","v":""},null,null,null,null,896]
[{"$f":"IF(Data!A897=\"\",\"\",Data!A897)","v":""},{"$f":"IF(A898=\"\",\"\",Y898)","v":""},{"$f":"IF(Data!B897=\"\",\"\",Data!B897)","v":""},{"$f":"IF(Data!C897=\"\",\"\",Data!C897)","v":""},{"$f":"IF(Data!D897=\"\",\"\",Data!D897)","v":""},{"$f":"IF(Data!E897=\"\",\"\",Data!E897)","v":""},{"$f":"IF(Data!F897=\"\",\"\",Data!F897)","v":""},{"$f":"IF(Data!G897=\"\",\"\",Data!G897)","v":""},{"$f":"IF(Data!H897=\"\",\"\",Data!H897)","v":""},{"$f":"IF(Data!I897=\"\",\"\",Data!I897)","v":""},{"$f":"IF(Data!J897=\"\",\"\",Data!J897)","v":""},{"$f":"IF(Data!K897=\"\",\"\",Data!K897)","v":""},{"$f":"IF(Data!L897=\"\",\"\",Data!L897)","v":""},{"$f":"IF(Data!M897=\"\",\"\",Data!M897)","v":""},{"$f":"IF(Data!N897=\"\",\"\",Data!N897)","v":""},{"$f":"IF(Data!O897=\"\",\"\",Data!O897)","v":""},{"$f":"IF(Data!P897=\"\",\"\",Data!P897)","v":""},{"$f":"IF(Data!Q897=\"\",\"\",Data!Q897)","v":""},{"$f":"IF(Data!R897=\"\",\"\",Data!R897)","v":""},{"$f":"IF(Data!S897=\"\",\"\",Data!S897)","v":""},null,null,null,null,897]
[{"$f":"IF(Data!A898=\"\",\"\",Data!A898)","v":""},"",{"$f":"IF(Data!B898=\"\",\"\",Data!B898)","v":""},{"$f":"IF(Data!C898=\"\",\"\",Data!C898)","v":""},{"$f":"IF(Data!D898=\"\",\"\",Data!D898)","v":""},{"$f":"IF(Data!E898=\"\",\"\",Data!E898)","v":""},{"$f":"IF(Data!F898=\"\",\"\",Data!F898)","v":""},{"$f":"IF(Data!G898=\"\",\"\",Data!G898)","v":""},{"$f":"IF(Data!H898=\"\",\"\",Data!H898)","v":""},{"$f":"IF(Data!I898=\"\",\"\",Data!I898)","v":""},{"$f":"IF(Data!J898=\"\",\"\",Data!J898)","v":""},{"$f":"IF(Data!K898=\"\",\"\",Data!K898)","v":""},{"$f":"IF(Data!L898=\"\",\"\",Data!L898)","v":""},{"$f":"IF(Data!M898=\"\",\"\",Data!M898)","v":""},{"$f":"IF(Data!N898=\"\",\"\",Data!N898)","v":""},{"$f":"IF(Data!O898=\"\",\"\",Data!O898)","v":""},{"$f":"IF(Data!P898=\"\",\"\",Data!P898)","v":""},{"$f":"IF(Data!Q898=\"\",\"\",Data!Q898)","v":""},{"$f":"IF(Data!R898=\"\",\"\",Data!R898)","v":""},{"$f":"IF(Data!S898=\"\",\"\",Data!S898)","v":""},null,null,null,null,898]
[{"$f":"IF(Data!A899=\"\",\"\",Data!A899)","v":""},"",{"$f":"IF(Data!B899=\"\",\"\",Data!B899)","v":""},{"$f":"IF(Data!C899=\"\",\"\",Data!C899)","v":""},{"$f":"IF(Data!D899=\"\",\"\",Data!D899)","v":""},{"$f":"IF(Data!E899=\"\",\"\",Data!E899)","v":""},{"$f":"IF(Data!F899=\"\",\"\",Data!F899)","v":""},{"$f":"IF(Data!G899=\"\",\"\",Data!G899)","v":""},{"$f":"IF(Data!H899=\"\",\"\",Data!H899)","v":""},{"$f":"IF(Data!I899=\"\",\"\",Data!I899)","v":""},{"$f":"IF(Data!J899=\"\",\"\",Data!J899)","v":""},{"$f":"IF(Data!K899=\"\",\"\",Data!K899)","v":""},{"$f":"IF(Data!L899=\"\",\"\",Data!L899)","v":""},{"$f":"IF(Data!M899=\"\",\"\",Data!M899)","v":""},{"$f":"IF(Data!N899=\"\",\"\",Data!N899)","v":""},{"$f":"IF(Data!O899=\"\",\"\",Data!O899)","v":""},{"$f":"IF(Data!P899=\"\",\"\",Data!P899)","v":""},{"$f":"IF(Data!Q899=\"\",\"\",Data!Q899)","v":""},{"$f":"IF(Data!R899=\"\",\"\",Data!R899)","v":""},{"$f":"IF(Data!S899=\"\",\"\",Data!S899)","v":""},null,null,null,null,899]
[{"$f":"IF(Data!A900=\"\",\"\",Data!A900)","v":""},"",{"$f":"IF(Data!B900=\"\",\"\",Data!B900)","v":""},{"$f":"IF(Data!C900=\"\",\"\",Data!C900)","v":""},{"$f":"IF(Data!D900=\"\",\"\",Data!D900)","v":""},{"$f":"IF(Data!E900=\"\",\"\",Data!E900)","v":""},{"$f":"IF(Data!F900=\"\",\"\",Data!F900)","v":""},{"$f":"IF(Data!G900=\"\",\"\",Data!G900)","v":""},{"$f":"IF(Data!H900=\"\",\"\",Data!H900)","v":""},{"$f":"IF(Data!I900=\"\",\"\",Data!I900)","v":""},{"$f":"IF(Data!J900=\"\",\"\",Data!J900)","v":""},{"$f":"IF(Data!K900=\"\",\"\",Data!K900)","v":""},{"$f":"IF(Data!L900=\"\",\"\",Data!L900)","v":""},{"$f":"IF(Data!M900=\"\",\"\",Data!M900)","v":""},{"$f":"IF(Data!N900=\"\",\"\",Data!N900)","v":""},{"$f":"IF(Data!O900=\"\",\"\",Data!O900)","v":""},{"$f":"IF(Data!P900=\"\",\"\",Data!P900)","v":""},{"$f":"IF(Data!Q900=\"\",\"\",Data!Q900)","v":""},{"$f":"IF(Data!R900=\"\",\"\",Data!R900)","v":""},{"$f":"IF(Data!S900=\"\",\"\",Data!S900)","v":""},null,null,null,null,900]
[{"$f":"IF(Data!A901=\"\",\"\",Data!A901)","v":""},"",{"$f":"IF(Data!B901=\"\",\"\",Data!B901)","v":""},{"$f":"IF(Data!C901=\"\",\"\",Data!C901)","v":""},{"$f":"IF(Data!D901=\"\",\"\",Data!D901)","v":""},{"$f":"IF(Data!E901=\"\",\"\",Data!E901)","v":""},{"$f":"IF(Data!F901=\"\",\"\",Data!F901)","v":""},{"$f":"IF(Data!G901=\"\",\"\",Data!G901)","v":""},{"$f":"IF(Data!H901=\"\",\"\",Data!H901)","v":""},{"$f":"IF(Data!I901=\"\",\"\",Data!I901)","v":""},{"$f":"IF(Data!J901=\"\",\"\",Data!J901)","v":""},{"$f":"IF(Data!K901=\"\",\"\",Data!K901)","v":""},{"$f":"IF(Data!L901=\"\",\"\",Data!L901)","v":""},{"$f":"IF(Data!M901=\"\",\"\",Data!M901)","v":""},{"$f":"IF(Data!N901=\"\",\"\",Data!N901)","v":""},{"$f":"IF(Data!O901=\"\",\"\",Data!O901)","v":""},{"$f":"IF(Data!P901=\"\",\"\",Data!P901)","v":""},{"$f":"IF(Data!Q901=\"\",\"\",Data!Q901)","v":""},{"$f":"IF(Data!R901=\"\",\"\",Data!R901)","v":""},{"$f":"IF(Data!S901=\"\",\"\",Data!S901)","v":""},null,null,null,null,901]
[{"$f":"IF(Data!A902=\"\",\"\",Data!A902)","v":""},"",{"$f":"IF(Data!B902=\"\",\"\",Data!B902)","v":""},{"$f":"IF(Data!C902=\"\",\"\",Data!C902)","v":""},{"$f":"IF(Data!D902=\"\",\"\",Data!D902)","v":""},{"$f":"IF(Data!E902=\"\",\"\",Data!E902)","v":""},{"$f":"IF(Data!F902=\"\",\"\",Data!F902)","v":""},{"$f":"IF(Data!G902=\"\",\"\",Data!G902)","v":""},{"$f":"IF(Data!H902=\"\",\"\",Data!H902)","v":""},{"$f":"IF(Data!I902=\"\",\"\",Data!I902)","v":""},{"$f":"IF(Data!J902=\"\",\"\",Data!J902)","v":""},{"$f":"IF(Data!K902=\"\",\"\",Data!K902)","v":""},{"$f":"IF(Data!L902=\"\",\"\",Data!L902)","v":""},{"$f":"IF(Data!M902=\"\",\"\",Data!M902)","v":""},{"$f":"IF(Data!N902=\"\",\"\",Data!N902)","v":""},{"$f":"IF(Data!O902=\"\",\"\",Data!O902)","v":""},{"$f":"IF(Data!P902=\"\",\"\",Data!P902)","v":""},{"$f":"IF(Data!Q902=\"\",\"\",Data!Q902)","v":""},{"$f":"IF(Data!R902=\"\",\"\",Data!R902)","v":""},{"$f":"IF(Data!S902=\"\",\"\",Data!S902)","v":""},null,null,null,null,902]
[{"$f":"IF(Data!A903=\"\",\"\",Data!A903)","v":""},"",{"$f":"IF(Data!B903=\"\",\"\",Data!B903)","v":""},{"$f":"IF(Data!C903=\"\",\"\",Data!C903)","v":""},{"$f":"IF(Data!D903=\"\",\"\",Data!D903)","v":""},{"$f":"IF(Data!E903=\"\",\"\",Data!E903)","v":""},{"$f":"IF(Data!F903=\"\",\"\",Data!F903)","v":""},{"$f":"IF(Data!G903=\"\",\"\",Data!G903)","v":""},{"$f":"IF(Data!H903=\"\",\"\",Data!H903)","v":""},{"$f":"IF(Data!I903=\"\",\"\",Data!I903)","v":""},{"$f":"IF(Data!J903=\"\",\"\",Data!J903)","v":""},{"$f":"IF(Data!K903=\"\",\"\",Data!K903)","v":""},{"$f":"IF(Data!L903=\"\",\"\",Data!L903)","v":""},{"$f":"IF(Data!M903=\"\",\"\",Data!M903)","v":""},{"$f":"IF(Data!N903=\"\",\"\",Data!N903)","v":""},{"$f":"IF(Data!O903=\"\",\"\",Data!O903)","v":""},{"$f":"IF(Data!P903=\"\",\"\",Data!P903)","v":""},{"$f":"IF(Data!Q903=\"\",\"\",Data!Q903)","v":""},{"$f":"IF(Data!R903=\"\",\"\",Data!R903)","v":""},{"$f":"IF(Data!S903=\"\",\"\",Data!S903)","v":""},null,null,null,null,903]
[{"$f":"IF(Data!A904=\"\",\"\",Data!A904)","v":""},"",{"$f":"IF(Data!B904=\"\",\"\",Data!B904)","v":""},{"$f":"IF(Data!C904=\"\",\"\",Data!C904)","v":""},{"$f":"IF(Data!D904=\"\",\"\",Data!D904)","v":""},{"$f":"IF(Data!E904=\"\",\"\",Data!E904)","v":""},{"$f":"IF(Data!F904=\"\",\"\",Data!F904)","v":""},{"$f":"IF(Data!G904=\"\",\"\",Data!G904)","v":""},{"$f":"IF(Data!H904=\"\",\"\",Data!H904)","v":""},{"$f":"IF(Data!I904=\"\",\"\",Data!I904)","v":""},{"$f":"IF(Data!J904=\"\",\"\",Data!J904)","v":""},{"$f":"IF(Data!K904=\"\",\"\",Data!K904)","v":""},{"$f":"IF(Data!L904=\"\",\"\",Data!L904)","v":""},{"$f":"IF(Data!M904=\"\",\"\",Data!M904)","v":""},{"$f":"IF(Data!N904=\"\",\"\",Data!N904)","v":""},{"$f":"IF(Data!O904=\"\",\"\",Data!O904)","v":""},{"$f":"IF(Data!P904=\"\",\"\",Data!P904)","v":""},{"$f":"IF(Data!Q904=\"\",\"\",Data!Q904)","v":""},{"$f":"IF(Data!R904=\"\",\"\",Data!R904)","v":""},{"$f":"IF(Data!S904=\"\",\"\",Data!S904)","v":""},null,null,null,null,904]
[{"$f":"IF(Data!A905=\"\",\"\",Data!A905)","v":""},"",{"$f":"IF(Data!B905=\"\",\"\",Data!B905)","v":""},{"$f":"IF(Data!C905=\"\",\"\",Data!C905)","v":""},{"$f":"IF(Data!D905=\"\",\"\",Data!D905)","v":""},{"$f":"IF(Data!E905=\"\",\"\",Data!E905)","v":""},{"$f":"IF(Data!F905=\"\",\"\",Data!F905)","v":""},{"$f":"IF(Data!G905=\"\",\"\",Data!G905)","v":""},{"$f":"IF(Data!H905=\"\",\"\",Data!H905)","v":""},{"$f":"IF(Data!I905=\"\",\"\",Data!I905)","v":""},{"$f":"IF(Data!J905=\"\",\"\",Data!J905)","v":""},{"$f":"IF(Data!K905=\"\",\"\",Data!K905)","v":""},{"$f":"IF(Data!L905=\"\",\"\",Data!L905)","v":""},{"$f":"IF(Data!M905=\"\",\"\",Data!M905)","v":""},{"$f":"IF(Data!N905=\"\",\"\",Data!N905)","v":""},{"$f":"IF(Data!O905=\"\",\"\",Data!O905)","v":""},{"$f":"IF(Data!P905=\"\",\"\",Data!P905)","v":""},{"$f":"IF(Data!Q905=\"\",\"\",Data!Q905)","v":""},{"$f":"IF(Data!R905=\"\",\"\",Data!R905)","v":""},{"$f":"IF(Data!S905=\"\",\"\",Data!S905)","v":""},null,null,null,null,905]
[{"$f":"IF(Data!A906=\"\",\"\",Data!A906)","v":""},"",{"$f":"IF(Data!B906=\"\",\"\",Data!B906)","v":""},{"$f":"IF(Data!C906=\"\",\"\",Data!C906)","v":""},{"$f":"IF(Data!D906=\"\",\"\",Data!D906)","v":""},{"$f":"IF(Data!E906=\"\",\"\",Data!E906)","v":""},{"$f":"IF(Data!F906=\"\",\"\",Data!F906)","v":""},{"$f":"IF(Data!G906=\"\",\"\",Data!G906)","v":""},{"$f":"IF(Data!H906=\"\",\"\",Data!H906)","v":""},{"$f":"IF(Data!I906=\"\",\"\",Data!I906)","v":""},{"$f":"IF(Data!J906=\"\",\"\",Data!J906)","v":""},{"$f":"IF(Data!K906=\"\",\"\",Data!K906)","v":""},{"$f":"IF(Data!L906=\"\",\"\",Data!L906)","v":""},{"$f":"IF(Data!M906=\"\",\"\",Data!M906)","v":""},{"$f":"IF(Data!N906=\"\",\"\",Data!N906)","v":""},{"$f":"IF(Data!O906=\"\",\"\",Data!O906)","v":""},{"$f":"IF(Data!P906=\"\",\"\",Data!P906)","v":""},{"$f":"IF(Data!Q906=\"\",\"\",Data!Q906)","v":""},{"$f":"IF(Data!R906=\"\",\"\",Data!R906)","v":""},{"$f":"IF(Data!S906=\"\",\"\",Data!S906)","v":""},null,null,null,null,906]
[{"$f":"IF(Data!A907=\"\",\"\",Data!A907)","v":""},"",{"$f":"IF(Data!B907=\"\",\"\",Data!B907)","v":""},{"$f":"IF(Data!C907=\"\",\"\",Data!C907)","v":""},{"$f":"IF(Data!D907=\"\",\"\",Data!D907)","v":""},{"$f":"IF(Data!E907=\"\",\"\",Data!E907)","v":""},{"$f":"IF(Data!F907=\"\",\"\",Data!F907)","v":""},{"$f":"IF(Data!G907=\"\",\"\",Data!G907)","v":""},{"$f":"IF(Data!H907=\"\",\"\",Data!H907)","v":""},{"$f":"IF(Data!I907=\"\",\"\",Data!I907)","v":""},{"$f":"IF(Data!J907=\"\",\"\",Data!J907)","v":""},{"$f":"IF(Data!K907=\"\",\"\",Data!K907)","v":""},{"$f":"IF(Data!L907=\"\",\"\",Data!L907)","v":""},{"$f":"IF(Data!M907=\"\",\"\",Data!M907)","v":""},{"$f":"IF(Data!N907=\"\",\"\",Data!N907)","v":""},{"$f":"IF(Data!O907=\"\",\"\",Data!O907)","v":""},{"$f":"IF(Data!P907=\"\",\"\",Data!P907)","v":""},{"$f":"IF(Data!Q907=\"\",\"\",Data!Q907)","v":""},{"$f":"IF(Data!R907=\"\",\"\",Data!R907)","v":""},{"$f":"IF(Data!S907=\"\",\"\",Data!S907)","v":""},null,null,null,null,907]
[{"$f":"IF(Data!A908=\"\",\"\",Data!A908)","v":""},"",{"$f":"IF(Data!B908=\"\",\"\",Data!B908)","v":""},{"$f":"IF(Data!C908=\"\",\"\",Data!C908)","v":""},{"$f":"IF(Data!D908=\"\",\"\",Data!D908)","v":""},{"$f":"IF(Data!E908=\"\",\"\",Data!E908)","v":""},{"$f":"IF(Data!F908=\"\",\"\",Data!F908)","v":""},{"$f":"IF(Data!G908=\"\",\"\",Data!G908)","v":""},{"$f":"IF(Data!H908=\"\",\"\",Data!H908)","v":""},{"$f":"IF(Data!I908=\"\",\"\",Data!I908)","v":""},{"$f":"IF(Data!J908=\"\",\"\",Data!J908)","v":""},{"$f":"IF(Data!K908=\"\",\"\",Data!K908)","v":""},{"$f":"IF(Data!L908=\"\",\"\",Data!L908)","v":""},{"$f":"IF(Data!M908=\"\",\"\",Data!M908)","v":""},{"$f":"IF(Data!N908=\"\",\"\",Data!N908)","v":""},{"$f":"IF(Data!O908=\"\",\"\",Data!O908)","v":""},{"$f":"IF(Data!P908=\"\",\"\",Data!P908)","v":""},{"$f":"IF(Data!Q908=\"\",\"\",Data!Q908)","v":""},{"$f":"IF(Data!R908=\"\",\"\",Data!R908)","v":""},{"$f":"IF(Data!S908=\"\",\"\",Data!S908)","v":""},null,null,null,null,908]
[{"$f":"IF(Data!A909=\"\",\"\",Data!A909)","v":""},"",{"$f":"IF(Data!B909=\"\",\"\",Data!B909)","v":""},{"$f":"IF(Data!C909=\"\",\"\",Data!C909)","v":""},{"$f":"IF(Data!D909=\"\",\"\",Data!D909)","v":""},{"$f":"IF(Data!E909=\"\",\"\",Data!E909)","v":""},{"$f":"IF(Data!F909=\"\",\"\",Data!F909)","v":""},{"$f":"IF(Data!G909=\"\",\"\",Data!G909)","v":""},{"$f":"IF(Data!H909=\"\",\"\",Data!H909)","v":""},{"$f":"IF(Data!I909=\"\",\"\",Data!I909)","v":""},{"$f":"IF(Data!J909=\"\",\"\",Data!J909)","v":""},{"$f":"IF(Data!K909=\"\",\"\",Data!K909)","v":""},{"$f":"IF(Data!L909=\"\",\"\",Data!L909)","v":""},{"$f":"IF(Data!M909=\"\",\"\",Data!M909)","v":""},{"$f":"IF(Data!N909=\"\",\"\",Data!N909)","v":""},{"$f":"IF(Data!O909=\"\",\"\",Data!O909)","v":""},{"$f":"IF(Data!P909=\"\",\"\",Data!P909)","v":""},{"$f":"IF(Data!Q909=\"\",\"\",Data!Q909)","v":""},{"$f":"IF(Data!R909=\"\",\"\",Data!R909)","v":""},{"$f":"IF(Data!S909=\"\",\"\",Data!S909)","v":""},null,null,null,null,909]
[{"$f":"IF(Data!A910=\"\",\"\",Data!A910)","v":""},"",{"$f":"IF(Data!B910=\"\",\"\",Data!B910)","v":""},{"$f":"IF(Data!C910=\"\",\"\",Data!C910)","v":""},{"$f":"IF(Data!D910=\"\",\"\",Data!D910)","v":""},{"$f":"IF(Data!E910=\"\",\"\",Data!E910)","v":""},{"$f":"IF(Data!F910=\"\",\"\",Data!F910)","v":""},{"$f":"IF(Data!G910=\"\",\"\",Data!G910)","v":""},{"$f":"IF(Data!H910=\"\",\"\",Data!H910)","v":""},{"$f":"IF(Data!I910=\"\",\"\",Data!I910)","v":""},{"$f":"IF(Data!J910=\"\",\"\",Data!J910)","v":""},{"$f":"IF(Data!K910=\"\",\"\",Data!K910)","v":""},{"$f":"IF(Data!L910=\"\",\"\",Data!L910)","v":""},{"$f":"IF(Data!M910=\"\",\"\",Data!M910)","v":""},{"$f":"IF(Data!N910=\"\",\"\",Data!N910)","v":""},{"$f":"IF(Data!O910=\"\",\"\",Data!O910)","v":""},{"$f":"IF(Data!P910=\"\",\"\",Data!P910)","v":""},{"$f":"IF(Data!Q910=\"\",\"\",Data!Q910)","v":""},{"$f":"IF(Data!R910=\"\",\"\",Data!R910)","v":""},{"$f":"IF(Data!S910=\"\",\"\",Data!S910)","v":""},null,null,null,null,910]
[{"$f":"IF(Data!A911=\"\",\"\",Data!A911)","v":""},"",{"$f":"IF(Data!B911=\"\",\"\",Data!B911)","v":""},{"$f":"IF(Data!C911=\"\",\"\",Data!C911)","v":""},{"$f":"IF(Data!D911=\"\",\"\",Data!D911)","v":""},{"$f":"IF(Data!E911=\"\",\"\",Data!E911)","v":""},{"$f":"IF(Data!F911=\"\",\"\",Data!F911)","v":""},{"$f":"IF(Data!G911=\"\",\"\",Data!G911)","v":""},{"$f":"IF(Data!H911=\"\",\"\",Data!H911)","v":""},{"$f":"IF(Data!I911=\"\",\"\",Data!I911)","v":""},{"$f":"IF(Data!J911=\"\",\"\",Data!J911)","v":""},{"$f":"IF(Data!K911=\"\",\"\",Data!K911)","v":""},{"$f":"IF(Data!L911=\"\",\"\",Data!L911)","v":""},{"$f":"IF(Data!M911=\"\",\"\",Data!M911)","v":""},{"$f":"IF(Data!N911=\"\",\"\",Data!N911)","v":""},{"$f":"IF(Data!O911=\"\",\"\",Data!O911)","v":""},{"$f":"IF(Data!P911=\"\",\"\",Data!P911)","v":""},{"$f":"IF(Data!Q911=\"\",\"\",Data!Q911)","v":""},{"$f":"IF(Data!R911=\"\",\"\",Data!R911)","v":""},{"$f":"IF(Data!S911=\"\",\"\",Data!S911)","v":""},null,null,null,null,911]
[{"$f":"IF(Data!A912=\"\",\"\",Data!A912)","v":""},"",{"$f":"IF(Data!B912=\"\",\"\",Data!B912)","v":""},{"$f":"IF(Data!C912=\"\",\"\",Data!C912)","v":""},{"$f":"IF(Data!D912=\"\",\"\",Data!D912)","v":""},{"$f":"IF(Data!E912=\"\",\"\",Data!E912)","v":""},{"$f":"IF(Data!F912=\"\",\"\",Data!F912)","v":""},{"$f":"IF(Data!G912=\"\",\"\",Data!G912)","v":""},{"$f":"IF(Data!H912=\"\",\"\",Data!H912)","v":""},{"$f":"IF(Data!I912=\"\",\"\",Data!I912)","v":""},{"$f":"IF(Data!J912=\"\",\"\",Data!J912)","v":""},{"$f":"IF(Data!K912=\"\",\"\",Data!K912)","v":""},{"$f":"IF(Data!L912=\"\",\"\",Data!L912)","v":""},{"$f":"IF(Data!M912=\"\",\"\",Data!M912)","v":""},{"$f":"IF(Data!N912=\"\",\"\",Data!N912)","v":""},{"$f":"IF(Data!O912=\"\",\"\",Data!O912)","v":""},{"$f":"IF(Data!P912=\"\",\"\",Data!P912)","v":""},{"$f":"IF(Data!Q912=\"\",\"\",Data!Q912)","v":""},{"$f":"IF(Data!R912=\"\",\"\",Data!R912)","v":""},{"$f":"IF(Data!S912=\"\",\"\",Data!S912)","v":""},null,null,null,null,912]
[{"$f":"IF(Data!A913=\"\",\"\",Data!A913)","v":""},"",{"$f":"IF(Data!B913=\"\",\"\",Data!B913)","v":""},{"$f":"IF(Data!C913=\"\",\"\",Data!C913)","v":""},{"$f":"IF(Data!D913=\"\",\"\",Data!D913)","v":""},{"$f":"IF(Data!E913=\"\",\"\",Data!E913)","v":""},{"$f":"IF(Data!F913=\"\",\"\",Data!F913)","v":""},{"$f":"IF(Data!G913=\"\",\"\",Data!G913)","v":""},{"$f":"IF(Data!H913=\"\",\"\",Data!H913)","v":""},{"$f":"IF(Data!I913=\"\",\"\",Data!I913)","v":""},{"$f":"IF(Data!J913=\"\",\"\",Data!J913)","v":""},{"$f":"IF(Data!K913=\"\",\"\",Data!K913)","v":""},{"$f":"IF(Data!L913=\"\",\"\",Data!L913)","v":""},{"$f":"IF(Data!M913=\"\",\"\",Data!M913)","v":""},{"$f":"IF(Data!N913=\"\",\"\",Data!N913)","v":""},{"$f":"IF(Data!O913=\"\",\"\",Data!O913)","v":""},{"$f":"IF(Data!P913=\"\",\"\",Data!P913)","v":""},{"$f":"IF(Data!Q913=\"\",\"\",Data!Q913)","v":""},{"$f":"IF(Data!R913=\"\",\"\",Data!R913)","v":""},{"$f":"IF(Data!S913=\"\",\"\",Data!S913)","v":""},null,null,null,null,913]
[{"$f":"IF(Data!A914=\"\",\"\",Data!A914)","v":""},"",{"$f":"IF(Data!B914=\"\",\"\",Data!B914)","v":""},{"$f":"IF(Data!C914=\"\",\"\",Data!C914)","v":""},{"$f":"IF(Data!D914=\"\",\"\",Data!D914)","v":""},{"$f":"IF(Data!E914=\"\",\"\",Data!E914)","v":""},{"$f":"IF(Data!F914=\"\",\"\",Data!F914)","v":""},{"$f":"IF(Data!G914=\"\",\"\",Data!G914)","v":""},{"$f":"IF(Data!H914=\"\",\"\",Data!H914)","v":""},{"$f":"IF(Data!I914=\"\",\"\",Data!I914)","v":""},{"$f":"IF(Data!J914=\"\",\"\",Data!J914)","v":""},{"$f":"IF(Data!K914=\"\",\"\",Data!K914)","v":""},{"$f":"IF(Data!L914=\"\",\"\",Data!L914)","v":""},{"$f":"IF(Data!M914=\"\",\"\",Data!M914)","v":""},{"$f":"IF(Data!N914=\"\",\"\",Data!N914)","v":""},{"$f":"IF(Data!O914=\"\",\"\",Data!O914)","v":""},{"$f":"IF(Data!P914=\"\",\"\",Data!P914)","v":""},{"$f":"IF(Data!Q914=\"\",\"\",Data!Q914)","v":""},{"$f":"IF(Data!R914=\"\",\"\",Data!R914)","v":""},{"$f":"IF(Data!S914=\"\",\"\",Data!S914)","v":""},null,null,null,null,914]
[{"$f":"IF(Data!A915=\"\",\"\",Data!A915)","v":""},"",{"$f":"IF(Data!B915=\"\",\"\",Data!B915)","v":""},{"$f":"IF(Data!C915=\"\",\"\",Data!C915)","v":""},{"$f":"IF(Data!D915=\"\",\"\",Data!D915)","v":""},{"$f":"IF(Data!E915=\"\",\"\",Data!E915)","v":""},{"$f":"IF(Data!F915=\"\",\"\",Data!F915)","v":""},{"$f":"IF(Data!G915=\"\",\"\",Data!G915)","v":""},{"$f":"IF(Data!H915=\"\",\"\",Data!H915)","v":""},{"$f":"IF(Data!I915=\"\",\"\",Data!I915)","v":""},{"$f":"IF(Data!J915=\"\",\"\",Data!J915)","v":""},{"$f":"IF(Data!K915=\"\",\"\",Data!K915)","v":""},{"$f":"IF(Data!L915=\"\",\"\",Data!L915)","v":""},{"$f":"IF(Data!M915=\"\",\"\",Data!M915)","v":""},{"$f":"IF(Data!N915=\"\",\"\",Data!N915)","v":""},{"$f":"IF(Data!O915=\"\",\"\",Data!O915)","v":""},{"$f":"IF(Data!P915=\"\",\"\",Data!P915)","v":""},{"$f":"IF(Data!Q915=\"\",\"\",Data!Q915)","v":""},{"$f":"IF(Data!R915=\"\",\"\",Data!R915)","v":""},{"$f":"IF(Data!S915=\"\",\"\",Data!S915)","v":""},null,null,null,null,915]
[{"$f":"IF(Data!A916=\"\",\"\",Data!A916)","v":""},"",{"$f":"IF(Data!B916=\"\",\"\",Data!B916)","v":""},{"$f":"IF(Data!C916=\"\",\"\",Data!C916)","v":""},{"$f":"IF(Data!D916=\"\",\"\",Data!D916)","v":""},{"$f":"IF(Data!E916=\"\",\"\",Data!E916)","v":""},{"$f":"IF(Data!F916=\"\",\"\",Data!F916)","v":""},{"$f":"IF(Data!G916=\"\",\"\",Data!G916)","v":""},{"$f":"IF(Data!H916=\"\",\"\",Data!H916)","v":""},{"$f":"IF(Data!I916=\"\",\"\",Data!I916)","v":""},{"$f":"IF(Data!J916=\"\",\"\",Data!J916)","v":""},{"$f":"IF(Data!K916=\"\",\"\",Data!K916)","v":""},{"$f":"IF(Data!L916=\"\",\"\",Data!L916)","v":""},{"$f":"IF(Data!M916=\"\",\"\",Data!M916)","v":""},{"$f":"IF(Data!N916=\"\",\"\",Data!N916)","v":""},{"$f":"IF(Data!O916=\"\",\"\",Data!O916)","v":""},{"$f":"IF(Data!P916=\"\",\"\",Data!P916)","v":""},{"$f":"IF(Data!Q916=\"\",\"\",Data!Q916)","v":""},{"$f":"IF(Data!R916=\"\",\"\",Data!R916)","v":""},{"$f":"IF(Data!S916=\"\",\"\",Data!S916)","v":""},null,null,null,null,916]
[{"$f":"IF(Data!A917=\"\",\"\",Data!A917)","v":""},"",{"$f":"IF(Data!B917=\"\",\"\",Data!B917)","v":""},{"$f":"IF(Data!C917=\"\",\"\",Data!C917)","v":""},{"$f":"IF(Data!D917=\"\",\"\",Data!D917)","v":""},{"$f":"IF(Data!E917=\"\",\"\",Data!E917)","v":""},{"$f":"IF(Data!F917=\"\",\"\",Data!F917)","v":""},{"$f":"IF(Data!G917=\"\",\"\",Data!G917)","v":""},{"$f":"IF(Data!H917=\"\",\"\",Data!H917)","v":""},{"$f":"IF(Data!I917=\"\",\"\",Data!I917)","v":""},{"$f":"IF(Data!J917=\"\",\"\",Data!J917)","v":""},{"$f":"IF(Data!K917=\"\",\"\",Data!K917)","v":""},{"$f":"IF(Data!L917=\"\",\"\",Data!L917)","v":""},{"$f":"IF(Data!M917=\"\",\"\",Data!M917)","v":""},{"$f":"IF(Data!N917=\"\",\"\",Data!N917)","v":""},{"$f":"IF(Data!O917=\"\",\"\",Data!O917)","v":""},{"$f":"IF(Data!P917=\"\",\"\",Data!P917)","v":""},{"$f":"IF(Data!Q917=\"\",\"\",Data!Q917)","v":""},{"$f":"IF(Data!R917=\"\",\"\",Data!R917)","v":""},{"$f":"IF(Data!S917=\"\",\"\",Data!S917)","v":""},null,null,null,null,917]
[{"$f":"IF(Data!A918=\"\",\"\",Data!A918)","v":""},"",{"$f":"IF(Data!B918=\"\",\"\",Data!B918)","v":""},{"$f":"IF(Data!C918=\"\",\"\",Data!C918)","v":""},{"$f":"IF(Data!D918=\"\",\"\",Data!D918)","v":""},{"$f":"IF(Data!E918=\"\",\"\",Data!E918)","v":""},{"$f":"IF(Data!F918=\"\",\"\",Data!F918)","v":""},{"$f":"IF(Data!G918=\"\",\"\",Data!G918)","v":""},{"$f":"IF(Data!H918=\"\",\"\",Data!H918)","v":""},{"$f":"IF(Data!I918=\"\",\"\",Data!I918)","v":""},{"$f":"IF(Data!J918=\"\",\"\",Data!J918)","v":""},{"$f":"IF(Data!K918=\"\",\"\",Data!K918)","v":""},{"$f":"IF(Data!L918=\"\",\"\",Data!L918)","v":""},{"$f":"IF(Data!M918=\"\",\"\",Data!M918)","v":""},{"$f":"IF(Data!N918=\"\",\"\",Data!N918)","v":""},{"$f":"IF(Data!O918=\"\",\"\",Data!O918)","v":""},{"$f":"IF(Data!P918=\"\",\"\",Data!P918)","v":""},{"$f":"IF(Data!Q918=\"\",\"\",Data!Q918)","v":""},{"$f":"IF(Data!R918=\"\",\"\",Data!R918)","v":""},{"$f":"IF(Data!S918=\"\",\"\",Data!S918)","v":""},null,null,null,null,918]
[{"$f":"IF(Data!A919=\"\",\"\",Data!A919)","v":""},"",{"$f":"IF(Data!B919=\"\",\"\",Data!B919)","v":""},{"$f":"IF(Data!C919=\"\",\"\",Data!C919)","v":""},{"$f":"IF(Data!D919=\"\",\"\",Data!D919)","v":""},{"$f":"IF(Data!E919=\"\",\"\",Data!E919)","v":""},{"$f":"IF(Data!F919=\"\",\"\",Data!F919)","v":""},{"$f":"IF(Data!G919=\"\",\"\",Data!G919)","v":""},{"$f":"IF(Data!H919=\"\",\"\",Data!H919)","v":""},{"$f":"IF(Data!I919=\"\",\"\",Data!I919)","v":""},{"$f":"IF(Data!J919=\"\",\"\",Data!J919)","v":""},{"$f":"IF(Data!K919=\"\",\"\",Data!K919)","v":""},{"$f":"IF(Data!L919=\"\",\"\",Data!L919)","v":""},{"$f":"IF(Data!M919=\"\",\"\",Data!M919)","v":""},{"$f":"IF(Data!N919=\"\",\"\",Data!N919)","v":""},{"$f":"IF(Data!O919=\"\",\"\",Data!O919)","v":""},{"$f":"IF(Data!P919=\"\",\"\",Data!P919)","v":""},{"$f":"IF(Data!Q919=\"\",\"\",Data!Q919)","v":""},{"$f":"IF(Data!R919=\"\",\"\",Data!R919)","v":""},{"$f":"IF(Data!S919=\"\",\"\",Data!S919)","v":""},null,null,null,null,919]
[{"$f":"IF(Data!A920=\"\",\"\",Data!A920)","v":""},"",{"$f":"IF(Data!B920=\"\",\"\",Data!B920)","v":""},{"$f":"IF(Data!C920=\"\",\"\",Data!C920)","v":""},{"$f":"IF(Data!D920=\"\",\"\",Data!D920)","v":""},{"$f":"IF(Data!E920=\"\",\"\",Data!E920)","v":""},{"$f":"IF(Data!F920=\"\",\"\",Data!F920)","v":""},{"$f":"IF(Data!G920=\"\",\"\",Data!G920)","v":""},{"$f":"IF(Data!H920=\"\",\"\",Data!H920)","v":""},{"$f":"IF(Data!I920=\"\",\"\",Data!I920)","v":""},{"$f":"IF(Data!J920=\"\",\"\",Data!J920)","v":""},{"$f":"IF(Data!K920=\"\",\"\",Data!K920)","v":""},{"$f":"IF(Data!L920=\"\",\"\",Data!L920)","v":""},{"$f":"IF(Data!M920=\"\",\"\",Data!M920)","v":""},{"$f":"IF(Data!N920=\"\",\"\",Data!N920)","v":""},{"$f":"IF(Data!O920=\"\",\"\",Data!O920)","v":""},{"$f":"IF(Data!P920=\"\",\"\",Data!P920)","v":""},{"$f":"IF(Data!Q920=\"\",\"\",Data!Q920)","v":""},{"$f":"IF(Data!R920=\"\",\"\",Data!R920)","v":""},{"$f":"IF(Data!S920=\"\",\"\",Data!S920)","v":""},null,null,null,null,920]
[{"$f":"IF(Data!A921=\"\",\"\",Data!A921)","v":""},"",{"$f":"IF(Data!B921=\"\",\"\",Data!B921)","v":""},{"$f":"IF(Data!C921=\"\",\"\",Data!C921)","v":""},{"$f":"IF(Data!D921=\"\",\"\",Data!D921)","v":""},{"$f":"IF(Data!E921=\"\",\"\",Data!E921)","v":""},{"$f":"IF(Data!F921=\"\",\"\",Data!F921)","v":""},{"$f":"IF(Data!G921=\"\",\"\",Data!G921)","v":""},{"$f":"IF(Data!H921=\"\",\"\",Data!H921)","v":""},{"$f":"IF(Data!I921=\"\",\"\",Data!I921)","v":""},{"$f":"IF(Data!J921=\"\",\"\",Data!J921)","v":""},{"$f":"IF(Data!K921=\"\",\"\",Data!K921)","v":""},{"$f":"IF(Data!L921=\"\",\"\",Data!L921)","v":""},{"$f":"IF(Data!M921=\"\",\"\",Data!M921)","v":""},{"$f":"IF(Data!N921=\"\",\"\",Data!N921)","v":""},{"$f":"IF(Data!O921=\"\",\"\",Data!O921)","v":""},{"$f":"IF(Data!P921=\"\",\"\",Data!P921)","v":""},{"$f":"IF(Data!Q921=\"\",\"\",Data!Q921)","v":""},{"$f":"IF(Data!R921=\"\",\"\",Data!R921)","v":""},{"$f":"IF(Data!S921=\"\",\"\",Data!S921)","v":""},null,null,null,null,921]
[{"$f":"IF(Data!A922=\"\",\"\",Data!A922)","v":""},"",{"$f":"IF(Data!B922=\"\",\"\",Data!B922)","v":""},{"$f":"IF(Data!C922=\"\",\"\",Data!C922)","v":""},{"$f":"IF(Data!D922=\"\",\"\",Data!D922)","v":""},{"$f":"IF(Data!E922=\"\",\"\",Data!E922)","v":""},{"$f":"IF(Data!F922=\"\",\"\",Data!F922)","v":""},{"$f":"IF(Data!G922=\"\",\"\",Data!G922)","v":""},{"$f":"IF(Data!H922=\"\",\"\",Data!H922)","v":""},{"$f":"IF(Data!I922=\"\",\"\",Data!I922)","v":""},{"$f":"IF(Data!J922=\"\",\"\",Data!J922)","v":""},{"$f":"IF(Data!K922=\"\",\"\",Data!K922)","v":""},{"$f":"IF(Data!L922=\"\",\"\",Data!L922)","v":""},{"$f":"IF(Data!M922=\"\",\"\",Data!M922)","v":""},{"$f":"IF(Data!N922=\"\",\"\",Data!N922)","v":""},{"$f":"IF(Data!O922=\"\",\"\",Data!O922)","v":""},{"$f":"IF(Data!P922=\"\",\"\",Data!P922)","v":""},{"$f":"IF(Data!Q922=\"\",\"\",Data!Q922)","v":""},{"$f":"IF(Data!R922=\"\",\"\",Data!R922)","v":""},{"$f":"IF(Data!S922=\"\",\"\",Data!S922)","v":""},null,null,null,null,922]
[{"$f":"IF(Data!A923=\"\",\"\",Data!A923)","v":""},"",{"$f":"IF(Data!B923=\"\",\"\",Data!B923)","v":""},{"$f":"IF(Data!C923=\"\",\"\",Data!C923)","v":""},{"$f":"IF(Data!D923=\"\",\"\",Data!D923)","v":""},{"$f":"IF(Data!E923=\"\",\"\",Data!E923)","v":""},{"$f":"IF(Data!F923=\"\",\"\",Data!F923)","v":""},{"$f":"IF(Data!G923=\"\",\"\",Data!G923)","v":""},{"$f":"IF(Data!H923=\"\",\"\",Data!H923)","v":""},{"$f":"IF(Data!I923=\"\",\"\",Data!I923)","v":""},{"$f":"IF(Data!J923=\"\",\"\",Data!J923)","v":""},{"$f":"IF(Data!K923=\"\",\"\",Data!K923)","v":""},{"$f":"IF(Data!L923=\"\",\"\",Data!L923)","v":""},{"$f":"IF(Data!M923=\"\",\"\",Data!M923)","v":""},{"$f":"IF(Data!N923=\"\",\"\",Data!N923)","v":""},{"$f":"IF(Data!O923=\"\",\"\",Data!O923)","v":""},{"$f":"IF(Data!P923=\"\",\"\",Data!P923)","v":""},{"$f":"IF(Data!Q923=\"\",\"\",Data!Q923)","v":""},{"$f":"IF(Data!R923=\"\",\"\",Data!R923)","v":""},{"$f":"IF(Data!S923=\"\",\"\",Data!S923)","v":""},null,null,null,null,923]
[{"$f":"IF(Data!A924=\"\",\"\",Data!A924)","v":""},"",{"$f":"IF(Data!B924=\"\",\"\",Data!B924)","v":""},{"$f":"IF(Data!C924=\"\",\"\",Data!C924)","v":""},{"$f":"IF(Data!D924=\"\",\"\",Data!D924)","v":""},{"$f":"IF(Data!E924=\"\",\"\",Data!E924)","v":""},{"$f":"IF(Data!F924=\"\",\"\",Data!F924)","v":""},{"$f":"IF(Data!G924=\"\",\"\",Data!G924)","v":""},{"$f":"IF(Data!H924=\"\",\"\",Data!H924)","v":""},{"$f":"IF(Data!I924=\"\",\"\",Data!I924)","v":""},{"$f":"IF(Data!J924=\"\",\"\",Data!J924)","v":""},{"$f":"IF(Data!K924=\"\",\"\",Data!K924)","v":""},{"$f":"IF(Data!L924=\"\",\"\",Data!L924)","v":""},{"$f":"IF(Data!M924=\"\",\"\",Data!M924)","v":""},{"$f":"IF(Data!N924=\"\",\"\",Data!N924)","v":""},{"$f":"IF(Data!O924=\"\",\"\",Data!O924)","v":""},{"$f":"IF(Data!P924=\"\",\"\",Data!P924)","v":""},{"$f":"IF(Data!Q924=\"\",\"\",Data!Q924)","v":""},{"$f":"IF(Data!R924=\"\",\"\",Data!R924)","v":""},{"$f":"IF(Data!S924=\"\",\"\",Data!S924)","v":""},null,null,null,null,924]
[{"$f":"IF(Data!A925=\"\",\"\",Data!A925)","v":""},"",{"$f":"IF(Data!B925=\"\",\"\",Data!B925)","v":""},{"$f":"IF(Data!C925=\"\",\"\",Data!C925)","v":""},{"$f":"IF(Data!D925=\"\",\"\",Data!D925)","v":""},{"$f":"IF(Data!E925=\"\",\"\",Data!E925)","v":""},{"$f":"IF(Data!F925=\"\",\"\",Data!F925)","v":""},{"$f":"IF(Data!G925=\"\",\"\",Data!G925)","v":""},{"$f":"IF(Data!H925=\"\",\"\",Data!H925)","v":""},{"$f":"IF(Data!I925=\"\",\"\",Data!I925)","v":""},{"$f":"IF(Data!J925=\"\",\"\",Data!J925)","v":""},{"$f":"IF(Data!K925=\"\",\"\",Data!K925)","v":""},{"$f":"IF(Data!L925=\"\",\"\",Data!L925)","v":""},{"$f":"IF(Data!M925=\"\",\"\",Data!M925)","v":""},{"$f":"IF(Data!N925=\"\",\"\",Data!N925)","v":""},{"$f":"IF(Data!O925=\"\",\"\",Data!O925)","v":""},{"$f":"IF(Data!P925=\"\",\"\",Data!P925)","v":""},{"$f":"IF(Data!Q925=\"\",\"\",Data!Q925)","v":""},{"$f":"IF(Data!R925=\"\",\"\",Data!R925)","v":""},{"$f":"IF(Data!S925=\"\",\"\",Data!S925)","v":""},null,null,null,null,925]
[{"$f":"IF(Data!A926=\"\",\"\",Data!A926)","v":""},"",{"$f":"IF(Data!B926=\"\",\"\",Data!B926)","v":""},{"$f":"IF(Data!C926=\"\",\"\",Data!C926)","v":""},{"$f":"IF(Data!D926=\"\",\"\",Data!D926)","v":""},{"$f":"IF(Data!E926=\"\",\"\",Data!E926)","v":""},{"$f":"IF(Data!F926=\"\",\"\",Data!F926)","v":""},{"$f":"IF(Data!G926=\"\",\"\",Data!G926)","v":""},{"$f":"IF(Data!H926=\"\",\"\",Data!H926)","v":""},{"$f":"IF(Data!I926=\"\",\"\",Data!I926)","v":""},{"$f":"IF(Data!J926=\"\",\"\",Data!J926)","v":""},{"$f":"IF(Data!K926=\"\",\"\",Data!K926)","v":""},{"$f":"IF(Data!L926=\"\",\"\",Data!L926)","v":""},{"$f":"IF(Data!M926=\"\",\"\",Data!M926)","v":""},{"$f":"IF(Data!N926=\"\",\"\",Data!N926)","v":""},{"$f":"IF(Data!O926=\"\",\"\",Data!O926)","v":""},{"$f":"IF(Data!P926=\"\",\"\",Data!P926)","v":""},{"$f":"IF(Data!Q926=\"\",\"\",Data!Q926)","v":""},{"$f":"IF(Data!R926=\"\",\"\",Data!R926)","v":""},{"$f":"IF(Data!S926=\"\",\"\",Data!S926)","v":""},null,null,null,null,926]
[{"$f":"IF(Data!A927=\"\",\"\",Data!A927)","v":""},"",{"$f":"IF(Data!B927=\"\",\"\",Data!B927)","v":""},{"$f":"IF(Data!C927=\"\",\"\",Data!C927)","v":""},{"$f":"IF(Data!D927=\"\",\"\",Data!D927)","v":""},{"$f":"IF(Data!E927=\"\",\"\",Data!E927)","v":""},{"$f":"IF(Data!F927=\"\",\"\",Data!F927)","v":""},{"$f":"IF(Data!G927=\"\",\"\",Data!G927)","v":""},{"$f":"IF(Data!H927=\"\",\"\",Data!H927)","v":""},{"$f":"IF(Data!I927=\"\",\"\",Data!I927)","v":""},{"$f":"IF(Data!J927=\"\",\"\",Data!J927)","v":""},{"$f":"IF(Data!K927=\"\",\"\",Data!K927)","v":""},{"$f":"IF(Data!L927=\"\",\"\",Data!L927)","v":""},{"$f":"IF(Data!M927=\"\",\"\",Data!M927)","v":""},{"$f":"IF(Data!N927=\"\",\"\",Data!N927)","v":""},{"$f":"IF(Data!O927=\"\",\"\",Data!O927)","v":""},{"$f":"IF(Data!P927=\"\",\"\",Data!P927)","v":""},{"$f":"IF(Data!Q927=\"\",\"\",Data!Q927)","v":""},{"$f":"IF(Data!R927=\"\",\"\",Data!R927)","v":""},{"$f":"IF(Data!S927=\"\",\"\",Data!S927)","v":""},null,null,null,null,927]
[{"$f":"IF(Data!A928=\"\",\"\",Data!A928)","v":""},"",{"$f":"IF(Data!B928=\"\",\"\",Data!B928)","v":""},{"$f":"IF(Data!C928=\"\",\"\",Data!C928)","v":""},{"$f":"IF(Data!D928=\"\",\"\",Data!D928)","v":""},{"$f":"IF(Data!E928=\"\",\"\",Data!E928)","v":""},{"$f":"IF(Data!F928=\"\",\"\",Data!F928)","v":""},{"$f":"IF(Data!G928=\"\",\"\",Data!G928)","v":""},{"$f":"IF(Data!H928=\"\",\"\",Data!H928)","v":""},{"$f":"IF(Data!I928=\"\",\"\",Data!I928)","v":""},{"$f":"IF(Data!J928=\"\",\"\",Data!J928)","v":""},{"$f":"IF(Data!K928=\"\",\"\",Data!K928)","v":""},{"$f":"IF(Data!L928=\"\",\"\",Data!L928)","v":""},{"$f":"IF(Data!M928=\"\",\"\",Data!M928)","v":""},{"$f":"IF(Data!N928=\"\",\"\",Data!N928)","v":""},{"$f":"IF(Data!O928=\"\",\"\",Data!O928)","v":""},{"$f":"IF(Data!P928=\"\",\"\",Data!P928)","v":""},{"$f":"IF(Data!Q928=\"\",\"\",Data!Q928)","v":""},{"$f":"IF(Data!R928=\"\",\"\",Data!R928)","v":""},{"$f":"IF(Data!S928=\"\",\"\",Data!S928)","v":""},null,null,null,null,928]
[{"$f":"IF(Data!A929=\"\",\"\",Data!A929)","v":""},"",{"$f":"IF(Data!B929=\"\",\"\",Data!B929)","v":""},{"$f":"IF(Data!C929=\"\",\"\",Data!C929)","v":""},{"$f":"IF(Data!D929=\"\",\"\",Data!D929)","v":""},{"$f":"IF(Data!E929=\"\",\"\",Data!E929)","v":""},{"$f":"IF(Data!F929=\"\",\"\",Data!F929)","v":""},{"$f":"IF(Data!G929=\"\",\"\",Data!G929)","v":""},{"$f":"IF(Data!H929=\"\",\"\",Data!H929)","v":""},{"$f":"IF(Data!I929=\"\",\"\",Data!I929)","v":""},{"$f":"IF(Data!J929=\"\",\"\",Data!J929)","v":""},{"$f":"IF(Data!K929=\"\",\"\",Data!K929)","v":""},{"$f":"IF(Data!L929=\"\",\"\",Data!L929)","v":""},{"$f":"IF(Data!M929=\"\",\"\",Data!M929)","v":""},{"$f":"IF(Data!N929=\"\",\"\",Data!N929)","v":""},{"$f":"IF(Data!O929=\"\",\"\",Data!O929)","v":""},{"$f":"IF(Data!P929=\"\",\"\",Data!P929)","v":""},{"$f":"IF(Data!Q929=\"\",\"\",Data!Q929)","v":""},{"$f":"IF(Data!R929=\"\",\"\",Data!R929)","v":""},{"$f":"IF(Data!S929=\"\",\"\",Data!S929)","v":""},null,null,null,null,929]
[{"$f":"IF(Data!A930=\"\",\"\",Data!A930)","v":""},"",{"$f":"IF(Data!B930=\"\",\"\",Data!B930)","v":""},{"$f":"IF(Data!C930=\"\",\"\",Data!C930)","v":""},{"$f":"IF(Data!D930=\"\",\"\",Data!D930)","v":""},{"$f":"IF(Data!E930=\"\",\"\",Data!E930)","v":""},{"$f":"IF(Data!F930=\"\",\"\",Data!F930)","v":""},{"$f":"IF(Data!G930=\"\",\"\",Data!G930)","v":""},{"$f":"IF(Data!H930=\"\",\"\",Data!H930)","v":""},{"$f":"IF(Data!I930=\"\",\"\",Data!I930)","v":""},{"$f":"IF(Data!J930=\"\",\"\",Data!J930)","v":""},{"$f":"IF(Data!K930=\"\",\"\",Data!K930)","v":""},{"$f":"IF(Data!L930=\"\",\"\",Data!L930)","v":""},{"$f":"IF(Data!M930=\"\",\"\",Data!M930)","v":""},{"$f":"IF(Data!N930=\"\",\"\",Data!N930)","v":""},{"$f":"IF(Data!O930=\"\",\"\",Data!O930)","v":""},{"$f":"IF(Data!P930=\"\",\"\",Data!P930)","v":""},{"$f":"IF(Data!Q930=\"\",\"\",Data!Q930)","v":""},{"$f":"IF(Data!R930=\"\",\"\",Data!R930)","v":""},{"$f":"IF(Data!S930=\"\",\"\",Data!S930)","v":""},null,null,null,null,930]
[{"$f":"IF(Data!A931=\"\",\"\",Data!A931)","v":""},"",{"$f":"IF(Data!B931=\"\",\"\",Data!B931)","v":""},{"$f":"IF(Data!C931=\"\",\"\",Data!C931)","v":""},{"$f":"IF(Data!D931=\"\",\"\",Data!D931)","v":""},{"$f":"IF(Data!E931=\"\",\"\",Data!E931)","v":""},{"$f":"IF(Data!F931=\"\",\"\",Data!F931)","v":""},{"$f":"IF(Data!G931=\"\",\"\",Data!G931)","v":""},{"$f":"IF(Data!H931=\"\",\"\",Data!H931)","v":""},{"$f":"IF(Data!I931=\"\",\"\",Data!I931)","v":""},{"$f":"IF(Data!J931=\"\",\"\",Data!J931)","v":""},{"$f":"IF(Data!K931=\"\",\"\",Data!K931)","v":""},{"$f":"IF(Data!L931=\"\",\"\",Data!L931)","v":""},{"$f":"IF(Data!M931=\"\",\"\",Data!M931)","v":""},{"$f":"IF(Data!N931=\"\",\"\",Data!N931)","v":""},{"$f":"IF(Data!O931=\"\",\"\",Data!O931)","v":""},{"$f":"IF(Data!P931=\"\",\"\",Data!P931)","v":""},{"$f":"IF(Data!Q931=\"\",\"\",Data!Q931)","v":""},{"$f":"IF(Data!R931=\"\",\"\",Data!R931)","v":""},{"$f":"IF(Data!S931=\"\",\"\",Data!S931)","v":""},null,null,null,null,931]
[{"$f":"IF(Data!A932=\"\",\"\",Data!A932)","v":""},"",{"$f":"IF(Data!B932=\"\",\"\",Data!B932)","v":""},{"$f":"IF(Data!C932=\"\",\"\",Data!C932)","v":""},{"$f":"IF(Data!D932=\"\",\"\",Data!D932)","v":""},{"$f":"IF(Data!E932=\"\",\"\",Data!E932)","v":""},{"$f":"IF(Data!F932=\"\",\"\",Data!F932)","v":""},{"$f":"IF(Data!G932=\"\",\"\",Data!G932)","v":""},{"$f":"IF(Data!H932=\"\",\"\",Data!H932)","v":""},{"$f":"IF(Data!I932=\"\",\"\",Data!I932)","v":""},{"$f":"IF(Data!J932=\"\",\"\",Data!J932)","v":""},{"$f":"IF(Data!K932=\"\",\"\",Data!K932)","v":""},{"$f":"IF(Data!L932=\"\",\"\",Data!L932)","v":""},{"$f":"IF(Data!M932=\"\",\"\",Data!M932)","v":""},{"$f":"IF(Data!N932=\"\",\"\",Data!N932)","v":""},{"$f":"IF(Data!O932=\"\",\"\",Data!O932)","v":""},{"$f":"IF(Data!P932=\"\",\"\",Data!P932)","v":""},{"$f":"IF(Data!Q932=\"\",\"\",Data!Q932)","v":""},{"$f":"IF(Data!R932=\"\",\"\",Data!R932)","v":""},{"$f":"IF(Data!S932=\"\",\"\",Data!S932)","v":""},null,null,null,null,932]
[{"$f":"IF(Data!A933=\"\",\"\",Data!A933)","v":""},"",{"$f":"IF(Data!B933=\"\",\"\",Data!B933)","v":""},{"$f":"IF(Data!C933=\"\",\"\",Data!C933)","v":""},{"$f":"IF(Data!D933=\"\",\"\",Data!D933)","v":""},{"$f":"IF(Data!E933=\"\",\"\",Data!E933)","v":""},{"$f":"IF(Data!F933=\"\",\"\",Data!F933)","v":""},{"$f":"IF(Data!G933=\"\",\"\",Data!G933)","v":""},{"$f":"IF(Data!H933=\"\",\"\",Data!H933)","v":""},{"$f":"IF(Data!I933=\"\",\"\",Data!I933)","v":""},{"$f":"IF(Data!J933=\"\",\"\",Data!J933)","v":""},{"$f":"IF(Data!K933=\"\",\"\",Data!K933)","v":""},{"$f":"IF(Data!L933=\"\",\"\",Data!L933)","v":""},{"$f":"IF(Data!M933=\"\",\"\",Data!M933)","v":""},{"$f":"IF(Data!N933=\"\",\"\",Data!N933)","v":""},{"$f":"IF(Data!O933=\"\",\"\",Data!O933)","v":""},{"$f":"IF(Data!P933=\"\",\"\",Data!P933)","v":""},{"$f":"IF(Data!Q933=\"\",\"\",Data!Q933)","v":""},{"$f":"IF(Data!R933=\"\",\"\",Data!R933)","v":""},{"$f":"IF(Data!S933=\"\",\"\",Data!S933)","v":""},null,null,null,null,933]
[{"$f":"IF(Data!A934=\"\",\"\",Data!A934)","v":""},"",{"$f":"IF(Data!B934=\"\",\"\",Data!B934)","v":""},{"$f":"IF(Data!C934=\"\",\"\",Data!C934)","v":""},{"$f":"IF(Data!D934=\"\",\"\",Data!D934)","v":""},{"$f":"IF(Data!E934=\"\",\"\",Data!E934)","v":""},{"$f":"IF(Data!F934=\"\",\"\",Data!F934)","v":""},{"$f":"IF(Data!G934=\"\",\"\",Data!G934)","v":""},{"$f":"IF(Data!H934=\"\",\"\",Data!H934)","v":""},{"$f":"IF(Data!I934=\"\",\"\",Data!I934)","v":""},{"$f":"IF(Data!J934=\"\",\"\",Data!J934)","v":""},{"$f":"IF(Data!K934=\"\",\"\",Data!K934)","v":""},{"$f":"IF(Data!L934=\"\",\"\",Data!L934)","v":""},{"$f":"IF(Data!M934=\"\",\"\",Data!M934)","v":""},{"$f":"IF(Data!N934=\"\",\"\",Data!N934)","v":""},{"$f":"IF(Data!O934=\"\",\"\",Data!O934)","v":""},{"$f":"IF(Data!P934=\"\",\"\",Data!P934)","v":""},{"$f":"IF(Data!Q934=\"\",\"\",Data!Q934)","v":""},{"$f":"IF(Data!R934=\"\",\"\",Data!R934)","v":""},{"$f":"IF(Data!S934=\"\",\"\",Data!S934)","v":""},null,null,null,null,934]
[{"$f":"IF(Data!A935=\"\",\"\",Data!A935)","v":""},"",{"$f":"IF(Data!B935=\"\",\"\",Data!B935)","v":""},{"$f":"IF(Data!C935=\"\",\"\",Data!C935)","v":""},{"$f":"IF(Data!D935=\"\",\"\",Data!D935)","v":""},{"$f":"IF(Data!E935=\"\",\"\",Data!E935)","v":""},{"$f":"IF(Data!F935=\"\",\"\",Data!F935)","v":""},{"$f":"IF(Data!G935=\"\",\"\",Data!G935)","v":""},{"$f":"IF(Data!H935=\"\",\"\",Data!H935)","v":""},{"$f":"IF(Data!I935=\"\",\"\",Data!I935)","v":""},{"$f":"IF(Data!J935=\"\",\"\",Data!J935)","v":""},{"$f":"IF(Data!K935=\"\",\"\",Data!K935)","v":""},{"$f":"IF(Data!L935=\"\",\"\",Data!L935)","v":""},{"$f":"IF(Data!M935=\"\",\"\",Data!M935)","v":""},{"$f":"IF(Data!N935=\"\",\"\",Data!N935)","v":""},{"$f":"IF(Data!O935=\"\",\"\",Data!O935)","v":""},{"$f":"IF(Data!P935=\"\",\"\",Data!P935)","v":""},{"$f":"IF(Data!Q935=\"\",\"\",Data!Q935)","v":""},{"$f":"IF(Data!R935=\"\",\"\",Data!R935)","v":""},{"$f":"IF(Data!S935=\"\",\"\",Data!S935)","v":""},null,null,null,null,935]
[{"$f":"IF(Data!A936=\"\",\"\",Data!A936)","v":""},"",{"$f":"IF(Data!B936=\"\",\"\",Data!B936)","v":""},{"$f":"IF(Data!C936=\"\",\"\",Data!C936)","v":""},{"$f":"IF(Data!D936=\"\",\"\",Data!D936)","v":""},{"$f":"IF(Data!E936=\"\",\"\",Data!E936)","v":""},{"$f":"IF(Data!F936=\"\",\"\",Data!F936)","v":""},{"$f":"IF(Data!G936=\"\",\"\",Data!G936)","v":""},{"$f":"IF(Data!H936=\"\",\"\",Data!H936)","v":""},{"$f":"IF(Data!I936=\"\",\"\",Data!I936)","v":""},{"$f":"IF(Data!J936=\"\",\"\",Data!J936)","v":""},{"$f":"IF(Data!K936=\"\",\"\",Data!K936)","v":""},{"$f":"IF(Data!L936=\"\",\"\",Data!L936)","v":""},{"$f":"IF(Data!M936=\"\",\"\",Data!M936)","v":""},{"$f":"IF(Data!N936=\"\",\"\",Data!N936)","v":""},{"$f":"IF(Data!O936=\"\",\"\",Data!O936)","v":""},{"$f":"IF(Data!P936=\"\",\"\",Data!P936)","v":""},{"$f":"IF(Data!Q936=\"\",\"\",Data!Q936)","v":""},{"$f":"IF(Data!R936=\"\",\"\",Data!R936)","v":""},{"$f":"IF(Data!S936=\"\",\"\",Data!S936)","v":""},null,null,null,null,936]
[{"$f":"IF(Data!A937=\"\",\"\",Data!A937)","v":""},"",{"$f":"IF(Data!B937=\"\",\"\",Data!B937)","v":""},{"$f":"IF(Data!C937=\"\",\"\",Data!C937)","v":""},{"$f":"IF(Data!D937=\"\",\"\",Data!D937)","v":""},{"$f":"IF(Data!E937=\"\",\"\",Data!E937)","v":""},{"$f":"IF(Data!F937=\"\",\"\",Data!F937)","v":""},{"$f":"IF(Data!G937=\"\",\"\",Data!G937)","v":""},{"$f":"IF(Data!H937=\"\",\"\",Data!H937)","v":""},{"$f":"IF(Data!I937=\"\",\"\",Data!I937)","v":""},{"$f":"IF(Data!J937=\"\",\"\",Data!J937)","v":""},{"$f":"IF(Data!K937=\"\",\"\",Data!K937)","v":""},{"$f":"IF(Data!L937=\"\",\"\",Data!L937)","v":""},{"$f":"IF(Data!M937=\"\",\"\",Data!M937)","v":""},{"$f":"IF(Data!N937=\"\",\"\",Data!N937)","v":""},{"$f":"IF(Data!O937=\"\",\"\",Data!O937)","v":""},{"$f":"IF(Data!P937=\"\",\"\",Data!P937)","v":""},{"$f":"IF(Data!Q937=\"\",\"\",Data!Q937)","v":""},{"$f":"IF(Data!R937=\"\",\"\",Data!R937)","v":""},{"$f":"IF(Data!S937=\"\",\"\",Data!S937)","v":""},null,null,null,null,937]
[{"$f":"IF(Data!A938=\"\",\"\",Data!A938)","v":""},"",{"$f":"IF(Data!B938=\"\",\"\",Data!B938)","v":""},{"$f":"IF(Data!C938=\"\",\"\",Data!C938)","v":""},{"$f":"IF(Data!D938=\"\",\"\",Data!D938)","v":""},{"$f":"IF(Data!E938=\"\",\"\",Data!E938)","v":""},{"$f":"IF(Data!F938=\"\",\"\",Data!F938)","v":""},{"$f":"IF(Data!G938=\"\",\"\",Data!G938)","v":""},{"$f":"IF(Data!H938=\"\",\"\",Data!H938)","v":""},{"$f":"IF(Data!I938=\"\",\"\",Data!I938)","v":""},{"$f":"IF(Data!J938=\"\",\"\",Data!J938)","v":""},{"$f":"IF(Data!K938=\"\",\"\",Data!K938)","v":""},{"$f":"IF(Data!L938=\"\",\"\",Data!L938)","v":""},{"$f":"IF(Data!M938=\"\",\"\",Data!M938)","v":""},{"$f":"IF(Data!N938=\"\",\"\",Data!N938)","v":""},{"$f":"IF(Data!O938=\"\",\"\",Data!O938)","v":""},{"$f":"IF(Data!P938=\"\",\"\",Data!P938)","v":""},{"$f":"IF(Data!Q938=\"\",\"\",Data!Q938)","v":""},{"$f":"IF(Data!R938=\"\",\"\",Data!R938)","v":""},{"$f":"IF(Data!S938=\"\",\"\",Data!S938)","v":""},null,null,null,null,938]
[{"$f":"IF(Data!A939=\"\",\"\",Data!A939)","v":""},"",{"$f":"IF(Data!B939=\"\",\"\",Data!B939)","v":""},{"$f":"IF(Data!C939=\"\",\"\",Data!C939)","v":""},{"$f":"IF(Data!D939=\"\",\"\",Data!D939)","v":""},{"$f":"IF(Data!E939=\"\",\"\",Data!E939)","v":""},{"$f":"IF(Data!F939=\"\",\"\",Data!F939)","v":""},{"$f":"IF(Data!G939=\"\",\"\",Data!G939)","v":""},{"$f":"IF(Data!H939=\"\",\"\",Data!H939)","v":""},{"$f":"IF(Data!I939=\"\",\"\",Data!I939)","v":""},{"$f":"IF(Data!J939=\"\",\"\",Data!J939)","v":""},{"$f":"IF(Data!K939=\"\",\"\",Data!K939)","v":""},{"$f":"IF(Data!L939=\"\",\"\",Data!L939)","v":""},{"$f":"IF(Data!M939=\"\",\"\",Data!M939)","v":""},{"$f":"IF(Data!N939=\"\",\"\",Data!N939)","v":""},{"$f":"IF(Data!O939=\"\",\"\",Data!O939)","v":""},{"$f":"IF(Data!P939=\"\",\"\",Data!P939)","v":""},{"$f":"IF(Data!Q939=\"\",\"\",Data!Q939)","v":""},{"$f":"IF(Data!R939=\"\",\"\",Data!R939)","v":""},{"$f":"IF(Data!S939=\"\",\"\",Data!S939)","v":""},null,null,null,null,939]
[{"$f":"IF(Data!A940=\"\",\"\",Data!A940)","v":""},"",{"$f":"IF(Data!B940=\"\",\"\",Data!B940)","v":""},{"$f":"IF(Data!C940=\"\",\"\",Data!C940)","v":""},{"$f":"IF(Data!D940=\"\",\"\",Data!D940)","v":""},{"$f":"IF(Data!E940=\"\",\"\",Data!E940)","v":""},{"$f":"IF(Data!F940=\"\",\"\",Data!F940)","v":""},{"$f":"IF(Data!G940=\"\",\"\",Data!G940)","v":""},{"$f":"IF(Data!H940=\"\",\"\",Data!H940)","v":""},{"$f":"IF(Data!I940=\"\",\"\",Data!I940)","v":""},{"$f":"IF(Data!J940=\"\",\"\",Data!J940)","v":""},{"$f":"IF(Data!K940=\"\",\"\",Data!K940)","v":""},{"$f":"IF(Data!L940=\"\",\"\",Data!L940)","v":""},{"$f":"IF(Data!M940=\"\",\"\",Data!M940)","v":""},{"$f":"IF(Data!N940=\"\",\"\",Data!N940)","v":""},{"$f":"IF(Data!O940=\"\",\"\",Data!O940)","v":""},{"$f":"IF(Data!P940=\"\",\"\",Data!P940)","v":""},{"$f":"IF(Data!Q940=\"\",\"\",Data!Q940)","v":""},{"$f":"IF(Data!R940=\"\",\"\",Data!R940)","v":""},{"$f":"IF(Data!S940=\"\",\"\",Data!S940)","v":""},null,null,null,null,940]
[{"$f":"IF(Data!A941=\"\",\"\",Data!A941)","v":""},"",{"$f":"IF(Data!B941=\"\",\"\",Data!B941)","v":""},{"$f":"IF(Data!C941=\"\",\"\",Data!C941)","v":""},{"$f":"IF(Data!D941=\"\",\"\",Data!D941)","v":""},{"$f":"IF(Data!E941=\"\",\"\",Data!E941)","v":""},{"$f":"IF(Data!F941=\"\",\"\",Data!F941)","v":""},{"$f":"IF(Data!G941=\"\",\"\",Data!G941)","v":""},{"$f":"IF(Data!H941=\"\",\"\",Data!H941)","v":""},{"$f":"IF(Data!I941=\"\",\"\",Data!I941)","v":""},{"$f":"IF(Data!J941=\"\",\"\",Data!J941)","v":""},{"$f":"IF(Data!K941=\"\",\"\",Data!K941)","v":""},{"$f":"IF(Data!L941=\"\",\"\",Data!L941)","v":""},{"$f":"IF(Data!M941=\"\",\"\",Data!M941)","v":""},{"$f":"IF(Data!N941=\"\",\"\",Data!N941)","v":""},{"$f":"IF(Data!O941=\"\",\"\",Data!O941)","v":""},{"$f":"IF(Data!P941=\"\",\"\",Data!P941)","v":""},{"$f":"IF(Data!Q941=\"\",\"\",Data!Q941)","v":""},{"$f":"IF(Data!R941=\"\",\"\",Data!R941)","v":""},{"$f":"IF(Data!S941=\"\",\"\",Data!S941)","v":""},null,null,null,null,941]
[{"$f":"IF(Data!A942=\"\",\"\",Data!A942)","v":""},"",{"$f":"IF(Data!B942=\"\",\"\",Data!B942)","v":""},{"$f":"IF(Data!C942=\"\",\"\",Data!C942)","v":""},{"$f":"IF(Data!D942=\"\",\"\",Data!D942)","v":""},{"$f":"IF(Data!E942=\"\",\"\",Data!E942)","v":""},{"$f":"IF(Data!F942=\"\",\"\",Data!F942)","v":""},{"$f":"IF(Data!G942=\"\",\"\",Data!G942)","v":""},{"$f":"IF(Data!H942=\"\",\"\",Data!H942)","v":""},{"$f":"IF(Data!I942=\"\",\"\",Data!I942)","v":""},{"$f":"IF(Data!J942=\"\",\"\",Data!J942)","v":""},{"$f":"IF(Data!K942=\"\",\"\",Data!K942)","v":""},{"$f":"IF(Data!L942=\"\",\"\",Data!L942)","v":""},{"$f":"IF(Data!M942=\"\",\"\",Data!M942)","v":""},{"$f":"IF(Data!N942=\"\",\"\",Data!N942)","v":""},{"$f":"IF(Data!O942=\"\",\"\",Data!O942)","v":""},{"$f":"IF(Data!P942=\"\",\"\",Data!P942)","v":""},{"$f":"IF(Data!Q942=\"\",\"\",Data!Q942)","v":""},{"$f":"IF(Data!R942=\"\",\"\",Data!R942)","v":""},{"$f":"IF(Data!S942=\"\",\"\",Data!S942)","v":""},null,null,null,null,942]
[{"$f":"IF(Data!A943=\"\",\"\",Data!A943)","v":""},"",{"$f":"IF(Data!B943=\"\",\"\",Data!B943)","v":""},{"$f":"IF(Data!C943=\"\",\"\",Data!C943)","v":""},{"$f":"IF(Data!D943=\"\",\"\",Data!D943)","v":""},{"$f":"IF(Data!E943=\"\",\"\",Data!E943)","v":""},{"$f":"IF(Data!F943=\"\",\"\",Data!F943)","v":""},{"$f":"IF(Data!G943=\"\",\"\",Data!G943)","v":""},{"$f":"IF(Data!H943=\"\",\"\",Data!H943)","v":""},{"$f":"IF(Data!I943=\"\",\"\",Data!I943)","v":""},{"$f":"IF(Data!J943=\"\",\"\",Data!J943)","v":""},{"$f":"IF(Data!K943=\"\",\"\",Data!K943)","v":""},{"$f":"IF(Data!L943=\"\",\"\",Data!L943)","v":""},{"$f":"IF(Data!M943=\"\",\"\",Data!M943)","v":""},{"$f":"IF(Data!N943=\"\",\"\",Data!N943)","v":""},{"$f":"IF(Data!O943=\"\",\"\",Data!O943)","v":""},{"$f":"IF(Data!P943=\"\",\"\",Data!P943)","v":""},{"$f":"IF(Data!Q943=\"\",\"\",Data!Q943)","v":""},{"$f":"IF(Data!R943=\"\",\"\",Data!R943)","v":""},{"$f":"IF(Data!S943=\"\",\"\",Data!S943)","v":""},null,null,null,null,943]
[{"$f":"IF(Data!A944=\"\",\"\",Data!A944)","v":""},"",{"$f":"IF(Data!B944=\"\",\"\",Data!B944)","v":""},{"$f":"IF(Data!C944=\"\",\"\",Data!C944)","v":""},{"$f":"IF(Data!D944=\"\",\"\",Data!D944)","v":""},{"$f":"IF(Data!E944=\"\",\"\",Data!E944)","v":""},{"$f":"IF(Data!F944=\"\",\"\",Data!F944)","v":""},{"$f":"IF(Data!G944=\"\",\"\",Data!G944)","v":""},{"$f":"IF(Data!H944=\"\",\"\",Data!H944)","v":""},{"$f":"IF(Data!I944=\"\",\"\",Data!I944)","v":""},{"$f":"IF(Data!J944=\"\",\"\",Data!J944)","v":""},{"$f":"IF(Data!K944=\"\",\"\",Data!K944)","v":""},{"$f":"IF(Data!L944=\"\",\"\",Data!L944)","v":""},{"$f":"IF(Data!M944=\"\",\"\",Data!M944)","v":""},{"$f":"IF(Data!N944=\"\",\"\",Data!N944)","v":""},{"$f":"IF(Data!O944=\"\",\"\",Data!O944)","v":""},{"$f":"IF(Data!P944=\"\",\"\",Data!P944)","v":""},{"$f":"IF(Data!Q944=\"\",\"\",Data!Q944)","v":""},{"$f":"IF(Data!R944=\"\",\"\",Data!R944)","v":""},{"$f":"IF(Data!S944=\"\",\"\",Data!S944)","v":""},null,null,null,null,944]
[{"$f":"IF(Data!A945=\"\",\"\",Data!A945)","v":""},"",{"$f":"IF(Data!B945=\"\",\"\",Data!B945)","v":""},{"$f":"IF(Data!C945=\"\",\"\",Data!C945)","v":""},{"$f":"IF(Data!D945=\"\",\"\",Data!D945)","v":""},{"$f":"IF(Data!E945=\"\",\"\",Data!E945)","v":""},{"$f":"IF(Data!F945=\"\",\"\",Data!F945)","v":""},{"$f":"IF(Data!G945=\"\",\"\",Data!G945)","v":""},{"$f":"IF(Data!H945=\"\",\"\",Data!H945)","v":""},{"$f":"IF(Data!I945=\"\",\"\",Data!I945)","v":""},{"$f":"IF(Data!J945=\"\",\"\",Data!J945)","v":""},{"$f":"IF(Data!K945=\"\",\"\",Data!K945)","v":""},{"$f":"IF(Data!L945=\"\",\"\",Data!L945)","v":""},{"$f":"IF(Data!M945=\"\",\"\",Data!M945)","v":""},{"$f":"IF(Data!N945=\"\",\"\",Data!N945)","v":""},{"$f":"IF(Data!O945=\"\",\"\",Data!O945)","v":""},{"$f":"IF(Data!P945=\"\",\"\",Data!P945)","v":""},{"$f":"IF(Data!Q945=\"\",\"\",Data!Q945)","v":""},{"$f":"IF(Data!R945=\"\",\"\",Data!R945)","v":""},{"$f":"IF(Data!S945=\"\",\"\",Data!S945)","v":""},null,null,null,null,945]
[{"$f":"IF(Data!A946=\"\",\"\",Data!A946)","v":""},"",{"$f":"IF(Data!B946=\"\",\"\",Data!B946)","v":""},{"$f":"IF(Data!C946=\"\",\"\",Data!C946)","v":""},{"$f":"IF(Data!D946=\"\",\"\",Data!D946)","v":""},{"$f":"IF(Data!E946=\"\",\"\",Data!E946)","v":""},{"$f":"IF(Data!F946=\"\",\"\",Data!F946)","v":""},{"$f":"IF(Data!G946=\"\",\"\",Data!G946)","v":""},{"$f":"IF(Data!H946=\"\",\"\",Data!H946)","v":""},{"$f":"IF(Data!I946=\"\",\"\",Data!I946)","v":""},{"$f":"IF(Data!J946=\"\",\"\",Data!J946)","v":""},{"$f":"IF(Data!K946=\"\",\"\",Data!K946)","v":""},{"$f":"IF(Data!L946=\"\",\"\",Data!L946)","v":""},{"$f":"IF(Data!M946=\"\",\"\",Data!M946)","v":""},{"$f":"IF(Data!N946=\"\",\"\",Data!N946)","v":""},{"$f":"IF(Data!O946=\"\",\"\",Data!O946)","v":""},{"$f":"IF(Data!P946=\"\",\"\",Data!P946)","v":""},{"$f":"IF(Data!Q946=\"\",\"\",Data!Q946)","v":""},{"$f":"IF(Data!R946=\"\",\"\",Data!R946)","v":""},{"$f":"IF(Data!S946=\"\",\"\",Data!S946)","v":""},null,null,null,null,946]
[{"$f":"IF(Data!A947=\"\",\"\",Data!A947)","v":""},"",{"$f":"IF(Data!B947=\"\",\"\",Data!B947)","v":""},{"$f":"IF(Data!C947=\"\",\"\",Data!C947)","v":""},{"$f":"IF(Data!D947=\"\",\"\",Data!D947)","v":""},{"$f":"IF(Data!E947=\"\",\"\",Data!E947)","v":""},{"$f":"IF(Data!F947=\"\",\"\",Data!F947)","v":""},{"$f":"IF(Data!G947=\"\",\"\",Data!G947)","v":""},{"$f":"IF(Data!H947=\"\",\"\",Data!H947)","v":""},{"$f":"IF(Data!I947=\"\",\"\",Data!I947)","v":""},{"$f":"IF(Data!J947=\"\",\"\",Data!J947)","v":""},{"$f":"IF(Data!K947=\"\",\"\",Data!K947)","v":""},{"$f":"IF(Data!L947=\"\",\"\",Data!L947)","v":""},{"$f":"IF(Data!M947=\"\",\"\",Data!M947)","v":""},{"$f":"IF(Data!N947=\"\",\"\",Data!N947)","v":""},{"$f":"IF(Data!O947=\"\",\"\",Data!O947)","v":""},{"$f":"IF(Data!P947=\"\",\"\",Data!P947)","v":""},{"$f":"IF(Data!Q947=\"\",\"\",Data!Q947)","v":""},{"$f":"IF(Data!R947=\"\",\"\",Data!R947)","v":""},{"$f":"IF(Data!S947=\"\",\"\",Data!S947)","v":""},null,null,null,null,947]
[{"$f":"IF(Data!A948=\"\",\"\",Data!A948)","v":""},"",{"$f":"IF(Data!B948=\"\",\"\",Data!B948)","v":""},{"$f":"IF(Data!C948=\"\",\"\",Data!C948)","v":""},{"$f":"IF(Data!D948=\"\",\"\",Data!D948)","v":""},{"$f":"IF(Data!E948=\"\",\"\",Data!E948)","v":""},{"$f":"IF(Data!F948=\"\",\"\",Data!F948)","v":""},{"$f":"IF(Data!G948=\"\",\"\",Data!G948)","v":""},{"$f":"IF(Data!H948=\"\",\"\",Data!H948)","v":""},{"$f":"IF(Data!I948=\"\",\"\",Data!I948)","v":""},{"$f":"IF(Data!J948=\"\",\"\",Data!J948)","v":""},{"$f":"IF(Data!K948=\"\",\"\",Data!K948)","v":""},{"$f":"IF(Data!L948=\"\",\"\",Data!L948)","v":""},{"$f":"IF(Data!M948=\"\",\"\",Data!M948)","v":""},{"$f":"IF(Data!N948=\"\",\"\",Data!N948)","v":""},{"$f":"IF(Data!O948=\"\",\"\",Data!O948)","v":""},{"$f":"IF(Data!P948=\"\",\"\",Data!P948)","v":""},{"$f":"IF(Data!Q948=\"\",\"\",Data!Q948)","v":""},{"$f":"IF(Data!R948=\"\",\"\",Data!R948)","v":""},{"$f":"IF(Data!S948=\"\",\"\",Data!S948)","v":""},null,null,null,null,948]
[{"$f":"IF(Data!A949=\"\",\"\",Data!A949)","v":""},"",{"$f":"IF(Data!B949=\"\",\"\",Data!B949)","v":""},{"$f":"IF(Data!C949=\"\",\"\",Data!C949)","v":""},{"$f":"IF(Data!D949=\"\",\"\",Data!D949)","v":""},{"$f":"IF(Data!E949=\"\",\"\",Data!E949)","v":""},{"$f":"IF(Data!F949=\"\",\"\",Data!F949)","v":""},{"$f":"IF(Data!G949=\"\",\"\",Data!G949)","v":""},{"$f":"IF(Data!H949=\"\",\"\",Data!H949)","v":""},{"$f":"IF(Data!I949=\"\",\"\",Data!I949)","v":""},{"$f":"IF(Data!J949=\"\",\"\",Data!J949)","v":""},{"$f":"IF(Data!K949=\"\",\"\",Data!K949)","v":""},{"$f":"IF(Data!L949=\"\",\"\",Data!L949)","v":""},{"$f":"IF(Data!M949=\"\",\"\",Data!M949)","v":""},{"$f":"IF(Data!N949=\"\",\"\",Data!N949)","v":""},{"$f":"IF(Data!O949=\"\",\"\",Data!O949)","v":""},{"$f":"IF(Data!P949=\"\",\"\",Data!P949)","v":""},{"$f":"IF(Data!Q949=\"\",\"\",Data!Q949)","v":""},{"$f":"IF(Data!R949=\"\",\"\",Data!R949)","v":""},{"$f":"IF(Data!S949=\"\",\"\",Data!S949)","v":""},null,null,null,null,949]
[{"$f":"IF(Data!A950=\"\",\"\",Data!A950)","v":""},"",{"$f":"IF(Data!B950=\"\",\"\",Data!B950)","v":""},{"$f":"IF(Data!C950=\"\",\"\",Data!C950)","v":""},{"$f":"IF(Data!D950=\"\",\"\",Data!D950)","v":""},{"$f":"IF(Data!E950=\"\",\"\",Data!E950)","v":""},{"$f":"IF(Data!F950=\"\",\"\",Data!F950)","v":""},{"$f":"IF(Data!G950=\"\",\"\",Data!G950)","v":""},{"$f":"IF(Data!H950=\"\",\"\",Data!H950)","v":""},{"$f":"IF(Data!I950=\"\",\"\",Data!I950)","v":""},{"$f":"IF(Data!J950=\"\",\"\",Data!J950)","v":""},{"$f":"IF(Data!K950=\"\",\"\",Data!K950)","v":""},{"$f":"IF(Data!L950=\"\",\"\",Data!L950)","v":""},{"$f":"IF(Data!M950=\"\",\"\",Data!M950)","v":""},{"$f":"IF(Data!N950=\"\",\"\",Data!N950)","v":""},{"$f":"IF(Data!O950=\"\",\"\",Data!O950)","v":""},{"$f":"IF(Data!P950=\"\",\"\",Data!P950)","v":""},{"$f":"IF(Data!Q950=\"\",\"\",Data!Q950)","v":""},{"$f":"IF(Data!R950=\"\",\"\",Data!R950)","v":""},{"$f":"IF(Data!S950=\"\",\"\",Data!S950)","v":""},null,null,null,null,950]
[{"$f":"IF(Data!A951=\"\",\"\",Data!A951)","v":""},"",{"$f":"IF(Data!B951=\"\",\"\",Data!B951)","v":""},{"$f":"IF(Data!C951=\"\",\"\",Data!C951)","v":""},{"$f":"IF(Data!D951=\"\",\"\",Data!D951)","v":""},{"$f":"IF(Data!E951=\"\",\"\",Data!E951)","v":""},{"$f":"IF(Data!F951=\"\",\"\",Data!F951)","v":""},{"$f":"IF(Data!G951=\"\",\"\",Data!G951)","v":""},{"$f":"IF(Data!H951=\"\",\"\",Data!H951)","v":""},{"$f":"IF(Data!I951=\"\",\"\",Data!I951)","v":""},{"$f":"IF(Data!J951=\"\",\"\",Data!J951)","v":""},{"$f":"IF(Data!K951=\"\",\"\",Data!K951)","v":""},{"$f":"IF(Data!L951=\"\",\"\",Data!L951)","v":""},{"$f":"IF(Data!M951=\"\",\"\",Data!M951)","v":""},{"$f":"IF(Data!N951=\"\",\"\",Data!N951)","v":""},{"$f":"IF(Data!O951=\"\",\"\",Data!O951)","v":""},{"$f":"IF(Data!P951=\"\",\"\",Data!P951)","v":""},{"$f":"IF(Data!Q951=\"\",\"\",Data!Q951)","v":""},{"$f":"IF(Data!R951=\"\",\"\",Data!R951)","v":""},{"$f":"IF(Data!S951=\"\",\"\",Data!S951)","v":""},null,null,null,null,951]
[{"$f":"IF(Data!A952=\"\",\"\",Data!A952)","v":""},"",{"$f":"IF(Data!B952=\"\",\"\",Data!B952)","v":""},{"$f":"IF(Data!C952=\"\",\"\",Data!C952)","v":""},{"$f":"IF(Data!D952=\"\",\"\",Data!D952)","v":""},{"$f":"IF(Data!E952=\"\",\"\",Data!E952)","v":""},{"$f":"IF(Data!F952=\"\",\"\",Data!F952)","v":""},{"$f":"IF(Data!G952=\"\",\"\",Data!G952)","v":""},{"$f":"IF(Data!H952=\"\",\"\",Data!H952)","v":""},{"$f":"IF(Data!I952=\"\",\"\",Data!I952)","v":""},{"$f":"IF(Data!J952=\"\",\"\",Data!J952)","v":""},{"$f":"IF(Data!K952=\"\",\"\",Data!K952)","v":""},{"$f":"IF(Data!L952=\"\",\"\",Data!L952)","v":""},{"$f":"IF(Data!M952=\"\",\"\",Data!M952)","v":""},{"$f":"IF(Data!N952=\"\",\"\",Data!N952)","v":""},{"$f":"IF(Data!O952=\"\",\"\",Data!O952)","v":""},{"$f":"IF(Data!P952=\"\",\"\",Data!P952)","v":""},{"$f":"IF(Data!Q952=\"\",\"\",Data!Q952)","v":""},{"$f":"IF(Data!R952=\"\",\"\",Data!R952)","v":""},{"$f":"IF(Data!S952=\"\",\"\",Data!S952)","v":""},null,null,null,null,952]
[{"$f":"IF(Data!A953=\"\",\"\",Data!A953)","v":""},"",{"$f":"IF(Data!B953=\"\",\"\",Data!B953)","v":""},{"$f":"IF(Data!C953=\"\",\"\",Data!C953)","v":""},{"$f":"IF(Data!D953=\"\",\"\",Data!D953)","v":""},{"$f":"IF(Data!E953=\"\",\"\",Data!E953)","v":""},{"$f":"IF(Data!F953=\"\",\"\",Data!F953)","v":""},{"$f":"IF(Data!G953=\"\",\"\",Data!G953)","v":""},{"$f":"IF(Data!H953=\"\",\"\",Data!H953)","v":""},{"$f":"IF(Data!I953=\"\",\"\",Data!I953)","v":""},{"$f":"IF(Data!J953=\"\",\"\",Data!J953)","v":""},{"$f":"IF(Data!K953=\"\",\"\",Data!K953)","v":""},{"$f":"IF(Data!L953=\"\",\"\",Data!L953)","v":""},{"$f":"IF(Data!M953=\"\",\"\",Data!M953)","v":""},{"$f":"IF(Data!N953=\"\",\"\",Data!N953)","v":""},{"$f":"IF(Data!O953=\"\",\"\",Data!O953)","v":""},{"$f":"IF(Data!P953=\"\",\"\",Data!P953)","v":""},{"$f":"IF(Data!Q953=\"\",\"\",Data!Q953)","v":""},{"$f":"IF(Data!R953=\"\",\"\",Data!R953)","v":""},{"$f":"IF(Data!S953=\"\",\"\",Data!S953)","v":""},null,null,null,null,953]
[{"$f":"IF(Data!A954=\"\",\"\",Data!A954)","v":""},"",{"$f":"IF(Data!B954=\"\",\"\",Data!B954)","v":""},{"$f":"IF(Data!C954=\"\",\"\",Data!C954)","v":""},{"$f":"IF(Data!D954=\"\",\"\",Data!D954)","v":""},{"$f":"IF(Data!E954=\"\",\"\",Data!E954)","v":""},{"$f":"IF(Data!F954=\"\",\"\",Data!F954)","v":""},{"$f":"IF(Data!G954=\"\",\"\",Data!G954)","v":""},{"$f":"IF(Data!H954=\"\",\"\",Data!H954)","v":""},{"$f":"IF(Data!I954=\"\",\"\",Data!I954)","v":""},{"$f":"IF(Data!J954=\"\",\"\",Data!J954)","v":""},{"$f":"IF(Data!K954=\"\",\"\",Data!K954)","v":""},{"$f":"IF(Data!L954=\"\",\"\",Data!L954)","v":""},{"$f":"IF(Data!M954=\"\",\"\",Data!M954)","v":""},{"$f":"IF(Data!N954=\"\",\"\",Data!N954)","v":""},{"$f":"IF(Data!O954=\"\",\"\",Data!O954)","v":""},{"$f":"IF(Data!P954=\"\",\"\",Data!P954)","v":""},{"$f":"IF(Data!Q954=\"\",\"\",Data!Q954)","v":""},{"$f":"IF(Data!R954=\"\",\"\",Data!R954)","v":""},{"$f":"IF(Data!S954=\"\",\"\",Data!S954)","v":""},null,null,null,null,954]
[{"$f":"IF(Data!A955=\"\",\"\",Data!A955)","v":""},"",{"$f":"IF(Data!B955=\"\",\"\",Data!B955)","v":""},{"$f":"IF(Data!C955=\"\",\"\",Data!C955)","v":""},{"$f":"IF(Data!D955=\"\",\"\",Data!D955)","v":""},{"$f":"IF(Data!E955=\"\",\"\",Data!E955)","v":""},{"$f":"IF(Data!F955=\"\",\"\",Data!F955)","v":""},{"$f":"IF(Data!G955=\"\",\"\",Data!G955)","v":""},{"$f":"IF(Data!H955=\"\",\"\",Data!H955)","v":""},{"$f":"IF(Data!I955=\"\",\"\",Data!I955)","v":""},{"$f":"IF(Data!J955=\"\",\"\",Data!J955)","v":""},{"$f":"IF(Data!K955=\"\",\"\",Data!K955)","v":""},{"$f":"IF(Data!L955=\"\",\"\",Data!L955)","v":""},{"$f":"IF(Data!M955=\"\",\"\",Data!M955)","v":""},{"$f":"IF(Data!N955=\"\",\"\",Data!N955)","v":""},{"$f":"IF(Data!O955=\"\",\"\",Data!O955)","v":""},{"$f":"IF(Data!P955=\"\",\"\",Data!P955)","v":""},{"$f":"IF(Data!Q955=\"\",\"\",Data!Q955)","v":""},{"$f":"IF(Data!R955=\"\",\"\",Data!R955)","v":""},{"$f":"IF(Data!S955=\"\",\"\",Data!S955)","v":""},null,null,null,null,955]
[{"$f":"IF(Data!A956=\"\",\"\",Data!A956)","v":""},"",{"$f":"IF(Data!B956=\"\",\"\",Data!B956)","v":""},{"$f":"IF(Data!C956=\"\",\"\",Data!C956)","v":""},{"$f":"IF(Data!D956=\"\",\"\",Data!D956)","v":""},{"$f":"IF(Data!E956=\"\",\"\",Data!E956)","v":""},{"$f":"IF(Data!F956=\"\",\"\",Data!F956)","v":""},{"$f":"IF(Data!G956=\"\",\"\",Data!G956)","v":""},{"$f":"IF(Data!H956=\"\",\"\",Data!H956)","v":""},{"$f":"IF(Data!I956=\"\",\"\",Data!I956)","v":""},{"$f":"IF(Data!J956=\"\",\"\",Data!J956)","v":""},{"$f":"IF(Data!K956=\"\",\"\",Data!K956)","v":""},{"$f":"IF(Data!L956=\"\",\"\",Data!L956)","v":""},{"$f":"IF(Data!M956=\"\",\"\",Data!M956)","v":""},{"$f":"IF(Data!N956=\"\",\"\",Data!N956)","v":""},{"$f":"IF(Data!O956=\"\",\"\",Data!O956)","v":""},{"$f":"IF(Data!P956=\"\",\"\",Data!P956)","v":""},{"$f":"IF(Data!Q956=\"\",\"\",Data!Q956)","v":""},{"$f":"IF(Data!R956=\"\",\"\",Data!R956)","v":""},{"$f":"IF(Data!S956=\"\",\"\",Data!S956)","v":""},null,null,null,null,956]
[{"$f":"IF(Data!A957=\"\",\"\",Data!A957)","v":""},"",{"$f":"IF(Data!B957=\"\",\"\",Data!B957)","v":""},{"$f":"IF(Data!C957=\"\",\"\",Data!C957)","v":""},{"$f":"IF(Data!D957=\"\",\"\",Data!D957)","v":""},{"$f":"IF(Data!E957=\"\",\"\",Data!E957)","v":""},{"$f":"IF(Data!F957=\"\",\"\",Data!F957)","v":""},{"$f":"IF(Data!G957=\"\",\"\",Data!G957)","v":""},{"$f":"IF(Data!H957=\"\",\"\",Data!H957)","v":""},{"$f":"IF(Data!I957=\"\",\"\",Data!I957)","v":""},{"$f":"IF(Data!J957=\"\",\"\",Data!J957)","v":""},{"$f":"IF(Data!K957=\"\",\"\",Data!K957)","v":""},{"$f":"IF(Data!L957=\"\",\"\",Data!L957)","v":""},{"$f":"IF(Data!M957=\"\",\"\",Data!M957)","v":""},{"$f":"IF(Data!N957=\"\",\"\",Data!N957)","v":""},{"$f":"IF(Data!O957=\"\",\"\",Data!O957)","v":""},{"$f":"IF(Data!P957=\"\",\"\",Data!P957)","v":""},{"$f":"IF(Data!Q957=\"\",\"\",Data!Q957)","v":""},{"$f":"IF(Data!R957=\"\",\"\",Data!R957)","v":""},{"$f":"IF(Data!S957=\"\",\"\",Data!S957)","v":""},null,null,null,null,957]
[{"$f":"IF(Data!A958=\"\",\"\",Data!A958)","v":""},"",{"$f":"IF(Data!B958=\"\",\"\",Data!B958)","v":""},{"$f":"IF(Data!C958=\"\",\"\",Data!C958)","v":""},{"$f":"IF(Data!D958=\"\",\"\",Data!D958)","v":""},{"$f":"IF(Data!E958=\"\",\"\",Data!E958)","v":""},{"$f":"IF(Data!F958=\"\",\"\",Data!F958)","v":""},{"$f":"IF(Data!G958=\"\",\"\",Data!G958)","v":""},{"$f":"IF(Data!H958=\"\",\"\",Data!H958)","v":""},{"$f":"IF(Data!I958=\"\",\"\",Data!I958)","v":""},{"$f":"IF(Data!J958=\"\",\"\",Data!J958)","v":""},{"$f":"IF(Data!K958=\"\",\"\",Data!K958)","v":""},{"$f":"IF(Data!L958=\"\",\"\",Data!L958)","v":""},{"$f":"IF(Data!M958=\"\",\"\",Data!M958)","v":""},{"$f":"IF(Data!N958=\"\",\"\",Data!N958)","v":""},{"$f":"IF(Data!O958=\"\",\"\",Data!O958)","v":""},{"$f":"IF(Data!P958=\"\",\"\",Data!P958)","v":""},{"$f":"IF(Data!Q958=\"\",\"\",Data!Q958)","v":""},{"$f":"IF(Data!R958=\"\",\"\",Data!R958)","v":""},{"$f":"IF(Data!S958=\"\",\"\",Data!S958)","v":""},null,null,null,null,958]
[{"$f":"IF(Data!A959=\"\",\"\",Data!A959)","v":""},"",{"$f":"IF(Data!B959=\"\",\"\",Data!B959)","v":""},{"$f":"IF(Data!C959=\"\",\"\",Data!C959)","v":""},{"$f":"IF(Data!D959=\"\",\"\",Data!D959)","v":""},{"$f":"IF(Data!E959=\"\",\"\",Data!E959)","v":""},{"$f":"IF(Data!F959=\"\",\"\",Data!F959)","v":""},{"$f":"IF(Data!G959=\"\",\"\",Data!G959)","v":""},{"$f":"IF(Data!H959=\"\",\"\",Data!H959)","v":""},{"$f":"IF(Data!I959=\"\",\"\",Data!I959)","v":""},{"$f":"IF(Data!J959=\"\",\"\",Data!J959)","v":""},{"$f":"IF(Data!K959=\"\",\"\",Data!K959)","v":""},{"$f":"IF(Data!L959=\"\",\"\",Data!L959)","v":""},{"$f":"IF(Data!M959=\"\",\"\",Data!M959)","v":""},{"$f":"IF(Data!N959=\"\",\"\",Data!N959)","v":""},{"$f":"IF(Data!O959=\"\",\"\",Data!O959)","v":""},{"$f":"IF(Data!P959=\"\",\"\",Data!P959)","v":""},{"$f":"IF(Data!Q959=\"\",\"\",Data!Q959)","v":""},{"$f":"IF(Data!R959=\"\",\"\",Data!R959)","v":""},{"$f":"IF(Data!S959=\"\",\"\",Data!S959)","v":""},null,null,null,null,959]
[{"$f":"IF(Data!A960=\"\",\"\",Data!A960)","v":""},"",{"$f":"IF(Data!B960=\"\",\"\",Data!B960)","v":""},{"$f":"IF(Data!C960=\"\",\"\",Data!C960)","v":""},{"$f":"IF(Data!D960=\"\",\"\",Data!D960)","v":""},{"$f":"IF(Data!E960=\"\",\"\",Data!E960)","v":""},{"$f":"IF(Data!F960=\"\",\"\",Data!F960)","v":""},{"$f":"IF(Data!G960=\"\",\"\",Data!G960)","v":""},{"$f":"IF(Data!H960=\"\",\"\",Data!H960)","v":""},{"$f":"IF(Data!I960=\"\",\"\",Data!I960)","v":""},{"$f":"IF(Data!J960=\"\",\"\",Data!J960)","v":""},{"$f":"IF(Data!K960=\"\",\"\",Data!K960)","v":""},{"$f":"IF(Data!L960=\"\",\"\",Data!L960)","v":""},{"$f":"IF(Data!M960=\"\",\"\",Data!M960)","v":""},{"$f":"IF(Data!N960=\"\",\"\",Data!N960)","v":""},{"$f":"IF(Data!O960=\"\",\"\",Data!O960)","v":""},{"$f":"IF(Data!P960=\"\",\"\",Data!P960)","v":""},{"$f":"IF(Data!Q960=\"\",\"\",Data!Q960)","v":""},{"$f":"IF(Data!R960=\"\",\"\",Data!R960)","v":""},{"$f":"IF(Data!S960=\"\",\"\",Data!S960)","v":""},null,null,null,null,960]
[{"$f":"IF(Data!A961=\"\",\"\",Data!A961)","v":""},{"$f":"IF(A962=\"\",\"\",Y962)","v":""},{"$f":"IF(Data!B961=\"\",\"\",Data!B961)","v":""},{"$f":"IF(Data!C961=\"\",\"\",Data!C961)","v":""},{"$f":"IF(Data!D961=\"\",\"\",Data!D961)","v":""},{"$f":"IF(Data!E961=\"\",\"\",Data!E961)","v":""},{"$f":"IF(Data!F961=\"\",\"\",Data!F961)","v":""},{"$f":"IF(Data!G961=\"\",\"\",Data!G961)","v":""},{"$f":"IF(Data!H961=\"\",\"\",Data!H961)","v":""},{"$f":"IF(Data!I961=\"\",\"\",Data!I961)","v":""},{"$f":"IF(Data!J961=\"\",\"\",Data!J961)","v":""},{"$f":"IF(Data!K961=\"\",\"\",Data!K961)","v":""},{"$f":"IF(Data!L961=\"\",\"\",Data!L961)","v":""},{"$f":"IF(Data!M961=\"\",\"\",Data!M961)","v":""},{"$f":"IF(Data!N961=\"\",\"\",Data!N961)","v":""},{"$f":"IF(Data!O961=\"\",\"\",Data!O961)","v":""},{"$f":"IF(Data!P961=\"\",\"\",Data!P961)","v":""},{"$f":"IF(Data!Q961=\"\",\"\",Data!Q961)","v":""},{"$f":"IF(Data!R961=\"\",\"\",Data!R961)","v":""},{"$f":"IF(Data!S961=\"\",\"\",Data!S961)","v":""},null,null,null,null,961]
[{"$f":"IF(Data!A962=\"\",\"\",Data!A962)","v":""},"",{"$f":"IF(Data!B962=\"\",\"\",Data!B962)","v":""},{"$f":"IF(Data!C962=\"\",\"\",Data!C962)","v":""},{"$f":"IF(Data!D962=\"\",\"\",Data!D962)","v":""},{"$f":"IF(Data!E962=\"\",\"\",Data!E962)","v":""},{"$f":"IF(Data!F962=\"\",\"\",Data!F962)","v":""},{"$f":"IF(Data!G962=\"\",\"\",Data!G962)","v":""},{"$f":"IF(Data!H962=\"\",\"\",Data!H962)","v":""},{"$f":"IF(Data!I962=\"\",\"\",Data!I962)","v":""},{"$f":"IF(Data!J962=\"\",\"\",Data!J962)","v":""},{"$f":"IF(Data!K962=\"\",\"\",Data!K962)","v":""},{"$f":"IF(Data!L962=\"\",\"\",Data!L962)","v":""},{"$f":"IF(Data!M962=\"\",\"\",Data!M962)","v":""},{"$f":"IF(Data!N962=\"\",\"\",Data!N962)","v":""},{"$f":"IF(Data!O962=\"\",\"\",Data!O962)","v":""},{"$f":"IF(Data!P962=\"\",\"\",Data!P962)","v":""},{"$f":"IF(Data!Q962=\"\",\"\",Data!Q962)","v":""},{"$f":"IF(Data!R962=\"\",\"\",Data!R962)","v":""},{"$f":"IF(Data!S962=\"\",\"\",Data!S962)","v":""},null,null,null,null,962]
[{"$f":"IF(Data!A963=\"\",\"\",Data!A963)","v":""},"",{"$f":"IF(Data!B963=\"\",\"\",Data!B963)","v":""},{"$f":"IF(Data!C963=\"\",\"\",Data!C963)","v":""},{"$f":"IF(Data!D963=\"\",\"\",Data!D963)","v":""},{"$f":"IF(Data!E963=\"\",\"\",Data!E963)","v":""},{"$f":"IF(Data!F963=\"\",\"\",Data!F963)","v":""},{"$f":"IF(Data!G963=\"\",\"\",Data!G963)","v":""},{"$f":"IF(Data!H963=\"\",\"\",Data!H963)","v":""},{"$f":"IF(Data!I963=\"\",\"\",Data!I963)","v":""},{"$f":"IF(Data!J963=\"\",\"\",Data!J963)","v":""},{"$f":"IF(Data!K963=\"\",\"\",Data!K963)","v":""},{"$f":"IF(Data!L963=\"\",\"\",Data!L963)","v":""},{"$f":"IF(Data!M963=\"\",\"\",Data!M963)","v":""},{"$f":"IF(Data!N963=\"\",\"\",Data!N963)","v":""},{"$f":"IF(Data!O963=\"\",\"\",Data!O963)","v":""},{"$f":"IF(Data!P963=\"\",\"\",Data!P963)","v":""},{"$f":"IF(Data!Q963=\"\",\"\",Data!Q963)","v":""},{"$f":"IF(Data!R963=\"\",\"\",Data!R963)","v":""},{"$f":"IF(Data!S963=\"\",\"\",Data!S963)","v":""},null,null,null,null,963]
[{"$f":"IF(Data!A964=\"\",\"\",Data!A964)","v":""},"",{"$f":"IF(Data!B964=\"\",\"\",Data!B964)","v":""},{"$f":"IF(Data!C964=\"\",\"\",Data!C964)","v":""},{"$f":"IF(Data!D964=\"\",\"\",Data!D964)","v":""},{"$f":"IF(Data!E964=\"\",\"\",Data!E964)","v":""},{"$f":"IF(Data!F964=\"\",\"\",Data!F964)","v":""},{"$f":"IF(Data!G964=\"\",\"\",Data!G964)","v":""},{"$f":"IF(Data!H964=\"\",\"\",Data!H964)","v":""},{"$f":"IF(Data!I964=\"\",\"\",Data!I964)","v":""},{"$f":"IF(Data!J964=\"\",\"\",Data!J964)","v":""},{"$f":"IF(Data!K964=\"\",\"\",Data!K964)","v":""},{"$f":"IF(Data!L964=\"\",\"\",Data!L964)","v":""},{"$f":"IF(Data!M964=\"\",\"\",Data!M964)","v":""},{"$f":"IF(Data!N964=\"\",\"\",Data!N964)","v":""},{"$f":"IF(Data!O964=\"\",\"\",Data!O964)","v":""},{"$f":"IF(Data!P964=\"\",\"\",Data!P964)","v":""},{"$f":"IF(Data!Q964=\"\",\"\",Data!Q964)","v":""},{"$f":"IF(Data!R964=\"\",\"\",Data!R964)","v":""},{"$f":"IF(Data!S964=\"\",\"\",Data!S964)","v":""},null,null,null,null,964]
[{"$f":"IF(Data!A965=\"\",\"\",Data!A965)","v":""},"",{"$f":"IF(Data!B965=\"\",\"\",Data!B965)","v":""},{"$f":"IF(Data!C965=\"\",\"\",Data!C965)","v":""},{"$f":"IF(Data!D965=\"\",\"\",Data!D965)","v":""},{"$f":"IF(Data!E965=\"\",\"\",Data!E965)","v":""},{"$f":"IF(Data!F965=\"\",\"\",Data!F965)","v":""},{"$f":"IF(Data!G965=\"\",\"\",Data!G965)","v":""},{"$f":"IF(Data!H965=\"\",\"\",Data!H965)","v":""},{"$f":"IF(Data!I965=\"\",\"\",Data!I965)","v":""},{"$f":"IF(Data!J965=\"\",\"\",Data!J965)","v":""},{"$f":"IF(Data!K965=\"\",\"\",Data!K965)","v":""},{"$f":"IF(Data!L965=\"\",\"\",Data!L965)","v":""},{"$f":"IF(Data!M965=\"\",\"\",Data!M965)","v":""},{"$f":"IF(Data!N965=\"\",\"\",Data!N965)","v":""},{"$f":"IF(Data!O965=\"\",\"\",Data!O965)","v":""},{"$f":"IF(Data!P965=\"\",\"\",Data!P965)","v":""},{"$f":"IF(Data!Q965=\"\",\"\",Data!Q965)","v":""},{"$f":"IF(Data!R965=\"\",\"\",Data!R965)","v":""},{"$f":"IF(Data!S965=\"\",\"\",Data!S965)","v":""},null,null,null,null,965]
[{"$f":"IF(Data!A966=\"\",\"\",Data!A966)","v":""},"",{"$f":"IF(Data!B966=\"\",\"\",Data!B966)","v":""},{"$f":"IF(Data!C966=\"\",\"\",Data!C966)","v":""},{"$f":"IF(Data!D966=\"\",\"\",Data!D966)","v":""},{"$f":"IF(Data!E966=\"\",\"\",Data!E966)","v":""},{"$f":"IF(Data!F966=\"\",\"\",Data!F966)","v":""},{"$f":"IF(Data!G966=\"\",\"\",Data!G966)","v":""},{"$f":"IF(Data!H966=\"\",\"\",Data!H966)","v":""},{"$f":"IF(Data!I966=\"\",\"\",Data!I966)","v":""},{"$f":"IF(Data!J966=\"\",\"\",Data!J966)","v":""},{"$f":"IF(Data!K966=\"\",\"\",Data!K966)","v":""},{"$f":"IF(Data!L966=\"\",\"\",Data!L966)","v":""},{"$f":"IF(Data!M966=\"\",\"\",Data!M966)","v":""},{"$f":"IF(Data!N966=\"\",\"\",Data!N966)","v":""},{"$f":"IF(Data!O966=\"\",\"\",Data!O966)","v":""},{"$f":"IF(Data!P966=\"\",\"\",Data!P966)","v":""},{"$f":"IF(Data!Q966=\"\",\"\",Data!Q966)","v":""},{"$f":"IF(Data!R966=\"\",\"\",Data!R966)","v":""},{"$f":"IF(Data!S966=\"\",\"\",Data!S966)","v":""},null,null,null,null,966]
[{"$f":"IF(Data!A967=\"\",\"\",Data!A967)","v":""},"",{"$f":"IF(Data!B967=\"\",\"\",Data!B967)","v":""},{"$f":"IF(Data!C967=\"\",\"\",Data!C967)","v":""},{"$f":"IF(Data!D967=\"\",\"\",Data!D967)","v":""},{"$f":"IF(Data!E967=\"\",\"\",Data!E967)","v":""},{"$f":"IF(Data!F967=\"\",\"\",Data!F967)","v":""},{"$f":"IF(Data!G967=\"\",\"\",Data!G967)","v":""},{"$f":"IF(Data!H967=\"\",\"\",Data!H967)","v":""},{"$f":"IF(Data!I967=\"\",\"\",Data!I967)","v":""},{"$f":"IF(Data!J967=\"\",\"\",Data!J967)","v":""},{"$f":"IF(Data!K967=\"\",\"\",Data!K967)","v":""},{"$f":"IF(Data!L967=\"\",\"\",Data!L967)","v":""},{"$f":"IF(Data!M967=\"\",\"\",Data!M967)","v":""},{"$f":"IF(Data!N967=\"\",\"\",Data!N967)","v":""},{"$f":"IF(Data!O967=\"\",\"\",Data!O967)","v":""},{"$f":"IF(Data!P967=\"\",\"\",Data!P967)","v":""},{"$f":"IF(Data!Q967=\"\",\"\",Data!Q967)","v":""},{"$f":"IF(Data!R967=\"\",\"\",Data!R967)","v":""},{"$f":"IF(Data!S967=\"\",\"\",Data!S967)","v":""},null,null,null,null,967]
[{"$f":"IF(Data!A968=\"\",\"\",Data!A968)","v":""},"",{"$f":"IF(Data!B968=\"\",\"\",Data!B968)","v":""},{"$f":"IF(Data!C968=\"\",\"\",Data!C968)","v":""},{"$f":"IF(Data!D968=\"\",\"\",Data!D968)","v":""},{"$f":"IF(Data!E968=\"\",\"\",Data!E968)","v":""},{"$f":"IF(Data!F968=\"\",\"\",Data!F968)","v":""},{"$f":"IF(Data!G968=\"\",\"\",Data!G968)","v":""},{"$f":"IF(Data!H968=\"\",\"\",Data!H968)","v":""},{"$f":"IF(Data!I968=\"\",\"\",Data!I968)","v":""},{"$f":"IF(Data!J968=\"\",\"\",Data!J968)","v":""},{"$f":"IF(Data!K968=\"\",\"\",Data!K968)","v":""},{"$f":"IF(Data!L968=\"\",\"\",Data!L968)","v":""},{"$f":"IF(Data!M968=\"\",\"\",Data!M968)","v":""},{"$f":"IF(Data!N968=\"\",\"\",Data!N968)","v":""},{"$f":"IF(Data!O968=\"\",\"\",Data!O968)","v":""},{"$f":"IF(Data!P968=\"\",\"\",Data!P968)","v":""},{"$f":"IF(Data!Q968=\"\",\"\",Data!Q968)","v":""},{"$f":"IF(Data!R968=\"\",\"\",Data!R968)","v":""},{"$f":"IF(Data!S968=\"\",\"\",Data!S968)","v":""},null,null,null,null,968]
[{"$f":"IF(Data!A969=\"\",\"\",Data!A969)","v":""},"",{"$f":"IF(Data!B969=\"\",\"\",Data!B969)","v":""},{"$f":"IF(Data!C969=\"\",\"\",Data!C969)","v":""},{"$f":"IF(Data!D969=\"\",\"\",Data!D969)","v":""},{"$f":"IF(Data!E969=\"\",\"\",Data!E969)","v":""},{"$f":"IF(Data!F969=\"\",\"\",Data!F969)","v":""},{"$f":"IF(Data!G969=\"\",\"\",Data!G969)","v":""},{"$f":"IF(Data!H969=\"\",\"\",Data!H969)","v":""},{"$f":"IF(Data!I969=\"\",\"\",Data!I969)","v":""},{"$f":"IF(Data!J969=\"\",\"\",Data!J969)","v":""},{"$f":"IF(Data!K969=\"\",\"\",Data!K969)","v":""},{"$f":"IF(Data!L969=\"\",\"\",Data!L969)","v":""},{"$f":"IF(Data!M969=\"\",\"\",Data!M969)","v":""},{"$f":"IF(Data!N969=\"\",\"\",Data!N969)","v":""},{"$f":"IF(Data!O969=\"\",\"\",Data!O969)","v":""},{"$f":"IF(Data!P969=\"\",\"\",Data!P969)","v":""},{"$f":"IF(Data!Q969=\"\",\"\",Data!Q969)","v":""},{"$f":"IF(Data!R969=\"\",\"\",Data!R969)","v":""},{"$f":"IF(Data!S969=\"\",\"\",Data!S969)","v":""},null,null,null,null,969]
[{"$f":"IF(Data!A970=\"\",\"\",Data!A970)","v":""},"",{"$f":"IF(Data!B970=\"\",\"\",Data!B970)","v":""},{"$f":"IF(Data!C970=\"\",\"\",Data!C970)","v":""},{"$f":"IF(Data!D970=\"\",\"\",Data!D970)","v":""},{"$f":"IF(Data!E970=\"\",\"\",Data!E970)","v":""},{"$f":"IF(Data!F970=\"\",\"\",Data!F970)","v":""},{"$f":"IF(Data!G970=\"\",\"\",Data!G970)","v":""},{"$f":"IF(Data!H970=\"\",\"\",Data!H970)","v":""},{"$f":"IF(Data!I970=\"\",\"\",Data!I970)","v":""},{"$f":"IF(Data!J970=\"\",\"\",Data!J970)","v":""},{"$f":"IF(Data!K970=\"\",\"\",Data!K970)","v":""},{"$f":"IF(Data!L970=\"\",\"\",Data!L970)","v":""},{"$f":"IF(Data!M970=\"\",\"\",Data!M970)","v":""},{"$f":"IF(Data!N970=\"\",\"\",Data!N970)","v":""},{"$f":"IF(Data!O970=\"\",\"\",Data!O970)","v":""},{"$f":"IF(Data!P970=\"\",\"\",Data!P970)","v":""},{"$f":"IF(Data!Q970=\"\",\"\",Data!Q970)","v":""},{"$f":"IF(Data!R970=\"\",\"\",Data!R970)","v":""},{"$f":"IF(Data!S970=\"\",\"\",Data!S970)","v":""},null,null,null,null,970]
[{"$f":"IF(Data!A971=\"\",\"\",Data!A971)","v":""},"",{"$f":"IF(Data!B971=\"\",\"\",Data!B971)","v":""},{"$f":"IF(Data!C971=\"\",\"\",Data!C971)","v":""},{"$f":"IF(Data!D971=\"\",\"\",Data!D971)","v":""},{"$f":"IF(Data!E971=\"\",\"\",Data!E971)","v":""},{"$f":"IF(Data!F971=\"\",\"\",Data!F971)","v":""},{"$f":"IF(Data!G971=\"\",\"\",Data!G971)","v":""},{"$f":"IF(Data!H971=\"\",\"\",Data!H971)","v":""},{"$f":"IF(Data!I971=\"\",\"\",Data!I971)","v":""},{"$f":"IF(Data!J971=\"\",\"\",Data!J971)","v":""},{"$f":"IF(Data!K971=\"\",\"\",Data!K971)","v":""},{"$f":"IF(Data!L971=\"\",\"\",Data!L971)","v":""},{"$f":"IF(Data!M971=\"\",\"\",Data!M971)","v":""},{"$f":"IF(Data!N971=\"\",\"\",Data!N971)","v":""},{"$f":"IF(Data!O971=\"\",\"\",Data!O971)","v":""},{"$f":"IF(Data!P971=\"\",\"\",Data!P971)","v":""},{"$f":"IF(Data!Q971=\"\",\"\",Data!Q971)","v":""},{"$f":"IF(Data!R971=\"\",\"\",Data!R971)","v":""},{"$f":"IF(Data!S971=\"\",\"\",Data!S971)","v":""},null,null,null,null,971]
[{"$f":"IF(Data!A972=\"\",\"\",Data!A972)","v":""},"",{"$f":"IF(Data!B972=\"\",\"\",Data!B972)","v":""},{"$f":"IF(Data!C972=\"\",\"\",Data!C972)","v":""},{"$f":"IF(Data!D972=\"\",\"\",Data!D972)","v":""},{"$f":"IF(Data!E972=\"\",\"\",Data!E972)","v":""},{"$f":"IF(Data!F972=\"\",\"\",Data!F972)","v":""},{"$f":"IF(Data!G972=\"\",\"\",Data!G972)","v":""},{"$f":"IF(Data!H972=\"\",\"\",Data!H972)","v":""},{"$f":"IF(Data!I972=\"\",\"\",Data!I972)","v":""},{"$f":"IF(Data!J972=\"\",\"\",Data!J972)","v":""},{"$f":"IF(Data!K972=\"\",\"\",Data!K972)","v":""},{"$f":"IF(Data!L972=\"\",\"\",Data!L972)","v":""},{"$f":"IF(Data!M972=\"\",\"\",Data!M972)","v":""},{"$f":"IF(Data!N972=\"\",\"\",Data!N972)","v":""},{"$f":"IF(Data!O972=\"\",\"\",Data!O972)","v":""},{"$f":"IF(Data!P972=\"\",\"\",Data!P972)","v":""},{"$f":"IF(Data!Q972=\"\",\"\",Data!Q972)","v":""},{"$f":"IF(Data!R972=\"\",\"\",Data!R972)","v":""},{"$f":"IF(Data!S972=\"\",\"\",Data!S972)","v":""},null,null,null,null,972]
[{"$f":"IF(Data!A973=\"\",\"\",Data!A973)","v":""},"",{"$f":"IF(Data!B973=\"\",\"\",Data!B973)","v":""},{"$f":"IF(Data!C973=\"\",\"\",Data!C973)","v":""},{"$f":"IF(Data!D973=\"\",\"\",Data!D973)","v":""},{"$f":"IF(Data!E973=\"\",\"\",Data!E973)","v":""},{"$f":"IF(Data!F973=\"\",\"\",Data!F973)","v":""},{"$f":"IF(Data!G973=\"\",\"\",Data!G973)","v":""},{"$f":"IF(Data!H973=\"\",\"\",Data!H973)","v":""},{"$f":"IF(Data!I973=\"\",\"\",Data!I973)","v":""},{"$f":"IF(Data!J973=\"\",\"\",Data!J973)","v":""},{"$f":"IF(Data!K973=\"\",\"\",Data!K973)","v":""},{"$f":"IF(Data!L973=\"\",\"\",Data!L973)","v":""},{"$f":"IF(Data!M973=\"\",\"\",Data!M973)","v":""},{"$f":"IF(Data!N973=\"\",\"\",Data!N973)","v":""},{"$f":"IF(Data!O973=\"\",\"\",Data!O973)","v":""},{"$f":"IF(Data!P973=\"\",\"\",Data!P973)","v":""},{"$f":"IF(Data!Q973=\"\",\"\",Data!Q973)","v":""},{"$f":"IF(Data!R973=\"\",\"\",Data!R973)","v":""},{"$f":"IF(Data!S973=\"\",\"\",Data!S973)","v":""},null,null,null,null,973]
[{"$f":"IF(Data!A974=\"\",\"\",Data!A974)","v":""},"",{"$f":"IF(Data!B974=\"\",\"\",Data!B974)","v":""},{"$f":"IF(Data!C974=\"\",\"\",Data!C974)","v":""},{"$f":"IF(Data!D974=\"\",\"\",Data!D974)","v":""},{"$f":"IF(Data!E974=\"\",\"\",Data!E974)","v":""},{"$f":"IF(Data!F974=\"\",\"\",Data!F974)","v":""},{"$f":"IF(Data!G974=\"\",\"\",Data!G974)","v":""},{"$f":"IF(Data!H974=\"\",\"\",Data!H974)","v":""},{"$f":"IF(Data!I974=\"\",\"\",Data!I974)","v":""},{"$f":"IF(Data!J974=\"\",\"\",Data!J974)","v":""},{"$f":"IF(Data!K974=\"\",\"\",Data!K974)","v":""},{"$f":"IF(Data!L974=\"\",\"\",Data!L974)","v":""},{"$f":"IF(Data!M974=\"\",\"\",Data!M974)","v":""},{"$f":"IF(Data!N974=\"\",\"\",Data!N974)","v":""},{"$f":"IF(Data!O974=\"\",\"\",Data!O974)","v":""},{"$f":"IF(Data!P974=\"\",\"\",Data!P974)","v":""},{"$f":"IF(Data!Q974=\"\",\"\",Data!Q974)","v":""},{"$f":"IF(Data!R974=\"\",\"\",Data!R974)","v":""},{"$f":"IF(Data!S974=\"\",\"\",Data!S974)","v":""},null,null,null,null,974]
[{"$f":"IF(Data!A975=\"\",\"\",Data!A975)","v":""},"",{"$f":"IF(Data!B975=\"\",\"\",Data!B975)","v":""},{"$f":"IF(Data!C975=\"\",\"\",Data!C975)","v":""},{"$f":"IF(Data!D975=\"\",\"\",Data!D975)","v":""},{"$f":"IF(Data!E975=\"\",\"\",Data!E975)","v":""},{"$f":"IF(Data!F975=\"\",\"\",Data!F975)","v":""},{"$f":"IF(Data!G975=\"\",\"\",Data!G975)","v":""},{"$f":"IF(Data!H975=\"\",\"\",Data!H975)","v":""},{"$f":"IF(Data!I975=\"\",\"\",Data!I975)","v":""},{"$f":"IF(Data!J975=\"\",\"\",Data!J975)","v":""},{"$f":"IF(Data!K975=\"\",\"\",Data!K975)","v":""},{"$f":"IF(Data!L975=\"\",\"\",Data!L975)","v":""},{"$f":"IF(Data!M975=\"\",\"\",Data!M975)","v":""},{"$f":"IF(Data!N975=\"\",\"\",Data!N975)","v":""},{"$f":"IF(Data!O975=\"\",\"\",Data!O975)","v":""},{"$f":"IF(Data!P975=\"\",\"\",Data!P975)","v":""},{"$f":"IF(Data!Q975=\"\",\"\",Data!Q975)","v":""},{"$f":"IF(Data!R975=\"\",\"\",Data!R975)","v":""},{"$f":"IF(Data!S975=\"\",\"\",Data!S975)","v":""},null,null,null,null,975]
[{"$f":"IF(Data!A976=\"\",\"\",Data!A976)","v":""},"",{"$f":"IF(Data!B976=\"\",\"\",Data!B976)","v":""},{"$f":"IF(Data!C976=\"\",\"\",Data!C976)","v":""},{"$f":"IF(Data!D976=\"\",\"\",Data!D976)","v":""},{"$f":"IF(Data!E976=\"\",\"\",Data!E976)","v":""},{"$f":"IF(Data!F976=\"\",\"\",Data!F976)","v":""},{"$f":"IF(Data!G976=\"\",\"\",Data!G976)","v":""},{"$f":"IF(Data!H976=\"\",\"\",Data!H976)","v":""},{"$f":"IF(Data!I976=\"\",\"\",Data!I976)","v":""},{"$f":"IF(Data!J976=\"\",\"\",Data!J976)","v":""},{"$f":"IF(Data!K976=\"\",\"\",Data!K976)","v":""},{"$f":"IF(Data!L976=\"\",\"\",Data!L976)","v":""},{"$f":"IF(Data!M976=\"\",\"\",Data!M976)","v":""},{"$f":"IF(Data!N976=\"\",\"\",Data!N976)","v":""},{"$f":"IF(Data!O976=\"\",\"\",Data!O976)","v":""},{"$f":"IF(Data!P976=\"\",\"\",Data!P976)","v":""},{"$f":"IF(Data!Q976=\"\",\"\",Data!Q976)","v":""},{"$f":"IF(Data!R976=\"\",\"\",Data!R976)","v":""},{"$f":"IF(Data!S976=\"\",\"\",Data!S976)","v":""},null,null,null,null,976]
[{"$f":"IF(Data!A977=\"\",\"\",Data!A977)","v":""},"",{"$f":"IF(Data!B977=\"\",\"\",Data!B977)","v":""},{"$f":"IF(Data!C977=\"\",\"\",Data!C977)","v":""},{"$f":"IF(Data!D977=\"\",\"\",Data!D977)","v":""},{"$f":"IF(Data!E977=\"\",\"\",Data!E977)","v":""},{"$f":"IF(Data!F977=\"\",\"\",Data!F977)","v":""},{"$f":"IF(Data!G977=\"\",\"\",Data!G977)","v":""},{"$f":"IF(Data!H977=\"\",\"\",Data!H977)","v":""},{"$f":"IF(Data!I977=\"\",\"\",Data!I977)","v":""},{"$f":"IF(Data!J977=\"\",\"\",Data!J977)","v":""},{"$f":"IF(Data!K977=\"\",\"\",Data!K977)","v":""},{"$f":"IF(Data!L977=\"\",\"\",Data!L977)","v":""},{"$f":"IF(Data!M977=\"\",\"\",Data!M977)","v":""},{"$f":"IF(Data!N977=\"\",\"\",Data!N977)","v":""},{"$f":"IF(Data!O977=\"\",\"\",Data!O977)","v":""},{"$f":"IF(Data!P977=\"\",\"\",Data!P977)","v":""},{"$f":"IF(Data!Q977=\"\",\"\",Data!Q977)","v":""},{"$f":"IF(Data!R977=\"\",\"\",Data!R977)","v":""},{"$f":"IF(Data!S977=\"\",\"\",Data!S977)","v":""},null,null,null,null,977]
[{"$f":"IF(Data!A978=\"\",\"\",Data!A978)","v":""},"",{"$f":"IF(Data!B978=\"\",\"\",Data!B978)","v":""},{"$f":"IF(Data!C978=\"\",\"\",Data!C978)","v":""},{"$f":"IF(Data!D978=\"\",\"\",Data!D978)","v":""},{"$f":"IF(Data!E978=\"\",\"\",Data!E978)","v":""},{"$f":"IF(Data!F978=\"\",\"\",Data!F978)","v":""},{"$f":"IF(Data!G978=\"\",\"\",Data!G978)","v":""},{"$f":"IF(Data!H978=\"\",\"\",Data!H978)","v":""},{"$f":"IF(Data!I978=\"\",\"\",Data!I978)","v":""},{"$f":"IF(Data!J978=\"\",\"\",Data!J978)","v":""},{"$f":"IF(Data!K978=\"\",\"\",Data!K978)","v":""},{"$f":"IF(Data!L978=\"\",\"\",Data!L978)","v":""},{"$f":"IF(Data!M978=\"\",\"\",Data!M978)","v":""},{"$f":"IF(Data!N978=\"\",\"\",Data!N978)","v":""},{"$f":"IF(Data!O978=\"\",\"\",Data!O978)","v":""},{"$f":"IF(Data!P978=\"\",\"\",Data!P978)","v":""},{"$f":"IF(Data!Q978=\"\",\"\",Data!Q978)","v":""},{"$f":"IF(Data!R978=\"\",\"\",Data!R978)","v":""},{"$f":"IF(Data!S978=\"\",\"\",Data!S978)","v":""},null,null,null,null,978]
[{"$f":"IF(Data!A979=\"\",\"\",Data!A979)","v":""},"",{"$f":"IF(Data!B979=\"\",\"\",Data!B979)","v":""},{"$f":"IF(Data!C979=\"\",\"\",Data!C979)","v":""},{"$f":"IF(Data!D979=\"\",\"\",Data!D979)","v":""},{"$f":"IF(Data!E979=\"\",\"\",Data!E979)","v":""},{"$f":"IF(Data!F979=\"\",\"\",Data!F979)","v":""},{"$f":"IF(Data!G979=\"\",\"\",Data!G979)","v":""},{"$f":"IF(Data!H979=\"\",\"\",Data!H979)","v":""},{"$f":"IF(Data!I979=\"\",\"\",Data!I979)","v":""},{"$f":"IF(Data!J979=\"\",\"\",Data!J979)","v":""},{"$f":"IF(Data!K979=\"\",\"\",Data!K979)","v":""},{"$f":"IF(Data!L979=\"\",\"\",Data!L979)","v":""},{"$f":"IF(Data!M979=\"\",\"\",Data!M979)","v":""},{"$f":"IF(Data!N979=\"\",\"\",Data!N979)","v":""},{"$f":"IF(Data!O979=\"\",\"\",Data!O979)","v":""},{"$f":"IF(Data!P979=\"\",\"\",Data!P979)","v":""},{"$f":"IF(Data!Q979=\"\",\"\",Data!Q979)","v":""},{"$f":"IF(Data!R979=\"\",\"\",Data!R979)","v":""},{"$f":"IF(Data!S979=\"\",\"\",Data!S979)","v":""},null,null,null,null,979]
[{"$f":"IF(Data!A980=\"\",\"\",Data!A980)","v":""},"",{"$f":"IF(Data!B980=\"\",\"\",Data!B980)","v":""},{"$f":"IF(Data!C980=\"\",\"\",Data!C980)","v":""},{"$f":"IF(Data!D980=\"\",\"\",Data!D980)","v":""},{"$f":"IF(Data!E980=\"\",\"\",Data!E980)","v":""},{"$f":"IF(Data!F980=\"\",\"\",Data!F980)","v":""},{"$f":"IF(Data!G980=\"\",\"\",Data!G980)","v":""},{"$f":"IF(Data!H980=\"\",\"\",Data!H980)","v":""},{"$f":"IF(Data!I980=\"\",\"\",Data!I980)","v":""},{"$f":"IF(Data!J980=\"\",\"\",Data!J980)","v":""},{"$f":"IF(Data!K980=\"\",\"\",Data!K980)","v":""},{"$f":"IF(Data!L980=\"\",\"\",Data!L980)","v":""},{"$f":"IF(Data!M980=\"\",\"\",Data!M980)","v":""},{"$f":"IF(Data!N980=\"\",\"\",Data!N980)","v":""},{"$f":"IF(Data!O980=\"\",\"\",Data!O980)","v":""},{"$f":"IF(Data!P980=\"\",\"\",Data!P980)","v":""},{"$f":"IF(Data!Q980=\"\",\"\",Data!Q980)","v":""},{"$f":"IF(Data!R980=\"\",\"\",Data!R980)","v":""},{"$f":"IF(Data!S980=\"\",\"\",Data!S980)","v":""},null,null,null,null,980]
[{"$f":"IF(Data!A981=\"\",\"\",Data!A981)","v":""},"",{"$f":"IF(Data!B981=\"\",\"\",Data!B981)","v":""},{"$f":"IF(Data!C981=\"\",\"\",Data!C981)","v":""},{"$f":"IF(Data!D981=\"\",\"\",Data!D981)","v":""},{"$f":"IF(Data!E981=\"\",\"\",Data!E981)","v":""},{"$f":"IF(Data!F981=\"\",\"\",Data!F981)","v":""},{"$f":"IF(Data!G981=\"\",\"\",Data!G981)","v":""},{"$f":"IF(Data!H981=\"\",\"\",Data!H981)","v":""},{"$f":"IF(Data!I981=\"\",\"\",Data!I981)","v":""},{"$f":"IF(Data!J981=\"\",\"\",Data!J981)","v":""},{"$f":"IF(Data!K981=\"\",\"\",Data!K981)","v":""},{"$f":"IF(Data!L981=\"\",\"\",Data!L981)","v":""},{"$f":"IF(Data!M981=\"\",\"\",Data!M981)","v":""},{"$f":"IF(Data!N981=\"\",\"\",Data!N981)","v":""},{"$f":"IF(Data!O981=\"\",\"\",Data!O981)","v":""},{"$f":"IF(Data!P981=\"\",\"\",Data!P981)","v":""},{"$f":"IF(Data!Q981=\"\",\"\",Data!Q981)","v":""},{"$f":"IF(Data!R981=\"\",\"\",Data!R981)","v":""},{"$f":"IF(Data!S981=\"\",\"\",Data!S981)","v":""},null,null,null,null,981]
[{"$f":"IF(Data!A982=\"\",\"\",Data!A982)","v":""},"",{"$f":"IF(Data!B982=\"\",\"\",Data!B982)","v":""},{"$f":"IF(Data!C982=\"\",\"\",Data!C982)","v":""},{"$f":"IF(Data!D982=\"\",\"\",Data!D982)","v":""},{"$f":"IF(Data!E982=\"\",\"\",Data!E982)","v":""},{"$f":"IF(Data!F982=\"\",\"\",Data!F982)","v":""},{"$f":"IF(Data!G982=\"\",\"\",Data!G982)","v":""},{"$f":"IF(Data!H982=\"\",\"\",Data!H982)","v":""},{"$f":"IF(Data!I982=\"\",\"\",Data!I982)","v":""},{"$f":"IF(Data!J982=\"\",\"\",Data!J982)","v":""},{"$f":"IF(Data!K982=\"\",\"\",Data!K982)","v":""},{"$f":"IF(Data!L982=\"\",\"\",Data!L982)","v":""},{"$f":"IF(Data!M982=\"\",\"\",Data!M982)","v":""},{"$f":"IF(Data!N982=\"\",\"\",Data!N982)","v":""},{"$f":"IF(Data!O982=\"\",\"\",Data!O982)","v":""},{"$f":"IF(Data!P982=\"\",\"\",Data!P982)","v":""},{"$f":"IF(Data!Q982=\"\",\"\",Data!Q982)","v":""},{"$f":"IF(Data!R982=\"\",\"\",Data!R982)","v":""},{"$f":"IF(Data!S982=\"\",\"\",Data!S982)","v":""},null,null,null,null,982]
[{"$f":"IF(Data!A983=\"\",\"\",Data!A983)","v":""},"",{"$f":"IF(Data!B983=\"\",\"\",Data!B983)","v":""},{"$f":"IF(Data!C983=\"\",\"\",Data!C983)","v":""},{"$f":"IF(Data!D983=\"\",\"\",Data!D983)","v":""},{"$f":"IF(Data!E983=\"\",\"\",Data!E983)","v":""},{"$f":"IF(Data!F983=\"\",\"\",Data!F983)","v":""},{"$f":"IF(Data!G983=\"\",\"\",Data!G983)","v":""},{"$f":"IF(Data!H983=\"\",\"\",Data!H983)","v":""},{"$f":"IF(Data!I983=\"\",\"\",Data!I983)","v":""},{"$f":"IF(Data!J983=\"\",\"\",Data!J983)","v":""},{"$f":"IF(Data!K983=\"\",\"\",Data!K983)","v":""},{"$f":"IF(Data!L983=\"\",\"\",Data!L983)","v":""},{"$f":"IF(Data!M983=\"\",\"\",Data!M983)","v":""},{"$f":"IF(Data!N983=\"\",\"\",Data!N983)","v":""},{"$f":"IF(Data!O983=\"\",\"\",Data!O983)","v":""},{"$f":"IF(Data!P983=\"\",\"\",Data!P983)","v":""},{"$f":"IF(Data!Q983=\"\",\"\",Data!Q983)","v":""},{"$f":"IF(Data!R983=\"\",\"\",Data!R983)","v":""},{"$f":"IF(Data!S983=\"\",\"\",Data!S983)","v":""},null,null,null,null,983]
[{"$f":"IF(Data!A984=\"\",\"\",Data!A984)","v":""},"",{"$f":"IF(Data!B984=\"\",\"\",Data!B984)","v":""},{"$f":"IF(Data!C984=\"\",\"\",Data!C984)","v":""},{"$f":"IF(Data!D984=\"\",\"\",Data!D984)","v":""},{"$f":"IF(Data!E984=\"\",\"\",Data!E984)","v":""},{"$f":"IF(Data!F984=\"\",\"\",Data!F984)","v":""},{"$f":"IF(Data!G984=\"\",\"\",Data!G984)","v":""},{"$f":"IF(Data!H984=\"\",\"\",Data!H984)","v":""},{"$f":"IF(Data!I984=\"\",\"\",Data!I984)","v":""},{"$f":"IF(Data!J984=\"\",\"\",Data!J984)","v":""},{"$f":"IF(Data!K984=\"\",\"\",Data!K984)","v":""},{"$f":"IF(Data!L984=\"\",\"\",Data!L984)","v":""},{"$f":"IF(Data!M984=\"\",\"\",Data!M984)","v":""},{"$f":"IF(Data!N984=\"\",\"\",Data!N984)","v":""},{"$f":"IF(Data!O984=\"\",\"\",Data!O984)","v":""},{"$f":"IF(Data!P984=\"\",\"\",Data!P984)","v":""},{"$f":"IF(Data!Q984=\"\",\"\",Data!Q984)","v":""},{"$f":"IF(Data!R984=\"\",\"\",Data!R984)","v":""},{"$f":"IF(Data!S984=\"\",\"\",Data!S984)","v":""},null,null,null,null,984]
[{"$f":"IF(Data!A985=\"\",\"\",Data!A985)","v":""},"",{"$f":"IF(Data!B985=\"\",\"\",Data!B985)","v":""},{"$f":"IF(Data!C985=\"\",\"\",Data!C985)","v":""},{"$f":"IF(Data!D985=\"\",\"\",Data!D985)","v":""},{"$f":"IF(Data!E985=\"\",\"\",Data!E985)","v":""},{"$f":"IF(Data!F985=\"\",\"\",Data!F985)","v":""},{"$f":"IF(Data!G985=\"\",\"\",Data!G985)","v":""},{"$f":"IF(Data!H985=\"\",\"\",Data!H985)","v":""},{"$f":"IF(Data!I985=\"\",\"\",Data!I985)","v":""},{"$f":"IF(Data!J985=\"\",\"\",Data!J985)","v":""},{"$f":"IF(Data!K985=\"\",\"\",Data!K985)","v":""},{"$f":"IF(Data!L985=\"\",\"\",Data!L985)","v":""},{"$f":"IF(Data!M985=\"\",\"\",Data!M985)","v":""},{"$f":"IF(Data!N985=\"\",\"\",Data!N985)","v":""},{"$f":"IF(Data!O985=\"\",\"\",Data!O985)","v":""},{"$f":"IF(Data!P985=\"\",\"\",Data!P985)","v":""},{"$f":"IF(Data!Q985=\"\",\"\",Data!Q985)","v":""},{"$f":"IF(Data!R985=\"\",\"\",Data!R985)","v":""},{"$f":"IF(Data!S985=\"\",\"\",Data!S985)","v":""},null,null,null,null,985]
[{"$f":"IF(Data!A986=\"\",\"\",Data!A986)","v":""},"",{"$f":"IF(Data!B986=\"\",\"\",Data!B986)","v":""},{"$f":"IF(Data!C986=\"\",\"\",Data!C986)","v":""},{"$f":"IF(Data!D986=\"\",\"\",Data!D986)","v":""},{"$f":"IF(Data!E986=\"\",\"\",Data!E986)","v":""},{"$f":"IF(Data!F986=\"\",\"\",Data!F986)","v":""},{"$f":"IF(Data!G986=\"\",\"\",Data!G986)","v":""},{"$f":"IF(Data!H986=\"\",\"\",Data!H986)","v":""},{"$f":"IF(Data!I986=\"\",\"\",Data!I986)","v":""},{"$f":"IF(Data!J986=\"\",\"\",Data!J986)","v":""},{"$f":"IF(Data!K986=\"\",\"\",Data!K986)","v":""},{"$f":"IF(Data!L986=\"\",\"\",Data!L986)","v":""},{"$f":"IF(Data!M986=\"\",\"\",Data!M986)","v":""},{"$f":"IF(Data!N986=\"\",\"\",Data!N986)","v":""},{"$f":"IF(Data!O986=\"\",\"\",Data!O986)","v":""},{"$f":"IF(Data!P986=\"\",\"\",Data!P986)","v":""},{"$f":"IF(Data!Q986=\"\",\"\",Data!Q986)","v":""},{"$f":"IF(Data!R986=\"\",\"\",Data!R986)","v":""},{"$f":"IF(Data!S986=\"\",\"\",Data!S986)","v":""},null,null,null,null,986]
[{"$f":"IF(Data!A987=\"\",\"\",Data!A987)","v":""},"",{"$f":"IF(Data!B987=\"\",\"\",Data!B987)","v":""},{"$f":"IF(Data!C987=\"\",\"\",Data!C987)","v":""},{"$f":"IF(Data!D987=\"\",\"\",Data!D987)","v":""},{"$f":"IF(Data!E987=\"\",\"\",Data!E987)","v":""},{"$f":"IF(Data!F987=\"\",\"\",Data!F987)","v":""},{"$f":"IF(Data!G987=\"\",\"\",Data!G987)","v":""},{"$f":"IF(Data!H987=\"\",\"\",Data!H987)","v":""},{"$f":"IF(Data!I987=\"\",\"\",Data!I987)","v":""},{"$f":"IF(Data!J987=\"\",\"\",Data!J987)","v":""},{"$f":"IF(Data!K987=\"\",\"\",Data!K987)","v":""},{"$f":"IF(Data!L987=\"\",\"\",Data!L987)","v":""},{"$f":"IF(Data!M987=\"\",\"\",Data!M987)","v":""},{"$f":"IF(Data!N987=\"\",\"\",Data!N987)","v":""},{"$f":"IF(Data!O987=\"\",\"\",Data!O987)","v":""},{"$f":"IF(Data!P987=\"\",\"\",Data!P987)","v":""},{"$f":"IF(Data!Q987=\"\",\"\",Data!Q987)","v":""},{"$f":"IF(Data!R987=\"\",\"\",Data!R987)","v":""},{"$f":"IF(Data!S987=\"\",\"\",Data!S987)","v":""},null,null,null,null,987]
[{"$f":"IF(Data!A988=\"\",\"\",Data!A988)","v":""},"",{"$f":"IF(Data!B988=\"\",\"\",Data!B988)","v":""},{"$f":"IF(Data!C988=\"\",\"\",Data!C988)","v":""},{"$f":"IF(Data!D988=\"\",\"\",Data!D988)","v":""},{"$f":"IF(Data!E988=\"\",\"\",Data!E988)","v":""},{"$f":"IF(Data!F988=\"\",\"\",Data!F988)","v":""},{"$f":"IF(Data!G988=\"\",\"\",Data!G988)","v":""},{"$f":"IF(Data!H988=\"\",\"\",Data!H988)","v":""},{"$f":"IF(Data!I988=\"\",\"\",Data!I988)","v":""},{"$f":"IF(Data!J988=\"\",\"\",Data!J988)","v":""},{"$f":"IF(Data!K988=\"\",\"\",Data!K988)","v":""},{"$f":"IF(Data!L988=\"\",\"\",Data!L988)","v":""},{"$f":"IF(Data!M988=\"\",\"\",Data!M988)","v":""},{"$f":"IF(Data!N988=\"\",\"\",Data!N988)","v":""},{"$f":"IF(Data!O988=\"\",\"\",Data!O988)","v":""},{"$f":"IF(Data!P988=\"\",\"\",Data!P988)","v":""},{"$f":"IF(Data!Q988=\"\",\"\",Data!Q988)","v":""},{"$f":"IF(Data!R988=\"\",\"\",Data!R988)","v":""},{"$f":"IF(Data!S988=\"\",\"\",Data!S988)","v":""},null,null,null,null,988]
[{"$f":"IF(Data!A989=\"\",\"\",Data!A989)","v":""},"",{"$f":"IF(Data!B989=\"\",\"\",Data!B989)","v":""},{"$f":"IF(Data!C989=\"\",\"\",Data!C989)","v":""},{"$f":"IF(Data!D989=\"\",\"\",Data!D989)","v":""},{"$f":"IF(Data!E989=\"\",\"\",Data!E989)","v":""},{"$f":"IF(Data!F989=\"\",\"\",Data!F989)","v":""},{"$f":"IF(Data!G989=\"\",\"\",Data!G989)","v":""},{"$f":"IF(Data!H989=\"\",\"\",Data!H989)","v":""},{"$f":"IF(Data!I989=\"\",\"\",Data!I989)","v":""},{"$f":"IF(Data!J989=\"\",\"\",Data!J989)","v":""},{"$f":"IF(Data!K989=\"\",\"\",Data!K989)","v":""},{"$f":"IF(Data!L989=\"\",\"\",Data!L989)","v":""},{"$f":"IF(Data!M989=\"\",\"\",Data!M989)","v":""},{"$f":"IF(Data!N989=\"\",\"\",Data!N989)","v":""},{"$f":"IF(Data!O989=\"\",\"\",Data!O989)","v":""},{"$f":"IF(Data!P989=\"\",\"\",Data!P989)","v":""},{"$f":"IF(Data!Q989=\"\",\"\",Data!Q989)","v":""},{"$f":"IF(Data!R989=\"\",\"\",Data!R989)","v":""},{"$f":"IF(Data!S989=\"\",\"\",Data!S989)","v":""},null,null,null,null,989]
[{"$f":"IF(Data!A990=\"\",\"\",Data!A990)","v":""},"",{"$f":"IF(Data!B990=\"\",\"\",Data!B990)","v":""},{"$f":"IF(Data!C990=\"\",\"\",Data!C990)","v":""},{"$f":"IF(Data!D990=\"\",\"\",Data!D990)","v":""},{"$f":"IF(Data!E990=\"\",\"\",Data!E990)","v":""},{"$f":"IF(Data!F990=\"\",\"\",Data!F990)","v":""},{"$f":"IF(Data!G990=\"\",\"\",Data!G990)","v":""},{"$f":"IF(Data!H990=\"\",\"\",Data!H990)","v":""},{"$f":"IF(Data!I990=\"\",\"\",Data!I990)","v":""},{"$f":"IF(Data!J990=\"\",\"\",Data!J990)","v":""},{"$f":"IF(Data!K990=\"\",\"\",Data!K990)","v":""},{"$f":"IF(Data!L990=\"\",\"\",Data!L990)","v":""},{"$f":"IF(Data!M990=\"\",\"\",Data!M990)","v":""},{"$f":"IF(Data!N990=\"\",\"\",Data!N990)","v":""},{"$f":"IF(Data!O990=\"\",\"\",Data!O990)","v":""},{"$f":"IF(Data!P990=\"\",\"\",Data!P990)","v":""},{"$f":"IF(Data!Q990=\"\",\"\",Data!Q990)","v":""},{"$f":"IF(Data!R990=\"\",\"\",Data!R990)","v":""},{"$f":"IF(Data!S990=\"\",\"\",Data!S990)","v":""},null,null,null,null,990]
[{"$f":"IF(Data!A991=\"\",\"\",Data!A991)","v":""},"",{"$f":"IF(Data!B991=\"\",\"\",Data!B991)","v":""},{"$f":"IF(Data!C991=\"\",\"\",Data!C991)","v":""},{"$f":"IF(Data!D991=\"\",\"\",Data!D991)","v":""},{"$f":"IF(Data!E991=\"\",\"\",Data!E991)","v":""},{"$f":"IF(Data!F991=\"\",\"\",Data!F991)","v":""},{"$f":"IF(Data!G991=\"\",\"\",Data!G991)","v":""},{"$f":"IF(Data!H991=\"\",\"\",Data!H991)","v":""},{"$f":"IF(Data!I991=\"\",\"\",Data!I991)","v":""},{"$f":"IF(Data!J991=\"\",\"\",Data!J991)","v":""},{"$f":"IF(Data!K991=\"\",\"\",Data!K991)","v":""},{"$f":"IF(Data!L991=\"\",\"\",Data!L991)","v":""},{"$f":"IF(Data!M991=\"\",\"\",Data!M991)","v":""},{"$f":"IF(Data!N991=\"\",\"\",Data!N991)","v":""},{"$f":"IF(Data!O991=\"\",\"\",Data!O991)","v":""},{"$f":"IF(Data!P991=\"\",\"\",Data!P991)","v":""},{"$f":"IF(Data!Q991=\"\",\"\",Data!Q991)","v":""},{"$f":"IF(Data!R991=\"\",\"\",Data!R991)","v":""},{"$f":"IF(Data!S991=\"\",\"\",Data!S991)","v":""},null,null,null,null,991]
[{"$f":"IF(Data!A992=\"\",\"\",Data!A992)","v":""},"",{"$f":"IF(Data!B992=\"\",\"\",Data!B992)","v":""},{"$f":"IF(Data!C992=\"\",\"\",Data!C992)","v":""},{"$f":"IF(Data!D992=\"\",\"\",Data!D992)","v":""},{"$f":"IF(Data!E992=\"\",\"\",Data!E992)","v":""},{"$f":"IF(Data!F992=\"\",\"\",Data!F992)","v":""},{"$f":"IF(Data!G992=\"\",\"\",Data!G992)","v":""},{"$f":"IF(Data!H992=\"\",\"\",Data!H992)","v":""},{"$f":"IF(Data!I992=\"\",\"\",Data!I992)","v":""},{"$f":"IF(Data!J992=\"\",\"\",Data!J992)","v":""},{"$f":"IF(Data!K992=\"\",\"\",Data!K992)","v":""},{"$f":"IF(Data!L992=\"\",\"\",Data!L992)","v":""},{"$f":"IF(Data!M992=\"\",\"\",Data!M992)","v":""},{"$f":"IF(Data!N992=\"\",\"\",Data!N992)","v":""},{"$f":"IF(Data!O992=\"\",\"\",Data!O992)","v":""},{"$f":"IF(Data!P992=\"\",\"\",Data!P992)","v":""},{"$f":"IF(Data!Q992=\"\",\"\",Data!Q992)","v":""},{"$f":"IF(Data!R992=\"\",\"\",Data!R992)","v":""},{"$f":"IF(Data!S992=\"\",\"\",Data!S992)","v":""},null,null,null,null,992]
[{"$f":"IF(Data!A993=\"\",\"\",Data!A993)","v":""},"",{"$f":"IF(Data!B993=\"\",\"\",Data!B993)","v":""},{"$f":"IF(Data!C993=\"\",\"\",Data!C993)","v":""},{"$f":"IF(Data!D993=\"\",\"\",Data!D993)","v":""},{"$f":"IF(Data!E993=\"\",\"\",Data!E993)","v":""},{"$f":"IF(Data!F993=\"\",\"\",Data!F993)","v":""},{"$f":"IF(Data!G993=\"\",\"\",Data!G993)","v":""},{"$f":"IF(Data!H993=\"\",\"\",Data!H993)","v":""},{"$f":"IF(Data!I993=\"\",\"\",Data!I993)","v":""},{"$f":"IF(Data!J993=\"\",\"\",Data!J993)","v":""},{"$f":"IF(Data!K993=\"\",\"\",Data!K993)","v":""},{"$f":"IF(Data!L993=\"\",\"\",Data!L993)","v":""},{"$f":"IF(Data!M993=\"\",\"\",Data!M993)","v":""},{"$f":"IF(Data!N993=\"\",\"\",Data!N993)","v":""},{"$f":"IF(Data!O993=\"\",\"\",Data!O993)","v":""},{"$f":"IF(Data!P993=\"\",\"\",Data!P993)","v":""},{"$f":"IF(Data!Q993=\"\",\"\",Data!Q993)","v":""},{"$f":"IF(Data!R993=\"\",\"\",Data!R993)","v":""},{"$f":"IF(Data!S993=\"\",\"\",Data!S993)","v":""},null,null,null,null,993]
[{"$f":"IF(Data!A994=\"\",\"\",Data!A994)","v":""},"",{"$f":"IF(Data!B994=\"\",\"\",Data!B994)","v":""},{"$f":"IF(Data!C994=\"\",\"\",Data!C994)","v":""},{"$f":"IF(Data!D994=\"\",\"\",Data!D994)","v":""},{"$f":"IF(Data!E994=\"\",\"\",Data!E994)","v":""},{"$f":"IF(Data!F994=\"\",\"\",Data!F994)","v":""},{"$f":"IF(Data!G994=\"\",\"\",Data!G994)","v":""},{"$f":"IF(Data!H994=\"\",\"\",Data!H994)","v":""},{"$f":"IF(Data!I994=\"\",\"\",Data!I994)","v":""},{"$f":"IF(Data!J994=\"\",\"\",Data!J994)","v":""},{"$f":"IF(Data!K994=\"\",\"\",Data!K994)","v":""},{"$f":"IF(Data!L994=\"\",\"\",Data!L994)","v":""},{"$f":"IF(Data!M994=\"\",\"\",Data!M994)","v":""},{"$f":"IF(Data!N994=\"\",\"\",Data!N994)","v":""},{"$f":"IF(Data!O994=\"\",\"\",Data!O994)","v":""},{"$f":"IF(Data!P994=\"\",\"\",Data!P994)","v":""},{"$f":"IF(Data!Q994=\"\",\"\",Data!Q994)","v":""},{"$f":"IF(Data!R994=\"\",\"\",Data!R994)","v":""},{"$f":"IF(Data!S994=\"\",\"\",Data!S994)","v":""},null,null,null,null,994]
[{"$f":"IF(Data!A995=\"\",\"\",Data!A995)","v":""},"",{"$f":"IF(Data!B995=\"\",\"\",Data!B995)","v":""},{"$f":"IF(Data!C995=\"\",\"\",Data!C995)","v":""},{"$f":"IF(Data!D995=\"\",\"\",Data!D995)","v":""},{"$f":"IF(Data!E995=\"\",\"\",Data!E995)","v":""},{"$f":"IF(Data!F995=\"\",\"\",Data!F995)","v":""},{"$f":"IF(Data!G995=\"\",\"\",Data!G995)","v":""},{"$f":"IF(Data!H995=\"\",\"\",Data!H995)","v":""},{"$f":"IF(Data!I995=\"\",\"\",Data!I995)","v":""},{"$f":"IF(Data!J995=\"\",\"\",Data!J995)","v":""},{"$f":"IF(Data!K995=\"\",\"\",Data!K995)","v":""},{"$f":"IF(Data!L995=\"\",\"\",Data!L995)","v":""},{"$f":"IF(Data!M995=\"\",\"\",Data!M995)","v":""},{"$f":"IF(Data!N995=\"\",\"\",Data!N995)","v":""},{"$f":"IF(Data!O995=\"\",\"\",Data!O995)","v":""},{"$f":"IF(Data!P995=\"\",\"\",Data!P995)","v":""},{"$f":"IF(Data!Q995=\"\",\"\",Data!Q995)","v":""},{"$f":"IF(Data!R995=\"\",\"\",Data!R995)","v":""},{"$f":"IF(Data!S995=\"\",\"\",Data!S995)","v":""},null,null,null,null,995]
[{"$f":"IF(Data!A996=\"\",\"\",Data!A996)","v":""},"",{"$f":"IF(Data!B996=\"\",\"\",Data!B996)","v":""},{"$f":"IF(Data!C996=\"\",\"\",Data!C996)","v":""},{"$f":"IF(Data!D996=\"\",\"\",Data!D996)","v":""},{"$f":"IF(Data!E996=\"\",\"\",Data!E996)","v":""},{"$f":"IF(Data!F996=\"\",\"\",Data!F996)","v":""},{"$f":"IF(Data!G996=\"\",\"\",Data!G996)","v":""},{"$f":"IF(Data!H996=\"\",\"\",Data!H996)","v":""},{"$f":"IF(Data!I996=\"\",\"\",Data!I996)","v":""},{"$f":"IF(Data!J996=\"\",\"\",Data!J996)","v":""},{"$f":"IF(Data!K996=\"\",\"\",Data!K996)","v":""},{"$f":"IF(Data!L996=\"\",\"\",Data!L996)","v":""},{"$f":"IF(Data!M996=\"\",\"\",Data!M996)","v":""},{"$f":"IF(Data!N996=\"\",\"\",Data!N996)","v":""},{"$f":"IF(Data!O996=\"\",\"\",Data!O996)","v":""},{"$f":"IF(Data!P996=\"\",\"\",Data!P996)","v":""},{"$f":"IF(Data!Q996=\"\",\"\",Data!Q996)","v":""},{"$f":"IF(Data!R996=\"\",\"\",Data!R996)","v":""},{"$f":"IF(Data!S996=\"\",\"\",Data!S996)","v":""},null,null,null,null,996]
[{"$f":"IF(Data!A997=\"\",\"\",Data!A997)","v":""},"",{"$f":"IF(Data!B997=\"\",\"\",Data!B997)","v":""},{"$f":"IF(Data!C997=\"\",\"\",Data!C997)","v":""},{"$f":"IF(Data!D997=\"\",\"\",Data!D997)","v":""},{"$f":"IF(Data!E997=\"\",\"\",Data!E997)","v":""},{"$f":"IF(Data!F997=\"\",\"\",Data!F997)","v":""},{"$f":"IF(Data!G997=\"\",\"\",Data!G997)","v":""},{"$f":"IF(Data!H997=\"\",\"\",Data!H997)","v":""},{"$f":"IF(Data!I997=\"\",\"\",Data!I997)","v":""},{"$f":"IF(Data!J997=\"\",\"\",Data!J997)","v":""},{"$f":"IF(Data!K997=\"\",\"\",Data!K997)","v":""},{"$f":"IF(Data!L997=\"\",\"\",Data!L997)","v":""},{"$f":"IF(Data!M997=\"\",\"\",Data!M997)","v":""},{"$f":"IF(Data!N997=\"\",\"\",Data!N997)","v":""},{"$f":"IF(Data!O997=\"\",\"\",Data!O997)","v":""},{"$f":"IF(Data!P997=\"\",\"\",Data!P997)","v":""},{"$f":"IF(Data!Q997=\"\",\"\",Data!Q997)","v":""},{"$f":"IF(Data!R997=\"\",\"\",Data!R997)","v":""},{"$f":"IF(Data!S997=\"\",\"\",Data!S997)","v":""},null,null,null,null,997]
[{"$f":"IF(Data!A998=\"\",\"\",Data!A998)","v":""},"",{"$f":"IF(Data!B998=\"\",\"\",Data!B998)","v":""},{"$f":"IF(Data!C998=\"\",\"\",Data!C998)","v":""},{"$f":"IF(Data!D998=\"\",\"\",Data!D998)","v":""},{"$f":"IF(Data!E998=\"\",\"\",Data!E998)","v":""},{"$f":"IF(Data!F998=\"\",\"\",Data!F998)","v":""},{"$f":"IF(Data!G998=\"\",\"\",Data!G998)","v":""},{"$f":"IF(Data!H998=\"\",\"\",Data!H998)","v":""},{"$f":"IF(Data!I998=\"\",\"\",Data!I998)","v":""},{"$f":"IF(Data!J998=\"\",\"\",Data!J998)","v":""},{"$f":"IF(Data!K998=\"\",\"\",Data!K998)","v":""},{"$f":"IF(Data!L998=\"\",\"\",Data!L998)","v":""},{"$f":"IF(Data!M998=\"\",\"\",Data!M998)","v":""},{"$f":"IF(Data!N998=\"\",\"\",Data!N998)","v":""},{"$f":"IF(Data!O998=\"\",\"\",Data!O998)","v":""},{"$f":"IF(Data!P998=\"\",\"\",Data!P998)","v":""},{"$f":"IF(Data!Q998=\"\",\"\",Data!Q998)","v":""},{"$f":"IF(Data!R998=\"\",\"\",Data!R998)","v":""},{"$f":"IF(Data!S998=\"\",\"\",Data!S998)","v":""},null,null,null,null,998]
[{"$f":"IF(Data!A999=\"\",\"\",Data!A999)","v":""},"",{"$f":"IF(Data!B999=\"\",\"\",Data!B999)","v":""},{"$f":"IF(Data!C999=\"\",\"\",Data!C999)","v":""},{"$f":"IF(Data!D999=\"\",\"\",Data!D999)","v":""},{"$f":"IF(Data!E999=\"\",\"\",Data!E999)","v":""},{"$f":"IF(Data!F999=\"\",\"\",Data!F999)","v":""},{"$f":"IF(Data!G999=\"\",\"\",Data!G999)","v":""},{"$f":"IF(Data!H999=\"\",\"\",Data!H999)","v":""},{"$f":"IF(Data!I999=\"\",\"\",Data!I999)","v":""},{"$f":"IF(Data!J999=\"\",\"\",Data!J999)","v":""},{"$f":"IF(Data!K999=\"\",\"\",Data!K999)","v":""},{"$f":"IF(Data!L999=\"\",\"\",Data!L999)","v":""},{"$f":"IF(Data!M999=\"\",\"\",Data!M999)","v":""},{"$f":"IF(Data!N999=\"\",\"\",Data!N999)","v":""},{"$f":"IF(Data!O999=\"\",\"\",Data!O999)","v":""},{"$f":"IF(Data!P999=\"\",\"\",Data!P999)","v":""},{"$f":"IF(Data!Q999=\"\",\"\",Data!Q999)","v":""},{"$f":"IF(Data!R999=\"\",\"\",Data!R999)","v":""},{"$f":"IF(Data!S999=\"\",\"\",Data!S999)","v":""},null,null,null,null,999]
[{"$f":"IF(Data!A1000=\"\",\"\",Data!A1000)","v":""},"",{"$f":"IF(Data!B1000=\"\",\"\",Data!B1000)","v":""},{"$f":"IF(Data!C1000=\"\",\"\",Data!C1000)","v":""},{"$f":"IF(Data!D1000=\"\",\"\",Data!D1000)","v":""},{"$f":"IF(Data!E1000=\"\",\"\",Data!E1000)","v":""},{"$f":"IF(Data!F1000=\"\",\"\",Data!F1000)","v":""},{"$f":"IF(Data!G1000=\"\",\"\",Data!G1000)","v":""},{"$f":"IF(Data!H1000=\"\",\"\",Data!H1000)","v":""},{"$f":"IF(Data!I1000=\"\",\"\",Data!I1000)","v":""},{"$f":"IF(Data!J1000=\"\",\"\",Data!J1000)","v":""},{"$f":"IF(Data!K1000=\"\",\"\",Data!K1000)","v":""},{"$f":"IF(Data!L1000=\"\",\"\",Data!L1000)","v":""},{"$f":"IF(Data!M1000=\"\",\"\",Data!M1000)","v":""},{"$f":"IF(Data!N1000=\"\",\"\",Data!N1000)","v":""},{"$f":"IF(Data!O1000=\"\",\"\",Data!O1000)","v":""},{"$f":"IF(Data!P1000=\"\",\"\",Data!P1000)","v":""},{"$f":"IF(Data!Q1000=\"\",\"\",Data!Q1000)","v":""},{"$f":"IF(Data!R1000=\"\",\"\",Data!R1000)","v":""},{"$f":"IF(Data!S1000=\"\",\"\",Data!S1000)","v":""},null,null,null,null,1000]
[null,null,null,null,null,null,null,null,null,null,null,null,null,null,null,null,null,null,null,null,null,null,null,null,1001]

{"sheet":"Routes","index":3,"n_rows":15,"n_cols":14,"rows_kept":15,"cut":false,"hidden":false,"merged":[]}
[]
[]
[]
[]
[]
[]
[]
[]
[]
[]
[]
[null,null,null,null,null,null,null,null,null,null,null,null,null,"CAUTION"]
[null,null,null,null,null,null,null,null,null,null,null,null,null,"This chart will only "]
[null,null,null,null,null,null,null,null,null,null,null,null,null,"apply if calculator "]
[null,null,null,null,null,null,null,null,null,null,null,null,null,"version is 3.1 or higher"]

{"sheet":"mgPCU","index":4,"n_rows":0,"n_cols":0,"rows_kept":0,"cut":false,"hidden":false,"merged":[]}

{"sheet":"mgPCU Crit","index":5,"n_rows":0,"n_cols":0,"rows_kept":0,"cut":false,"hidden":false,"merged":[]}

{"sheet":"mgPCU Anon","index":6,"n_rows":0,"n_cols":0,"rows_kept":0,"cut":false,"hidden":false,"merged":[]}

{"sheet":"mgPCU Crit Anon","index":7,"n_rows":0,"n_cols":0,"rows_kept":0,"cut":false,"hidden":false,"merged":[]}

{"sheet":"DDD","index":8,"n_rows":0,"n_cols":0,"rows_kept":0,"cut":false,"hidden":false,"merged":[]}

{"sheet":"DDD Crit","index":9,"n_rows":0,"n_cols":0,"rows_kept":0,"cut":false,"hidden":false,"merged":[]}

{"sheet":"DDD Anon","index":10,"n_rows":0,"n_cols":0,"rows_kept":0,"cut":false,"hidden":false,"merged":[]}

{"sheet":"DDD Crit Anon","index":11,"n_rows":0,"n_cols":0,"rows_kept":0,"cut":false,"hidden":false,"merged":[]}

{"sheet":"DCD","index":12,"n_rows":0,"n_cols":0,"rows_kept":0,"cut":false,"hidden":false,"merged":[]}

{"sheet":"DCD Crit","index":13,"n_rows":0,"n_cols":0,"rows_kept":0,"cut":false,"hidden":false,"merged":[]}

{"sheet":"DCD Anon","index":14,"n_rows":0,"n_cols":0,"rows_kept":0,"cut":false,"hidden":false,"merged":[]}

{"sheet":"DCD Crit Anon","index":15,"n_rows":0,"n_cols":0,"rows_kept":0,"cut":false,"hidden":false,"merged":[]}